{"text_format":"1","workbook":"xlsx","n_sheets":11,"sheets":["BOM","MMS","CRS230","ECS411","PDS021 Article","PDS021 Opérations","PDS021 Composants","Modèles+listes","PDC+emplacement","description des champs","Tôles"],"not_rendered":{"charts":0,"images":0,"macros":1,"external_links":4,"defined_names":16,"comments":2,"pivot_tables":0},"unopened":[],"bounds":{"document_bytes":16777216,"sheet_cells":100000,"rows_first":2000,"rows_last":500,"rows_between":2000,"halvings":0,"cell_chars":16384,"cell_head_chars":4096},"cells_cut":0,"cells_raw":0,"read":"whole","date_system":"1900"}

{"sheet":"BOM","index":0,"n_rows":156,"n_cols":55,"rows_kept":156,"cut":false,"hidden":false,"merged":[[3,14,3,16],[2,14,2,16],[1,14,1,16],[5,27,5,34],[127,52,127,53],[127,50,127,51],[126,50,126,53],[1,25,1,26],[1,50,1,53],[5,9,5,10],[4,14,4,16],[5,1,5,8],[5,11,5,13],[2,52,2,53],[2,50,2,51],[5,44,5,49],[5,41,5,43],[5,14,5,22],[5,25,5,26],[4,25,4,26],[3,25,3,26],[2,25,2,26],[1,0,4,11],[1,13,2,13],[1,12,2,12],[129,25,129,26],[135,25,135,26],[134,25,134,26],[130,25,130,26],[132,25,132,26],[133,13,134,13],[131,25,131,26],[133,25,133,26],[155,29,155,30],[154,29,154,30],[153,29,153,30],[152,29,152,30],[151,29,151,30],[150,29,150,30],[136,25,136,26],[138,25,138,26],[137,25,137,26],[65,0,74,0],[45,0,64,0],[25,0,44,0],[7,0,24,0],[115,0,124,0],[105,0,114,0],[95,0,104,0],[85,0,94,0],[75,0,84,0]]}
[]
["TEMPLATE BOM V2",null,null,null,null,null,null,null,null,null,null,null,"Date de MAJ","2019-01-09","Resp. article ach",null,null,"JACOB",null,null,null,null,null,null,null,"Modèle",null,null,null,null,null,null,null,null,null,null,null,null,null,null,null,null,null,null,null,null,null,null,null,null,"Modèle A"]
[null,null,null,null,null,null,null,null,null,null,null,null,null,null,"Resp. article fab",null,null,"SALPETIER",null,null,null,null,null,null,null,"Taille",null,null,null,null,null,null,null,null,null,null,null,null,null,null,null,null,null,null,null,null,null,null,null,null,"Taille 1",null,"Taille 2"]
[null,null,null,null,null,null,null,null,null,null,null,null,"TP Factor",1.6217999999999999,"Groupe article",null,null,1510,null,null,null,null,null,null,null,"Classe"]
[null,null,null,null,null,null,null,null,null,null,null,null,"Taux horaire",{"$f":"35.2*1.24","v":43.648000000000003},"Groupe produit",null,null,"04010",null,null,null,null,null,null,null,"Code Movex",null,null,null,null,null,null,null,null,null,null,null,null,null,null,null,null,null,null,null,null,null,null,null,null,null,null,null,null,"Total"]
[null,"PÈRE/FILS",null,null,null,null,null,null,null,"PDS021 COMPOSANTS",null,"MMS001 / 002 / 003 / CRS230",null,null,"Données Movex (MMS001 / 002 / 003 / CRS230)",null,null,null,null,null,null,null,null,"C:\\_FICHETBAUCHE\\03 Projets\\03 Vaults\\PBZ00258\\Technical file\\02 CAD\\Plan commande n°1_353M-21002532 Gradignan",null,"Quantité annuel",null,"Description pièce primaire",null,null,null,null,null,null,null,null,null,null,null,null,null,"Décomposition prix pièce",null,null,"Formules de calcul pièce",null,null,null,null,null,10,10,10,10,{"$f":"SUM(AY6:BB6)","v":40}]
[null,"Niveau 0","Niveau 1","Niveau 2","Niveau 3","Niveau 4","Niveau 5","Niveau","Niveau père","N° SEQ","N° OP","Numéro EPDM","Article produit/\nPoste de charge","Nom ","Modèle de création MMS","U/M de base","Poids brut","Poids net","Emplacement","Code plan","Matricule O/N","Type plan","Série économique","Catégorie pièce","Type de pièce","VCOGS unitaire","Qté / an","Série Economique proposée","Forcer série Economique ","Format\ntôle","Dimention X (mm)","Dimention Y (mm)","Laser (O/N)","Nb trous","Nb plis","Libre","Libre ","Libre  ","Libre   ","Libre    ","VCOGS\npièce","VCOGS\ntôle","VCOGS découpe","VCOGS\npliage","surface\ntôle (m²)","Surface\npièce (m²)","% tôle","Série \néconomique ","Coût\ndécoupe laser","Coût\npoinçonnage","Modèle A","Modèle B","Modèle C","Modèle D"]
["PRODUIT FINI",null,null,null,null,null,null,{"$f":"SUBSTITUTE(TRIM(CONCATENATE(Tableau1[[#This Row],[Niveau 0]],\" \",Tableau1[[#This Row],[Niveau 1]],\" \",Tableau1[[#This Row],[Niveau 2]],\" \",Tableau1[[#This Row],[Niveau 3]],\" \",Tableau1[[#This Row],[Niveau 4]],\" \",Tableau1[[#This Row],[Niveau 5]])),\" \",\".\")","v":""},{"$f":"IFERROR(IF(COUNTBLANK(Tableau1[[#This Row],[Niveau 0]:[Niveau 5]])=5,\"0\",LEFT(Tableau1[[#This Row],[Niveau]],(LEN(Tableau1[[#This Row],[Niveau]])-LEN(OFFSET(Tableau1[[#This Row],[Niveau 5]],0,(-COUNTBLANK(Tableau1[[#This Row],[Niveau 0]:[Niveau 5]]))))-1))),\"\")","v":""},null,null,"sw00246676","essai 1","a",null,null,null,null,null,{"$f":"IF(Tableau1[[#This Row],[Type plan]]=\"SP\",\"SP\",IF(AND(Tableau1[[#This Row],[Catégorie pièce]]=\" Nouveau\",Tableau1[[#This Row],[Type de pièce]]<>\" Panoplie\"),MID(Tableau1[[#This Row],[Article produit/\nPoste de charge]],2,15),IF(AND(Tableau1[[#This Row],[Catégorie pièce]]=\" Nouveau\",Tableau1[[#This Row],[Type de pièce]]=\" Panoplie\"),Tableau1[[#This Row],[Article produit/\nPoste de charge]],\"\")))","v":"ssai 1"},null,null,{"$f":"ROUNDUP((Tableau1[[#This Row],[Qté / an]]/52)*2,0)","v":0}," Nouveau"," Pièce/Opé Panoplie",{"$f":"IF(AND(Tableau1[[#This Row],[Catégorie pièce]]=\" Opérations\",Tableau1[[#This Row],[Type de pièce]]=\" Temps\"),Taux_horaire/100,IF(AND(Tableau1[[#This Row],[Catégorie pièce]]=\" Nouveau\",Tableau1[[#This Row],[Type de pièce]]=\" Fabriquée\"),BOM!$AO8,IF(OR(AND(Tableau1[[#This Row],[Catégorie pièce]]=\" Nouveau\",Tableau1[[#This Row],[Type de pièce]]=\" Assemblage\"),BOM!$Y8=\" Produit fini\",Tableau1[[#This Row],[Type de pièce]]=\" Opé pièce primaire\",Tableau1[[#This Row],[Type de pièce]]=\" Pièce/Opé Panoplie\"),\"/\",IF(Tableau1[[#This Row],[Catégorie pièce]]=\" Existant\",VLOOKUP(CONCATENATE(Tableau1[[#This Row],[Article produit/\nPoste de charge]]),[1]ARTRDCL!$A$1:$U$65536,15,FALSE),\"\"))))","v":"/"},{"$f":"IF(OR(Tableau1[[#This Row],[Catégorie pièce]]=\" Opérations\",Tableau1[[#This Row],[Catégorie pièce]]=\" Matière 1ère\",ISBLANK(Tableau1[[#This Row],[Catégorie pièce]])),\"/\",SUMPRODUCT($AY$6:$BB$6,Tableau1[[#This Row],[Modèle A]:[Modèle D]]))","v":0},{"$f":"IFERROR(ROUNDDOWN(Tableau1[[#This Row],[surface\ntôle (m²)]]/Tableau1[[#This Row],[Surface\npièce (m²)]],0),0)","v":2},{"$f":"IF(AND(Tableau1[[#This Row],[Catégorie pièce]]=\" Nouveau\",Tableau1[[#This Row],[Type de pièce]]=\" Fabriquée\"),ROUNDUP(Tableau1[[#This Row],[Qté / an]]*2/52,0),0)","v":0},"TC 3: 1500x3000",2050,900,"Non",0,5,null,null,null,null,null,{"$f":"SUM(Tableau1[[#This Row],[VCOGS\ntôle]:[VCOGS\npliage]])","v":44.628588000000001},{"$f":"IFERROR((VLOOKUP(Tableau1[[#This Row],[Format\ntôle]],Tableau2[],11,FALSE)/Tableau1[[#This Row],[Série \néconomique ]])*Tableau1[[#This Row],[surface\ntôle (m²)]],0)","v":33.727499999999999},{"$f":"IF(Tableau1[[#This Row],[Laser (O/N)]]= \"Oui\",Tableau1[[#This Row],[Coût\ndécoupe laser]],Tableau1[[#This Row],[Coût\npoinçonnage]])","v":2.8262080000000003},{"$f":"IF(Tableau1[[#This Row],[Nb plis]]>0, (IF(Tableau1[[#This Row],[Nb plis]]<5,0.25,IF(Tableau1[[#This Row],[Nb plis]]<7,0.33,0.45))/Tableau1[[#This Row],[Série \néconomique ]] +0.004*Tableau1[[#This Row],[Nb plis]])*$N$5,0)","v":8.0748800000000003},{"$f":"IFERROR(VLOOKUP(Tableau1[[#This Row],[Format\ntôle]],Tôles!B:P,9,FALSE),0)","v":4.5},{"$f":"Tableau1[[#This Row],[Dimention X (mm)]]/1000*Tableau1[[#This Row],[Dimention Y (mm)]]/1000","v":1.8449999999999998},{"$f":"IFERROR(ROUNDUP(Tableau1[[#This Row],[Surface\npièce (m²)]]/Tableau1[[#This Row],[surface\ntôle (m²)]],4),0)","v":0.41},{"$f":"IF(Tableau1[[#This Row],[Forcer série Economique ]]>0,Tableau1[[#This Row],[Forcer série Economique ]],Tableau1[[#This Row],[Série Economique proposée]])","v":2},{"$f":"IF(OR(ISERROR((5/Tableau1[[#This Row],[Série \néconomique ]]+Tableau1[[#This Row],[Nb trous]]*0.08*VLOOKUP(Tableau1[[#This Row],[Format\ntôle]],Tôles!B:O,5,FALSE)+ (Tableau1[[#This Row],[Dimention X (mm)]]+Tableau1[[#This Row],[Dimention Y (mm)]]) * 0.001)*Taux_horaire/100),Tableau1[[#This Row],[VCOGS\ntôle]] = \"\"),0,(5/Tableau1[[#This Row],[Série \néconomique ]]+Tableau1[[#This Row],[Nb trous]]*0.08*VLOOKUP(Tableau1[[#This Row],[Format\ntôle]],Tôles!B:O,5,FALSE)+ (Tableau1[[#This Row],[Dimention X (mm)]]+Tableau1[[#This Row],[Dimention Y (mm)]]) * 0.001)*Taux_horaire/100)","v":0},{"$f":"IF(OR(ISERROR((10/Tableau1[[#This Row],[Série \néconomique ]]+Tableau1[[#This Row],[Nb trous]]*0.007 + (Tableau1[[#This Row],[Dimention X (mm)]]+Tableau1[[#This Row],[Dimention Y (mm)]]) * 0.0005)*Taux_horaire/100),Tableau1[[#This Row],[VCOGS\ntôle]]= \"\"),0,(10/Tableau1[[#This Row],[Série \néconomique ]]+Tableau1[[#This Row],[Nb trous]]*0.007 + (Tableau1[[#This Row],[Dimention X (mm)]]+Tableau1[[#This Row],[Dimention Y (mm)]]) * 0.0005)*Taux_horaire/100)","v":2.8262080000000003}]
[null,null,null,null,null,null,null,{"$f":"SUBSTITUTE(TRIM(CONCATENATE(Tableau1[[#This Row],[Niveau 0]],\" \",Tableau1[[#This Row],[Niveau 1]],\" \",Tableau1[[#This Row],[Niveau 2]],\" \",Tableau1[[#This Row],[Niveau 3]],\" \",Tableau1[[#This Row],[Niveau 4]],\" \",Tableau1[[#This Row],[Niveau 5]])),\" \",\".\")","v":""},{"$f":"IFERROR(IF(COUNTBLANK(Tableau1[[#This Row],[Niveau 0]:[Niveau 5]])=5,\"0\",LEFT(Tableau1[[#This Row],[Niveau]],(LEN(Tableau1[[#This Row],[Niveau]])-LEN(OFFSET(Tableau1[[#This Row],[Niveau 5]],0,(-COUNTBLANK(Tableau1[[#This Row],[Niveau 0]:[Niveau 5]]))))-1))),\"\")","v":""},null,null,"sw00246677","essai 2","b",null,null,null,null,null,{"$f":"IF(Tableau1[[#This Row],[Type plan]]=\"SP\",\"SP\",IF(AND(Tableau1[[#This Row],[Catégorie pièce]]=\" Nouveau\",Tableau1[[#This Row],[Type de pièce]]<>\" Panoplie\"),MID(Tableau1[[#This Row],[Article produit/\nPoste de charge]],2,15),IF(AND(Tableau1[[#This Row],[Catégorie pièce]]=\" Nouveau\",Tableau1[[#This Row],[Type de pièce]]=\" Panoplie\"),Tableau1[[#This Row],[Article produit/\nPoste de charge]],\"\")))","v":"ssai 2"},null,null,{"$f":"ROUNDUP((Tableau1[[#This Row],[Qté / an]]/52)*2,0)","v":0}," Nouveau"," Pièce/Opé Panoplie",{"$f":"IF(AND(Tableau1[[#This Row],[Catégorie pièce]]=\" Opérations\",Tableau1[[#This Row],[Type de pièce]]=\" Temps\"),Taux_horaire/100,IF(AND(Tableau1[[#This Row],[Catégorie pièce]]=\" Nouveau\",Tableau1[[#This Row],[Type de pièce]]=\" Fabriquée\"),BOM!$AO9,IF(OR(AND(Tableau1[[#This Row],[Catégorie pièce]]=\" Nouveau\",Tableau1[[#This Row],[Type de pièce]]=\" Assemblage\"),BOM!$Y9=\" Produit fini\",Tableau1[[#This Row],[Type de pièce]]=\" Opé pièce primaire\",Tableau1[[#This Row],[Type de pièce]]=\" Pièce/Opé Panoplie\"),\"/\",IF(Tableau1[[#This Row],[Catégorie pièce]]=\" Existant\",VLOOKUP(CONCATENATE(Tableau1[[#This Row],[Article produit/\nPoste de charge]]),[1]ARTRDCL!$A$1:$U$65536,15,FALSE),\"\"))))","v":"/"},{"$f":"IF(OR(Tableau1[[#This Row],[Catégorie pièce]]=\" Opérations\",Tableau1[[#This Row],[Catégorie pièce]]=\" Matière 1ère\",ISBLANK(Tableau1[[#This Row],[Catégorie pièce]])),\"/\",SUMPRODUCT($AY$6:$BB$6,Tableau1[[#This Row],[Modèle A]:[Modèle D]]))","v":0},{"$f":"IFERROR(ROUNDDOWN(Tableau1[[#This Row],[surface\ntôle (m²)]]/Tableau1[[#This Row],[Surface\npièce (m²)]],0),0)","v":0},{"$f":"IF(AND(Tableau1[[#This Row],[Catégorie pièce]]=\" Nouveau\",Tableau1[[#This Row],[Type de pièce]]=\" Fabriquée\"),ROUNDUP(Tableau1[[#This Row],[Qté / an]]*2/52,0),0)","v":0},null,null,null,null,null,null,null,null,null,null,null,{"$f":"SUM(Tableau1[[#This Row],[VCOGS\ntôle]:[VCOGS\npliage]])","v":0},{"$f":"IFERROR((VLOOKUP(Tableau1[[#This Row],[Format\ntôle]],Tableau2[],11,FALSE)/Tableau1[[#This Row],[Série \néconomique ]])*Tableau1[[#This Row],[surface\ntôle (m²)]],0)","v":0},{"$f":"IF(Tableau1[[#This Row],[Laser (O/N)]]= \"Oui\",Tableau1[[#This Row],[Coût\ndécoupe laser]],Tableau1[[#This Row],[Coût\npoinçonnage]])","v":0},{"$f":"IF(Tableau1[[#This Row],[Nb plis]]>0, (IF(Tableau1[[#This Row],[Nb plis]]<5,0.25,IF(Tableau1[[#This Row],[Nb plis]]<7,0.33,0.45))/Tableau1[[#This Row],[Série \néconomique ]] +0.004*Tableau1[[#This Row],[Nb plis]])*$N$5,0)","v":0},{"$f":"IFERROR(VLOOKUP(Tableau1[[#This Row],[Format\ntôle]],Tôles!B:P,9,FALSE),0)","v":0},{"$f":"Tableau1[[#This Row],[Dimention X (mm)]]/1000*Tableau1[[#This Row],[Dimention Y (mm)]]/1000","v":0},{"$f":"IFERROR(ROUNDUP(Tableau1[[#This Row],[Surface\npièce (m²)]]/Tableau1[[#This Row],[surface\ntôle (m²)]],4),0)","v":0},{"$f":"IF(Tableau1[[#This Row],[Forcer série Economique ]]>0,Tableau1[[#This Row],[Forcer série Economique ]],Tableau1[[#This Row],[Série Economique proposée]])","v":0},{"$f":"IF(OR(ISERROR((5/Tableau1[[#This Row],[Série \néconomique ]]+Tableau1[[#This Row],[Nb trous]]*0.08*VLOOKUP(Tableau1[[#This Row],[Format\ntôle]],Tôles!B:O,5,FALSE)+ (Tableau1[[#This Row],[Dimention X (mm)]]+Tableau1[[#This Row],[Dimention Y (mm)]]) * 0.001)*Taux_horaire/100),Tableau1[[#This Row],[VCOGS\ntôle]] = \"\"),0,(5/Tableau1[[#This Row],[Série \néconomique ]]+Tableau1[[#This Row],[Nb trous]]*0.08*VLOOKUP(Tableau1[[#This Row],[Format\ntôle]],Tôles!B:O,5,FALSE)+ (Tableau1[[#This Row],[Dimention X (mm)]]+Tableau1[[#This Row],[Dimention Y (mm)]]) * 0.001)*Taux_horaire/100)","v":0},{"$f":"IF(OR(ISERROR((10/Tableau1[[#This Row],[Série \néconomique ]]+Tableau1[[#This Row],[Nb trous]]*0.007 + (Tableau1[[#This Row],[Dimention X (mm)]]+Tableau1[[#This Row],[Dimention Y (mm)]]) * 0.0005)*Taux_horaire/100),Tableau1[[#This Row],[VCOGS\ntôle]]= \"\"),0,(10/Tableau1[[#This Row],[Série \néconomique ]]+Tableau1[[#This Row],[Nb trous]]*0.007 + (Tableau1[[#This Row],[Dimention X (mm)]]+Tableau1[[#This Row],[Dimention Y (mm)]]) * 0.0005)*Taux_horaire/100)","v":0}]
[null,null,null,null,null,null,null,{"$f":"SUBSTITUTE(TRIM(CONCATENATE(Tableau1[[#This Row],[Niveau 0]],\" \",Tableau1[[#This Row],[Niveau 1]],\" \",Tableau1[[#This Row],[Niveau 2]],\" \",Tableau1[[#This Row],[Niveau 3]],\" \",Tableau1[[#This Row],[Niveau 4]],\" \",Tableau1[[#This Row],[Niveau 5]])),\" \",\".\")","v":""},{"$f":"IFERROR(IF(COUNTBLANK(Tableau1[[#This Row],[Niveau 0]:[Niveau 5]])=5,\"0\",LEFT(Tableau1[[#This Row],[Niveau]],(LEN(Tableau1[[#This Row],[Niveau]])-LEN(OFFSET(Tableau1[[#This Row],[Niveau 5]],0,(-COUNTBLANK(Tableau1[[#This Row],[Niveau 0]:[Niveau 5]]))))-1))),\"\")","v":""},null,null,"sw00246678","essai 3","c",null,null,null,null,null,{"$f":"IF(Tableau1[[#This Row],[Type plan]]=\"SP\",\"SP\",IF(AND(Tableau1[[#This Row],[Catégorie pièce]]=\" Nouveau\",Tableau1[[#This Row],[Type de pièce]]<>\" Panoplie\"),MID(Tableau1[[#This Row],[Article produit/\nPoste de charge]],2,15),IF(AND(Tableau1[[#This Row],[Catégorie pièce]]=\" Nouveau\",Tableau1[[#This Row],[Type de pièce]]=\" Panoplie\"),Tableau1[[#This Row],[Article produit/\nPoste de charge]],\"\")))","v":""},null,null,{"$f":"ROUNDUP((Tableau1[[#This Row],[Qté / an]]/52)*2,0)","v":{"$error":"#VALUE!"}}," Opérations"," Opé pièce primaire",{"$f":"IF(AND(Tableau1[[#This Row],[Catégorie pièce]]=\" Opérations\",Tableau1[[#This Row],[Type de pièce]]=\" Temps\"),Taux_horaire/100,IF(AND(Tableau1[[#This Row],[Catégorie pièce]]=\" Nouveau\",Tableau1[[#This Row],[Type de pièce]]=\" Fabriquée\"),BOM!$AO10,IF(OR(AND(Tableau1[[#This Row],[Catégorie pièce]]=\" Nouveau\",Tableau1[[#This Row],[Type de pièce]]=\" Assemblage\"),BOM!$Y10=\" Produit fini\",Tableau1[[#This Row],[Type de pièce]]=\" Opé pièce primaire\",Tableau1[[#This Row],[Type de pièce]]=\" Pièce/Opé Panoplie\"),\"/\",IF(Tableau1[[#This Row],[Catégorie pièce]]=\" Existant\",VLOOKUP(CONCATENATE(Tableau1[[#This Row],[Article produit/\nPoste de charge]]),[1]ARTRDCL!$A$1:$U$65536,15,FALSE),\"\"))))","v":"/"},{"$f":"IF(OR(Tableau1[[#This Row],[Catégorie pièce]]=\" Opérations\",Tableau1[[#This Row],[Catégorie pièce]]=\" Matière 1ère\",ISBLANK(Tableau1[[#This Row],[Catégorie pièce]])),\"/\",SUMPRODUCT($AY$6:$BB$6,Tableau1[[#This Row],[Modèle A]:[Modèle D]]))","v":"/"},{"$f":"IFERROR(ROUNDDOWN(Tableau1[[#This Row],[surface\ntôle (m²)]]/Tableau1[[#This Row],[Surface\npièce (m²)]],0),0)","v":0},{"$f":"IF(AND(Tableau1[[#This Row],[Catégorie pièce]]=\" Nouveau\",Tableau1[[#This Row],[Type de pièce]]=\" Fabriquée\"),ROUNDUP(Tableau1[[#This Row],[Qté / an]]*2/52,0),0)","v":0},null,null,null,null,null,null,null,null,null,null,null,{"$f":"SUM(Tableau1[[#This Row],[VCOGS\ntôle]:[VCOGS\npliage]])","v":0},{"$f":"IFERROR((VLOOKUP(Tableau1[[#This Row],[Format\ntôle]],Tableau2[],11,FALSE)/Tableau1[[#This Row],[Série \néconomique ]])*Tableau1[[#This Row],[surface\ntôle (m²)]],0)","v":0},{"$f":"IF(Tableau1[[#This Row],[Laser (O/N)]]= \"Oui\",Tableau1[[#This Row],[Coût\ndécoupe laser]],Tableau1[[#This Row],[Coût\npoinçonnage]])","v":0},{"$f":"IF(Tableau1[[#This Row],[Nb plis]]>0, (IF(Tableau1[[#This Row],[Nb plis]]<5,0.25,IF(Tableau1[[#This Row],[Nb plis]]<7,0.33,0.45))/Tableau1[[#This Row],[Série \néconomique ]] +0.004*Tableau1[[#This Row],[Nb plis]])*$N$5,0)","v":0},{"$f":"IFERROR(VLOOKUP(Tableau1[[#This Row],[Format\ntôle]],Tôles!B:P,9,FALSE),0)","v":0},{"$f":"Tableau1[[#This Row],[Dimention X (mm)]]/1000*Tableau1[[#This Row],[Dimention Y (mm)]]/1000","v":0},{"$f":"IFERROR(ROUNDUP(Tableau1[[#This Row],[Surface\npièce (m²)]]/Tableau1[[#This Row],[surface\ntôle (m²)]],4),0)","v":0},{"$f":"IF(Tableau1[[#This Row],[Forcer série Economique ]]>0,Tableau1[[#This Row],[Forcer série Economique ]],Tableau1[[#This Row],[Série Economique proposée]])","v":0},{"$f":"IF(OR(ISERROR((5/Tableau1[[#This Row],[Série \néconomique ]]+Tableau1[[#This Row],[Nb trous]]*0.08*VLOOKUP(Tableau1[[#This Row],[Format\ntôle]],Tôles!B:O,5,FALSE)+ (Tableau1[[#This Row],[Dimention X (mm)]]+Tableau1[[#This Row],[Dimention Y (mm)]]) * 0.001)*Taux_horaire/100),Tableau1[[#This Row],[VCOGS\ntôle]] = \"\"),0,(5/Tableau1[[#This Row],[Série \néconomique ]]+Tableau1[[#This Row],[Nb trous]]*0.08*VLOOKUP(Tableau1[[#This Row],[Format\ntôle]],Tôles!B:O,5,FALSE)+ (Tableau1[[#This Row],[Dimention X (mm)]]+Tableau1[[#This Row],[Dimention Y (mm)]]) * 0.001)*Taux_horaire/100)","v":0},{"$f":"IF(OR(ISERROR((10/Tableau1[[#This Row],[Série \néconomique ]]+Tableau1[[#This Row],[Nb trous]]*0.007 + (Tableau1[[#This Row],[Dimention X (mm)]]+Tableau1[[#This Row],[Dimention Y (mm)]]) * 0.0005)*Taux_horaire/100),Tableau1[[#This Row],[VCOGS\ntôle]]= \"\"),0,(10/Tableau1[[#This Row],[Série \néconomique ]]+Tableau1[[#This Row],[Nb trous]]*0.007 + (Tableau1[[#This Row],[Dimention X (mm)]]+Tableau1[[#This Row],[Dimention Y (mm)]]) * 0.0005)*Taux_horaire/100)","v":0}]
[null,null,null,null,null,null,null,{"$f":"SUBSTITUTE(TRIM(CONCATENATE(Tableau1[[#This Row],[Niveau 0]],\" \",Tableau1[[#This Row],[Niveau 1]],\" \",Tableau1[[#This Row],[Niveau 2]],\" \",Tableau1[[#This Row],[Niveau 3]],\" \",Tableau1[[#This Row],[Niveau 4]],\" \",Tableau1[[#This Row],[Niveau 5]])),\" \",\".\")","v":""},{"$f":"IFERROR(IF(COUNTBLANK(Tableau1[[#This Row],[Niveau 0]:[Niveau 5]])=5,\"0\",LEFT(Tableau1[[#This Row],[Niveau]],(LEN(Tableau1[[#This Row],[Niveau]])-LEN(OFFSET(Tableau1[[#This Row],[Niveau 5]],0,(-COUNTBLANK(Tableau1[[#This Row],[Niveau 0]:[Niveau 5]]))))-1))),\"\")","v":""},null,null,"sw00246679","essai 4","d",null,null,null,null,null,{"$f":"IF(Tableau1[[#This Row],[Type plan]]=\"SP\",\"SP\",IF(AND(Tableau1[[#This Row],[Catégorie pièce]]=\" Nouveau\",Tableau1[[#This Row],[Type de pièce]]<>\" Panoplie\"),MID(Tableau1[[#This Row],[Article produit/\nPoste de charge]],2,15),IF(AND(Tableau1[[#This Row],[Catégorie pièce]]=\" Nouveau\",Tableau1[[#This Row],[Type de pièce]]=\" Panoplie\"),Tableau1[[#This Row],[Article produit/\nPoste de charge]],\"\")))","v":""},null,null,{"$f":"ROUNDUP((Tableau1[[#This Row],[Qté / an]]/52)*2,0)","v":0}," Existant"," Fabriquée",{"$f":"IF(AND(Tableau1[[#This Row],[Catégorie pièce]]=\" Opérations\",Tableau1[[#This Row],[Type de pièce]]=\" Temps\"),Taux_horaire/100,IF(AND(Tableau1[[#This Row],[Catégorie pièce]]=\" Nouveau\",Tableau1[[#This Row],[Type de pièce]]=\" Fabriquée\"),BOM!$AO11,IF(OR(AND(Tableau1[[#This Row],[Catégorie pièce]]=\" Nouveau\",Tableau1[[#This Row],[Type de pièce]]=\" Assemblage\"),BOM!$Y11=\" Produit fini\",Tableau1[[#This Row],[Type de pièce]]=\" Opé pièce primaire\",Tableau1[[#This Row],[Type de pièce]]=\" Pièce/Opé Panoplie\"),\"/\",IF(Tableau1[[#This Row],[Catégorie pièce]]=\" Existant\",VLOOKUP(CONCATENATE(Tableau1[[#This Row],[Article produit/\nPoste de charge]]),[1]ARTRDCL!$A$1:$U$65536,15,FALSE),\"\"))))","v":{"$error":"#N/A"}},{"$f":"IF(OR(Tableau1[[#This Row],[Catégorie pièce]]=\" Opérations\",Tableau1[[#This Row],[Catégorie pièce]]=\" Matière 1ère\",ISBLANK(Tableau1[[#This Row],[Catégorie pièce]])),\"/\",SUMPRODUCT($AY$6:$BB$6,Tableau1[[#This Row],[Modèle A]:[Modèle D]]))","v":0},{"$f":"IFERROR(ROUNDDOWN(Tableau1[[#This Row],[surface\ntôle (m²)]]/Tableau1[[#This Row],[Surface\npièce (m²)]],0),0)","v":0},{"$f":"IF(AND(Tableau1[[#This Row],[Catégorie pièce]]=\" Nouveau\",Tableau1[[#This Row],[Type de pièce]]=\" Fabriquée\"),ROUNDUP(Tableau1[[#This Row],[Qté / an]]*2/52,0),0)","v":0},null,null,null,null,null,null,null,null,null,null,null,{"$f":"SUM(Tableau1[[#This Row],[VCOGS\ntôle]:[VCOGS\npliage]])","v":0},{"$f":"IFERROR((VLOOKUP(Tableau1[[#This Row],[Format\ntôle]],Tableau2[],11,FALSE)/Tableau1[[#This Row],[Série \néconomique ]])*Tableau1[[#This Row],[surface\ntôle (m²)]],0)","v":0},{"$f":"IF(Tableau1[[#This Row],[Laser (O/N)]]= \"Oui\",Tableau1[[#This Row],[Coût\ndécoupe laser]],Tableau1[[#This Row],[Coût\npoinçonnage]])","v":0},{"$f":"IF(Tableau1[[#This Row],[Nb plis]]>0, (IF(Tableau1[[#This Row],[Nb plis]]<5,0.25,IF(Tableau1[[#This Row],[Nb plis]]<7,0.33,0.45))/Tableau1[[#This Row],[Série \néconomique ]] +0.004*Tableau1[[#This Row],[Nb plis]])*$N$5,0)","v":0},{"$f":"IFERROR(VLOOKUP(Tableau1[[#This Row],[Format\ntôle]],Tôles!B:P,9,FALSE),0)","v":0},{"$f":"Tableau1[[#This Row],[Dimention X (mm)]]/1000*Tableau1[[#This Row],[Dimention Y (mm)]]/1000","v":0},{"$f":"IFERROR(ROUNDUP(Tableau1[[#This Row],[Surface\npièce (m²)]]/Tableau1[[#This Row],[surface\ntôle (m²)]],4),0)","v":0},{"$f":"IF(Tableau1[[#This Row],[Forcer série Economique ]]>0,Tableau1[[#This Row],[Forcer série Economique ]],Tableau1[[#This Row],[Série Economique proposée]])","v":0},{"$f":"IF(OR(ISERROR((5/Tableau1[[#This Row],[Série \néconomique ]]+Tableau1[[#This Row],[Nb trous]]*0.08*VLOOKUP(Tableau1[[#This Row],[Format\ntôle]],Tôles!B:O,5,FALSE)+ (Tableau1[[#This Row],[Dimention X (mm)]]+Tableau1[[#This Row],[Dimention Y (mm)]]) * 0.001)*Taux_horaire/100),Tableau1[[#This Row],[VCOGS\ntôle]] = \"\"),0,(5/Tableau1[[#This Row],[Série \néconomique ]]+Tableau1[[#This Row],[Nb trous]]*0.08*VLOOKUP(Tableau1[[#This Row],[Format\ntôle]],Tôles!B:O,5,FALSE)+ (Tableau1[[#This Row],[Dimention X (mm)]]+Tableau1[[#This Row],[Dimention Y (mm)]]) * 0.001)*Taux_horaire/100)","v":0},{"$f":"IF(OR(ISERROR((10/Tableau1[[#This Row],[Série \néconomique ]]+Tableau1[[#This Row],[Nb trous]]*0.007 + (Tableau1[[#This Row],[Dimention X (mm)]]+Tableau1[[#This Row],[Dimention Y (mm)]]) * 0.0005)*Taux_horaire/100),Tableau1[[#This Row],[VCOGS\ntôle]]= \"\"),0,(10/Tableau1[[#This Row],[Série \néconomique ]]+Tableau1[[#This Row],[Nb trous]]*0.007 + (Tableau1[[#This Row],[Dimention X (mm)]]+Tableau1[[#This Row],[Dimention Y (mm)]]) * 0.0005)*Taux_horaire/100)","v":0}]
[null,null,null,null,null,null,null,{"$f":"SUBSTITUTE(TRIM(CONCATENATE(Tableau1[[#This Row],[Niveau 0]],\" \",Tableau1[[#This Row],[Niveau 1]],\" \",Tableau1[[#This Row],[Niveau 2]],\" \",Tableau1[[#This Row],[Niveau 3]],\" \",Tableau1[[#This Row],[Niveau 4]],\" \",Tableau1[[#This Row],[Niveau 5]])),\" \",\".\")","v":""},{"$f":"IFERROR(IF(COUNTBLANK(Tableau1[[#This Row],[Niveau 0]:[Niveau 5]])=5,\"0\",LEFT(Tableau1[[#This Row],[Niveau]],(LEN(Tableau1[[#This Row],[Niveau]])-LEN(OFFSET(Tableau1[[#This Row],[Niveau 5]],0,(-COUNTBLANK(Tableau1[[#This Row],[Niveau 0]:[Niveau 5]]))))-1))),\"\")","v":""},null,null,"sw00246680","essai 5","e",null,null,null,null,null,{"$f":"IF(Tableau1[[#This Row],[Type plan]]=\"SP\",\"SP\",IF(AND(Tableau1[[#This Row],[Catégorie pièce]]=\" Nouveau\",Tableau1[[#This Row],[Type de pièce]]<>\" Panoplie\"),MID(Tableau1[[#This Row],[Article produit/\nPoste de charge]],2,15),IF(AND(Tableau1[[#This Row],[Catégorie pièce]]=\" Nouveau\",Tableau1[[#This Row],[Type de pièce]]=\" Panoplie\"),Tableau1[[#This Row],[Article produit/\nPoste de charge]],\"\")))","v":"ssai 5"},null,null,{"$f":"ROUNDUP((Tableau1[[#This Row],[Qté / an]]/52)*2,0)","v":0}," Nouveau"," Fabriquée",{"$f":"IF(AND(Tableau1[[#This Row],[Catégorie pièce]]=\" Opérations\",Tableau1[[#This Row],[Type de pièce]]=\" Temps\"),Taux_horaire/100,IF(AND(Tableau1[[#This Row],[Catégorie pièce]]=\" Nouveau\",Tableau1[[#This Row],[Type de pièce]]=\" Fabriquée\"),BOM!$AO12,IF(OR(AND(Tableau1[[#This Row],[Catégorie pièce]]=\" Nouveau\",Tableau1[[#This Row],[Type de pièce]]=\" Assemblage\"),BOM!$Y12=\" Produit fini\",Tableau1[[#This Row],[Type de pièce]]=\" Opé pièce primaire\",Tableau1[[#This Row],[Type de pièce]]=\" Pièce/Opé Panoplie\"),\"/\",IF(Tableau1[[#This Row],[Catégorie pièce]]=\" Existant\",VLOOKUP(CONCATENATE(Tableau1[[#This Row],[Article produit/\nPoste de charge]]),[1]ARTRDCL!$A$1:$U$65536,15,FALSE),\"\"))))","v":0},{"$f":"IF(OR(Tableau1[[#This Row],[Catégorie pièce]]=\" Opérations\",Tableau1[[#This Row],[Catégorie pièce]]=\" Matière 1ère\",ISBLANK(Tableau1[[#This Row],[Catégorie pièce]])),\"/\",SUMPRODUCT($AY$6:$BB$6,Tableau1[[#This Row],[Modèle A]:[Modèle D]]))","v":0},{"$f":"IFERROR(ROUNDDOWN(Tableau1[[#This Row],[surface\ntôle (m²)]]/Tableau1[[#This Row],[Surface\npièce (m²)]],0),0)","v":0},{"$f":"IF(AND(Tableau1[[#This Row],[Catégorie pièce]]=\" Nouveau\",Tableau1[[#This Row],[Type de pièce]]=\" Fabriquée\"),ROUNDUP(Tableau1[[#This Row],[Qté / an]]*2/52,0),0)","v":0},null,null,null,null,null,null,null,null,null,null,null,{"$f":"SUM(Tableau1[[#This Row],[VCOGS\ntôle]:[VCOGS\npliage]])","v":0},{"$f":"IFERROR((VLOOKUP(Tableau1[[#This Row],[Format\ntôle]],Tableau2[],11,FALSE)/Tableau1[[#This Row],[Série \néconomique ]])*Tableau1[[#This Row],[surface\ntôle (m²)]],0)","v":0},{"$f":"IF(Tableau1[[#This Row],[Laser (O/N)]]= \"Oui\",Tableau1[[#This Row],[Coût\ndécoupe laser]],Tableau1[[#This Row],[Coût\npoinçonnage]])","v":0},{"$f":"IF(Tableau1[[#This Row],[Nb plis]]>0, (IF(Tableau1[[#This Row],[Nb plis]]<5,0.25,IF(Tableau1[[#This Row],[Nb plis]]<7,0.33,0.45))/Tableau1[[#This Row],[Série \néconomique ]] +0.004*Tableau1[[#This Row],[Nb plis]])*$N$5,0)","v":0},{"$f":"IFERROR(VLOOKUP(Tableau1[[#This Row],[Format\ntôle]],Tôles!B:P,9,FALSE),0)","v":0},{"$f":"Tableau1[[#This Row],[Dimention X (mm)]]/1000*Tableau1[[#This Row],[Dimention Y (mm)]]/1000","v":0},{"$f":"IFERROR(ROUNDUP(Tableau1[[#This Row],[Surface\npièce (m²)]]/Tableau1[[#This Row],[surface\ntôle (m²)]],4),0)","v":0},{"$f":"IF(Tableau1[[#This Row],[Forcer série Economique ]]>0,Tableau1[[#This Row],[Forcer série Economique ]],Tableau1[[#This Row],[Série Economique proposée]])","v":0},{"$f":"IF(OR(ISERROR((5/Tableau1[[#This Row],[Série \néconomique ]]+Tableau1[[#This Row],[Nb trous]]*0.08*VLOOKUP(Tableau1[[#This Row],[Format\ntôle]],Tôles!B:O,5,FALSE)+ (Tableau1[[#This Row],[Dimention X (mm)]]+Tableau1[[#This Row],[Dimention Y (mm)]]) * 0.001)*Taux_horaire/100),Tableau1[[#This Row],[VCOGS\ntôle]] = \"\"),0,(5/Tableau1[[#This Row],[Série \néconomique ]]+Tableau1[[#This Row],[Nb trous]]*0.08*VLOOKUP(Tableau1[[#This Row],[Format\ntôle]],Tôles!B:O,5,FALSE)+ (Tableau1[[#This Row],[Dimention X (mm)]]+Tableau1[[#This Row],[Dimention Y (mm)]]) * 0.001)*Taux_horaire/100)","v":0},{"$f":"IF(OR(ISERROR((10/Tableau1[[#This Row],[Série \néconomique ]]+Tableau1[[#This Row],[Nb trous]]*0.007 + (Tableau1[[#This Row],[Dimention X (mm)]]+Tableau1[[#This Row],[Dimention Y (mm)]]) * 0.0005)*Taux_horaire/100),Tableau1[[#This Row],[VCOGS\ntôle]]= \"\"),0,(10/Tableau1[[#This Row],[Série \néconomique ]]+Tableau1[[#This Row],[Nb trous]]*0.007 + (Tableau1[[#This Row],[Dimention X (mm)]]+Tableau1[[#This Row],[Dimention Y (mm)]]) * 0.0005)*Taux_horaire/100)","v":0}]
[null,null,null,null,null,null,null,{"$f":"SUBSTITUTE(TRIM(CONCATENATE(Tableau1[[#This Row],[Niveau 0]],\" \",Tableau1[[#This Row],[Niveau 1]],\" \",Tableau1[[#This Row],[Niveau 2]],\" \",Tableau1[[#This Row],[Niveau 3]],\" \",Tableau1[[#This Row],[Niveau 4]],\" \",Tableau1[[#This Row],[Niveau 5]])),\" \",\".\")","v":""},{"$f":"IFERROR(IF(COUNTBLANK(Tableau1[[#This Row],[Niveau 0]:[Niveau 5]])=5,\"0\",LEFT(Tableau1[[#This Row],[Niveau]],(LEN(Tableau1[[#This Row],[Niveau]])-LEN(OFFSET(Tableau1[[#This Row],[Niveau 5]],0,(-COUNTBLANK(Tableau1[[#This Row],[Niveau 0]:[Niveau 5]]))))-1))),\"\")","v":""},null,null,null,null,{"$f":"IF(Tableau1[[#This Row],[Catégorie pièce]]=\" Opérations\",VLOOKUP(Tableau1[[#This Row],[Article produit/\nPoste de charge]],'PDC+emplacement'!A:C,2,FALSE),IF(Tableau1[[#This Row],[Catégorie pièce]]=\" Nouveau\",\"***RENSEIGNER NOM***\",IFERROR(VLOOKUP(CONCATENATE(Tableau1[[#This Row],[Article produit/\nPoste de charge]]),[1]ARTRDCL!$A$1:$U$25000,2,FALSE),\"\")))","v":""}," MODEL02P","PI",0,0,null,{"$f":"IF(Tableau1[[#This Row],[Type plan]]=\"SP\",\"SP\",IF(AND(Tableau1[[#This Row],[Catégorie pièce]]=\" Nouveau\",Tableau1[[#This Row],[Type de pièce]]<>\" Panoplie\"),MID(Tableau1[[#This Row],[Article produit/\nPoste de charge]],2,15),IF(AND(Tableau1[[#This Row],[Catégorie pièce]]=\" Nouveau\",Tableau1[[#This Row],[Type de pièce]]=\" Panoplie\"),Tableau1[[#This Row],[Article produit/\nPoste de charge]],\"\")))","v":""},"N","PL",{"$f":"ROUNDUP((Tableau1[[#This Row],[Qté / an]]/52)*2,0)","v":{"$error":"#VALUE!"}},null,null,{"$f":"IF(AND(Tableau1[[#This Row],[Catégorie pièce]]=\" Opérations\",Tableau1[[#This Row],[Type de pièce]]=\" Temps\"),Taux_horaire/100,IF(AND(Tableau1[[#This Row],[Catégorie pièce]]=\" Nouveau\",Tableau1[[#This Row],[Type de pièce]]=\" Fabriquée\"),BOM!$AO13,IF(OR(AND(Tableau1[[#This Row],[Catégorie pièce]]=\" Nouveau\",Tableau1[[#This Row],[Type de pièce]]=\" Assemblage\"),BOM!$Y13=\" Produit fini\",Tableau1[[#This Row],[Type de pièce]]=\" Opé pièce primaire\",Tableau1[[#This Row],[Type de pièce]]=\" Pièce/Opé Panoplie\"),\"/\",IF(Tableau1[[#This Row],[Catégorie pièce]]=\" Existant\",VLOOKUP(CONCATENATE(Tableau1[[#This Row],[Article produit/\nPoste de charge]]),[1]ARTRDCL!$A$1:$U$65536,15,FALSE),\"\"))))","v":""},{"$f":"IF(OR(Tableau1[[#This Row],[Catégorie pièce]]=\" Opérations\",Tableau1[[#This Row],[Catégorie pièce]]=\" Matière 1ère\",ISBLANK(Tableau1[[#This Row],[Catégorie pièce]])),\"/\",SUMPRODUCT($AY$6:$BB$6,Tableau1[[#This Row],[Modèle A]:[Modèle D]]))","v":"/"},{"$f":"IFERROR(ROUNDDOWN(Tableau1[[#This Row],[surface\ntôle (m²)]]/Tableau1[[#This Row],[Surface\npièce (m²)]],0),0)","v":0},{"$f":"IF(AND(Tableau1[[#This Row],[Catégorie pièce]]=\" Nouveau\",Tableau1[[#This Row],[Type de pièce]]=\" Fabriquée\"),ROUNDUP(Tableau1[[#This Row],[Qté / an]]*2/52,0),0)","v":0},null,null,null,null,null,null,null,null,null,null,null,{"$f":"SUM(Tableau1[[#This Row],[VCOGS\ntôle]:[VCOGS\npliage]])","v":0},{"$f":"IFERROR((VLOOKUP(Tableau1[[#This Row],[Format\ntôle]],Tableau2[],11,FALSE)/Tableau1[[#This Row],[Série \néconomique ]])*Tableau1[[#This Row],[surface\ntôle (m²)]],0)","v":0},{"$f":"IF(Tableau1[[#This Row],[Laser (O/N)]]= \"Oui\",Tableau1[[#This Row],[Coût\ndécoupe laser]],Tableau1[[#This Row],[Coût\npoinçonnage]])","v":0},{"$f":"IF(Tableau1[[#This Row],[Nb plis]]>0, (IF(Tableau1[[#This Row],[Nb plis]]<5,0.25,IF(Tableau1[[#This Row],[Nb plis]]<7,0.33,0.45))/Tableau1[[#This Row],[Série \néconomique ]] +0.004*Tableau1[[#This Row],[Nb plis]])*$N$5,0)","v":0},{"$f":"IFERROR(VLOOKUP(Tableau1[[#This Row],[Format\ntôle]],Tôles!B:P,9,FALSE),0)","v":0},{"$f":"Tableau1[[#This Row],[Dimention X (mm)]]/1000*Tableau1[[#This Row],[Dimention Y (mm)]]/1000","v":0},{"$f":"IFERROR(ROUNDUP(Tableau1[[#This Row],[Surface\npièce (m²)]]/Tableau1[[#This Row],[surface\ntôle (m²)]],4),0)","v":0},{"$f":"IF(Tableau1[[#This Row],[Forcer série Economique ]]>0,Tableau1[[#This Row],[Forcer série Economique ]],Tableau1[[#This Row],[Série Economique proposée]])","v":0},{"$f":"IF(OR(ISERROR((5/Tableau1[[#This Row],[Série \néconomique ]]+Tableau1[[#This Row],[Nb trous]]*0.08*VLOOKUP(Tableau1[[#This Row],[Format\ntôle]],Tôles!B:O,5,FALSE)+ (Tableau1[[#This Row],[Dimention X (mm)]]+Tableau1[[#This Row],[Dimention Y (mm)]]) * 0.001)*Taux_horaire/100),Tableau1[[#This Row],[VCOGS\ntôle]] = \"\"),0,(5/Tableau1[[#This Row],[Série \néconomique ]]+Tableau1[[#This Row],[Nb trous]]*0.08*VLOOKUP(Tableau1[[#This Row],[Format\ntôle]],Tôles!B:O,5,FALSE)+ (Tableau1[[#This Row],[Dimention X (mm)]]+Tableau1[[#This Row],[Dimention Y (mm)]]) * 0.001)*Taux_horaire/100)","v":0},{"$f":"IF(OR(ISERROR((10/Tableau1[[#This Row],[Série \néconomique ]]+Tableau1[[#This Row],[Nb trous]]*0.007 + (Tableau1[[#This Row],[Dimention X (mm)]]+Tableau1[[#This Row],[Dimention Y (mm)]]) * 0.0005)*Taux_horaire/100),Tableau1[[#This Row],[VCOGS\ntôle]]= \"\"),0,(10/Tableau1[[#This Row],[Série \néconomique ]]+Tableau1[[#This Row],[Nb trous]]*0.007 + (Tableau1[[#This Row],[Dimention X (mm)]]+Tableau1[[#This Row],[Dimention Y (mm)]]) * 0.0005)*Taux_horaire/100)","v":0}]
[null,null,null,null,null,null,null,{"$f":"SUBSTITUTE(TRIM(CONCATENATE(Tableau1[[#This Row],[Niveau 0]],\" \",Tableau1[[#This Row],[Niveau 1]],\" \",Tableau1[[#This Row],[Niveau 2]],\" \",Tableau1[[#This Row],[Niveau 3]],\" \",Tableau1[[#This Row],[Niveau 4]],\" \",Tableau1[[#This Row],[Niveau 5]])),\" \",\".\")","v":""},{"$f":"IFERROR(IF(COUNTBLANK(Tableau1[[#This Row],[Niveau 0]:[Niveau 5]])=5,\"0\",LEFT(Tableau1[[#This Row],[Niveau]],(LEN(Tableau1[[#This Row],[Niveau]])-LEN(OFFSET(Tableau1[[#This Row],[Niveau 5]],0,(-COUNTBLANK(Tableau1[[#This Row],[Niveau 0]:[Niveau 5]]))))-1))),\"\")","v":""},null,null,null,null,{"$f":"IF(Tableau1[[#This Row],[Catégorie pièce]]=\" Opérations\",VLOOKUP(Tableau1[[#This Row],[Article produit/\nPoste de charge]],'PDC+emplacement'!A:C,2,FALSE),IF(Tableau1[[#This Row],[Catégorie pièce]]=\" Nouveau\",\"***RENSEIGNER NOM***\",IFERROR(VLOOKUP(CONCATENATE(Tableau1[[#This Row],[Article produit/\nPoste de charge]]),[1]ARTRDCL!$A$1:$U$25000,2,FALSE),\"\")))","v":""},null,null,null,null,null,{"$f":"IF(Tableau1[[#This Row],[Type plan]]=\"SP\",\"SP\",IF(AND(Tableau1[[#This Row],[Catégorie pièce]]=\" Nouveau\",Tableau1[[#This Row],[Type de pièce]]<>\" Panoplie\"),MID(Tableau1[[#This Row],[Article produit/\nPoste de charge]],2,15),IF(AND(Tableau1[[#This Row],[Catégorie pièce]]=\" Nouveau\",Tableau1[[#This Row],[Type de pièce]]=\" Panoplie\"),Tableau1[[#This Row],[Article produit/\nPoste de charge]],\"\")))","v":""},null,null,{"$f":"ROUNDUP((Tableau1[[#This Row],[Qté / an]]/52)*2,0)","v":{"$error":"#VALUE!"}},null,null,{"$f":"IF(AND(Tableau1[[#This Row],[Catégorie pièce]]=\" Opérations\",Tableau1[[#This Row],[Type de pièce]]=\" Temps\"),Taux_horaire/100,IF(AND(Tableau1[[#This Row],[Catégorie pièce]]=\" Nouveau\",Tableau1[[#This Row],[Type de pièce]]=\" Fabriquée\"),BOM!$AO14,IF(OR(AND(Tableau1[[#This Row],[Catégorie pièce]]=\" Nouveau\",Tableau1[[#This Row],[Type de pièce]]=\" Assemblage\"),BOM!$Y14=\" Produit fini\",Tableau1[[#This Row],[Type de pièce]]=\" Opé pièce primaire\",Tableau1[[#This Row],[Type de pièce]]=\" Pièce/Opé Panoplie\"),\"/\",IF(Tableau1[[#This Row],[Catégorie pièce]]=\" Existant\",VLOOKUP(CONCATENATE(Tableau1[[#This Row],[Article produit/\nPoste de charge]]),[1]ARTRDCL!$A$1:$U$65536,15,FALSE),\"\"))))","v":""},{"$f":"IF(OR(Tableau1[[#This Row],[Catégorie pièce]]=\" Opérations\",Tableau1[[#This Row],[Catégorie pièce]]=\" Matière 1ère\",ISBLANK(Tableau1[[#This Row],[Catégorie pièce]])),\"/\",SUMPRODUCT($AY$6:$BB$6,Tableau1[[#This Row],[Modèle A]:[Modèle D]]))","v":"/"},{"$f":"IFERROR(ROUNDDOWN(Tableau1[[#This Row],[surface\ntôle (m²)]]/Tableau1[[#This Row],[Surface\npièce (m²)]],0),0)","v":0},{"$f":"IF(AND(Tableau1[[#This Row],[Catégorie pièce]]=\" Nouveau\",Tableau1[[#This Row],[Type de pièce]]=\" Fabriquée\"),ROUNDUP(Tableau1[[#This Row],[Qté / an]]*2/52,0),0)","v":0},null,null,null,null,null,null,null,null,null,null,null,{"$f":"SUM(Tableau1[[#This Row],[VCOGS\ntôle]:[VCOGS\npliage]])","v":0},{"$f":"IFERROR((VLOOKUP(Tableau1[[#This Row],[Format\ntôle]],Tableau2[],11,FALSE)/Tableau1[[#This Row],[Série \néconomique ]])*Tableau1[[#This Row],[surface\ntôle (m²)]],0)","v":0},{"$f":"IF(Tableau1[[#This Row],[Laser (O/N)]]= \"Oui\",Tableau1[[#This Row],[Coût\ndécoupe laser]],Tableau1[[#This Row],[Coût\npoinçonnage]])","v":0},{"$f":"IF(Tableau1[[#This Row],[Nb plis]]>0, (IF(Tableau1[[#This Row],[Nb plis]]<5,0.25,IF(Tableau1[[#This Row],[Nb plis]]<7,0.33,0.45))/Tableau1[[#This Row],[Série \néconomique ]] +0.004*Tableau1[[#This Row],[Nb plis]])*$N$5,0)","v":0},{"$f":"IFERROR(VLOOKUP(Tableau1[[#This Row],[Format\ntôle]],Tôles!B:P,9,FALSE),0)","v":0},{"$f":"Tableau1[[#This Row],[Dimention X (mm)]]/1000*Tableau1[[#This Row],[Dimention Y (mm)]]/1000","v":0},{"$f":"IFERROR(ROUNDUP(Tableau1[[#This Row],[Surface\npièce (m²)]]/Tableau1[[#This Row],[surface\ntôle (m²)]],4),0)","v":0},{"$f":"IF(Tableau1[[#This Row],[Forcer série Economique ]]>0,Tableau1[[#This Row],[Forcer série Economique ]],Tableau1[[#This Row],[Série Economique proposée]])","v":0},{"$f":"IF(OR(ISERROR((5/Tableau1[[#This Row],[Série \néconomique ]]+Tableau1[[#This Row],[Nb trous]]*0.08*VLOOKUP(Tableau1[[#This Row],[Format\ntôle]],Tôles!B:O,5,FALSE)+ (Tableau1[[#This Row],[Dimention X (mm)]]+Tableau1[[#This Row],[Dimention Y (mm)]]) * 0.001)*Taux_horaire/100),Tableau1[[#This Row],[VCOGS\ntôle]] = \"\"),0,(5/Tableau1[[#This Row],[Série \néconomique ]]+Tableau1[[#This Row],[Nb trous]]*0.08*VLOOKUP(Tableau1[[#This Row],[Format\ntôle]],Tôles!B:O,5,FALSE)+ (Tableau1[[#This Row],[Dimention X (mm)]]+Tableau1[[#This Row],[Dimention Y (mm)]]) * 0.001)*Taux_horaire/100)","v":0},{"$f":"IF(OR(ISERROR((10/Tableau1[[#This Row],[Série \néconomique ]]+Tableau1[[#This Row],[Nb trous]]*0.007 + (Tableau1[[#This Row],[Dimention X (mm)]]+Tableau1[[#This Row],[Dimention Y (mm)]]) * 0.0005)*Taux_horaire/100),Tableau1[[#This Row],[VCOGS\ntôle]]= \"\"),0,(10/Tableau1[[#This Row],[Série \néconomique ]]+Tableau1[[#This Row],[Nb trous]]*0.007 + (Tableau1[[#This Row],[Dimention X (mm)]]+Tableau1[[#This Row],[Dimention Y (mm)]]) * 0.0005)*Taux_horaire/100)","v":0}]
[null,null,null,null,null,null,null,{"$f":"SUBSTITUTE(TRIM(CONCATENATE(Tableau1[[#This Row],[Niveau 0]],\" \",Tableau1[[#This Row],[Niveau 1]],\" \",Tableau1[[#This Row],[Niveau 2]],\" \",Tableau1[[#This Row],[Niveau 3]],\" \",Tableau1[[#This Row],[Niveau 4]],\" \",Tableau1[[#This Row],[Niveau 5]])),\" \",\".\")","v":""},{"$f":"IFERROR(IF(COUNTBLANK(Tableau1[[#This Row],[Niveau 0]:[Niveau 5]])=5,\"0\",LEFT(Tableau1[[#This Row],[Niveau]],(LEN(Tableau1[[#This Row],[Niveau]])-LEN(OFFSET(Tableau1[[#This Row],[Niveau 5]],0,(-COUNTBLANK(Tableau1[[#This Row],[Niveau 0]:[Niveau 5]]))))-1))),\"\")","v":""},null,null,null,null,{"$f":"IF(Tableau1[[#This Row],[Catégorie pièce]]=\" Opérations\",VLOOKUP(Tableau1[[#This Row],[Article produit/\nPoste de charge]],'PDC+emplacement'!A:C,2,FALSE),IF(Tableau1[[#This Row],[Catégorie pièce]]=\" Nouveau\",\"***RENSEIGNER NOM***\",IFERROR(VLOOKUP(CONCATENATE(Tableau1[[#This Row],[Article produit/\nPoste de charge]]),[1]ARTRDCL!$A$1:$U$25000,2,FALSE),\"\")))","v":""},null,null,null,null,null,{"$f":"IF(Tableau1[[#This Row],[Type plan]]=\"SP\",\"SP\",IF(AND(Tableau1[[#This Row],[Catégorie pièce]]=\" Nouveau\",Tableau1[[#This Row],[Type de pièce]]<>\" Panoplie\"),MID(Tableau1[[#This Row],[Article produit/\nPoste de charge]],2,15),IF(AND(Tableau1[[#This Row],[Catégorie pièce]]=\" Nouveau\",Tableau1[[#This Row],[Type de pièce]]=\" Panoplie\"),Tableau1[[#This Row],[Article produit/\nPoste de charge]],\"\")))","v":""},null,null,{"$f":"ROUNDUP((Tableau1[[#This Row],[Qté / an]]/52)*2,0)","v":{"$error":"#VALUE!"}},null,null,{"$f":"IF(AND(Tableau1[[#This Row],[Catégorie pièce]]=\" Opérations\",Tableau1[[#This Row],[Type de pièce]]=\" Temps\"),Taux_horaire/100,IF(AND(Tableau1[[#This Row],[Catégorie pièce]]=\" Nouveau\",Tableau1[[#This Row],[Type de pièce]]=\" Fabriquée\"),BOM!$AO15,IF(OR(AND(Tableau1[[#This Row],[Catégorie pièce]]=\" Nouveau\",Tableau1[[#This Row],[Type de pièce]]=\" Assemblage\"),BOM!$Y15=\" Produit fini\",Tableau1[[#This Row],[Type de pièce]]=\" Opé pièce primaire\",Tableau1[[#This Row],[Type de pièce]]=\" Pièce/Opé Panoplie\"),\"/\",IF(Tableau1[[#This Row],[Catégorie pièce]]=\" Existant\",VLOOKUP(CONCATENATE(Tableau1[[#This Row],[Article produit/\nPoste de charge]]),[1]ARTRDCL!$A$1:$U$65536,15,FALSE),\"\"))))","v":""},{"$f":"IF(OR(Tableau1[[#This Row],[Catégorie pièce]]=\" Opérations\",Tableau1[[#This Row],[Catégorie pièce]]=\" Matière 1ère\",ISBLANK(Tableau1[[#This Row],[Catégorie pièce]])),\"/\",SUMPRODUCT($AY$6:$BB$6,Tableau1[[#This Row],[Modèle A]:[Modèle D]]))","v":"/"},{"$f":"IFERROR(ROUNDDOWN(Tableau1[[#This Row],[surface\ntôle (m²)]]/Tableau1[[#This Row],[Surface\npièce (m²)]],0),0)","v":0},{"$f":"IF(AND(Tableau1[[#This Row],[Catégorie pièce]]=\" Nouveau\",Tableau1[[#This Row],[Type de pièce]]=\" Fabriquée\"),ROUNDUP(Tableau1[[#This Row],[Qté / an]]*2/52,0),0)","v":0},null,null,null,null,null,null,null,null,null,null,null,{"$f":"SUM(Tableau1[[#This Row],[VCOGS\ntôle]:[VCOGS\npliage]])","v":0},{"$f":"IFERROR((VLOOKUP(Tableau1[[#This Row],[Format\ntôle]],Tableau2[],11,FALSE)/Tableau1[[#This Row],[Série \néconomique ]])*Tableau1[[#This Row],[surface\ntôle (m²)]],0)","v":0},{"$f":"IF(Tableau1[[#This Row],[Laser (O/N)]]= \"Oui\",Tableau1[[#This Row],[Coût\ndécoupe laser]],Tableau1[[#This Row],[Coût\npoinçonnage]])","v":0},{"$f":"IF(Tableau1[[#This Row],[Nb plis]]>0, (IF(Tableau1[[#This Row],[Nb plis]]<5,0.25,IF(Tableau1[[#This Row],[Nb plis]]<7,0.33,0.45))/Tableau1[[#This Row],[Série \néconomique ]] +0.004*Tableau1[[#This Row],[Nb plis]])*$N$5,0)","v":0},{"$f":"IFERROR(VLOOKUP(Tableau1[[#This Row],[Format\ntôle]],Tôles!B:P,9,FALSE),0)","v":0},{"$f":"Tableau1[[#This Row],[Dimention X (mm)]]/1000*Tableau1[[#This Row],[Dimention Y (mm)]]/1000","v":0},{"$f":"IFERROR(ROUNDUP(Tableau1[[#This Row],[Surface\npièce (m²)]]/Tableau1[[#This Row],[surface\ntôle (m²)]],4),0)","v":0},{"$f":"IF(Tableau1[[#This Row],[Forcer série Economique ]]>0,Tableau1[[#This Row],[Forcer série Economique ]],Tableau1[[#This Row],[Série Economique proposée]])","v":0},{"$f":"IF(OR(ISERROR((5/Tableau1[[#This Row],[Série \néconomique ]]+Tableau1[[#This Row],[Nb trous]]*0.08*VLOOKUP(Tableau1[[#This Row],[Format\ntôle]],Tôles!B:O,5,FALSE)+ (Tableau1[[#This Row],[Dimention X (mm)]]+Tableau1[[#This Row],[Dimention Y (mm)]]) * 0.001)*Taux_horaire/100),Tableau1[[#This Row],[VCOGS\ntôle]] = \"\"),0,(5/Tableau1[[#This Row],[Série \néconomique ]]+Tableau1[[#This Row],[Nb trous]]*0.08*VLOOKUP(Tableau1[[#This Row],[Format\ntôle]],Tôles!B:O,5,FALSE)+ (Tableau1[[#This Row],[Dimention X (mm)]]+Tableau1[[#This Row],[Dimention Y (mm)]]) * 0.001)*Taux_horaire/100)","v":0},{"$f":"IF(OR(ISERROR((10/Tableau1[[#This Row],[Série \néconomique ]]+Tableau1[[#This Row],[Nb trous]]*0.007 + (Tableau1[[#This Row],[Dimention X (mm)]]+Tableau1[[#This Row],[Dimention Y (mm)]]) * 0.0005)*Taux_horaire/100),Tableau1[[#This Row],[VCOGS\ntôle]]= \"\"),0,(10/Tableau1[[#This Row],[Série \néconomique ]]+Tableau1[[#This Row],[Nb trous]]*0.007 + (Tableau1[[#This Row],[Dimention X (mm)]]+Tableau1[[#This Row],[Dimention Y (mm)]]) * 0.0005)*Taux_horaire/100)","v":0}]
[null,null,null,null,null,null,null,{"$f":"SUBSTITUTE(TRIM(CONCATENATE(Tableau1[[#This Row],[Niveau 0]],\" \",Tableau1[[#This Row],[Niveau 1]],\" \",Tableau1[[#This Row],[Niveau 2]],\" \",Tableau1[[#This Row],[Niveau 3]],\" \",Tableau1[[#This Row],[Niveau 4]],\" \",Tableau1[[#This Row],[Niveau 5]])),\" \",\".\")","v":""},{"$f":"IFERROR(IF(COUNTBLANK(Tableau1[[#This Row],[Niveau 0]:[Niveau 5]])=5,\"0\",LEFT(Tableau1[[#This Row],[Niveau]],(LEN(Tableau1[[#This Row],[Niveau]])-LEN(OFFSET(Tableau1[[#This Row],[Niveau 5]],0,(-COUNTBLANK(Tableau1[[#This Row],[Niveau 0]:[Niveau 5]]))))-1))),\"\")","v":""},null,null,null,null,{"$f":"IF(Tableau1[[#This Row],[Catégorie pièce]]=\" Opérations\",VLOOKUP(Tableau1[[#This Row],[Article produit/\nPoste de charge]],'PDC+emplacement'!A:C,2,FALSE),IF(Tableau1[[#This Row],[Catégorie pièce]]=\" Nouveau\",\"***RENSEIGNER NOM***\",IFERROR(VLOOKUP(CONCATENATE(Tableau1[[#This Row],[Article produit/\nPoste de charge]]),[1]ARTRDCL!$A$1:$U$25000,2,FALSE),\"\")))","v":""},null,null,null,null,null,{"$f":"IF(Tableau1[[#This Row],[Type plan]]=\"SP\",\"SP\",IF(AND(Tableau1[[#This Row],[Catégorie pièce]]=\" Nouveau\",Tableau1[[#This Row],[Type de pièce]]<>\" Panoplie\"),MID(Tableau1[[#This Row],[Article produit/\nPoste de charge]],2,15),IF(AND(Tableau1[[#This Row],[Catégorie pièce]]=\" Nouveau\",Tableau1[[#This Row],[Type de pièce]]=\" Panoplie\"),Tableau1[[#This Row],[Article produit/\nPoste de charge]],\"\")))","v":""},null,null,{"$f":"ROUNDUP((Tableau1[[#This Row],[Qté / an]]/52)*2,0)","v":{"$error":"#VALUE!"}},null,null,{"$f":"IF(AND(Tableau1[[#This Row],[Catégorie pièce]]=\" Opérations\",Tableau1[[#This Row],[Type de pièce]]=\" Temps\"),Taux_horaire/100,IF(AND(Tableau1[[#This Row],[Catégorie pièce]]=\" Nouveau\",Tableau1[[#This Row],[Type de pièce]]=\" Fabriquée\"),BOM!$AO16,IF(OR(AND(Tableau1[[#This Row],[Catégorie pièce]]=\" Nouveau\",Tableau1[[#This Row],[Type de pièce]]=\" Assemblage\"),BOM!$Y16=\" Produit fini\",Tableau1[[#This Row],[Type de pièce]]=\" Opé pièce primaire\",Tableau1[[#This Row],[Type de pièce]]=\" Pièce/Opé Panoplie\"),\"/\",IF(Tableau1[[#This Row],[Catégorie pièce]]=\" Existant\",VLOOKUP(CONCATENATE(Tableau1[[#This Row],[Article produit/\nPoste de charge]]),[1]ARTRDCL!$A$1:$U$65536,15,FALSE),\"\"))))","v":""},{"$f":"IF(OR(Tableau1[[#This Row],[Catégorie pièce]]=\" Opérations\",Tableau1[[#This Row],[Catégorie pièce]]=\" Matière 1ère\",ISBLANK(Tableau1[[#This Row],[Catégorie pièce]])),\"/\",SUMPRODUCT($AY$6:$BB$6,Tableau1[[#This Row],[Modèle A]:[Modèle D]]))","v":"/"},{"$f":"IFERROR(ROUNDDOWN(Tableau1[[#This Row],[surface\ntôle (m²)]]/Tableau1[[#This Row],[Surface\npièce (m²)]],0),0)","v":0},{"$f":"IF(AND(Tableau1[[#This Row],[Catégorie pièce]]=\" Nouveau\",Tableau1[[#This Row],[Type de pièce]]=\" Fabriquée\"),ROUNDUP(Tableau1[[#This Row],[Qté / an]]*2/52,0),0)","v":0},null,null,null,null,null,null,null,null,null,null,null,{"$f":"SUM(Tableau1[[#This Row],[VCOGS\ntôle]:[VCOGS\npliage]])","v":0},{"$f":"IFERROR((VLOOKUP(Tableau1[[#This Row],[Format\ntôle]],Tableau2[],11,FALSE)/Tableau1[[#This Row],[Série \néconomique ]])*Tableau1[[#This Row],[surface\ntôle (m²)]],0)","v":0},{"$f":"IF(Tableau1[[#This Row],[Laser (O/N)]]= \"Oui\",Tableau1[[#This Row],[Coût\ndécoupe laser]],Tableau1[[#This Row],[Coût\npoinçonnage]])","v":0},{"$f":"IF(Tableau1[[#This Row],[Nb plis]]>0, (IF(Tableau1[[#This Row],[Nb plis]]<5,0.25,IF(Tableau1[[#This Row],[Nb plis]]<7,0.33,0.45))/Tableau1[[#This Row],[Série \néconomique ]] +0.004*Tableau1[[#This Row],[Nb plis]])*$N$5,0)","v":0},{"$f":"IFERROR(VLOOKUP(Tableau1[[#This Row],[Format\ntôle]],Tôles!B:P,9,FALSE),0)","v":0},{"$f":"Tableau1[[#This Row],[Dimention X (mm)]]/1000*Tableau1[[#This Row],[Dimention Y (mm)]]/1000","v":0},{"$f":"IFERROR(ROUNDUP(Tableau1[[#This Row],[Surface\npièce (m²)]]/Tableau1[[#This Row],[surface\ntôle (m²)]],4),0)","v":0},{"$f":"IF(Tableau1[[#This Row],[Forcer série Economique ]]>0,Tableau1[[#This Row],[Forcer série Economique ]],Tableau1[[#This Row],[Série Economique proposée]])","v":0},{"$f":"IF(OR(ISERROR((5/Tableau1[[#This Row],[Série \néconomique ]]+Tableau1[[#This Row],[Nb trous]]*0.08*VLOOKUP(Tableau1[[#This Row],[Format\ntôle]],Tôles!B:O,5,FALSE)+ (Tableau1[[#This Row],[Dimention X (mm)]]+Tableau1[[#This Row],[Dimention Y (mm)]]) * 0.001)*Taux_horaire/100),Tableau1[[#This Row],[VCOGS\ntôle]] = \"\"),0,(5/Tableau1[[#This Row],[Série \néconomique ]]+Tableau1[[#This Row],[Nb trous]]*0.08*VLOOKUP(Tableau1[[#This Row],[Format\ntôle]],Tôles!B:O,5,FALSE)+ (Tableau1[[#This Row],[Dimention X (mm)]]+Tableau1[[#This Row],[Dimention Y (mm)]]) * 0.001)*Taux_horaire/100)","v":0},{"$f":"IF(OR(ISERROR((10/Tableau1[[#This Row],[Série \néconomique ]]+Tableau1[[#This Row],[Nb trous]]*0.007 + (Tableau1[[#This Row],[Dimention X (mm)]]+Tableau1[[#This Row],[Dimention Y (mm)]]) * 0.0005)*Taux_horaire/100),Tableau1[[#This Row],[VCOGS\ntôle]]= \"\"),0,(10/Tableau1[[#This Row],[Série \néconomique ]]+Tableau1[[#This Row],[Nb trous]]*0.007 + (Tableau1[[#This Row],[Dimention X (mm)]]+Tableau1[[#This Row],[Dimention Y (mm)]]) * 0.0005)*Taux_horaire/100)","v":0}]
[null,null,null,null,null,null,null,{"$f":"SUBSTITUTE(TRIM(CONCATENATE(Tableau1[[#This Row],[Niveau 0]],\" \",Tableau1[[#This Row],[Niveau 1]],\" \",Tableau1[[#This Row],[Niveau 2]],\" \",Tableau1[[#This Row],[Niveau 3]],\" \",Tableau1[[#This Row],[Niveau 4]],\" \",Tableau1[[#This Row],[Niveau 5]])),\" \",\".\")","v":""},{"$f":"IFERROR(IF(COUNTBLANK(Tableau1[[#This Row],[Niveau 0]:[Niveau 5]])=5,\"0\",LEFT(Tableau1[[#This Row],[Niveau]],(LEN(Tableau1[[#This Row],[Niveau]])-LEN(OFFSET(Tableau1[[#This Row],[Niveau 5]],0,(-COUNTBLANK(Tableau1[[#This Row],[Niveau 0]:[Niveau 5]]))))-1))),\"\")","v":""},null,null,null,null,{"$f":"IF(Tableau1[[#This Row],[Catégorie pièce]]=\" Opérations\",VLOOKUP(Tableau1[[#This Row],[Article produit/\nPoste de charge]],'PDC+emplacement'!A:C,2,FALSE),IF(Tableau1[[#This Row],[Catégorie pièce]]=\" Nouveau\",\"***RENSEIGNER NOM***\",IFERROR(VLOOKUP(CONCATENATE(Tableau1[[#This Row],[Article produit/\nPoste de charge]]),[1]ARTRDCL!$A$1:$U$25000,2,FALSE),\"\")))","v":""},null,null,null,null,null,{"$f":"IF(Tableau1[[#This Row],[Type plan]]=\"SP\",\"SP\",IF(AND(Tableau1[[#This Row],[Catégorie pièce]]=\" Nouveau\",Tableau1[[#This Row],[Type de pièce]]<>\" Panoplie\"),MID(Tableau1[[#This Row],[Article produit/\nPoste de charge]],2,15),IF(AND(Tableau1[[#This Row],[Catégorie pièce]]=\" Nouveau\",Tableau1[[#This Row],[Type de pièce]]=\" Panoplie\"),Tableau1[[#This Row],[Article produit/\nPoste de charge]],\"\")))","v":""},null,null,{"$f":"ROUNDUP((Tableau1[[#This Row],[Qté / an]]/52)*2,0)","v":{"$error":"#VALUE!"}},null,null,{"$f":"IF(AND(Tableau1[[#This Row],[Catégorie pièce]]=\" Opérations\",Tableau1[[#This Row],[Type de pièce]]=\" Temps\"),Taux_horaire/100,IF(AND(Tableau1[[#This Row],[Catégorie pièce]]=\" Nouveau\",Tableau1[[#This Row],[Type de pièce]]=\" Fabriquée\"),BOM!$AO17,IF(OR(AND(Tableau1[[#This Row],[Catégorie pièce]]=\" Nouveau\",Tableau1[[#This Row],[Type de pièce]]=\" Assemblage\"),BOM!$Y17=\" Produit fini\",Tableau1[[#This Row],[Type de pièce]]=\" Opé pièce primaire\",Tableau1[[#This Row],[Type de pièce]]=\" Pièce/Opé Panoplie\"),\"/\",IF(Tableau1[[#This Row],[Catégorie pièce]]=\" Existant\",VLOOKUP(CONCATENATE(Tableau1[[#This Row],[Article produit/\nPoste de charge]]),[1]ARTRDCL!$A$1:$U$65536,15,FALSE),\"\"))))","v":""},{"$f":"IF(OR(Tableau1[[#This Row],[Catégorie pièce]]=\" Opérations\",Tableau1[[#This Row],[Catégorie pièce]]=\" Matière 1ère\",ISBLANK(Tableau1[[#This Row],[Catégorie pièce]])),\"/\",SUMPRODUCT($AY$6:$BB$6,Tableau1[[#This Row],[Modèle A]:[Modèle D]]))","v":"/"},{"$f":"IFERROR(ROUNDDOWN(Tableau1[[#This Row],[surface\ntôle (m²)]]/Tableau1[[#This Row],[Surface\npièce (m²)]],0),0)","v":0},{"$f":"IF(AND(Tableau1[[#This Row],[Catégorie pièce]]=\" Nouveau\",Tableau1[[#This Row],[Type de pièce]]=\" Fabriquée\"),ROUNDUP(Tableau1[[#This Row],[Qté / an]]*2/52,0),0)","v":0},null,null,null,null,null,null,null,null,null,null,null,{"$f":"SUM(Tableau1[[#This Row],[VCOGS\ntôle]:[VCOGS\npliage]])","v":0},{"$f":"IFERROR((VLOOKUP(Tableau1[[#This Row],[Format\ntôle]],Tableau2[],11,FALSE)/Tableau1[[#This Row],[Série \néconomique ]])*Tableau1[[#This Row],[surface\ntôle (m²)]],0)","v":0},{"$f":"IF(Tableau1[[#This Row],[Laser (O/N)]]= \"Oui\",Tableau1[[#This Row],[Coût\ndécoupe laser]],Tableau1[[#This Row],[Coût\npoinçonnage]])","v":0},{"$f":"IF(Tableau1[[#This Row],[Nb plis]]>0, (IF(Tableau1[[#This Row],[Nb plis]]<5,0.25,IF(Tableau1[[#This Row],[Nb plis]]<7,0.33,0.45))/Tableau1[[#This Row],[Série \néconomique ]] +0.004*Tableau1[[#This Row],[Nb plis]])*$N$5,0)","v":0},{"$f":"IFERROR(VLOOKUP(Tableau1[[#This Row],[Format\ntôle]],Tôles!B:P,9,FALSE),0)","v":0},{"$f":"Tableau1[[#This Row],[Dimention X (mm)]]/1000*Tableau1[[#This Row],[Dimention Y (mm)]]/1000","v":0},{"$f":"IFERROR(ROUNDUP(Tableau1[[#This Row],[Surface\npièce (m²)]]/Tableau1[[#This Row],[surface\ntôle (m²)]],4),0)","v":0},{"$f":"IF(Tableau1[[#This Row],[Forcer série Economique ]]>0,Tableau1[[#This Row],[Forcer série Economique ]],Tableau1[[#This Row],[Série Economique proposée]])","v":0},{"$f":"IF(OR(ISERROR((5/Tableau1[[#This Row],[Série \néconomique ]]+Tableau1[[#This Row],[Nb trous]]*0.08*VLOOKUP(Tableau1[[#This Row],[Format\ntôle]],Tôles!B:O,5,FALSE)+ (Tableau1[[#This Row],[Dimention X (mm)]]+Tableau1[[#This Row],[Dimention Y (mm)]]) * 0.001)*Taux_horaire/100),Tableau1[[#This Row],[VCOGS\ntôle]] = \"\"),0,(5/Tableau1[[#This Row],[Série \néconomique ]]+Tableau1[[#This Row],[Nb trous]]*0.08*VLOOKUP(Tableau1[[#This Row],[Format\ntôle]],Tôles!B:O,5,FALSE)+ (Tableau1[[#This Row],[Dimention X (mm)]]+Tableau1[[#This Row],[Dimention Y (mm)]]) * 0.001)*Taux_horaire/100)","v":0},{"$f":"IF(OR(ISERROR((10/Tableau1[[#This Row],[Série \néconomique ]]+Tableau1[[#This Row],[Nb trous]]*0.007 + (Tableau1[[#This Row],[Dimention X (mm)]]+Tableau1[[#This Row],[Dimention Y (mm)]]) * 0.0005)*Taux_horaire/100),Tableau1[[#This Row],[VCOGS\ntôle]]= \"\"),0,(10/Tableau1[[#This Row],[Série \néconomique ]]+Tableau1[[#This Row],[Nb trous]]*0.007 + (Tableau1[[#This Row],[Dimention X (mm)]]+Tableau1[[#This Row],[Dimention Y (mm)]]) * 0.0005)*Taux_horaire/100)","v":0}]
[null,null,null,null,null,null,null,{"$f":"SUBSTITUTE(TRIM(CONCATENATE(Tableau1[[#This Row],[Niveau 0]],\" \",Tableau1[[#This Row],[Niveau 1]],\" \",Tableau1[[#This Row],[Niveau 2]],\" \",Tableau1[[#This Row],[Niveau 3]],\" \",Tableau1[[#This Row],[Niveau 4]],\" \",Tableau1[[#This Row],[Niveau 5]])),\" \",\".\")","v":""},{"$f":"IFERROR(IF(COUNTBLANK(Tableau1[[#This Row],[Niveau 0]:[Niveau 5]])=5,\"0\",LEFT(Tableau1[[#This Row],[Niveau]],(LEN(Tableau1[[#This Row],[Niveau]])-LEN(OFFSET(Tableau1[[#This Row],[Niveau 5]],0,(-COUNTBLANK(Tableau1[[#This Row],[Niveau 0]:[Niveau 5]]))))-1))),\"\")","v":""},null,null,null,null,{"$f":"IF(Tableau1[[#This Row],[Catégorie pièce]]=\" Opérations\",VLOOKUP(Tableau1[[#This Row],[Article produit/\nPoste de charge]],'PDC+emplacement'!A:C,2,FALSE),IF(Tableau1[[#This Row],[Catégorie pièce]]=\" Nouveau\",\"***RENSEIGNER NOM***\",IFERROR(VLOOKUP(CONCATENATE(Tableau1[[#This Row],[Article produit/\nPoste de charge]]),[1]ARTRDCL!$A$1:$U$25000,2,FALSE),\"\")))","v":""},null,null,null,null,null,{"$f":"IF(Tableau1[[#This Row],[Type plan]]=\"SP\",\"SP\",IF(AND(Tableau1[[#This Row],[Catégorie pièce]]=\" Nouveau\",Tableau1[[#This Row],[Type de pièce]]<>\" Panoplie\"),MID(Tableau1[[#This Row],[Article produit/\nPoste de charge]],2,15),IF(AND(Tableau1[[#This Row],[Catégorie pièce]]=\" Nouveau\",Tableau1[[#This Row],[Type de pièce]]=\" Panoplie\"),Tableau1[[#This Row],[Article produit/\nPoste de charge]],\"\")))","v":""},null,null,{"$f":"ROUNDUP((Tableau1[[#This Row],[Qté / an]]/52)*2,0)","v":{"$error":"#VALUE!"}},null,null,{"$f":"IF(AND(Tableau1[[#This Row],[Catégorie pièce]]=\" Opérations\",Tableau1[[#This Row],[Type de pièce]]=\" Temps\"),Taux_horaire/100,IF(AND(Tableau1[[#This Row],[Catégorie pièce]]=\" Nouveau\",Tableau1[[#This Row],[Type de pièce]]=\" Fabriquée\"),BOM!$AO18,IF(OR(AND(Tableau1[[#This Row],[Catégorie pièce]]=\" Nouveau\",Tableau1[[#This Row],[Type de pièce]]=\" Assemblage\"),BOM!$Y18=\" Produit fini\",Tableau1[[#This Row],[Type de pièce]]=\" Opé pièce primaire\",Tableau1[[#This Row],[Type de pièce]]=\" Pièce/Opé Panoplie\"),\"/\",IF(Tableau1[[#This Row],[Catégorie pièce]]=\" Existant\",VLOOKUP(CONCATENATE(Tableau1[[#This Row],[Article produit/\nPoste de charge]]),[1]ARTRDCL!$A$1:$U$65536,15,FALSE),\"\"))))","v":""},{"$f":"IF(OR(Tableau1[[#This Row],[Catégorie pièce]]=\" Opérations\",Tableau1[[#This Row],[Catégorie pièce]]=\" Matière 1ère\",ISBLANK(Tableau1[[#This Row],[Catégorie pièce]])),\"/\",SUMPRODUCT($AY$6:$BB$6,Tableau1[[#This Row],[Modèle A]:[Modèle D]]))","v":"/"},{"$f":"IFERROR(ROUNDDOWN(Tableau1[[#This Row],[surface\ntôle (m²)]]/Tableau1[[#This Row],[Surface\npièce (m²)]],0),0)","v":0},{"$f":"IF(AND(Tableau1[[#This Row],[Catégorie pièce]]=\" Nouveau\",Tableau1[[#This Row],[Type de pièce]]=\" Fabriquée\"),ROUNDUP(Tableau1[[#This Row],[Qté / an]]*2/52,0),0)","v":0},null,null,null,null,null,null,null,null,null,null,null,{"$f":"SUM(Tableau1[[#This Row],[VCOGS\ntôle]:[VCOGS\npliage]])","v":0},{"$f":"IFERROR((VLOOKUP(Tableau1[[#This Row],[Format\ntôle]],Tableau2[],11,FALSE)/Tableau1[[#This Row],[Série \néconomique ]])*Tableau1[[#This Row],[surface\ntôle (m²)]],0)","v":0},{"$f":"IF(Tableau1[[#This Row],[Laser (O/N)]]= \"Oui\",Tableau1[[#This Row],[Coût\ndécoupe laser]],Tableau1[[#This Row],[Coût\npoinçonnage]])","v":0},{"$f":"IF(Tableau1[[#This Row],[Nb plis]]>0, (IF(Tableau1[[#This Row],[Nb plis]]<5,0.25,IF(Tableau1[[#This Row],[Nb plis]]<7,0.33,0.45))/Tableau1[[#This Row],[Série \néconomique ]] +0.004*Tableau1[[#This Row],[Nb plis]])*$N$5,0)","v":0},{"$f":"IFERROR(VLOOKUP(Tableau1[[#This Row],[Format\ntôle]],Tôles!B:P,9,FALSE),0)","v":0},{"$f":"Tableau1[[#This Row],[Dimention X (mm)]]/1000*Tableau1[[#This Row],[Dimention Y (mm)]]/1000","v":0},{"$f":"IFERROR(ROUNDUP(Tableau1[[#This Row],[Surface\npièce (m²)]]/Tableau1[[#This Row],[surface\ntôle (m²)]],4),0)","v":0},{"$f":"IF(Tableau1[[#This Row],[Forcer série Economique ]]>0,Tableau1[[#This Row],[Forcer série Economique ]],Tableau1[[#This Row],[Série Economique proposée]])","v":0},{"$f":"IF(OR(ISERROR((5/Tableau1[[#This Row],[Série \néconomique ]]+Tableau1[[#This Row],[Nb trous]]*0.08*VLOOKUP(Tableau1[[#This Row],[Format\ntôle]],Tôles!B:O,5,FALSE)+ (Tableau1[[#This Row],[Dimention X (mm)]]+Tableau1[[#This Row],[Dimention Y (mm)]]) * 0.001)*Taux_horaire/100),Tableau1[[#This Row],[VCOGS\ntôle]] = \"\"),0,(5/Tableau1[[#This Row],[Série \néconomique ]]+Tableau1[[#This Row],[Nb trous]]*0.08*VLOOKUP(Tableau1[[#This Row],[Format\ntôle]],Tôles!B:O,5,FALSE)+ (Tableau1[[#This Row],[Dimention X (mm)]]+Tableau1[[#This Row],[Dimention Y (mm)]]) * 0.001)*Taux_horaire/100)","v":0},{"$f":"IF(OR(ISERROR((10/Tableau1[[#This Row],[Série \néconomique ]]+Tableau1[[#This Row],[Nb trous]]*0.007 + (Tableau1[[#This Row],[Dimention X (mm)]]+Tableau1[[#This Row],[Dimention Y (mm)]]) * 0.0005)*Taux_horaire/100),Tableau1[[#This Row],[VCOGS\ntôle]]= \"\"),0,(10/Tableau1[[#This Row],[Série \néconomique ]]+Tableau1[[#This Row],[Nb trous]]*0.007 + (Tableau1[[#This Row],[Dimention X (mm)]]+Tableau1[[#This Row],[Dimention Y (mm)]]) * 0.0005)*Taux_horaire/100)","v":0}]
[null,null,null,null,null,null,null,{"$f":"SUBSTITUTE(TRIM(CONCATENATE(Tableau1[[#This Row],[Niveau 0]],\" \",Tableau1[[#This Row],[Niveau 1]],\" \",Tableau1[[#This Row],[Niveau 2]],\" \",Tableau1[[#This Row],[Niveau 3]],\" \",Tableau1[[#This Row],[Niveau 4]],\" \",Tableau1[[#This Row],[Niveau 5]])),\" \",\".\")","v":""},{"$f":"IFERROR(IF(COUNTBLANK(Tableau1[[#This Row],[Niveau 0]:[Niveau 5]])=5,\"0\",LEFT(Tableau1[[#This Row],[Niveau]],(LEN(Tableau1[[#This Row],[Niveau]])-LEN(OFFSET(Tableau1[[#This Row],[Niveau 5]],0,(-COUNTBLANK(Tableau1[[#This Row],[Niveau 0]:[Niveau 5]]))))-1))),\"\")","v":""},null,null,null,null,{"$f":"IF(Tableau1[[#This Row],[Catégorie pièce]]=\" Opérations\",VLOOKUP(Tableau1[[#This Row],[Article produit/\nPoste de charge]],'PDC+emplacement'!A:C,2,FALSE),IF(Tableau1[[#This Row],[Catégorie pièce]]=\" Nouveau\",\"***RENSEIGNER NOM***\",IFERROR(VLOOKUP(CONCATENATE(Tableau1[[#This Row],[Article produit/\nPoste de charge]]),[1]ARTRDCL!$A$1:$U$25000,2,FALSE),\"\")))","v":""},null,null,null,null,null,{"$f":"IF(Tableau1[[#This Row],[Type plan]]=\"SP\",\"SP\",IF(AND(Tableau1[[#This Row],[Catégorie pièce]]=\" Nouveau\",Tableau1[[#This Row],[Type de pièce]]<>\" Panoplie\"),MID(Tableau1[[#This Row],[Article produit/\nPoste de charge]],2,15),IF(AND(Tableau1[[#This Row],[Catégorie pièce]]=\" Nouveau\",Tableau1[[#This Row],[Type de pièce]]=\" Panoplie\"),Tableau1[[#This Row],[Article produit/\nPoste de charge]],\"\")))","v":""},null,null,{"$f":"ROUNDUP((Tableau1[[#This Row],[Qté / an]]/52)*2,0)","v":{"$error":"#VALUE!"}},null,null,{"$f":"IF(AND(Tableau1[[#This Row],[Catégorie pièce]]=\" Opérations\",Tableau1[[#This Row],[Type de pièce]]=\" Temps\"),Taux_horaire/100,IF(AND(Tableau1[[#This Row],[Catégorie pièce]]=\" Nouveau\",Tableau1[[#This Row],[Type de pièce]]=\" Fabriquée\"),BOM!$AO19,IF(OR(AND(Tableau1[[#This Row],[Catégorie pièce]]=\" Nouveau\",Tableau1[[#This Row],[Type de pièce]]=\" Assemblage\"),BOM!$Y19=\" Produit fini\",Tableau1[[#This Row],[Type de pièce]]=\" Opé pièce primaire\",Tableau1[[#This Row],[Type de pièce]]=\" Pièce/Opé Panoplie\"),\"/\",IF(Tableau1[[#This Row],[Catégorie pièce]]=\" Existant\",VLOOKUP(CONCATENATE(Tableau1[[#This Row],[Article produit/\nPoste de charge]]),[1]ARTRDCL!$A$1:$U$65536,15,FALSE),\"\"))))","v":""},{"$f":"IF(OR(Tableau1[[#This Row],[Catégorie pièce]]=\" Opérations\",Tableau1[[#This Row],[Catégorie pièce]]=\" Matière 1ère\",ISBLANK(Tableau1[[#This Row],[Catégorie pièce]])),\"/\",SUMPRODUCT($AY$6:$BB$6,Tableau1[[#This Row],[Modèle A]:[Modèle D]]))","v":"/"},{"$f":"IFERROR(ROUNDDOWN(Tableau1[[#This Row],[surface\ntôle (m²)]]/Tableau1[[#This Row],[Surface\npièce (m²)]],0),0)","v":0},{"$f":"IF(AND(Tableau1[[#This Row],[Catégorie pièce]]=\" Nouveau\",Tableau1[[#This Row],[Type de pièce]]=\" Fabriquée\"),ROUNDUP(Tableau1[[#This Row],[Qté / an]]*2/52,0),0)","v":0},null,null,null,null,null,null,null,null,null,null,null,{"$f":"SUM(Tableau1[[#This Row],[VCOGS\ntôle]:[VCOGS\npliage]])","v":0},{"$f":"IFERROR((VLOOKUP(Tableau1[[#This Row],[Format\ntôle]],Tableau2[],11,FALSE)/Tableau1[[#This Row],[Série \néconomique ]])*Tableau1[[#This Row],[surface\ntôle (m²)]],0)","v":0},{"$f":"IF(Tableau1[[#This Row],[Laser (O/N)]]= \"Oui\",Tableau1[[#This Row],[Coût\ndécoupe laser]],Tableau1[[#This Row],[Coût\npoinçonnage]])","v":0},{"$f":"IF(Tableau1[[#This Row],[Nb plis]]>0, (IF(Tableau1[[#This Row],[Nb plis]]<5,0.25,IF(Tableau1[[#This Row],[Nb plis]]<7,0.33,0.45))/Tableau1[[#This Row],[Série \néconomique ]] +0.004*Tableau1[[#This Row],[Nb plis]])*$N$5,0)","v":0},{"$f":"IFERROR(VLOOKUP(Tableau1[[#This Row],[Format\ntôle]],Tôles!B:P,9,FALSE),0)","v":0},{"$f":"Tableau1[[#This Row],[Dimention X (mm)]]/1000*Tableau1[[#This Row],[Dimention Y (mm)]]/1000","v":0},{"$f":"IFERROR(ROUNDUP(Tableau1[[#This Row],[Surface\npièce (m²)]]/Tableau1[[#This Row],[surface\ntôle (m²)]],4),0)","v":0},{"$f":"IF(Tableau1[[#This Row],[Forcer série Economique ]]>0,Tableau1[[#This Row],[Forcer série Economique ]],Tableau1[[#This Row],[Série Economique proposée]])","v":0},{"$f":"IF(OR(ISERROR((5/Tableau1[[#This Row],[Série \néconomique ]]+Tableau1[[#This Row],[Nb trous]]*0.08*VLOOKUP(Tableau1[[#This Row],[Format\ntôle]],Tôles!B:O,5,FALSE)+ (Tableau1[[#This Row],[Dimention X (mm)]]+Tableau1[[#This Row],[Dimention Y (mm)]]) * 0.001)*Taux_horaire/100),Tableau1[[#This Row],[VCOGS\ntôle]] = \"\"),0,(5/Tableau1[[#This Row],[Série \néconomique ]]+Tableau1[[#This Row],[Nb trous]]*0.08*VLOOKUP(Tableau1[[#This Row],[Format\ntôle]],Tôles!B:O,5,FALSE)+ (Tableau1[[#This Row],[Dimention X (mm)]]+Tableau1[[#This Row],[Dimention Y (mm)]]) * 0.001)*Taux_horaire/100)","v":0},{"$f":"IF(OR(ISERROR((10/Tableau1[[#This Row],[Série \néconomique ]]+Tableau1[[#This Row],[Nb trous]]*0.007 + (Tableau1[[#This Row],[Dimention X (mm)]]+Tableau1[[#This Row],[Dimention Y (mm)]]) * 0.0005)*Taux_horaire/100),Tableau1[[#This Row],[VCOGS\ntôle]]= \"\"),0,(10/Tableau1[[#This Row],[Série \néconomique ]]+Tableau1[[#This Row],[Nb trous]]*0.007 + (Tableau1[[#This Row],[Dimention X (mm)]]+Tableau1[[#This Row],[Dimention Y (mm)]]) * 0.0005)*Taux_horaire/100)","v":0}]
[null,null,null,null,null,null,null,{"$f":"SUBSTITUTE(TRIM(CONCATENATE(Tableau1[[#This Row],[Niveau 0]],\" \",Tableau1[[#This Row],[Niveau 1]],\" \",Tableau1[[#This Row],[Niveau 2]],\" \",Tableau1[[#This Row],[Niveau 3]],\" \",Tableau1[[#This Row],[Niveau 4]],\" \",Tableau1[[#This Row],[Niveau 5]])),\" \",\".\")","v":""},{"$f":"IFERROR(IF(COUNTBLANK(Tableau1[[#This Row],[Niveau 0]:[Niveau 5]])=5,\"0\",LEFT(Tableau1[[#This Row],[Niveau]],(LEN(Tableau1[[#This Row],[Niveau]])-LEN(OFFSET(Tableau1[[#This Row],[Niveau 5]],0,(-COUNTBLANK(Tableau1[[#This Row],[Niveau 0]:[Niveau 5]]))))-1))),\"\")","v":""},null,null,null,null,{"$f":"IF(Tableau1[[#This Row],[Catégorie pièce]]=\" Opérations\",VLOOKUP(Tableau1[[#This Row],[Article produit/\nPoste de charge]],'PDC+emplacement'!A:C,2,FALSE),IF(Tableau1[[#This Row],[Catégorie pièce]]=\" Nouveau\",\"***RENSEIGNER NOM***\",IFERROR(VLOOKUP(CONCATENATE(Tableau1[[#This Row],[Article produit/\nPoste de charge]]),[1]ARTRDCL!$A$1:$U$25000,2,FALSE),\"\")))","v":""},null,null,null,null,null,{"$f":"IF(Tableau1[[#This Row],[Type plan]]=\"SP\",\"SP\",IF(AND(Tableau1[[#This Row],[Catégorie pièce]]=\" Nouveau\",Tableau1[[#This Row],[Type de pièce]]<>\" Panoplie\"),MID(Tableau1[[#This Row],[Article produit/\nPoste de charge]],2,15),IF(AND(Tableau1[[#This Row],[Catégorie pièce]]=\" Nouveau\",Tableau1[[#This Row],[Type de pièce]]=\" Panoplie\"),Tableau1[[#This Row],[Article produit/\nPoste de charge]],\"\")))","v":""},null,null,{"$f":"ROUNDUP((Tableau1[[#This Row],[Qté / an]]/52)*2,0)","v":{"$error":"#VALUE!"}},null,null,{"$f":"IF(AND(Tableau1[[#This Row],[Catégorie pièce]]=\" Opérations\",Tableau1[[#This Row],[Type de pièce]]=\" Temps\"),Taux_horaire/100,IF(AND(Tableau1[[#This Row],[Catégorie pièce]]=\" Nouveau\",Tableau1[[#This Row],[Type de pièce]]=\" Fabriquée\"),BOM!$AO20,IF(OR(AND(Tableau1[[#This Row],[Catégorie pièce]]=\" Nouveau\",Tableau1[[#This Row],[Type de pièce]]=\" Assemblage\"),BOM!$Y20=\" Produit fini\",Tableau1[[#This Row],[Type de pièce]]=\" Opé pièce primaire\",Tableau1[[#This Row],[Type de pièce]]=\" Pièce/Opé Panoplie\"),\"/\",IF(Tableau1[[#This Row],[Catégorie pièce]]=\" Existant\",VLOOKUP(CONCATENATE(Tableau1[[#This Row],[Article produit/\nPoste de charge]]),[1]ARTRDCL!$A$1:$U$65536,15,FALSE),\"\"))))","v":""},{"$f":"IF(OR(Tableau1[[#This Row],[Catégorie pièce]]=\" Opérations\",Tableau1[[#This Row],[Catégorie pièce]]=\" Matière 1ère\",ISBLANK(Tableau1[[#This Row],[Catégorie pièce]])),\"/\",SUMPRODUCT($AY$6:$BB$6,Tableau1[[#This Row],[Modèle A]:[Modèle D]]))","v":"/"},{"$f":"IFERROR(ROUNDDOWN(Tableau1[[#This Row],[surface\ntôle (m²)]]/Tableau1[[#This Row],[Surface\npièce (m²)]],0),0)","v":0},{"$f":"IF(AND(Tableau1[[#This Row],[Catégorie pièce]]=\" Nouveau\",Tableau1[[#This Row],[Type de pièce]]=\" Fabriquée\"),ROUNDUP(Tableau1[[#This Row],[Qté / an]]*2/52,0),0)","v":0},null,null,null,null,null,null,null,null,null,null,null,{"$f":"SUM(Tableau1[[#This Row],[VCOGS\ntôle]:[VCOGS\npliage]])","v":0},{"$f":"IFERROR((VLOOKUP(Tableau1[[#This Row],[Format\ntôle]],Tableau2[],11,FALSE)/Tableau1[[#This Row],[Série \néconomique ]])*Tableau1[[#This Row],[surface\ntôle (m²)]],0)","v":0},{"$f":"IF(Tableau1[[#This Row],[Laser (O/N)]]= \"Oui\",Tableau1[[#This Row],[Coût\ndécoupe laser]],Tableau1[[#This Row],[Coût\npoinçonnage]])","v":0},{"$f":"IF(Tableau1[[#This Row],[Nb plis]]>0, (IF(Tableau1[[#This Row],[Nb plis]]<5,0.25,IF(Tableau1[[#This Row],[Nb plis]]<7,0.33,0.45))/Tableau1[[#This Row],[Série \néconomique ]] +0.004*Tableau1[[#This Row],[Nb plis]])*$N$5,0)","v":0},{"$f":"IFERROR(VLOOKUP(Tableau1[[#This Row],[Format\ntôle]],Tôles!B:P,9,FALSE),0)","v":0},{"$f":"Tableau1[[#This Row],[Dimention X (mm)]]/1000*Tableau1[[#This Row],[Dimention Y (mm)]]/1000","v":0},{"$f":"IFERROR(ROUNDUP(Tableau1[[#This Row],[Surface\npièce (m²)]]/Tableau1[[#This Row],[surface\ntôle (m²)]],4),0)","v":0},{"$f":"IF(Tableau1[[#This Row],[Forcer série Economique ]]>0,Tableau1[[#This Row],[Forcer série Economique ]],Tableau1[[#This Row],[Série Economique proposée]])","v":0},{"$f":"IF(OR(ISERROR((5/Tableau1[[#This Row],[Série \néconomique ]]+Tableau1[[#This Row],[Nb trous]]*0.08*VLOOKUP(Tableau1[[#This Row],[Format\ntôle]],Tôles!B:O,5,FALSE)+ (Tableau1[[#This Row],[Dimention X (mm)]]+Tableau1[[#This Row],[Dimention Y (mm)]]) * 0.001)*Taux_horaire/100),Tableau1[[#This Row],[VCOGS\ntôle]] = \"\"),0,(5/Tableau1[[#This Row],[Série \néconomique ]]+Tableau1[[#This Row],[Nb trous]]*0.08*VLOOKUP(Tableau1[[#This Row],[Format\ntôle]],Tôles!B:O,5,FALSE)+ (Tableau1[[#This Row],[Dimention X (mm)]]+Tableau1[[#This Row],[Dimention Y (mm)]]) * 0.001)*Taux_horaire/100)","v":0},{"$f":"IF(OR(ISERROR((10/Tableau1[[#This Row],[Série \néconomique ]]+Tableau1[[#This Row],[Nb trous]]*0.007 + (Tableau1[[#This Row],[Dimention X (mm)]]+Tableau1[[#This Row],[Dimention Y (mm)]]) * 0.0005)*Taux_horaire/100),Tableau1[[#This Row],[VCOGS\ntôle]]= \"\"),0,(10/Tableau1[[#This Row],[Série \néconomique ]]+Tableau1[[#This Row],[Nb trous]]*0.007 + (Tableau1[[#This Row],[Dimention X (mm)]]+Tableau1[[#This Row],[Dimention Y (mm)]]) * 0.0005)*Taux_horaire/100)","v":0}]
[null,null,null,null,null,null,null,{"$f":"SUBSTITUTE(TRIM(CONCATENATE(Tableau1[[#This Row],[Niveau 0]],\" \",Tableau1[[#This Row],[Niveau 1]],\" \",Tableau1[[#This Row],[Niveau 2]],\" \",Tableau1[[#This Row],[Niveau 3]],\" \",Tableau1[[#This Row],[Niveau 4]],\" \",Tableau1[[#This Row],[Niveau 5]])),\" \",\".\")","v":""},{"$f":"IFERROR(IF(COUNTBLANK(Tableau1[[#This Row],[Niveau 0]:[Niveau 5]])=5,\"0\",LEFT(Tableau1[[#This Row],[Niveau]],(LEN(Tableau1[[#This Row],[Niveau]])-LEN(OFFSET(Tableau1[[#This Row],[Niveau 5]],0,(-COUNTBLANK(Tableau1[[#This Row],[Niveau 0]:[Niveau 5]]))))-1))),\"\")","v":""},null,null,null,null,{"$f":"IF(Tableau1[[#This Row],[Catégorie pièce]]=\" Opérations\",VLOOKUP(Tableau1[[#This Row],[Article produit/\nPoste de charge]],'PDC+emplacement'!A:C,2,FALSE),IF(Tableau1[[#This Row],[Catégorie pièce]]=\" Nouveau\",\"***RENSEIGNER NOM***\",IFERROR(VLOOKUP(CONCATENATE(Tableau1[[#This Row],[Article produit/\nPoste de charge]]),[1]ARTRDCL!$A$1:$U$25000,2,FALSE),\"\")))","v":""},null,null,null,null,null,{"$f":"IF(Tableau1[[#This Row],[Type plan]]=\"SP\",\"SP\",IF(AND(Tableau1[[#This Row],[Catégorie pièce]]=\" Nouveau\",Tableau1[[#This Row],[Type de pièce]]<>\" Panoplie\"),MID(Tableau1[[#This Row],[Article produit/\nPoste de charge]],2,15),IF(AND(Tableau1[[#This Row],[Catégorie pièce]]=\" Nouveau\",Tableau1[[#This Row],[Type de pièce]]=\" Panoplie\"),Tableau1[[#This Row],[Article produit/\nPoste de charge]],\"\")))","v":""},null,null,{"$f":"ROUNDUP((Tableau1[[#This Row],[Qté / an]]/52)*2,0)","v":{"$error":"#VALUE!"}},null,null,{"$f":"IF(AND(Tableau1[[#This Row],[Catégorie pièce]]=\" Opérations\",Tableau1[[#This Row],[Type de pièce]]=\" Temps\"),Taux_horaire/100,IF(AND(Tableau1[[#This Row],[Catégorie pièce]]=\" Nouveau\",Tableau1[[#This Row],[Type de pièce]]=\" Fabriquée\"),BOM!$AO21,IF(OR(AND(Tableau1[[#This Row],[Catégorie pièce]]=\" Nouveau\",Tableau1[[#This Row],[Type de pièce]]=\" Assemblage\"),BOM!$Y21=\" Produit fini\",Tableau1[[#This Row],[Type de pièce]]=\" Opé pièce primaire\",Tableau1[[#This Row],[Type de pièce]]=\" Pièce/Opé Panoplie\"),\"/\",IF(Tableau1[[#This Row],[Catégorie pièce]]=\" Existant\",VLOOKUP(CONCATENATE(Tableau1[[#This Row],[Article produit/\nPoste de charge]]),[1]ARTRDCL!$A$1:$U$65536,15,FALSE),\"\"))))","v":""},{"$f":"IF(OR(Tableau1[[#This Row],[Catégorie pièce]]=\" Opérations\",Tableau1[[#This Row],[Catégorie pièce]]=\" Matière 1ère\",ISBLANK(Tableau1[[#This Row],[Catégorie pièce]])),\"/\",SUMPRODUCT($AY$6:$BB$6,Tableau1[[#This Row],[Modèle A]:[Modèle D]]))","v":"/"},{"$f":"IFERROR(ROUNDDOWN(Tableau1[[#This Row],[surface\ntôle (m²)]]/Tableau1[[#This Row],[Surface\npièce (m²)]],0),0)","v":0},{"$f":"IF(AND(Tableau1[[#This Row],[Catégorie pièce]]=\" Nouveau\",Tableau1[[#This Row],[Type de pièce]]=\" Fabriquée\"),ROUNDUP(Tableau1[[#This Row],[Qté / an]]*2/52,0),0)","v":0},null,null,null,null,null,null,null,null,null,null,null,{"$f":"SUM(Tableau1[[#This Row],[VCOGS\ntôle]:[VCOGS\npliage]])","v":0},{"$f":"IFERROR((VLOOKUP(Tableau1[[#This Row],[Format\ntôle]],Tableau2[],11,FALSE)/Tableau1[[#This Row],[Série \néconomique ]])*Tableau1[[#This Row],[surface\ntôle (m²)]],0)","v":0},{"$f":"IF(Tableau1[[#This Row],[Laser (O/N)]]= \"Oui\",Tableau1[[#This Row],[Coût\ndécoupe laser]],Tableau1[[#This Row],[Coût\npoinçonnage]])","v":0},{"$f":"IF(Tableau1[[#This Row],[Nb plis]]>0, (IF(Tableau1[[#This Row],[Nb plis]]<5,0.25,IF(Tableau1[[#This Row],[Nb plis]]<7,0.33,0.45))/Tableau1[[#This Row],[Série \néconomique ]] +0.004*Tableau1[[#This Row],[Nb plis]])*$N$5,0)","v":0},{"$f":"IFERROR(VLOOKUP(Tableau1[[#This Row],[Format\ntôle]],Tôles!B:P,9,FALSE),0)","v":0},{"$f":"Tableau1[[#This Row],[Dimention X (mm)]]/1000*Tableau1[[#This Row],[Dimention Y (mm)]]/1000","v":0},{"$f":"IFERROR(ROUNDUP(Tableau1[[#This Row],[Surface\npièce (m²)]]/Tableau1[[#This Row],[surface\ntôle (m²)]],4),0)","v":0},{"$f":"IF(Tableau1[[#This Row],[Forcer série Economique ]]>0,Tableau1[[#This Row],[Forcer série Economique ]],Tableau1[[#This Row],[Série Economique proposée]])","v":0},{"$f":"IF(OR(ISERROR((5/Tableau1[[#This Row],[Série \néconomique ]]+Tableau1[[#This Row],[Nb trous]]*0.08*VLOOKUP(Tableau1[[#This Row],[Format\ntôle]],Tôles!B:O,5,FALSE)+ (Tableau1[[#This Row],[Dimention X (mm)]]+Tableau1[[#This Row],[Dimention Y (mm)]]) * 0.001)*Taux_horaire/100),Tableau1[[#This Row],[VCOGS\ntôle]] = \"\"),0,(5/Tableau1[[#This Row],[Série \néconomique ]]+Tableau1[[#This Row],[Nb trous]]*0.08*VLOOKUP(Tableau1[[#This Row],[Format\ntôle]],Tôles!B:O,5,FALSE)+ (Tableau1[[#This Row],[Dimention X (mm)]]+Tableau1[[#This Row],[Dimention Y (mm)]]) * 0.001)*Taux_horaire/100)","v":0},{"$f":"IF(OR(ISERROR((10/Tableau1[[#This Row],[Série \néconomique ]]+Tableau1[[#This Row],[Nb trous]]*0.007 + (Tableau1[[#This Row],[Dimention X (mm)]]+Tableau1[[#This Row],[Dimention Y (mm)]]) * 0.0005)*Taux_horaire/100),Tableau1[[#This Row],[VCOGS\ntôle]]= \"\"),0,(10/Tableau1[[#This Row],[Série \néconomique ]]+Tableau1[[#This Row],[Nb trous]]*0.007 + (Tableau1[[#This Row],[Dimention X (mm)]]+Tableau1[[#This Row],[Dimention Y (mm)]]) * 0.0005)*Taux_horaire/100)","v":0}]
[null,null,null,null,null,null,null,{"$f":"SUBSTITUTE(TRIM(CONCATENATE(Tableau1[[#This Row],[Niveau 0]],\" \",Tableau1[[#This Row],[Niveau 1]],\" \",Tableau1[[#This Row],[Niveau 2]],\" \",Tableau1[[#This Row],[Niveau 3]],\" \",Tableau1[[#This Row],[Niveau 4]],\" \",Tableau1[[#This Row],[Niveau 5]])),\" \",\".\")","v":""},{"$f":"IFERROR(IF(COUNTBLANK(Tableau1[[#This Row],[Niveau 0]:[Niveau 5]])=5,\"0\",LEFT(Tableau1[[#This Row],[Niveau]],(LEN(Tableau1[[#This Row],[Niveau]])-LEN(OFFSET(Tableau1[[#This Row],[Niveau 5]],0,(-COUNTBLANK(Tableau1[[#This Row],[Niveau 0]:[Niveau 5]]))))-1))),\"\")","v":""},null,null,null,null,{"$f":"IF(Tableau1[[#This Row],[Catégorie pièce]]=\" Opérations\",VLOOKUP(Tableau1[[#This Row],[Article produit/\nPoste de charge]],'PDC+emplacement'!A:C,2,FALSE),IF(Tableau1[[#This Row],[Catégorie pièce]]=\" Nouveau\",\"***RENSEIGNER NOM***\",IFERROR(VLOOKUP(CONCATENATE(Tableau1[[#This Row],[Article produit/\nPoste de charge]]),[1]ARTRDCL!$A$1:$U$25000,2,FALSE),\"\")))","v":""},null,null,null,null,null,{"$f":"IF(Tableau1[[#This Row],[Type plan]]=\"SP\",\"SP\",IF(AND(Tableau1[[#This Row],[Catégorie pièce]]=\" Nouveau\",Tableau1[[#This Row],[Type de pièce]]<>\" Panoplie\"),MID(Tableau1[[#This Row],[Article produit/\nPoste de charge]],2,15),IF(AND(Tableau1[[#This Row],[Catégorie pièce]]=\" Nouveau\",Tableau1[[#This Row],[Type de pièce]]=\" Panoplie\"),Tableau1[[#This Row],[Article produit/\nPoste de charge]],\"\")))","v":""},null,null,{"$f":"ROUNDUP((Tableau1[[#This Row],[Qté / an]]/52)*2,0)","v":{"$error":"#VALUE!"}},null,null,{"$f":"IF(AND(Tableau1[[#This Row],[Catégorie pièce]]=\" Opérations\",Tableau1[[#This Row],[Type de pièce]]=\" Temps\"),Taux_horaire/100,IF(AND(Tableau1[[#This Row],[Catégorie pièce]]=\" Nouveau\",Tableau1[[#This Row],[Type de pièce]]=\" Fabriquée\"),BOM!$AO22,IF(OR(AND(Tableau1[[#This Row],[Catégorie pièce]]=\" Nouveau\",Tableau1[[#This Row],[Type de pièce]]=\" Assemblage\"),BOM!$Y22=\" Produit fini\",Tableau1[[#This Row],[Type de pièce]]=\" Opé pièce primaire\",Tableau1[[#This Row],[Type de pièce]]=\" Pièce/Opé Panoplie\"),\"/\",IF(Tableau1[[#This Row],[Catégorie pièce]]=\" Existant\",VLOOKUP(CONCATENATE(Tableau1[[#This Row],[Article produit/\nPoste de charge]]),[1]ARTRDCL!$A$1:$U$65536,15,FALSE),\"\"))))","v":""},{"$f":"IF(OR(Tableau1[[#This Row],[Catégorie pièce]]=\" Opérations\",Tableau1[[#This Row],[Catégorie pièce]]=\" Matière 1ère\",ISBLANK(Tableau1[[#This Row],[Catégorie pièce]])),\"/\",SUMPRODUCT($AY$6:$BB$6,Tableau1[[#This Row],[Modèle A]:[Modèle D]]))","v":"/"},{"$f":"IFERROR(ROUNDDOWN(Tableau1[[#This Row],[surface\ntôle (m²)]]/Tableau1[[#This Row],[Surface\npièce (m²)]],0),0)","v":0},{"$f":"IF(AND(Tableau1[[#This Row],[Catégorie pièce]]=\" Nouveau\",Tableau1[[#This Row],[Type de pièce]]=\" Fabriquée\"),ROUNDUP(Tableau1[[#This Row],[Qté / an]]*2/52,0),0)","v":0},null,null,null,null,null,null,null,null,null,null,null,{"$f":"SUM(Tableau1[[#This Row],[VCOGS\ntôle]:[VCOGS\npliage]])","v":0},{"$f":"IFERROR((VLOOKUP(Tableau1[[#This Row],[Format\ntôle]],Tableau2[],11,FALSE)/Tableau1[[#This Row],[Série \néconomique ]])*Tableau1[[#This Row],[surface\ntôle (m²)]],0)","v":0},{"$f":"IF(Tableau1[[#This Row],[Laser (O/N)]]= \"Oui\",Tableau1[[#This Row],[Coût\ndécoupe laser]],Tableau1[[#This Row],[Coût\npoinçonnage]])","v":0},{"$f":"IF(Tableau1[[#This Row],[Nb plis]]>0, (IF(Tableau1[[#This Row],[Nb plis]]<5,0.25,IF(Tableau1[[#This Row],[Nb plis]]<7,0.33,0.45))/Tableau1[[#This Row],[Série \néconomique ]] +0.004*Tableau1[[#This Row],[Nb plis]])*$N$5,0)","v":0},{"$f":"IFERROR(VLOOKUP(Tableau1[[#This Row],[Format\ntôle]],Tôles!B:P,9,FALSE),0)","v":0},{"$f":"Tableau1[[#This Row],[Dimention X (mm)]]/1000*Tableau1[[#This Row],[Dimention Y (mm)]]/1000","v":0},{"$f":"IFERROR(ROUNDUP(Tableau1[[#This Row],[Surface\npièce (m²)]]/Tableau1[[#This Row],[surface\ntôle (m²)]],4),0)","v":0},{"$f":"IF(Tableau1[[#This Row],[Forcer série Economique ]]>0,Tableau1[[#This Row],[Forcer série Economique ]],Tableau1[[#This Row],[Série Economique proposée]])","v":0},{"$f":"IF(OR(ISERROR((5/Tableau1[[#This Row],[Série \néconomique ]]+Tableau1[[#This Row],[Nb trous]]*0.08*VLOOKUP(Tableau1[[#This Row],[Format\ntôle]],Tôles!B:O,5,FALSE)+ (Tableau1[[#This Row],[Dimention X (mm)]]+Tableau1[[#This Row],[Dimention Y (mm)]]) * 0.001)*Taux_horaire/100),Tableau1[[#This Row],[VCOGS\ntôle]] = \"\"),0,(5/Tableau1[[#This Row],[Série \néconomique ]]+Tableau1[[#This Row],[Nb trous]]*0.08*VLOOKUP(Tableau1[[#This Row],[Format\ntôle]],Tôles!B:O,5,FALSE)+ (Tableau1[[#This Row],[Dimention X (mm)]]+Tableau1[[#This Row],[Dimention Y (mm)]]) * 0.001)*Taux_horaire/100)","v":0},{"$f":"IF(OR(ISERROR((10/Tableau1[[#This Row],[Série \néconomique ]]+Tableau1[[#This Row],[Nb trous]]*0.007 + (Tableau1[[#This Row],[Dimention X (mm)]]+Tableau1[[#This Row],[Dimention Y (mm)]]) * 0.0005)*Taux_horaire/100),Tableau1[[#This Row],[VCOGS\ntôle]]= \"\"),0,(10/Tableau1[[#This Row],[Série \néconomique ]]+Tableau1[[#This Row],[Nb trous]]*0.007 + (Tableau1[[#This Row],[Dimention X (mm)]]+Tableau1[[#This Row],[Dimention Y (mm)]]) * 0.0005)*Taux_horaire/100)","v":0}]
[null,null,null,null,null,null,null,{"$f":"SUBSTITUTE(TRIM(CONCATENATE(Tableau1[[#This Row],[Niveau 0]],\" \",Tableau1[[#This Row],[Niveau 1]],\" \",Tableau1[[#This Row],[Niveau 2]],\" \",Tableau1[[#This Row],[Niveau 3]],\" \",Tableau1[[#This Row],[Niveau 4]],\" \",Tableau1[[#This Row],[Niveau 5]])),\" \",\".\")","v":""},{"$f":"IFERROR(IF(COUNTBLANK(Tableau1[[#This Row],[Niveau 0]:[Niveau 5]])=5,\"0\",LEFT(Tableau1[[#This Row],[Niveau]],(LEN(Tableau1[[#This Row],[Niveau]])-LEN(OFFSET(Tableau1[[#This Row],[Niveau 5]],0,(-COUNTBLANK(Tableau1[[#This Row],[Niveau 0]:[Niveau 5]]))))-1))),\"\")","v":""},null,null,null,null,{"$f":"IF(Tableau1[[#This Row],[Catégorie pièce]]=\" Opérations\",VLOOKUP(Tableau1[[#This Row],[Article produit/\nPoste de charge]],'PDC+emplacement'!A:C,2,FALSE),IF(Tableau1[[#This Row],[Catégorie pièce]]=\" Nouveau\",\"***RENSEIGNER NOM***\",IFERROR(VLOOKUP(CONCATENATE(Tableau1[[#This Row],[Article produit/\nPoste de charge]]),[1]ARTRDCL!$A$1:$U$25000,2,FALSE),\"\")))","v":""},null,null,null,null,null,{"$f":"IF(Tableau1[[#This Row],[Type plan]]=\"SP\",\"SP\",IF(AND(Tableau1[[#This Row],[Catégorie pièce]]=\" Nouveau\",Tableau1[[#This Row],[Type de pièce]]<>\" Panoplie\"),MID(Tableau1[[#This Row],[Article produit/\nPoste de charge]],2,15),IF(AND(Tableau1[[#This Row],[Catégorie pièce]]=\" Nouveau\",Tableau1[[#This Row],[Type de pièce]]=\" Panoplie\"),Tableau1[[#This Row],[Article produit/\nPoste de charge]],\"\")))","v":""},null,null,{"$f":"ROUNDUP((Tableau1[[#This Row],[Qté / an]]/52)*2,0)","v":{"$error":"#VALUE!"}},null,null,{"$f":"IF(AND(Tableau1[[#This Row],[Catégorie pièce]]=\" Opérations\",Tableau1[[#This Row],[Type de pièce]]=\" Temps\"),Taux_horaire/100,IF(AND(Tableau1[[#This Row],[Catégorie pièce]]=\" Nouveau\",Tableau1[[#This Row],[Type de pièce]]=\" Fabriquée\"),BOM!$AO23,IF(OR(AND(Tableau1[[#This Row],[Catégorie pièce]]=\" Nouveau\",Tableau1[[#This Row],[Type de pièce]]=\" Assemblage\"),BOM!$Y23=\" Produit fini\",Tableau1[[#This Row],[Type de pièce]]=\" Opé pièce primaire\",Tableau1[[#This Row],[Type de pièce]]=\" Pièce/Opé Panoplie\"),\"/\",IF(Tableau1[[#This Row],[Catégorie pièce]]=\" Existant\",VLOOKUP(CONCATENATE(Tableau1[[#This Row],[Article produit/\nPoste de charge]]),[1]ARTRDCL!$A$1:$U$65536,15,FALSE),\"\"))))","v":""},{"$f":"IF(OR(Tableau1[[#This Row],[Catégorie pièce]]=\" Opérations\",Tableau1[[#This Row],[Catégorie pièce]]=\" Matière 1ère\",ISBLANK(Tableau1[[#This Row],[Catégorie pièce]])),\"/\",SUMPRODUCT($AY$6:$BB$6,Tableau1[[#This Row],[Modèle A]:[Modèle D]]))","v":"/"},{"$f":"IFERROR(ROUNDDOWN(Tableau1[[#This Row],[surface\ntôle (m²)]]/Tableau1[[#This Row],[Surface\npièce (m²)]],0),0)","v":0},{"$f":"IF(AND(Tableau1[[#This Row],[Catégorie pièce]]=\" Nouveau\",Tableau1[[#This Row],[Type de pièce]]=\" Fabriquée\"),ROUNDUP(Tableau1[[#This Row],[Qté / an]]*2/52,0),0)","v":0},null,null,null,null,null,null,null,null,null,null,null,{"$f":"SUM(Tableau1[[#This Row],[VCOGS\ntôle]:[VCOGS\npliage]])","v":0},{"$f":"IFERROR((VLOOKUP(Tableau1[[#This Row],[Format\ntôle]],Tableau2[],11,FALSE)/Tableau1[[#This Row],[Série \néconomique ]])*Tableau1[[#This Row],[surface\ntôle (m²)]],0)","v":0},{"$f":"IF(Tableau1[[#This Row],[Laser (O/N)]]= \"Oui\",Tableau1[[#This Row],[Coût\ndécoupe laser]],Tableau1[[#This Row],[Coût\npoinçonnage]])","v":0},{"$f":"IF(Tableau1[[#This Row],[Nb plis]]>0, (IF(Tableau1[[#This Row],[Nb plis]]<5,0.25,IF(Tableau1[[#This Row],[Nb plis]]<7,0.33,0.45))/Tableau1[[#This Row],[Série \néconomique ]] +0.004*Tableau1[[#This Row],[Nb plis]])*$N$5,0)","v":0},{"$f":"IFERROR(VLOOKUP(Tableau1[[#This Row],[Format\ntôle]],Tôles!B:P,9,FALSE),0)","v":0},{"$f":"Tableau1[[#This Row],[Dimention X (mm)]]/1000*Tableau1[[#This Row],[Dimention Y (mm)]]/1000","v":0},{"$f":"IFERROR(ROUNDUP(Tableau1[[#This Row],[Surface\npièce (m²)]]/Tableau1[[#This Row],[surface\ntôle (m²)]],4),0)","v":0},{"$f":"IF(Tableau1[[#This Row],[Forcer série Economique ]]>0,Tableau1[[#This Row],[Forcer série Economique ]],Tableau1[[#This Row],[Série Economique proposée]])","v":0},{"$f":"IF(OR(ISERROR((5/Tableau1[[#This Row],[Série \néconomique ]]+Tableau1[[#This Row],[Nb trous]]*0.08*VLOOKUP(Tableau1[[#This Row],[Format\ntôle]],Tôles!B:O,5,FALSE)+ (Tableau1[[#This Row],[Dimention X (mm)]]+Tableau1[[#This Row],[Dimention Y (mm)]]) * 0.001)*Taux_horaire/100),Tableau1[[#This Row],[VCOGS\ntôle]] = \"\"),0,(5/Tableau1[[#This Row],[Série \néconomique ]]+Tableau1[[#This Row],[Nb trous]]*0.08*VLOOKUP(Tableau1[[#This Row],[Format\ntôle]],Tôles!B:O,5,FALSE)+ (Tableau1[[#This Row],[Dimention X (mm)]]+Tableau1[[#This Row],[Dimention Y (mm)]]) * 0.001)*Taux_horaire/100)","v":0},{"$f":"IF(OR(ISERROR((10/Tableau1[[#This Row],[Série \néconomique ]]+Tableau1[[#This Row],[Nb trous]]*0.007 + (Tableau1[[#This Row],[Dimention X (mm)]]+Tableau1[[#This Row],[Dimention Y (mm)]]) * 0.0005)*Taux_horaire/100),Tableau1[[#This Row],[VCOGS\ntôle]]= \"\"),0,(10/Tableau1[[#This Row],[Série \néconomique ]]+Tableau1[[#This Row],[Nb trous]]*0.007 + (Tableau1[[#This Row],[Dimention X (mm)]]+Tableau1[[#This Row],[Dimention Y (mm)]]) * 0.0005)*Taux_horaire/100)","v":0}]
[null,null,null,null,null,null,null,{"$f":"SUBSTITUTE(TRIM(CONCATENATE(Tableau1[[#This Row],[Niveau 0]],\" \",Tableau1[[#This Row],[Niveau 1]],\" \",Tableau1[[#This Row],[Niveau 2]],\" \",Tableau1[[#This Row],[Niveau 3]],\" \",Tableau1[[#This Row],[Niveau 4]],\" \",Tableau1[[#This Row],[Niveau 5]])),\" \",\".\")","v":""},{"$f":"IFERROR(IF(COUNTBLANK(Tableau1[[#This Row],[Niveau 0]:[Niveau 5]])=5,\"0\",LEFT(Tableau1[[#This Row],[Niveau]],(LEN(Tableau1[[#This Row],[Niveau]])-LEN(OFFSET(Tableau1[[#This Row],[Niveau 5]],0,(-COUNTBLANK(Tableau1[[#This Row],[Niveau 0]:[Niveau 5]]))))-1))),\"\")","v":""},null,null,null,null,{"$f":"IF(Tableau1[[#This Row],[Catégorie pièce]]=\" Opérations\",VLOOKUP(Tableau1[[#This Row],[Article produit/\nPoste de charge]],'PDC+emplacement'!A:C,2,FALSE),IF(Tableau1[[#This Row],[Catégorie pièce]]=\" Nouveau\",\"***RENSEIGNER NOM***\",IFERROR(VLOOKUP(CONCATENATE(Tableau1[[#This Row],[Article produit/\nPoste de charge]]),[1]ARTRDCL!$A$1:$U$25000,2,FALSE),\"\")))","v":""},null,null,null,null,null,{"$f":"IF(Tableau1[[#This Row],[Type plan]]=\"SP\",\"SP\",IF(AND(Tableau1[[#This Row],[Catégorie pièce]]=\" Nouveau\",Tableau1[[#This Row],[Type de pièce]]<>\" Panoplie\"),MID(Tableau1[[#This Row],[Article produit/\nPoste de charge]],2,15),IF(AND(Tableau1[[#This Row],[Catégorie pièce]]=\" Nouveau\",Tableau1[[#This Row],[Type de pièce]]=\" Panoplie\"),Tableau1[[#This Row],[Article produit/\nPoste de charge]],\"\")))","v":""},null,null,{"$f":"ROUNDUP((Tableau1[[#This Row],[Qté / an]]/52)*2,0)","v":{"$error":"#VALUE!"}},null,null,{"$f":"IF(AND(Tableau1[[#This Row],[Catégorie pièce]]=\" Opérations\",Tableau1[[#This Row],[Type de pièce]]=\" Temps\"),Taux_horaire/100,IF(AND(Tableau1[[#This Row],[Catégorie pièce]]=\" Nouveau\",Tableau1[[#This Row],[Type de pièce]]=\" Fabriquée\"),BOM!$AO24,IF(OR(AND(Tableau1[[#This Row],[Catégorie pièce]]=\" Nouveau\",Tableau1[[#This Row],[Type de pièce]]=\" Assemblage\"),BOM!$Y24=\" Produit fini\",Tableau1[[#This Row],[Type de pièce]]=\" Opé pièce primaire\",Tableau1[[#This Row],[Type de pièce]]=\" Pièce/Opé Panoplie\"),\"/\",IF(Tableau1[[#This Row],[Catégorie pièce]]=\" Existant\",VLOOKUP(CONCATENATE(Tableau1[[#This Row],[Article produit/\nPoste de charge]]),[1]ARTRDCL!$A$1:$U$65536,15,FALSE),\"\"))))","v":""},{"$f":"IF(OR(Tableau1[[#This Row],[Catégorie pièce]]=\" Opérations\",Tableau1[[#This Row],[Catégorie pièce]]=\" Matière 1ère\",ISBLANK(Tableau1[[#This Row],[Catégorie pièce]])),\"/\",SUMPRODUCT($AY$6:$BB$6,Tableau1[[#This Row],[Modèle A]:[Modèle D]]))","v":"/"},{"$f":"IFERROR(ROUNDDOWN(Tableau1[[#This Row],[surface\ntôle (m²)]]/Tableau1[[#This Row],[Surface\npièce (m²)]],0),0)","v":0},{"$f":"IF(AND(Tableau1[[#This Row],[Catégorie pièce]]=\" Nouveau\",Tableau1[[#This Row],[Type de pièce]]=\" Fabriquée\"),ROUNDUP(Tableau1[[#This Row],[Qté / an]]*2/52,0),0)","v":0},null,null,null,null,null,null,null,null,null,null,null,{"$f":"SUM(Tableau1[[#This Row],[VCOGS\ntôle]:[VCOGS\npliage]])","v":0},{"$f":"IFERROR((VLOOKUP(Tableau1[[#This Row],[Format\ntôle]],Tableau2[],11,FALSE)/Tableau1[[#This Row],[Série \néconomique ]])*Tableau1[[#This Row],[surface\ntôle (m²)]],0)","v":0},{"$f":"IF(Tableau1[[#This Row],[Laser (O/N)]]= \"Oui\",Tableau1[[#This Row],[Coût\ndécoupe laser]],Tableau1[[#This Row],[Coût\npoinçonnage]])","v":0},{"$f":"IF(Tableau1[[#This Row],[Nb plis]]>0, (IF(Tableau1[[#This Row],[Nb plis]]<5,0.25,IF(Tableau1[[#This Row],[Nb plis]]<7,0.33,0.45))/Tableau1[[#This Row],[Série \néconomique ]] +0.004*Tableau1[[#This Row],[Nb plis]])*$N$5,0)","v":0},{"$f":"IFERROR(VLOOKUP(Tableau1[[#This Row],[Format\ntôle]],Tôles!B:P,9,FALSE),0)","v":0},{"$f":"Tableau1[[#This Row],[Dimention X (mm)]]/1000*Tableau1[[#This Row],[Dimention Y (mm)]]/1000","v":0},{"$f":"IFERROR(ROUNDUP(Tableau1[[#This Row],[Surface\npièce (m²)]]/Tableau1[[#This Row],[surface\ntôle (m²)]],4),0)","v":0},{"$f":"IF(Tableau1[[#This Row],[Forcer série Economique ]]>0,Tableau1[[#This Row],[Forcer série Economique ]],Tableau1[[#This Row],[Série Economique proposée]])","v":0},{"$f":"IF(OR(ISERROR((5/Tableau1[[#This Row],[Série \néconomique ]]+Tableau1[[#This Row],[Nb trous]]*0.08*VLOOKUP(Tableau1[[#This Row],[Format\ntôle]],Tôles!B:O,5,FALSE)+ (Tableau1[[#This Row],[Dimention X (mm)]]+Tableau1[[#This Row],[Dimention Y (mm)]]) * 0.001)*Taux_horaire/100),Tableau1[[#This Row],[VCOGS\ntôle]] = \"\"),0,(5/Tableau1[[#This Row],[Série \néconomique ]]+Tableau1[[#This Row],[Nb trous]]*0.08*VLOOKUP(Tableau1[[#This Row],[Format\ntôle]],Tôles!B:O,5,FALSE)+ (Tableau1[[#This Row],[Dimention X (mm)]]+Tableau1[[#This Row],[Dimention Y (mm)]]) * 0.001)*Taux_horaire/100)","v":0},{"$f":"IF(OR(ISERROR((10/Tableau1[[#This Row],[Série \néconomique ]]+Tableau1[[#This Row],[Nb trous]]*0.007 + (Tableau1[[#This Row],[Dimention X (mm)]]+Tableau1[[#This Row],[Dimention Y (mm)]]) * 0.0005)*Taux_horaire/100),Tableau1[[#This Row],[VCOGS\ntôle]]= \"\"),0,(10/Tableau1[[#This Row],[Série \néconomique ]]+Tableau1[[#This Row],[Nb trous]]*0.007 + (Tableau1[[#This Row],[Dimention X (mm)]]+Tableau1[[#This Row],[Dimention Y (mm)]]) * 0.0005)*Taux_horaire/100)","v":0}]
[null,null,null,null,null,null,null,{"$f":"SUBSTITUTE(TRIM(CONCATENATE(Tableau1[[#This Row],[Niveau 0]],\" \",Tableau1[[#This Row],[Niveau 1]],\" \",Tableau1[[#This Row],[Niveau 2]],\" \",Tableau1[[#This Row],[Niveau 3]],\" \",Tableau1[[#This Row],[Niveau 4]],\" \",Tableau1[[#This Row],[Niveau 5]])),\" \",\".\")","v":""},{"$f":"IFERROR(IF(COUNTBLANK(Tableau1[[#This Row],[Niveau 0]:[Niveau 5]])=5,\"0\",LEFT(Tableau1[[#This Row],[Niveau]],(LEN(Tableau1[[#This Row],[Niveau]])-LEN(OFFSET(Tableau1[[#This Row],[Niveau 5]],0,(-COUNTBLANK(Tableau1[[#This Row],[Niveau 0]:[Niveau 5]]))))-1))),\"\")","v":""},null,null,null,null,{"$f":"IF(Tableau1[[#This Row],[Catégorie pièce]]=\" Opérations\",VLOOKUP(Tableau1[[#This Row],[Article produit/\nPoste de charge]],'PDC+emplacement'!A:C,2,FALSE),IF(Tableau1[[#This Row],[Catégorie pièce]]=\" Nouveau\",\"***RENSEIGNER NOM***\",IFERROR(VLOOKUP(CONCATENATE(Tableau1[[#This Row],[Article produit/\nPoste de charge]]),[1]ARTRDCL!$A$1:$U$25000,2,FALSE),\"\")))","v":""},null,null,null,null,null,{"$f":"IF(Tableau1[[#This Row],[Type plan]]=\"SP\",\"SP\",IF(AND(Tableau1[[#This Row],[Catégorie pièce]]=\" Nouveau\",Tableau1[[#This Row],[Type de pièce]]<>\" Panoplie\"),MID(Tableau1[[#This Row],[Article produit/\nPoste de charge]],2,15),IF(AND(Tableau1[[#This Row],[Catégorie pièce]]=\" Nouveau\",Tableau1[[#This Row],[Type de pièce]]=\" Panoplie\"),Tableau1[[#This Row],[Article produit/\nPoste de charge]],\"\")))","v":""},null,null,{"$f":"ROUNDUP((Tableau1[[#This Row],[Qté / an]]/52)*2,0)","v":{"$error":"#VALUE!"}},null,null,{"$f":"IF(AND(Tableau1[[#This Row],[Catégorie pièce]]=\" Opérations\",Tableau1[[#This Row],[Type de pièce]]=\" Temps\"),Taux_horaire/100,IF(AND(Tableau1[[#This Row],[Catégorie pièce]]=\" Nouveau\",Tableau1[[#This Row],[Type de pièce]]=\" Fabriquée\"),BOM!$AO25,IF(OR(AND(Tableau1[[#This Row],[Catégorie pièce]]=\" Nouveau\",Tableau1[[#This Row],[Type de pièce]]=\" Assemblage\"),BOM!$Y25=\" Produit fini\",Tableau1[[#This Row],[Type de pièce]]=\" Opé pièce primaire\",Tableau1[[#This Row],[Type de pièce]]=\" Pièce/Opé Panoplie\"),\"/\",IF(Tableau1[[#This Row],[Catégorie pièce]]=\" Existant\",VLOOKUP(CONCATENATE(Tableau1[[#This Row],[Article produit/\nPoste de charge]]),[1]ARTRDCL!$A$1:$U$65536,15,FALSE),\"\"))))","v":""},{"$f":"IF(OR(Tableau1[[#This Row],[Catégorie pièce]]=\" Opérations\",Tableau1[[#This Row],[Catégorie pièce]]=\" Matière 1ère\",ISBLANK(Tableau1[[#This Row],[Catégorie pièce]])),\"/\",SUMPRODUCT($AY$6:$BB$6,Tableau1[[#This Row],[Modèle A]:[Modèle D]]))","v":"/"},{"$f":"IFERROR(ROUNDDOWN(Tableau1[[#This Row],[surface\ntôle (m²)]]/Tableau1[[#This Row],[Surface\npièce (m²)]],0),0)","v":0},{"$f":"IF(AND(Tableau1[[#This Row],[Catégorie pièce]]=\" Nouveau\",Tableau1[[#This Row],[Type de pièce]]=\" Fabriquée\"),ROUNDUP(Tableau1[[#This Row],[Qté / an]]*2/52,0),0)","v":0},null,null,null,null,null,null,null,null,null,null,null,{"$f":"SUM(Tableau1[[#This Row],[VCOGS\ntôle]:[VCOGS\npliage]])","v":0},{"$f":"IFERROR((VLOOKUP(Tableau1[[#This Row],[Format\ntôle]],Tableau2[],11,FALSE)/Tableau1[[#This Row],[Série \néconomique ]])*Tableau1[[#This Row],[surface\ntôle (m²)]],0)","v":0},{"$f":"IF(Tableau1[[#This Row],[Laser (O/N)]]= \"Oui\",Tableau1[[#This Row],[Coût\ndécoupe laser]],Tableau1[[#This Row],[Coût\npoinçonnage]])","v":0},{"$f":"IF(Tableau1[[#This Row],[Nb plis]]>0, (IF(Tableau1[[#This Row],[Nb plis]]<5,0.25,IF(Tableau1[[#This Row],[Nb plis]]<7,0.33,0.45))/Tableau1[[#This Row],[Série \néconomique ]] +0.004*Tableau1[[#This Row],[Nb plis]])*$N$5,0)","v":0},{"$f":"IFERROR(VLOOKUP(Tableau1[[#This Row],[Format\ntôle]],Tôles!B:P,9,FALSE),0)","v":0},{"$f":"Tableau1[[#This Row],[Dimention X (mm)]]/1000*Tableau1[[#This Row],[Dimention Y (mm)]]/1000","v":0},{"$f":"IFERROR(ROUNDUP(Tableau1[[#This Row],[Surface\npièce (m²)]]/Tableau1[[#This Row],[surface\ntôle (m²)]],4),0)","v":0},{"$f":"IF(Tableau1[[#This Row],[Forcer série Economique ]]>0,Tableau1[[#This Row],[Forcer série Economique ]],Tableau1[[#This Row],[Série Economique proposée]])","v":0},{"$f":"IF(OR(ISERROR((5/Tableau1[[#This Row],[Série \néconomique ]]+Tableau1[[#This Row],[Nb trous]]*0.08*VLOOKUP(Tableau1[[#This Row],[Format\ntôle]],Tôles!B:O,5,FALSE)+ (Tableau1[[#This Row],[Dimention X (mm)]]+Tableau1[[#This Row],[Dimention Y (mm)]]) * 0.001)*Taux_horaire/100),Tableau1[[#This Row],[VCOGS\ntôle]] = \"\"),0,(5/Tableau1[[#This Row],[Série \néconomique ]]+Tableau1[[#This Row],[Nb trous]]*0.08*VLOOKUP(Tableau1[[#This Row],[Format\ntôle]],Tôles!B:O,5,FALSE)+ (Tableau1[[#This Row],[Dimention X (mm)]]+Tableau1[[#This Row],[Dimention Y (mm)]]) * 0.001)*Taux_horaire/100)","v":0},{"$f":"IF(OR(ISERROR((10/Tableau1[[#This Row],[Série \néconomique ]]+Tableau1[[#This Row],[Nb trous]]*0.007 + (Tableau1[[#This Row],[Dimention X (mm)]]+Tableau1[[#This Row],[Dimention Y (mm)]]) * 0.0005)*Taux_horaire/100),Tableau1[[#This Row],[VCOGS\ntôle]]= \"\"),0,(10/Tableau1[[#This Row],[Série \néconomique ]]+Tableau1[[#This Row],[Nb trous]]*0.007 + (Tableau1[[#This Row],[Dimention X (mm)]]+Tableau1[[#This Row],[Dimention Y (mm)]]) * 0.0005)*Taux_horaire/100)","v":0}]
["CAISSE",null,null,null,null,null,null,{"$f":"SUBSTITUTE(TRIM(CONCATENATE(Tableau1[[#This Row],[Niveau 0]],\" \",Tableau1[[#This Row],[Niveau 1]],\" \",Tableau1[[#This Row],[Niveau 2]],\" \",Tableau1[[#This Row],[Niveau 3]],\" \",Tableau1[[#This Row],[Niveau 4]],\" \",Tableau1[[#This Row],[Niveau 5]])),\" \",\".\")","v":""},{"$f":"IFERROR(IF(COUNTBLANK(Tableau1[[#This Row],[Niveau 0]:[Niveau 5]])=5,\"0\",LEFT(Tableau1[[#This Row],[Niveau]],(LEN(Tableau1[[#This Row],[Niveau]])-LEN(OFFSET(Tableau1[[#This Row],[Niveau 5]],0,(-COUNTBLANK(Tableau1[[#This Row],[Niveau 0]:[Niveau 5]]))))-1))),\"\")","v":""},null,null,null,null,{"$f":"IF(Tableau1[[#This Row],[Catégorie pièce]]=\" Opérations\",VLOOKUP(Tableau1[[#This Row],[Article produit/\nPoste de charge]],'PDC+emplacement'!A:C,2,FALSE),IF(Tableau1[[#This Row],[Catégorie pièce]]=\" Nouveau\",\"***RENSEIGNER NOM***\",IFERROR(VLOOKUP(CONCATENATE(Tableau1[[#This Row],[Article produit/\nPoste de charge]]),[1]ARTRDCL!$A$1:$U$25000,2,FALSE),\"\")))","v":""},null,null,null,null,null,{"$f":"IF(Tableau1[[#This Row],[Type plan]]=\"SP\",\"SP\",IF(AND(Tableau1[[#This Row],[Catégorie pièce]]=\" Nouveau\",Tableau1[[#This Row],[Type de pièce]]<>\" Panoplie\"),MID(Tableau1[[#This Row],[Article produit/\nPoste de charge]],2,15),IF(AND(Tableau1[[#This Row],[Catégorie pièce]]=\" Nouveau\",Tableau1[[#This Row],[Type de pièce]]=\" Panoplie\"),Tableau1[[#This Row],[Article produit/\nPoste de charge]],\"\")))","v":""},null,null,{"$f":"ROUNDUP((Tableau1[[#This Row],[Qté / an]]/52)*2,0)","v":{"$error":"#VALUE!"}},null,null,{"$f":"IF(AND(Tableau1[[#This Row],[Catégorie pièce]]=\" Opérations\",Tableau1[[#This Row],[Type de pièce]]=\" Temps\"),Taux_horaire/100,IF(AND(Tableau1[[#This Row],[Catégorie pièce]]=\" Nouveau\",Tableau1[[#This Row],[Type de pièce]]=\" Fabriquée\"),BOM!$AO26,IF(OR(AND(Tableau1[[#This Row],[Catégorie pièce]]=\" Nouveau\",Tableau1[[#This Row],[Type de pièce]]=\" Assemblage\"),BOM!$Y26=\" Produit fini\",Tableau1[[#This Row],[Type de pièce]]=\" Opé pièce primaire\",Tableau1[[#This Row],[Type de pièce]]=\" Pièce/Opé Panoplie\"),\"/\",IF(Tableau1[[#This Row],[Catégorie pièce]]=\" Existant\",VLOOKUP(CONCATENATE(Tableau1[[#This Row],[Article produit/\nPoste de charge]]),[1]ARTRDCL!$A$1:$U$65536,15,FALSE),\"\"))))","v":""},{"$f":"IF(OR(Tableau1[[#This Row],[Catégorie pièce]]=\" Opérations\",Tableau1[[#This Row],[Catégorie pièce]]=\" Matière 1ère\",ISBLANK(Tableau1[[#This Row],[Catégorie pièce]])),\"/\",SUMPRODUCT($AY$6:$BB$6,Tableau1[[#This Row],[Modèle A]:[Modèle D]]))","v":"/"},{"$f":"IFERROR(ROUNDDOWN(Tableau1[[#This Row],[surface\ntôle (m²)]]/Tableau1[[#This Row],[Surface\npièce (m²)]],0),0)","v":0},{"$f":"IF(AND(Tableau1[[#This Row],[Catégorie pièce]]=\" Nouveau\",Tableau1[[#This Row],[Type de pièce]]=\" Fabriquée\"),ROUNDUP(Tableau1[[#This Row],[Qté / an]]*2/52,0),0)","v":0},null,null,null,null,null,null,null,null,null,null,null,{"$f":"SUM(Tableau1[[#This Row],[VCOGS\ntôle]:[VCOGS\npliage]])","v":0},{"$f":"IFERROR((VLOOKUP(Tableau1[[#This Row],[Format\ntôle]],Tableau2[],11,FALSE)/Tableau1[[#This Row],[Série \néconomique ]])*Tableau1[[#This Row],[surface\ntôle (m²)]],0)","v":0},{"$f":"IF(Tableau1[[#This Row],[Laser (O/N)]]= \"Oui\",Tableau1[[#This Row],[Coût\ndécoupe laser]],Tableau1[[#This Row],[Coût\npoinçonnage]])","v":0},{"$f":"IF(Tableau1[[#This Row],[Nb plis]]>0, (IF(Tableau1[[#This Row],[Nb plis]]<5,0.25,IF(Tableau1[[#This Row],[Nb plis]]<7,0.33,0.45))/Tableau1[[#This Row],[Série \néconomique ]] +0.004*Tableau1[[#This Row],[Nb plis]])*$N$5,0)","v":0},{"$f":"IFERROR(VLOOKUP(Tableau1[[#This Row],[Format\ntôle]],Tôles!B:P,9,FALSE),0)","v":0},{"$f":"Tableau1[[#This Row],[Dimention X (mm)]]/1000*Tableau1[[#This Row],[Dimention Y (mm)]]/1000","v":0},{"$f":"IFERROR(ROUNDUP(Tableau1[[#This Row],[Surface\npièce (m²)]]/Tableau1[[#This Row],[surface\ntôle (m²)]],4),0)","v":0},{"$f":"IF(Tableau1[[#This Row],[Forcer série Economique ]]>0,Tableau1[[#This Row],[Forcer série Economique ]],Tableau1[[#This Row],[Série Economique proposée]])","v":0},{"$f":"IF(OR(ISERROR((5/Tableau1[[#This Row],[Série \néconomique ]]+Tableau1[[#This Row],[Nb trous]]*0.08*VLOOKUP(Tableau1[[#This Row],[Format\ntôle]],Tôles!B:O,5,FALSE)+ (Tableau1[[#This Row],[Dimention X (mm)]]+Tableau1[[#This Row],[Dimention Y (mm)]]) * 0.001)*Taux_horaire/100),Tableau1[[#This Row],[VCOGS\ntôle]] = \"\"),0,(5/Tableau1[[#This Row],[Série \néconomique ]]+Tableau1[[#This Row],[Nb trous]]*0.08*VLOOKUP(Tableau1[[#This Row],[Format\ntôle]],Tôles!B:O,5,FALSE)+ (Tableau1[[#This Row],[Dimention X (mm)]]+Tableau1[[#This Row],[Dimention Y (mm)]]) * 0.001)*Taux_horaire/100)","v":0},{"$f":"IF(OR(ISERROR((10/Tableau1[[#This Row],[Série \néconomique ]]+Tableau1[[#This Row],[Nb trous]]*0.007 + (Tableau1[[#This Row],[Dimention X (mm)]]+Tableau1[[#This Row],[Dimention Y (mm)]]) * 0.0005)*Taux_horaire/100),Tableau1[[#This Row],[VCOGS\ntôle]]= \"\"),0,(10/Tableau1[[#This Row],[Série \néconomique ]]+Tableau1[[#This Row],[Nb trous]]*0.007 + (Tableau1[[#This Row],[Dimention X (mm)]]+Tableau1[[#This Row],[Dimention Y (mm)]]) * 0.0005)*Taux_horaire/100)","v":0}]
[null,null,null,null,null,null,null,{"$f":"SUBSTITUTE(TRIM(CONCATENATE(Tableau1[[#This Row],[Niveau 0]],\" \",Tableau1[[#This Row],[Niveau 1]],\" \",Tableau1[[#This Row],[Niveau 2]],\" \",Tableau1[[#This Row],[Niveau 3]],\" \",Tableau1[[#This Row],[Niveau 4]],\" \",Tableau1[[#This Row],[Niveau 5]])),\" \",\".\")","v":""},{"$f":"IFERROR(IF(COUNTBLANK(Tableau1[[#This Row],[Niveau 0]:[Niveau 5]])=5,\"0\",LEFT(Tableau1[[#This Row],[Niveau]],(LEN(Tableau1[[#This Row],[Niveau]])-LEN(OFFSET(Tableau1[[#This Row],[Niveau 5]],0,(-COUNTBLANK(Tableau1[[#This Row],[Niveau 0]:[Niveau 5]]))))-1))),\"\")","v":""},null,null,null,null,{"$f":"IF(Tableau1[[#This Row],[Catégorie pièce]]=\" Opérations\",VLOOKUP(Tableau1[[#This Row],[Article produit/\nPoste de charge]],'PDC+emplacement'!A:C,2,FALSE),IF(Tableau1[[#This Row],[Catégorie pièce]]=\" Nouveau\",\"***RENSEIGNER NOM***\",IFERROR(VLOOKUP(CONCATENATE(Tableau1[[#This Row],[Article produit/\nPoste de charge]]),[1]ARTRDCL!$A$1:$U$25000,2,FALSE),\"\")))","v":""},null,null,null,null,null,{"$f":"IF(Tableau1[[#This Row],[Type plan]]=\"SP\",\"SP\",IF(AND(Tableau1[[#This Row],[Catégorie pièce]]=\" Nouveau\",Tableau1[[#This Row],[Type de pièce]]<>\" Panoplie\"),MID(Tableau1[[#This Row],[Article produit/\nPoste de charge]],2,15),IF(AND(Tableau1[[#This Row],[Catégorie pièce]]=\" Nouveau\",Tableau1[[#This Row],[Type de pièce]]=\" Panoplie\"),Tableau1[[#This Row],[Article produit/\nPoste de charge]],\"\")))","v":""},null,null,{"$f":"ROUNDUP((Tableau1[[#This Row],[Qté / an]]/52)*2,0)","v":{"$error":"#VALUE!"}},null,null,{"$f":"IF(AND(Tableau1[[#This Row],[Catégorie pièce]]=\" Opérations\",Tableau1[[#This Row],[Type de pièce]]=\" Temps\"),Taux_horaire/100,IF(AND(Tableau1[[#This Row],[Catégorie pièce]]=\" Nouveau\",Tableau1[[#This Row],[Type de pièce]]=\" Fabriquée\"),BOM!$AO27,IF(OR(AND(Tableau1[[#This Row],[Catégorie pièce]]=\" Nouveau\",Tableau1[[#This Row],[Type de pièce]]=\" Assemblage\"),BOM!$Y27=\" Produit fini\",Tableau1[[#This Row],[Type de pièce]]=\" Opé pièce primaire\",Tableau1[[#This Row],[Type de pièce]]=\" Pièce/Opé Panoplie\"),\"/\",IF(Tableau1[[#This Row],[Catégorie pièce]]=\" Existant\",VLOOKUP(CONCATENATE(Tableau1[[#This Row],[Article produit/\nPoste de charge]]),[1]ARTRDCL!$A$1:$U$65536,15,FALSE),\"\"))))","v":""},{"$f":"IF(OR(Tableau1[[#This Row],[Catégorie pièce]]=\" Opérations\",Tableau1[[#This Row],[Catégorie pièce]]=\" Matière 1ère\",ISBLANK(Tableau1[[#This Row],[Catégorie pièce]])),\"/\",SUMPRODUCT($AY$6:$BB$6,Tableau1[[#This Row],[Modèle A]:[Modèle D]]))","v":"/"},{"$f":"IFERROR(ROUNDDOWN(Tableau1[[#This Row],[surface\ntôle (m²)]]/Tableau1[[#This Row],[Surface\npièce (m²)]],0),0)","v":0},{"$f":"IF(AND(Tableau1[[#This Row],[Catégorie pièce]]=\" Nouveau\",Tableau1[[#This Row],[Type de pièce]]=\" Fabriquée\"),ROUNDUP(Tableau1[[#This Row],[Qté / an]]*2/52,0),0)","v":0},null,null,null,null,null,null,null,null,null,null,null,{"$f":"SUM(Tableau1[[#This Row],[VCOGS\ntôle]:[VCOGS\npliage]])","v":0},{"$f":"IFERROR((VLOOKUP(Tableau1[[#This Row],[Format\ntôle]],Tableau2[],11,FALSE)/Tableau1[[#This Row],[Série \néconomique ]])*Tableau1[[#This Row],[surface\ntôle (m²)]],0)","v":0},{"$f":"IF(Tableau1[[#This Row],[Laser (O/N)]]= \"Oui\",Tableau1[[#This Row],[Coût\ndécoupe laser]],Tableau1[[#This Row],[Coût\npoinçonnage]])","v":0},{"$f":"IF(Tableau1[[#This Row],[Nb plis]]>0, (IF(Tableau1[[#This Row],[Nb plis]]<5,0.25,IF(Tableau1[[#This Row],[Nb plis]]<7,0.33,0.45))/Tableau1[[#This Row],[Série \néconomique ]] +0.004*Tableau1[[#This Row],[Nb plis]])*$N$5,0)","v":0},{"$f":"IFERROR(VLOOKUP(Tableau1[[#This Row],[Format\ntôle]],Tôles!B:P,9,FALSE),0)","v":0},{"$f":"Tableau1[[#This Row],[Dimention X (mm)]]/1000*Tableau1[[#This Row],[Dimention Y (mm)]]/1000","v":0},{"$f":"IFERROR(ROUNDUP(Tableau1[[#This Row],[Surface\npièce (m²)]]/Tableau1[[#This Row],[surface\ntôle (m²)]],4),0)","v":0},{"$f":"IF(Tableau1[[#This Row],[Forcer série Economique ]]>0,Tableau1[[#This Row],[Forcer série Economique ]],Tableau1[[#This Row],[Série Economique proposée]])","v":0},{"$f":"IF(OR(ISERROR((5/Tableau1[[#This Row],[Série \néconomique ]]+Tableau1[[#This Row],[Nb trous]]*0.08*VLOOKUP(Tableau1[[#This Row],[Format\ntôle]],Tôles!B:O,5,FALSE)+ (Tableau1[[#This Row],[Dimention X (mm)]]+Tableau1[[#This Row],[Dimention Y (mm)]]) * 0.001)*Taux_horaire/100),Tableau1[[#This Row],[VCOGS\ntôle]] = \"\"),0,(5/Tableau1[[#This Row],[Série \néconomique ]]+Tableau1[[#This Row],[Nb trous]]*0.08*VLOOKUP(Tableau1[[#This Row],[Format\ntôle]],Tôles!B:O,5,FALSE)+ (Tableau1[[#This Row],[Dimention X (mm)]]+Tableau1[[#This Row],[Dimention Y (mm)]]) * 0.001)*Taux_horaire/100)","v":0},{"$f":"IF(OR(ISERROR((10/Tableau1[[#This Row],[Série \néconomique ]]+Tableau1[[#This Row],[Nb trous]]*0.007 + (Tableau1[[#This Row],[Dimention X (mm)]]+Tableau1[[#This Row],[Dimention Y (mm)]]) * 0.0005)*Taux_horaire/100),Tableau1[[#This Row],[VCOGS\ntôle]]= \"\"),0,(10/Tableau1[[#This Row],[Série \néconomique ]]+Tableau1[[#This Row],[Nb trous]]*0.007 + (Tableau1[[#This Row],[Dimention X (mm)]]+Tableau1[[#This Row],[Dimention Y (mm)]]) * 0.0005)*Taux_horaire/100)","v":0}]
[null,null,null,null,null,null,null,{"$f":"SUBSTITUTE(TRIM(CONCATENATE(Tableau1[[#This Row],[Niveau 0]],\" \",Tableau1[[#This Row],[Niveau 1]],\" \",Tableau1[[#This Row],[Niveau 2]],\" \",Tableau1[[#This Row],[Niveau 3]],\" \",Tableau1[[#This Row],[Niveau 4]],\" \",Tableau1[[#This Row],[Niveau 5]])),\" \",\".\")","v":""},{"$f":"IFERROR(IF(COUNTBLANK(Tableau1[[#This Row],[Niveau 0]:[Niveau 5]])=5,\"0\",LEFT(Tableau1[[#This Row],[Niveau]],(LEN(Tableau1[[#This Row],[Niveau]])-LEN(OFFSET(Tableau1[[#This Row],[Niveau 5]],0,(-COUNTBLANK(Tableau1[[#This Row],[Niveau 0]:[Niveau 5]]))))-1))),\"\")","v":""},null,null,null,null,{"$f":"IF(Tableau1[[#This Row],[Catégorie pièce]]=\" Opérations\",VLOOKUP(Tableau1[[#This Row],[Article produit/\nPoste de charge]],'PDC+emplacement'!A:C,2,FALSE),IF(Tableau1[[#This Row],[Catégorie pièce]]=\" Nouveau\",\"***RENSEIGNER NOM***\",IFERROR(VLOOKUP(CONCATENATE(Tableau1[[#This Row],[Article produit/\nPoste de charge]]),[1]ARTRDCL!$A$1:$U$25000,2,FALSE),\"\")))","v":""},null,null,null,null,null,{"$f":"IF(Tableau1[[#This Row],[Type plan]]=\"SP\",\"SP\",IF(AND(Tableau1[[#This Row],[Catégorie pièce]]=\" Nouveau\",Tableau1[[#This Row],[Type de pièce]]<>\" Panoplie\"),MID(Tableau1[[#This Row],[Article produit/\nPoste de charge]],2,15),IF(AND(Tableau1[[#This Row],[Catégorie pièce]]=\" Nouveau\",Tableau1[[#This Row],[Type de pièce]]=\" Panoplie\"),Tableau1[[#This Row],[Article produit/\nPoste de charge]],\"\")))","v":""},null,null,{"$f":"ROUNDUP((Tableau1[[#This Row],[Qté / an]]/52)*2,0)","v":{"$error":"#VALUE!"}},null,null,{"$f":"IF(AND(Tableau1[[#This Row],[Catégorie pièce]]=\" Opérations\",Tableau1[[#This Row],[Type de pièce]]=\" Temps\"),Taux_horaire/100,IF(AND(Tableau1[[#This Row],[Catégorie pièce]]=\" Nouveau\",Tableau1[[#This Row],[Type de pièce]]=\" Fabriquée\"),BOM!$AO28,IF(OR(AND(Tableau1[[#This Row],[Catégorie pièce]]=\" Nouveau\",Tableau1[[#This Row],[Type de pièce]]=\" Assemblage\"),BOM!$Y28=\" Produit fini\",Tableau1[[#This Row],[Type de pièce]]=\" Opé pièce primaire\",Tableau1[[#This Row],[Type de pièce]]=\" Pièce/Opé Panoplie\"),\"/\",IF(Tableau1[[#This Row],[Catégorie pièce]]=\" Existant\",VLOOKUP(CONCATENATE(Tableau1[[#This Row],[Article produit/\nPoste de charge]]),[1]ARTRDCL!$A$1:$U$65536,15,FALSE),\"\"))))","v":""},{"$f":"IF(OR(Tableau1[[#This Row],[Catégorie pièce]]=\" Opérations\",Tableau1[[#This Row],[Catégorie pièce]]=\" Matière 1ère\",ISBLANK(Tableau1[[#This Row],[Catégorie pièce]])),\"/\",SUMPRODUCT($AY$6:$BB$6,Tableau1[[#This Row],[Modèle A]:[Modèle D]]))","v":"/"},{"$f":"IFERROR(ROUNDDOWN(Tableau1[[#This Row],[surface\ntôle (m²)]]/Tableau1[[#This Row],[Surface\npièce (m²)]],0),0)","v":0},{"$f":"IF(AND(Tableau1[[#This Row],[Catégorie pièce]]=\" Nouveau\",Tableau1[[#This Row],[Type de pièce]]=\" Fabriquée\"),ROUNDUP(Tableau1[[#This Row],[Qté / an]]*2/52,0),0)","v":0},null,null,null,null,null,null,null,null,null,null,null,{"$f":"SUM(Tableau1[[#This Row],[VCOGS\ntôle]:[VCOGS\npliage]])","v":0},{"$f":"IFERROR((VLOOKUP(Tableau1[[#This Row],[Format\ntôle]],Tableau2[],11,FALSE)/Tableau1[[#This Row],[Série \néconomique ]])*Tableau1[[#This Row],[surface\ntôle (m²)]],0)","v":0},{"$f":"IF(Tableau1[[#This Row],[Laser (O/N)]]= \"Oui\",Tableau1[[#This Row],[Coût\ndécoupe laser]],Tableau1[[#This Row],[Coût\npoinçonnage]])","v":0},{"$f":"IF(Tableau1[[#This Row],[Nb plis]]>0, (IF(Tableau1[[#This Row],[Nb plis]]<5,0.25,IF(Tableau1[[#This Row],[Nb plis]]<7,0.33,0.45))/Tableau1[[#This Row],[Série \néconomique ]] +0.004*Tableau1[[#This Row],[Nb plis]])*$N$5,0)","v":0},{"$f":"IFERROR(VLOOKUP(Tableau1[[#This Row],[Format\ntôle]],Tôles!B:P,9,FALSE),0)","v":0},{"$f":"Tableau1[[#This Row],[Dimention X (mm)]]/1000*Tableau1[[#This Row],[Dimention Y (mm)]]/1000","v":0},{"$f":"IFERROR(ROUNDUP(Tableau1[[#This Row],[Surface\npièce (m²)]]/Tableau1[[#This Row],[surface\ntôle (m²)]],4),0)","v":0},{"$f":"IF(Tableau1[[#This Row],[Forcer série Economique ]]>0,Tableau1[[#This Row],[Forcer série Economique ]],Tableau1[[#This Row],[Série Economique proposée]])","v":0},{"$f":"IF(OR(ISERROR((5/Tableau1[[#This Row],[Série \néconomique ]]+Tableau1[[#This Row],[Nb trous]]*0.08*VLOOKUP(Tableau1[[#This Row],[Format\ntôle]],Tôles!B:O,5,FALSE)+ (Tableau1[[#This Row],[Dimention X (mm)]]+Tableau1[[#This Row],[Dimention Y (mm)]]) * 0.001)*Taux_horaire/100),Tableau1[[#This Row],[VCOGS\ntôle]] = \"\"),0,(5/Tableau1[[#This Row],[Série \néconomique ]]+Tableau1[[#This Row],[Nb trous]]*0.08*VLOOKUP(Tableau1[[#This Row],[Format\ntôle]],Tôles!B:O,5,FALSE)+ (Tableau1[[#This Row],[Dimention X (mm)]]+Tableau1[[#This Row],[Dimention Y (mm)]]) * 0.001)*Taux_horaire/100)","v":0},{"$f":"IF(OR(ISERROR((10/Tableau1[[#This Row],[Série \néconomique ]]+Tableau1[[#This Row],[Nb trous]]*0.007 + (Tableau1[[#This Row],[Dimention X (mm)]]+Tableau1[[#This Row],[Dimention Y (mm)]]) * 0.0005)*Taux_horaire/100),Tableau1[[#This Row],[VCOGS\ntôle]]= \"\"),0,(10/Tableau1[[#This Row],[Série \néconomique ]]+Tableau1[[#This Row],[Nb trous]]*0.007 + (Tableau1[[#This Row],[Dimention X (mm)]]+Tableau1[[#This Row],[Dimention Y (mm)]]) * 0.0005)*Taux_horaire/100)","v":0}]
[null,null,null,null,null,null,null,{"$f":"SUBSTITUTE(TRIM(CONCATENATE(Tableau1[[#This Row],[Niveau 0]],\" \",Tableau1[[#This Row],[Niveau 1]],\" \",Tableau1[[#This Row],[Niveau 2]],\" \",Tableau1[[#This Row],[Niveau 3]],\" \",Tableau1[[#This Row],[Niveau 4]],\" \",Tableau1[[#This Row],[Niveau 5]])),\" \",\".\")","v":""},{"$f":"IFERROR(IF(COUNTBLANK(Tableau1[[#This Row],[Niveau 0]:[Niveau 5]])=5,\"0\",LEFT(Tableau1[[#This Row],[Niveau]],(LEN(Tableau1[[#This Row],[Niveau]])-LEN(OFFSET(Tableau1[[#This Row],[Niveau 5]],0,(-COUNTBLANK(Tableau1[[#This Row],[Niveau 0]:[Niveau 5]]))))-1))),\"\")","v":""},null,null,null,null,{"$f":"IF(Tableau1[[#This Row],[Catégorie pièce]]=\" Opérations\",VLOOKUP(Tableau1[[#This Row],[Article produit/\nPoste de charge]],'PDC+emplacement'!A:C,2,FALSE),IF(Tableau1[[#This Row],[Catégorie pièce]]=\" Nouveau\",\"***RENSEIGNER NOM***\",IFERROR(VLOOKUP(CONCATENATE(Tableau1[[#This Row],[Article produit/\nPoste de charge]]),[1]ARTRDCL!$A$1:$U$25000,2,FALSE),\"\")))","v":""},null,null,null,null,null,{"$f":"IF(Tableau1[[#This Row],[Type plan]]=\"SP\",\"SP\",IF(AND(Tableau1[[#This Row],[Catégorie pièce]]=\" Nouveau\",Tableau1[[#This Row],[Type de pièce]]<>\" Panoplie\"),MID(Tableau1[[#This Row],[Article produit/\nPoste de charge]],2,15),IF(AND(Tableau1[[#This Row],[Catégorie pièce]]=\" Nouveau\",Tableau1[[#This Row],[Type de pièce]]=\" Panoplie\"),Tableau1[[#This Row],[Article produit/\nPoste de charge]],\"\")))","v":""},null,null,{"$f":"ROUNDUP((Tableau1[[#This Row],[Qté / an]]/52)*2,0)","v":{"$error":"#VALUE!"}},null,null,{"$f":"IF(AND(Tableau1[[#This Row],[Catégorie pièce]]=\" Opérations\",Tableau1[[#This Row],[Type de pièce]]=\" Temps\"),Taux_horaire/100,IF(AND(Tableau1[[#This Row],[Catégorie pièce]]=\" Nouveau\",Tableau1[[#This Row],[Type de pièce]]=\" Fabriquée\"),BOM!$AO29,IF(OR(AND(Tableau1[[#This Row],[Catégorie pièce]]=\" Nouveau\",Tableau1[[#This Row],[Type de pièce]]=\" Assemblage\"),BOM!$Y29=\" Produit fini\",Tableau1[[#This Row],[Type de pièce]]=\" Opé pièce primaire\",Tableau1[[#This Row],[Type de pièce]]=\" Pièce/Opé Panoplie\"),\"/\",IF(Tableau1[[#This Row],[Catégorie pièce]]=\" Existant\",VLOOKUP(CONCATENATE(Tableau1[[#This Row],[Article produit/\nPoste de charge]]),[1]ARTRDCL!$A$1:$U$65536,15,FALSE),\"\"))))","v":""},{"$f":"IF(OR(Tableau1[[#This Row],[Catégorie pièce]]=\" Opérations\",Tableau1[[#This Row],[Catégorie pièce]]=\" Matière 1ère\",ISBLANK(Tableau1[[#This Row],[Catégorie pièce]])),\"/\",SUMPRODUCT($AY$6:$BB$6,Tableau1[[#This Row],[Modèle A]:[Modèle D]]))","v":"/"},{"$f":"IFERROR(ROUNDDOWN(Tableau1[[#This Row],[surface\ntôle (m²)]]/Tableau1[[#This Row],[Surface\npièce (m²)]],0),0)","v":0},{"$f":"IF(AND(Tableau1[[#This Row],[Catégorie pièce]]=\" Nouveau\",Tableau1[[#This Row],[Type de pièce]]=\" Fabriquée\"),ROUNDUP(Tableau1[[#This Row],[Qté / an]]*2/52,0),0)","v":0},null,null,null,null,null,null,null,null,null,null,null,{"$f":"SUM(Tableau1[[#This Row],[VCOGS\ntôle]:[VCOGS\npliage]])","v":0},{"$f":"IFERROR((VLOOKUP(Tableau1[[#This Row],[Format\ntôle]],Tableau2[],11,FALSE)/Tableau1[[#This Row],[Série \néconomique ]])*Tableau1[[#This Row],[surface\ntôle (m²)]],0)","v":0},{"$f":"IF(Tableau1[[#This Row],[Laser (O/N)]]= \"Oui\",Tableau1[[#This Row],[Coût\ndécoupe laser]],Tableau1[[#This Row],[Coût\npoinçonnage]])","v":0},{"$f":"IF(Tableau1[[#This Row],[Nb plis]]>0, (IF(Tableau1[[#This Row],[Nb plis]]<5,0.25,IF(Tableau1[[#This Row],[Nb plis]]<7,0.33,0.45))/Tableau1[[#This Row],[Série \néconomique ]] +0.004*Tableau1[[#This Row],[Nb plis]])*$N$5,0)","v":0},{"$f":"IFERROR(VLOOKUP(Tableau1[[#This Row],[Format\ntôle]],Tôles!B:P,9,FALSE),0)","v":0},{"$f":"Tableau1[[#This Row],[Dimention X (mm)]]/1000*Tableau1[[#This Row],[Dimention Y (mm)]]/1000","v":0},{"$f":"IFERROR(ROUNDUP(Tableau1[[#This Row],[Surface\npièce (m²)]]/Tableau1[[#This Row],[surface\ntôle (m²)]],4),0)","v":0},{"$f":"IF(Tableau1[[#This Row],[Forcer série Economique ]]>0,Tableau1[[#This Row],[Forcer série Economique ]],Tableau1[[#This Row],[Série Economique proposée]])","v":0},{"$f":"IF(OR(ISERROR((5/Tableau1[[#This Row],[Série \néconomique ]]+Tableau1[[#This Row],[Nb trous]]*0.08*VLOOKUP(Tableau1[[#This Row],[Format\ntôle]],Tôles!B:O,5,FALSE)+ (Tableau1[[#This Row],[Dimention X (mm)]]+Tableau1[[#This Row],[Dimention Y (mm)]]) * 0.001)*Taux_horaire/100),Tableau1[[#This Row],[VCOGS\ntôle]] = \"\"),0,(5/Tableau1[[#This Row],[Série \néconomique ]]+Tableau1[[#This Row],[Nb trous]]*0.08*VLOOKUP(Tableau1[[#This Row],[Format\ntôle]],Tôles!B:O,5,FALSE)+ (Tableau1[[#This Row],[Dimention X (mm)]]+Tableau1[[#This Row],[Dimention Y (mm)]]) * 0.001)*Taux_horaire/100)","v":0},{"$f":"IF(OR(ISERROR((10/Tableau1[[#This Row],[Série \néconomique ]]+Tableau1[[#This Row],[Nb trous]]*0.007 + (Tableau1[[#This Row],[Dimention X (mm)]]+Tableau1[[#This Row],[Dimention Y (mm)]]) * 0.0005)*Taux_horaire/100),Tableau1[[#This Row],[VCOGS\ntôle]]= \"\"),0,(10/Tableau1[[#This Row],[Série \néconomique ]]+Tableau1[[#This Row],[Nb trous]]*0.007 + (Tableau1[[#This Row],[Dimention X (mm)]]+Tableau1[[#This Row],[Dimention Y (mm)]]) * 0.0005)*Taux_horaire/100)","v":0}]
[null,null,null,null,null,null,null,{"$f":"SUBSTITUTE(TRIM(CONCATENATE(Tableau1[[#This Row],[Niveau 0]],\" \",Tableau1[[#This Row],[Niveau 1]],\" \",Tableau1[[#This Row],[Niveau 2]],\" \",Tableau1[[#This Row],[Niveau 3]],\" \",Tableau1[[#This Row],[Niveau 4]],\" \",Tableau1[[#This Row],[Niveau 5]])),\" \",\".\")","v":""},{"$f":"IFERROR(IF(COUNTBLANK(Tableau1[[#This Row],[Niveau 0]:[Niveau 5]])=5,\"0\",LEFT(Tableau1[[#This Row],[Niveau]],(LEN(Tableau1[[#This Row],[Niveau]])-LEN(OFFSET(Tableau1[[#This Row],[Niveau 5]],0,(-COUNTBLANK(Tableau1[[#This Row],[Niveau 0]:[Niveau 5]]))))-1))),\"\")","v":""},null,null,null,null,{"$f":"IF(Tableau1[[#This Row],[Catégorie pièce]]=\" Opérations\",VLOOKUP(Tableau1[[#This Row],[Article produit/\nPoste de charge]],'PDC+emplacement'!A:C,2,FALSE),IF(Tableau1[[#This Row],[Catégorie pièce]]=\" Nouveau\",\"***RENSEIGNER NOM***\",IFERROR(VLOOKUP(CONCATENATE(Tableau1[[#This Row],[Article produit/\nPoste de charge]]),[1]ARTRDCL!$A$1:$U$25000,2,FALSE),\"\")))","v":""},null,null,null,null,null,{"$f":"IF(Tableau1[[#This Row],[Type plan]]=\"SP\",\"SP\",IF(AND(Tableau1[[#This Row],[Catégorie pièce]]=\" Nouveau\",Tableau1[[#This Row],[Type de pièce]]<>\" Panoplie\"),MID(Tableau1[[#This Row],[Article produit/\nPoste de charge]],2,15),IF(AND(Tableau1[[#This Row],[Catégorie pièce]]=\" Nouveau\",Tableau1[[#This Row],[Type de pièce]]=\" Panoplie\"),Tableau1[[#This Row],[Article produit/\nPoste de charge]],\"\")))","v":""},null,null,{"$f":"ROUNDUP((Tableau1[[#This Row],[Qté / an]]/52)*2,0)","v":{"$error":"#VALUE!"}},null,null,{"$f":"IF(AND(Tableau1[[#This Row],[Catégorie pièce]]=\" Opérations\",Tableau1[[#This Row],[Type de pièce]]=\" Temps\"),Taux_horaire/100,IF(AND(Tableau1[[#This Row],[Catégorie pièce]]=\" Nouveau\",Tableau1[[#This Row],[Type de pièce]]=\" Fabriquée\"),BOM!$AO30,IF(OR(AND(Tableau1[[#This Row],[Catégorie pièce]]=\" Nouveau\",Tableau1[[#This Row],[Type de pièce]]=\" Assemblage\"),BOM!$Y30=\" Produit fini\",Tableau1[[#This Row],[Type de pièce]]=\" Opé pièce primaire\",Tableau1[[#This Row],[Type de pièce]]=\" Pièce/Opé Panoplie\"),\"/\",IF(Tableau1[[#This Row],[Catégorie pièce]]=\" Existant\",VLOOKUP(CONCATENATE(Tableau1[[#This Row],[Article produit/\nPoste de charge]]),[1]ARTRDCL!$A$1:$U$65536,15,FALSE),\"\"))))","v":""},{"$f":"IF(OR(Tableau1[[#This Row],[Catégorie pièce]]=\" Opérations\",Tableau1[[#This Row],[Catégorie pièce]]=\" Matière 1ère\",ISBLANK(Tableau1[[#This Row],[Catégorie pièce]])),\"/\",SUMPRODUCT($AY$6:$BB$6,Tableau1[[#This Row],[Modèle A]:[Modèle D]]))","v":"/"},{"$f":"IFERROR(ROUNDDOWN(Tableau1[[#This Row],[surface\ntôle (m²)]]/Tableau1[[#This Row],[Surface\npièce (m²)]],0),0)","v":0},{"$f":"IF(AND(Tableau1[[#This Row],[Catégorie pièce]]=\" Nouveau\",Tableau1[[#This Row],[Type de pièce]]=\" Fabriquée\"),ROUNDUP(Tableau1[[#This Row],[Qté / an]]*2/52,0),0)","v":0},null,null,null,null,null,null,null,null,null,null,null,{"$f":"SUM(Tableau1[[#This Row],[VCOGS\ntôle]:[VCOGS\npliage]])","v":0},{"$f":"IFERROR((VLOOKUP(Tableau1[[#This Row],[Format\ntôle]],Tableau2[],11,FALSE)/Tableau1[[#This Row],[Série \néconomique ]])*Tableau1[[#This Row],[surface\ntôle (m²)]],0)","v":0},{"$f":"IF(Tableau1[[#This Row],[Laser (O/N)]]= \"Oui\",Tableau1[[#This Row],[Coût\ndécoupe laser]],Tableau1[[#This Row],[Coût\npoinçonnage]])","v":0},{"$f":"IF(Tableau1[[#This Row],[Nb plis]]>0, (IF(Tableau1[[#This Row],[Nb plis]]<5,0.25,IF(Tableau1[[#This Row],[Nb plis]]<7,0.33,0.45))/Tableau1[[#This Row],[Série \néconomique ]] +0.004*Tableau1[[#This Row],[Nb plis]])*$N$5,0)","v":0},{"$f":"IFERROR(VLOOKUP(Tableau1[[#This Row],[Format\ntôle]],Tôles!B:P,9,FALSE),0)","v":0},{"$f":"Tableau1[[#This Row],[Dimention X (mm)]]/1000*Tableau1[[#This Row],[Dimention Y (mm)]]/1000","v":0},{"$f":"IFERROR(ROUNDUP(Tableau1[[#This Row],[Surface\npièce (m²)]]/Tableau1[[#This Row],[surface\ntôle (m²)]],4),0)","v":0},{"$f":"IF(Tableau1[[#This Row],[Forcer série Economique ]]>0,Tableau1[[#This Row],[Forcer série Economique ]],Tableau1[[#This Row],[Série Economique proposée]])","v":0},{"$f":"IF(OR(ISERROR((5/Tableau1[[#This Row],[Série \néconomique ]]+Tableau1[[#This Row],[Nb trous]]*0.08*VLOOKUP(Tableau1[[#This Row],[Format\ntôle]],Tôles!B:O,5,FALSE)+ (Tableau1[[#This Row],[Dimention X (mm)]]+Tableau1[[#This Row],[Dimention Y (mm)]]) * 0.001)*Taux_horaire/100),Tableau1[[#This Row],[VCOGS\ntôle]] = \"\"),0,(5/Tableau1[[#This Row],[Série \néconomique ]]+Tableau1[[#This Row],[Nb trous]]*0.08*VLOOKUP(Tableau1[[#This Row],[Format\ntôle]],Tôles!B:O,5,FALSE)+ (Tableau1[[#This Row],[Dimention X (mm)]]+Tableau1[[#This Row],[Dimention Y (mm)]]) * 0.001)*Taux_horaire/100)","v":0},{"$f":"IF(OR(ISERROR((10/Tableau1[[#This Row],[Série \néconomique ]]+Tableau1[[#This Row],[Nb trous]]*0.007 + (Tableau1[[#This Row],[Dimention X (mm)]]+Tableau1[[#This Row],[Dimention Y (mm)]]) * 0.0005)*Taux_horaire/100),Tableau1[[#This Row],[VCOGS\ntôle]]= \"\"),0,(10/Tableau1[[#This Row],[Série \néconomique ]]+Tableau1[[#This Row],[Nb trous]]*0.007 + (Tableau1[[#This Row],[Dimention X (mm)]]+Tableau1[[#This Row],[Dimention Y (mm)]]) * 0.0005)*Taux_horaire/100)","v":0}]
[null,null,null,null,null,null,null,{"$f":"SUBSTITUTE(TRIM(CONCATENATE(Tableau1[[#This Row],[Niveau 0]],\" \",Tableau1[[#This Row],[Niveau 1]],\" \",Tableau1[[#This Row],[Niveau 2]],\" \",Tableau1[[#This Row],[Niveau 3]],\" \",Tableau1[[#This Row],[Niveau 4]],\" \",Tableau1[[#This Row],[Niveau 5]])),\" \",\".\")","v":""},{"$f":"IFERROR(IF(COUNTBLANK(Tableau1[[#This Row],[Niveau 0]:[Niveau 5]])=5,\"0\",LEFT(Tableau1[[#This Row],[Niveau]],(LEN(Tableau1[[#This Row],[Niveau]])-LEN(OFFSET(Tableau1[[#This Row],[Niveau 5]],0,(-COUNTBLANK(Tableau1[[#This Row],[Niveau 0]:[Niveau 5]]))))-1))),\"\")","v":""},null,null,null,null,{"$f":"IF(Tableau1[[#This Row],[Catégorie pièce]]=\" Opérations\",VLOOKUP(Tableau1[[#This Row],[Article produit/\nPoste de charge]],'PDC+emplacement'!A:C,2,FALSE),IF(Tableau1[[#This Row],[Catégorie pièce]]=\" Nouveau\",\"***RENSEIGNER NOM***\",IFERROR(VLOOKUP(CONCATENATE(Tableau1[[#This Row],[Article produit/\nPoste de charge]]),[1]ARTRDCL!$A$1:$U$25000,2,FALSE),\"\")))","v":""},null,null,null,null,null,{"$f":"IF(Tableau1[[#This Row],[Type plan]]=\"SP\",\"SP\",IF(AND(Tableau1[[#This Row],[Catégorie pièce]]=\" Nouveau\",Tableau1[[#This Row],[Type de pièce]]<>\" Panoplie\"),MID(Tableau1[[#This Row],[Article produit/\nPoste de charge]],2,15),IF(AND(Tableau1[[#This Row],[Catégorie pièce]]=\" Nouveau\",Tableau1[[#This Row],[Type de pièce]]=\" Panoplie\"),Tableau1[[#This Row],[Article produit/\nPoste de charge]],\"\")))","v":""},null,null,{"$f":"ROUNDUP((Tableau1[[#This Row],[Qté / an]]/52)*2,0)","v":{"$error":"#VALUE!"}},null,null,{"$f":"IF(AND(Tableau1[[#This Row],[Catégorie pièce]]=\" Opérations\",Tableau1[[#This Row],[Type de pièce]]=\" Temps\"),Taux_horaire/100,IF(AND(Tableau1[[#This Row],[Catégorie pièce]]=\" Nouveau\",Tableau1[[#This Row],[Type de pièce]]=\" Fabriquée\"),BOM!$AO31,IF(OR(AND(Tableau1[[#This Row],[Catégorie pièce]]=\" Nouveau\",Tableau1[[#This Row],[Type de pièce]]=\" Assemblage\"),BOM!$Y31=\" Produit fini\",Tableau1[[#This Row],[Type de pièce]]=\" Opé pièce primaire\",Tableau1[[#This Row],[Type de pièce]]=\" Pièce/Opé Panoplie\"),\"/\",IF(Tableau1[[#This Row],[Catégorie pièce]]=\" Existant\",VLOOKUP(CONCATENATE(Tableau1[[#This Row],[Article produit/\nPoste de charge]]),[1]ARTRDCL!$A$1:$U$65536,15,FALSE),\"\"))))","v":""},{"$f":"IF(OR(Tableau1[[#This Row],[Catégorie pièce]]=\" Opérations\",Tableau1[[#This Row],[Catégorie pièce]]=\" Matière 1ère\",ISBLANK(Tableau1[[#This Row],[Catégorie pièce]])),\"/\",SUMPRODUCT($AY$6:$BB$6,Tableau1[[#This Row],[Modèle A]:[Modèle D]]))","v":"/"},{"$f":"IFERROR(ROUNDDOWN(Tableau1[[#This Row],[surface\ntôle (m²)]]/Tableau1[[#This Row],[Surface\npièce (m²)]],0),0)","v":0},{"$f":"IF(AND(Tableau1[[#This Row],[Catégorie pièce]]=\" Nouveau\",Tableau1[[#This Row],[Type de pièce]]=\" Fabriquée\"),ROUNDUP(Tableau1[[#This Row],[Qté / an]]*2/52,0),0)","v":0},null,null,null,null,null,null,null,null,null,null,null,{"$f":"SUM(Tableau1[[#This Row],[VCOGS\ntôle]:[VCOGS\npliage]])","v":0},{"$f":"IFERROR((VLOOKUP(Tableau1[[#This Row],[Format\ntôle]],Tableau2[],11,FALSE)/Tableau1[[#This Row],[Série \néconomique ]])*Tableau1[[#This Row],[surface\ntôle (m²)]],0)","v":0},{"$f":"IF(Tableau1[[#This Row],[Laser (O/N)]]= \"Oui\",Tableau1[[#This Row],[Coût\ndécoupe laser]],Tableau1[[#This Row],[Coût\npoinçonnage]])","v":0},{"$f":"IF(Tableau1[[#This Row],[Nb plis]]>0, (IF(Tableau1[[#This Row],[Nb plis]]<5,0.25,IF(Tableau1[[#This Row],[Nb plis]]<7,0.33,0.45))/Tableau1[[#This Row],[Série \néconomique ]] +0.004*Tableau1[[#This Row],[Nb plis]])*$N$5,0)","v":0},{"$f":"IFERROR(VLOOKUP(Tableau1[[#This Row],[Format\ntôle]],Tôles!B:P,9,FALSE),0)","v":0},{"$f":"Tableau1[[#This Row],[Dimention X (mm)]]/1000*Tableau1[[#This Row],[Dimention Y (mm)]]/1000","v":0},{"$f":"IFERROR(ROUNDUP(Tableau1[[#This Row],[Surface\npièce (m²)]]/Tableau1[[#This Row],[surface\ntôle (m²)]],4),0)","v":0},{"$f":"IF(Tableau1[[#This Row],[Forcer série Economique ]]>0,Tableau1[[#This Row],[Forcer série Economique ]],Tableau1[[#This Row],[Série Economique proposée]])","v":0},{"$f":"IF(OR(ISERROR((5/Tableau1[[#This Row],[Série \néconomique ]]+Tableau1[[#This Row],[Nb trous]]*0.08*VLOOKUP(Tableau1[[#This Row],[Format\ntôle]],Tôles!B:O,5,FALSE)+ (Tableau1[[#This Row],[Dimention X (mm)]]+Tableau1[[#This Row],[Dimention Y (mm)]]) * 0.001)*Taux_horaire/100),Tableau1[[#This Row],[VCOGS\ntôle]] = \"\"),0,(5/Tableau1[[#This Row],[Série \néconomique ]]+Tableau1[[#This Row],[Nb trous]]*0.08*VLOOKUP(Tableau1[[#This Row],[Format\ntôle]],Tôles!B:O,5,FALSE)+ (Tableau1[[#This Row],[Dimention X (mm)]]+Tableau1[[#This Row],[Dimention Y (mm)]]) * 0.001)*Taux_horaire/100)","v":0},{"$f":"IF(OR(ISERROR((10/Tableau1[[#This Row],[Série \néconomique ]]+Tableau1[[#This Row],[Nb trous]]*0.007 + (Tableau1[[#This Row],[Dimention X (mm)]]+Tableau1[[#This Row],[Dimention Y (mm)]]) * 0.0005)*Taux_horaire/100),Tableau1[[#This Row],[VCOGS\ntôle]]= \"\"),0,(10/Tableau1[[#This Row],[Série \néconomique ]]+Tableau1[[#This Row],[Nb trous]]*0.007 + (Tableau1[[#This Row],[Dimention X (mm)]]+Tableau1[[#This Row],[Dimention Y (mm)]]) * 0.0005)*Taux_horaire/100)","v":0}]
[null,null,null,null,null,null,null,{"$f":"SUBSTITUTE(TRIM(CONCATENATE(Tableau1[[#This Row],[Niveau 0]],\" \",Tableau1[[#This Row],[Niveau 1]],\" \",Tableau1[[#This Row],[Niveau 2]],\" \",Tableau1[[#This Row],[Niveau 3]],\" \",Tableau1[[#This Row],[Niveau 4]],\" \",Tableau1[[#This Row],[Niveau 5]])),\" \",\".\")","v":""},{"$f":"IFERROR(IF(COUNTBLANK(Tableau1[[#This Row],[Niveau 0]:[Niveau 5]])=5,\"0\",LEFT(Tableau1[[#This Row],[Niveau]],(LEN(Tableau1[[#This Row],[Niveau]])-LEN(OFFSET(Tableau1[[#This Row],[Niveau 5]],0,(-COUNTBLANK(Tableau1[[#This Row],[Niveau 0]:[Niveau 5]]))))-1))),\"\")","v":""},null,null,null,null,{"$f":"IF(Tableau1[[#This Row],[Catégorie pièce]]=\" Opérations\",VLOOKUP(Tableau1[[#This Row],[Article produit/\nPoste de charge]],'PDC+emplacement'!A:C,2,FALSE),IF(Tableau1[[#This Row],[Catégorie pièce]]=\" Nouveau\",\"***RENSEIGNER NOM***\",IFERROR(VLOOKUP(CONCATENATE(Tableau1[[#This Row],[Article produit/\nPoste de charge]]),[1]ARTRDCL!$A$1:$U$25000,2,FALSE),\"\")))","v":""},null,null,null,null,null,{"$f":"IF(Tableau1[[#This Row],[Type plan]]=\"SP\",\"SP\",IF(AND(Tableau1[[#This Row],[Catégorie pièce]]=\" Nouveau\",Tableau1[[#This Row],[Type de pièce]]<>\" Panoplie\"),MID(Tableau1[[#This Row],[Article produit/\nPoste de charge]],2,15),IF(AND(Tableau1[[#This Row],[Catégorie pièce]]=\" Nouveau\",Tableau1[[#This Row],[Type de pièce]]=\" Panoplie\"),Tableau1[[#This Row],[Article produit/\nPoste de charge]],\"\")))","v":""},null,null,{"$f":"ROUNDUP((Tableau1[[#This Row],[Qté / an]]/52)*2,0)","v":{"$error":"#VALUE!"}},null,null,{"$f":"IF(AND(Tableau1[[#This Row],[Catégorie pièce]]=\" Opérations\",Tableau1[[#This Row],[Type de pièce]]=\" Temps\"),Taux_horaire/100,IF(AND(Tableau1[[#This Row],[Catégorie pièce]]=\" Nouveau\",Tableau1[[#This Row],[Type de pièce]]=\" Fabriquée\"),BOM!$AO32,IF(OR(AND(Tableau1[[#This Row],[Catégorie pièce]]=\" Nouveau\",Tableau1[[#This Row],[Type de pièce]]=\" Assemblage\"),BOM!$Y32=\" Produit fini\",Tableau1[[#This Row],[Type de pièce]]=\" Opé pièce primaire\",Tableau1[[#This Row],[Type de pièce]]=\" Pièce/Opé Panoplie\"),\"/\",IF(Tableau1[[#This Row],[Catégorie pièce]]=\" Existant\",VLOOKUP(CONCATENATE(Tableau1[[#This Row],[Article produit/\nPoste de charge]]),[1]ARTRDCL!$A$1:$U$65536,15,FALSE),\"\"))))","v":""},{"$f":"IF(OR(Tableau1[[#This Row],[Catégorie pièce]]=\" Opérations\",Tableau1[[#This Row],[Catégorie pièce]]=\" Matière 1ère\",ISBLANK(Tableau1[[#This Row],[Catégorie pièce]])),\"/\",SUMPRODUCT($AY$6:$BB$6,Tableau1[[#This Row],[Modèle A]:[Modèle D]]))","v":"/"},{"$f":"IFERROR(ROUNDDOWN(Tableau1[[#This Row],[surface\ntôle (m²)]]/Tableau1[[#This Row],[Surface\npièce (m²)]],0),0)","v":0},{"$f":"IF(AND(Tableau1[[#This Row],[Catégorie pièce]]=\" Nouveau\",Tableau1[[#This Row],[Type de pièce]]=\" Fabriquée\"),ROUNDUP(Tableau1[[#This Row],[Qté / an]]*2/52,0),0)","v":0},null,null,null,null,null,null,null,null,null,null,null,{"$f":"SUM(Tableau1[[#This Row],[VCOGS\ntôle]:[VCOGS\npliage]])","v":0},{"$f":"IFERROR((VLOOKUP(Tableau1[[#This Row],[Format\ntôle]],Tableau2[],11,FALSE)/Tableau1[[#This Row],[Série \néconomique ]])*Tableau1[[#This Row],[surface\ntôle (m²)]],0)","v":0},{"$f":"IF(Tableau1[[#This Row],[Laser (O/N)]]= \"Oui\",Tableau1[[#This Row],[Coût\ndécoupe laser]],Tableau1[[#This Row],[Coût\npoinçonnage]])","v":0},{"$f":"IF(Tableau1[[#This Row],[Nb plis]]>0, (IF(Tableau1[[#This Row],[Nb plis]]<5,0.25,IF(Tableau1[[#This Row],[Nb plis]]<7,0.33,0.45))/Tableau1[[#This Row],[Série \néconomique ]] +0.004*Tableau1[[#This Row],[Nb plis]])*$N$5,0)","v":0},{"$f":"IFERROR(VLOOKUP(Tableau1[[#This Row],[Format\ntôle]],Tôles!B:P,9,FALSE),0)","v":0},{"$f":"Tableau1[[#This Row],[Dimention X (mm)]]/1000*Tableau1[[#This Row],[Dimention Y (mm)]]/1000","v":0},{"$f":"IFERROR(ROUNDUP(Tableau1[[#This Row],[Surface\npièce (m²)]]/Tableau1[[#This Row],[surface\ntôle (m²)]],4),0)","v":0},{"$f":"IF(Tableau1[[#This Row],[Forcer série Economique ]]>0,Tableau1[[#This Row],[Forcer série Economique ]],Tableau1[[#This Row],[Série Economique proposée]])","v":0},{"$f":"IF(OR(ISERROR((5/Tableau1[[#This Row],[Série \néconomique ]]+Tableau1[[#This Row],[Nb trous]]*0.08*VLOOKUP(Tableau1[[#This Row],[Format\ntôle]],Tôles!B:O,5,FALSE)+ (Tableau1[[#This Row],[Dimention X (mm)]]+Tableau1[[#This Row],[Dimention Y (mm)]]) * 0.001)*Taux_horaire/100),Tableau1[[#This Row],[VCOGS\ntôle]] = \"\"),0,(5/Tableau1[[#This Row],[Série \néconomique ]]+Tableau1[[#This Row],[Nb trous]]*0.08*VLOOKUP(Tableau1[[#This Row],[Format\ntôle]],Tôles!B:O,5,FALSE)+ (Tableau1[[#This Row],[Dimention X (mm)]]+Tableau1[[#This Row],[Dimention Y (mm)]]) * 0.001)*Taux_horaire/100)","v":0},{"$f":"IF(OR(ISERROR((10/Tableau1[[#This Row],[Série \néconomique ]]+Tableau1[[#This Row],[Nb trous]]*0.007 + (Tableau1[[#This Row],[Dimention X (mm)]]+Tableau1[[#This Row],[Dimention Y (mm)]]) * 0.0005)*Taux_horaire/100),Tableau1[[#This Row],[VCOGS\ntôle]]= \"\"),0,(10/Tableau1[[#This Row],[Série \néconomique ]]+Tableau1[[#This Row],[Nb trous]]*0.007 + (Tableau1[[#This Row],[Dimention X (mm)]]+Tableau1[[#This Row],[Dimention Y (mm)]]) * 0.0005)*Taux_horaire/100)","v":0}]
[null,null,null,null,null,null,null,{"$f":"SUBSTITUTE(TRIM(CONCATENATE(Tableau1[[#This Row],[Niveau 0]],\" \",Tableau1[[#This Row],[Niveau 1]],\" \",Tableau1[[#This Row],[Niveau 2]],\" \",Tableau1[[#This Row],[Niveau 3]],\" \",Tableau1[[#This Row],[Niveau 4]],\" \",Tableau1[[#This Row],[Niveau 5]])),\" \",\".\")","v":""},{"$f":"IFERROR(IF(COUNTBLANK(Tableau1[[#This Row],[Niveau 0]:[Niveau 5]])=5,\"0\",LEFT(Tableau1[[#This Row],[Niveau]],(LEN(Tableau1[[#This Row],[Niveau]])-LEN(OFFSET(Tableau1[[#This Row],[Niveau 5]],0,(-COUNTBLANK(Tableau1[[#This Row],[Niveau 0]:[Niveau 5]]))))-1))),\"\")","v":""},null,null,null,null,{"$f":"IF(Tableau1[[#This Row],[Catégorie pièce]]=\" Opérations\",VLOOKUP(Tableau1[[#This Row],[Article produit/\nPoste de charge]],'PDC+emplacement'!A:C,2,FALSE),IF(Tableau1[[#This Row],[Catégorie pièce]]=\" Nouveau\",\"***RENSEIGNER NOM***\",IFERROR(VLOOKUP(CONCATENATE(Tableau1[[#This Row],[Article produit/\nPoste de charge]]),[1]ARTRDCL!$A$1:$U$25000,2,FALSE),\"\")))","v":""},null,null,null,null,null,{"$f":"IF(Tableau1[[#This Row],[Type plan]]=\"SP\",\"SP\",IF(AND(Tableau1[[#This Row],[Catégorie pièce]]=\" Nouveau\",Tableau1[[#This Row],[Type de pièce]]<>\" Panoplie\"),MID(Tableau1[[#This Row],[Article produit/\nPoste de charge]],2,15),IF(AND(Tableau1[[#This Row],[Catégorie pièce]]=\" Nouveau\",Tableau1[[#This Row],[Type de pièce]]=\" Panoplie\"),Tableau1[[#This Row],[Article produit/\nPoste de charge]],\"\")))","v":""},null,null,{"$f":"ROUNDUP((Tableau1[[#This Row],[Qté / an]]/52)*2,0)","v":{"$error":"#VALUE!"}},null,null,{"$f":"IF(AND(Tableau1[[#This Row],[Catégorie pièce]]=\" Opérations\",Tableau1[[#This Row],[Type de pièce]]=\" Temps\"),Taux_horaire/100,IF(AND(Tableau1[[#This Row],[Catégorie pièce]]=\" Nouveau\",Tableau1[[#This Row],[Type de pièce]]=\" Fabriquée\"),BOM!$AO33,IF(OR(AND(Tableau1[[#This Row],[Catégorie pièce]]=\" Nouveau\",Tableau1[[#This Row],[Type de pièce]]=\" Assemblage\"),BOM!$Y33=\" Produit fini\",Tableau1[[#This Row],[Type de pièce]]=\" Opé pièce primaire\",Tableau1[[#This Row],[Type de pièce]]=\" Pièce/Opé Panoplie\"),\"/\",IF(Tableau1[[#This Row],[Catégorie pièce]]=\" Existant\",VLOOKUP(CONCATENATE(Tableau1[[#This Row],[Article produit/\nPoste de charge]]),[1]ARTRDCL!$A$1:$U$65536,15,FALSE),\"\"))))","v":""},{"$f":"IF(OR(Tableau1[[#This Row],[Catégorie pièce]]=\" Opérations\",Tableau1[[#This Row],[Catégorie pièce]]=\" Matière 1ère\",ISBLANK(Tableau1[[#This Row],[Catégorie pièce]])),\"/\",SUMPRODUCT($AY$6:$BB$6,Tableau1[[#This Row],[Modèle A]:[Modèle D]]))","v":"/"},{"$f":"IFERROR(ROUNDDOWN(Tableau1[[#This Row],[surface\ntôle (m²)]]/Tableau1[[#This Row],[Surface\npièce (m²)]],0),0)","v":0},{"$f":"IF(AND(Tableau1[[#This Row],[Catégorie pièce]]=\" Nouveau\",Tableau1[[#This Row],[Type de pièce]]=\" Fabriquée\"),ROUNDUP(Tableau1[[#This Row],[Qté / an]]*2/52,0),0)","v":0},null,null,null,null,null,null,null,null,null,null,null,{"$f":"SUM(Tableau1[[#This Row],[VCOGS\ntôle]:[VCOGS\npliage]])","v":0},{"$f":"IFERROR((VLOOKUP(Tableau1[[#This Row],[Format\ntôle]],Tableau2[],11,FALSE)/Tableau1[[#This Row],[Série \néconomique ]])*Tableau1[[#This Row],[surface\ntôle (m²)]],0)","v":0},{"$f":"IF(Tableau1[[#This Row],[Laser (O/N)]]= \"Oui\",Tableau1[[#This Row],[Coût\ndécoupe laser]],Tableau1[[#This Row],[Coût\npoinçonnage]])","v":0},{"$f":"IF(Tableau1[[#This Row],[Nb plis]]>0, (IF(Tableau1[[#This Row],[Nb plis]]<5,0.25,IF(Tableau1[[#This Row],[Nb plis]]<7,0.33,0.45))/Tableau1[[#This Row],[Série \néconomique ]] +0.004*Tableau1[[#This Row],[Nb plis]])*$N$5,0)","v":0},{"$f":"IFERROR(VLOOKUP(Tableau1[[#This Row],[Format\ntôle]],Tôles!B:P,9,FALSE),0)","v":0},{"$f":"Tableau1[[#This Row],[Dimention X (mm)]]/1000*Tableau1[[#This Row],[Dimention Y (mm)]]/1000","v":0},{"$f":"IFERROR(ROUNDUP(Tableau1[[#This Row],[Surface\npièce (m²)]]/Tableau1[[#This Row],[surface\ntôle (m²)]],4),0)","v":0},{"$f":"IF(Tableau1[[#This Row],[Forcer série Economique ]]>0,Tableau1[[#This Row],[Forcer série Economique ]],Tableau1[[#This Row],[Série Economique proposée]])","v":0},{"$f":"IF(OR(ISERROR((5/Tableau1[[#This Row],[Série \néconomique ]]+Tableau1[[#This Row],[Nb trous]]*0.08*VLOOKUP(Tableau1[[#This Row],[Format\ntôle]],Tôles!B:O,5,FALSE)+ (Tableau1[[#This Row],[Dimention X (mm)]]+Tableau1[[#This Row],[Dimention Y (mm)]]) * 0.001)*Taux_horaire/100),Tableau1[[#This Row],[VCOGS\ntôle]] = \"\"),0,(5/Tableau1[[#This Row],[Série \néconomique ]]+Tableau1[[#This Row],[Nb trous]]*0.08*VLOOKUP(Tableau1[[#This Row],[Format\ntôle]],Tôles!B:O,5,FALSE)+ (Tableau1[[#This Row],[Dimention X (mm)]]+Tableau1[[#This Row],[Dimention Y (mm)]]) * 0.001)*Taux_horaire/100)","v":0},{"$f":"IF(OR(ISERROR((10/Tableau1[[#This Row],[Série \néconomique ]]+Tableau1[[#This Row],[Nb trous]]*0.007 + (Tableau1[[#This Row],[Dimention X (mm)]]+Tableau1[[#This Row],[Dimention Y (mm)]]) * 0.0005)*Taux_horaire/100),Tableau1[[#This Row],[VCOGS\ntôle]]= \"\"),0,(10/Tableau1[[#This Row],[Série \néconomique ]]+Tableau1[[#This Row],[Nb trous]]*0.007 + (Tableau1[[#This Row],[Dimention X (mm)]]+Tableau1[[#This Row],[Dimention Y (mm)]]) * 0.0005)*Taux_horaire/100)","v":0}]
[null,null,null,null,null,null,null,{"$f":"SUBSTITUTE(TRIM(CONCATENATE(Tableau1[[#This Row],[Niveau 0]],\" \",Tableau1[[#This Row],[Niveau 1]],\" \",Tableau1[[#This Row],[Niveau 2]],\" \",Tableau1[[#This Row],[Niveau 3]],\" \",Tableau1[[#This Row],[Niveau 4]],\" \",Tableau1[[#This Row],[Niveau 5]])),\" \",\".\")","v":""},{"$f":"IFERROR(IF(COUNTBLANK(Tableau1[[#This Row],[Niveau 0]:[Niveau 5]])=5,\"0\",LEFT(Tableau1[[#This Row],[Niveau]],(LEN(Tableau1[[#This Row],[Niveau]])-LEN(OFFSET(Tableau1[[#This Row],[Niveau 5]],0,(-COUNTBLANK(Tableau1[[#This Row],[Niveau 0]:[Niveau 5]]))))-1))),\"\")","v":""},null,null,null,null,{"$f":"IF(Tableau1[[#This Row],[Catégorie pièce]]=\" Opérations\",VLOOKUP(Tableau1[[#This Row],[Article produit/\nPoste de charge]],'PDC+emplacement'!A:C,2,FALSE),IF(Tableau1[[#This Row],[Catégorie pièce]]=\" Nouveau\",\"***RENSEIGNER NOM***\",IFERROR(VLOOKUP(CONCATENATE(Tableau1[[#This Row],[Article produit/\nPoste de charge]]),[1]ARTRDCL!$A$1:$U$25000,2,FALSE),\"\")))","v":""},null,null,null,null,null,{"$f":"IF(Tableau1[[#This Row],[Type plan]]=\"SP\",\"SP\",IF(AND(Tableau1[[#This Row],[Catégorie pièce]]=\" Nouveau\",Tableau1[[#This Row],[Type de pièce]]<>\" Panoplie\"),MID(Tableau1[[#This Row],[Article produit/\nPoste de charge]],2,15),IF(AND(Tableau1[[#This Row],[Catégorie pièce]]=\" Nouveau\",Tableau1[[#This Row],[Type de pièce]]=\" Panoplie\"),Tableau1[[#This Row],[Article produit/\nPoste de charge]],\"\")))","v":""},null,null,{"$f":"ROUNDUP((Tableau1[[#This Row],[Qté / an]]/52)*2,0)","v":{"$error":"#VALUE!"}},null,null,{"$f":"IF(AND(Tableau1[[#This Row],[Catégorie pièce]]=\" Opérations\",Tableau1[[#This Row],[Type de pièce]]=\" Temps\"),Taux_horaire/100,IF(AND(Tableau1[[#This Row],[Catégorie pièce]]=\" Nouveau\",Tableau1[[#This Row],[Type de pièce]]=\" Fabriquée\"),BOM!$AO34,IF(OR(AND(Tableau1[[#This Row],[Catégorie pièce]]=\" Nouveau\",Tableau1[[#This Row],[Type de pièce]]=\" Assemblage\"),BOM!$Y34=\" Produit fini\",Tableau1[[#This Row],[Type de pièce]]=\" Opé pièce primaire\",Tableau1[[#This Row],[Type de pièce]]=\" Pièce/Opé Panoplie\"),\"/\",IF(Tableau1[[#This Row],[Catégorie pièce]]=\" Existant\",VLOOKUP(CONCATENATE(Tableau1[[#This Row],[Article produit/\nPoste de charge]]),[1]ARTRDCL!$A$1:$U$65536,15,FALSE),\"\"))))","v":""},{"$f":"IF(OR(Tableau1[[#This Row],[Catégorie pièce]]=\" Opérations\",Tableau1[[#This Row],[Catégorie pièce]]=\" Matière 1ère\",ISBLANK(Tableau1[[#This Row],[Catégorie pièce]])),\"/\",SUMPRODUCT($AY$6:$BB$6,Tableau1[[#This Row],[Modèle A]:[Modèle D]]))","v":"/"},{"$f":"IFERROR(ROUNDDOWN(Tableau1[[#This Row],[surface\ntôle (m²)]]/Tableau1[[#This Row],[Surface\npièce (m²)]],0),0)","v":0},{"$f":"IF(AND(Tableau1[[#This Row],[Catégorie pièce]]=\" Nouveau\",Tableau1[[#This Row],[Type de pièce]]=\" Fabriquée\"),ROUNDUP(Tableau1[[#This Row],[Qté / an]]*2/52,0),0)","v":0},null,null,null,null,null,null,null,null,null,null,null,{"$f":"SUM(Tableau1[[#This Row],[VCOGS\ntôle]:[VCOGS\npliage]])","v":0},{"$f":"IFERROR((VLOOKUP(Tableau1[[#This Row],[Format\ntôle]],Tableau2[],11,FALSE)/Tableau1[[#This Row],[Série \néconomique ]])*Tableau1[[#This Row],[surface\ntôle (m²)]],0)","v":0},{"$f":"IF(Tableau1[[#This Row],[Laser (O/N)]]= \"Oui\",Tableau1[[#This Row],[Coût\ndécoupe laser]],Tableau1[[#This Row],[Coût\npoinçonnage]])","v":0},{"$f":"IF(Tableau1[[#This Row],[Nb plis]]>0, (IF(Tableau1[[#This Row],[Nb plis]]<5,0.25,IF(Tableau1[[#This Row],[Nb plis]]<7,0.33,0.45))/Tableau1[[#This Row],[Série \néconomique ]] +0.004*Tableau1[[#This Row],[Nb plis]])*$N$5,0)","v":0},{"$f":"IFERROR(VLOOKUP(Tableau1[[#This Row],[Format\ntôle]],Tôles!B:P,9,FALSE),0)","v":0},{"$f":"Tableau1[[#This Row],[Dimention X (mm)]]/1000*Tableau1[[#This Row],[Dimention Y (mm)]]/1000","v":0},{"$f":"IFERROR(ROUNDUP(Tableau1[[#This Row],[Surface\npièce (m²)]]/Tableau1[[#This Row],[surface\ntôle (m²)]],4),0)","v":0},{"$f":"IF(Tableau1[[#This Row],[Forcer série Economique ]]>0,Tableau1[[#This Row],[Forcer série Economique ]],Tableau1[[#This Row],[Série Economique proposée]])","v":0},{"$f":"IF(OR(ISERROR((5/Tableau1[[#This Row],[Série \néconomique ]]+Tableau1[[#This Row],[Nb trous]]*0.08*VLOOKUP(Tableau1[[#This Row],[Format\ntôle]],Tôles!B:O,5,FALSE)+ (Tableau1[[#This Row],[Dimention X (mm)]]+Tableau1[[#This Row],[Dimention Y (mm)]]) * 0.001)*Taux_horaire/100),Tableau1[[#This Row],[VCOGS\ntôle]] = \"\"),0,(5/Tableau1[[#This Row],[Série \néconomique ]]+Tableau1[[#This Row],[Nb trous]]*0.08*VLOOKUP(Tableau1[[#This Row],[Format\ntôle]],Tôles!B:O,5,FALSE)+ (Tableau1[[#This Row],[Dimention X (mm)]]+Tableau1[[#This Row],[Dimention Y (mm)]]) * 0.001)*Taux_horaire/100)","v":0},{"$f":"IF(OR(ISERROR((10/Tableau1[[#This Row],[Série \néconomique ]]+Tableau1[[#This Row],[Nb trous]]*0.007 + (Tableau1[[#This Row],[Dimention X (mm)]]+Tableau1[[#This Row],[Dimention Y (mm)]]) * 0.0005)*Taux_horaire/100),Tableau1[[#This Row],[VCOGS\ntôle]]= \"\"),0,(10/Tableau1[[#This Row],[Série \néconomique ]]+Tableau1[[#This Row],[Nb trous]]*0.007 + (Tableau1[[#This Row],[Dimention X (mm)]]+Tableau1[[#This Row],[Dimention Y (mm)]]) * 0.0005)*Taux_horaire/100)","v":0}]
[null,null,null,null,null,null,null,{"$f":"SUBSTITUTE(TRIM(CONCATENATE(Tableau1[[#This Row],[Niveau 0]],\" \",Tableau1[[#This Row],[Niveau 1]],\" \",Tableau1[[#This Row],[Niveau 2]],\" \",Tableau1[[#This Row],[Niveau 3]],\" \",Tableau1[[#This Row],[Niveau 4]],\" \",Tableau1[[#This Row],[Niveau 5]])),\" \",\".\")","v":""},{"$f":"IFERROR(IF(COUNTBLANK(Tableau1[[#This Row],[Niveau 0]:[Niveau 5]])=5,\"0\",LEFT(Tableau1[[#This Row],[Niveau]],(LEN(Tableau1[[#This Row],[Niveau]])-LEN(OFFSET(Tableau1[[#This Row],[Niveau 5]],0,(-COUNTBLANK(Tableau1[[#This Row],[Niveau 0]:[Niveau 5]]))))-1))),\"\")","v":""},null,null,null,null,{"$f":"IF(Tableau1[[#This Row],[Catégorie pièce]]=\" Opérations\",VLOOKUP(Tableau1[[#This Row],[Article produit/\nPoste de charge]],'PDC+emplacement'!A:C,2,FALSE),IF(Tableau1[[#This Row],[Catégorie pièce]]=\" Nouveau\",\"***RENSEIGNER NOM***\",IFERROR(VLOOKUP(CONCATENATE(Tableau1[[#This Row],[Article produit/\nPoste de charge]]),[1]ARTRDCL!$A$1:$U$25000,2,FALSE),\"\")))","v":""},null,null,null,null,null,{"$f":"IF(Tableau1[[#This Row],[Type plan]]=\"SP\",\"SP\",IF(AND(Tableau1[[#This Row],[Catégorie pièce]]=\" Nouveau\",Tableau1[[#This Row],[Type de pièce]]<>\" Panoplie\"),MID(Tableau1[[#This Row],[Article produit/\nPoste de charge]],2,15),IF(AND(Tableau1[[#This Row],[Catégorie pièce]]=\" Nouveau\",Tableau1[[#This Row],[Type de pièce]]=\" Panoplie\"),Tableau1[[#This Row],[Article produit/\nPoste de charge]],\"\")))","v":""},null,null,{"$f":"ROUNDUP((Tableau1[[#This Row],[Qté / an]]/52)*2,0)","v":{"$error":"#VALUE!"}},null,null,{"$f":"IF(AND(Tableau1[[#This Row],[Catégorie pièce]]=\" Opérations\",Tableau1[[#This Row],[Type de pièce]]=\" Temps\"),Taux_horaire/100,IF(AND(Tableau1[[#This Row],[Catégorie pièce]]=\" Nouveau\",Tableau1[[#This Row],[Type de pièce]]=\" Fabriquée\"),BOM!$AO35,IF(OR(AND(Tableau1[[#This Row],[Catégorie pièce]]=\" Nouveau\",Tableau1[[#This Row],[Type de pièce]]=\" Assemblage\"),BOM!$Y35=\" Produit fini\",Tableau1[[#This Row],[Type de pièce]]=\" Opé pièce primaire\",Tableau1[[#This Row],[Type de pièce]]=\" Pièce/Opé Panoplie\"),\"/\",IF(Tableau1[[#This Row],[Catégorie pièce]]=\" Existant\",VLOOKUP(CONCATENATE(Tableau1[[#This Row],[Article produit/\nPoste de charge]]),[1]ARTRDCL!$A$1:$U$65536,15,FALSE),\"\"))))","v":""},{"$f":"IF(OR(Tableau1[[#This Row],[Catégorie pièce]]=\" Opérations\",Tableau1[[#This Row],[Catégorie pièce]]=\" Matière 1ère\",ISBLANK(Tableau1[[#This Row],[Catégorie pièce]])),\"/\",SUMPRODUCT($AY$6:$BB$6,Tableau1[[#This Row],[Modèle A]:[Modèle D]]))","v":"/"},{"$f":"IFERROR(ROUNDDOWN(Tableau1[[#This Row],[surface\ntôle (m²)]]/Tableau1[[#This Row],[Surface\npièce (m²)]],0),0)","v":0},{"$f":"IF(AND(Tableau1[[#This Row],[Catégorie pièce]]=\" Nouveau\",Tableau1[[#This Row],[Type de pièce]]=\" Fabriquée\"),ROUNDUP(Tableau1[[#This Row],[Qté / an]]*2/52,0),0)","v":0},null,null,null,null,null,null,null,null,null,null,null,{"$f":"SUM(Tableau1[[#This Row],[VCOGS\ntôle]:[VCOGS\npliage]])","v":0},{"$f":"IFERROR((VLOOKUP(Tableau1[[#This Row],[Format\ntôle]],Tableau2[],11,FALSE)/Tableau1[[#This Row],[Série \néconomique ]])*Tableau1[[#This Row],[surface\ntôle (m²)]],0)","v":0},{"$f":"IF(Tableau1[[#This Row],[Laser (O/N)]]= \"Oui\",Tableau1[[#This Row],[Coût\ndécoupe laser]],Tableau1[[#This Row],[Coût\npoinçonnage]])","v":0},{"$f":"IF(Tableau1[[#This Row],[Nb plis]]>0, (IF(Tableau1[[#This Row],[Nb plis]]<5,0.25,IF(Tableau1[[#This Row],[Nb plis]]<7,0.33,0.45))/Tableau1[[#This Row],[Série \néconomique ]] +0.004*Tableau1[[#This Row],[Nb plis]])*$N$5,0)","v":0},{"$f":"IFERROR(VLOOKUP(Tableau1[[#This Row],[Format\ntôle]],Tôles!B:P,9,FALSE),0)","v":0},{"$f":"Tableau1[[#This Row],[Dimention X (mm)]]/1000*Tableau1[[#This Row],[Dimention Y (mm)]]/1000","v":0},{"$f":"IFERROR(ROUNDUP(Tableau1[[#This Row],[Surface\npièce (m²)]]/Tableau1[[#This Row],[surface\ntôle (m²)]],4),0)","v":0},{"$f":"IF(Tableau1[[#This Row],[Forcer série Economique ]]>0,Tableau1[[#This Row],[Forcer série Economique ]],Tableau1[[#This Row],[Série Economique proposée]])","v":0},{"$f":"IF(OR(ISERROR((5/Tableau1[[#This Row],[Série \néconomique ]]+Tableau1[[#This Row],[Nb trous]]*0.08*VLOOKUP(Tableau1[[#This Row],[Format\ntôle]],Tôles!B:O,5,FALSE)+ (Tableau1[[#This Row],[Dimention X (mm)]]+Tableau1[[#This Row],[Dimention Y (mm)]]) * 0.001)*Taux_horaire/100),Tableau1[[#This Row],[VCOGS\ntôle]] = \"\"),0,(5/Tableau1[[#This Row],[Série \néconomique ]]+Tableau1[[#This Row],[Nb trous]]*0.08*VLOOKUP(Tableau1[[#This Row],[Format\ntôle]],Tôles!B:O,5,FALSE)+ (Tableau1[[#This Row],[Dimention X (mm)]]+Tableau1[[#This Row],[Dimention Y (mm)]]) * 0.001)*Taux_horaire/100)","v":0},{"$f":"IF(OR(ISERROR((10/Tableau1[[#This Row],[Série \néconomique ]]+Tableau1[[#This Row],[Nb trous]]*0.007 + (Tableau1[[#This Row],[Dimention X (mm)]]+Tableau1[[#This Row],[Dimention Y (mm)]]) * 0.0005)*Taux_horaire/100),Tableau1[[#This Row],[VCOGS\ntôle]]= \"\"),0,(10/Tableau1[[#This Row],[Série \néconomique ]]+Tableau1[[#This Row],[Nb trous]]*0.007 + (Tableau1[[#This Row],[Dimention X (mm)]]+Tableau1[[#This Row],[Dimention Y (mm)]]) * 0.0005)*Taux_horaire/100)","v":0}]
[null,null,null,null,null,null,null,{"$f":"SUBSTITUTE(TRIM(CONCATENATE(Tableau1[[#This Row],[Niveau 0]],\" \",Tableau1[[#This Row],[Niveau 1]],\" \",Tableau1[[#This Row],[Niveau 2]],\" \",Tableau1[[#This Row],[Niveau 3]],\" \",Tableau1[[#This Row],[Niveau 4]],\" \",Tableau1[[#This Row],[Niveau 5]])),\" \",\".\")","v":""},{"$f":"IFERROR(IF(COUNTBLANK(Tableau1[[#This Row],[Niveau 0]:[Niveau 5]])=5,\"0\",LEFT(Tableau1[[#This Row],[Niveau]],(LEN(Tableau1[[#This Row],[Niveau]])-LEN(OFFSET(Tableau1[[#This Row],[Niveau 5]],0,(-COUNTBLANK(Tableau1[[#This Row],[Niveau 0]:[Niveau 5]]))))-1))),\"\")","v":""},null,null,null,null,{"$f":"IF(Tableau1[[#This Row],[Catégorie pièce]]=\" Opérations\",VLOOKUP(Tableau1[[#This Row],[Article produit/\nPoste de charge]],'PDC+emplacement'!A:C,2,FALSE),IF(Tableau1[[#This Row],[Catégorie pièce]]=\" Nouveau\",\"***RENSEIGNER NOM***\",IFERROR(VLOOKUP(CONCATENATE(Tableau1[[#This Row],[Article produit/\nPoste de charge]]),[1]ARTRDCL!$A$1:$U$25000,2,FALSE),\"\")))","v":""},null,null,null,null,null,{"$f":"IF(Tableau1[[#This Row],[Type plan]]=\"SP\",\"SP\",IF(AND(Tableau1[[#This Row],[Catégorie pièce]]=\" Nouveau\",Tableau1[[#This Row],[Type de pièce]]<>\" Panoplie\"),MID(Tableau1[[#This Row],[Article produit/\nPoste de charge]],2,15),IF(AND(Tableau1[[#This Row],[Catégorie pièce]]=\" Nouveau\",Tableau1[[#This Row],[Type de pièce]]=\" Panoplie\"),Tableau1[[#This Row],[Article produit/\nPoste de charge]],\"\")))","v":""},null,null,{"$f":"ROUNDUP((Tableau1[[#This Row],[Qté / an]]/52)*2,0)","v":{"$error":"#VALUE!"}},null,null,{"$f":"IF(AND(Tableau1[[#This Row],[Catégorie pièce]]=\" Opérations\",Tableau1[[#This Row],[Type de pièce]]=\" Temps\"),Taux_horaire/100,IF(AND(Tableau1[[#This Row],[Catégorie pièce]]=\" Nouveau\",Tableau1[[#This Row],[Type de pièce]]=\" Fabriquée\"),BOM!$AO36,IF(OR(AND(Tableau1[[#This Row],[Catégorie pièce]]=\" Nouveau\",Tableau1[[#This Row],[Type de pièce]]=\" Assemblage\"),BOM!$Y36=\" Produit fini\",Tableau1[[#This Row],[Type de pièce]]=\" Opé pièce primaire\",Tableau1[[#This Row],[Type de pièce]]=\" Pièce/Opé Panoplie\"),\"/\",IF(Tableau1[[#This Row],[Catégorie pièce]]=\" Existant\",VLOOKUP(CONCATENATE(Tableau1[[#This Row],[Article produit/\nPoste de charge]]),[1]ARTRDCL!$A$1:$U$65536,15,FALSE),\"\"))))","v":""},{"$f":"IF(OR(Tableau1[[#This Row],[Catégorie pièce]]=\" Opérations\",Tableau1[[#This Row],[Catégorie pièce]]=\" Matière 1ère\",ISBLANK(Tableau1[[#This Row],[Catégorie pièce]])),\"/\",SUMPRODUCT($AY$6:$BB$6,Tableau1[[#This Row],[Modèle A]:[Modèle D]]))","v":"/"},{"$f":"IFERROR(ROUNDDOWN(Tableau1[[#This Row],[surface\ntôle (m²)]]/Tableau1[[#This Row],[Surface\npièce (m²)]],0),0)","v":0},{"$f":"IF(AND(Tableau1[[#This Row],[Catégorie pièce]]=\" Nouveau\",Tableau1[[#This Row],[Type de pièce]]=\" Fabriquée\"),ROUNDUP(Tableau1[[#This Row],[Qté / an]]*2/52,0),0)","v":0},null,null,null,null,null,null,null,null,null,null,null,{"$f":"SUM(Tableau1[[#This Row],[VCOGS\ntôle]:[VCOGS\npliage]])","v":0},{"$f":"IFERROR((VLOOKUP(Tableau1[[#This Row],[Format\ntôle]],Tableau2[],11,FALSE)/Tableau1[[#This Row],[Série \néconomique ]])*Tableau1[[#This Row],[surface\ntôle (m²)]],0)","v":0},{"$f":"IF(Tableau1[[#This Row],[Laser (O/N)]]= \"Oui\",Tableau1[[#This Row],[Coût\ndécoupe laser]],Tableau1[[#This Row],[Coût\npoinçonnage]])","v":0},{"$f":"IF(Tableau1[[#This Row],[Nb plis]]>0, (IF(Tableau1[[#This Row],[Nb plis]]<5,0.25,IF(Tableau1[[#This Row],[Nb plis]]<7,0.33,0.45))/Tableau1[[#This Row],[Série \néconomique ]] +0.004*Tableau1[[#This Row],[Nb plis]])*$N$5,0)","v":0},{"$f":"IFERROR(VLOOKUP(Tableau1[[#This Row],[Format\ntôle]],Tôles!B:P,9,FALSE),0)","v":0},{"$f":"Tableau1[[#This Row],[Dimention X (mm)]]/1000*Tableau1[[#This Row],[Dimention Y (mm)]]/1000","v":0},{"$f":"IFERROR(ROUNDUP(Tableau1[[#This Row],[Surface\npièce (m²)]]/Tableau1[[#This Row],[surface\ntôle (m²)]],4),0)","v":0},{"$f":"IF(Tableau1[[#This Row],[Forcer série Economique ]]>0,Tableau1[[#This Row],[Forcer série Economique ]],Tableau1[[#This Row],[Série Economique proposée]])","v":0},{"$f":"IF(OR(ISERROR((5/Tableau1[[#This Row],[Série \néconomique ]]+Tableau1[[#This Row],[Nb trous]]*0.08*VLOOKUP(Tableau1[[#This Row],[Format\ntôle]],Tôles!B:O,5,FALSE)+ (Tableau1[[#This Row],[Dimention X (mm)]]+Tableau1[[#This Row],[Dimention Y (mm)]]) * 0.001)*Taux_horaire/100),Tableau1[[#This Row],[VCOGS\ntôle]] = \"\"),0,(5/Tableau1[[#This Row],[Série \néconomique ]]+Tableau1[[#This Row],[Nb trous]]*0.08*VLOOKUP(Tableau1[[#This Row],[Format\ntôle]],Tôles!B:O,5,FALSE)+ (Tableau1[[#This Row],[Dimention X (mm)]]+Tableau1[[#This Row],[Dimention Y (mm)]]) * 0.001)*Taux_horaire/100)","v":0},{"$f":"IF(OR(ISERROR((10/Tableau1[[#This Row],[Série \néconomique ]]+Tableau1[[#This Row],[Nb trous]]*0.007 + (Tableau1[[#This Row],[Dimention X (mm)]]+Tableau1[[#This Row],[Dimention Y (mm)]]) * 0.0005)*Taux_horaire/100),Tableau1[[#This Row],[VCOGS\ntôle]]= \"\"),0,(10/Tableau1[[#This Row],[Série \néconomique ]]+Tableau1[[#This Row],[Nb trous]]*0.007 + (Tableau1[[#This Row],[Dimention X (mm)]]+Tableau1[[#This Row],[Dimention Y (mm)]]) * 0.0005)*Taux_horaire/100)","v":0}]
[null,null,null,null,null,null,null,{"$f":"SUBSTITUTE(TRIM(CONCATENATE(Tableau1[[#This Row],[Niveau 0]],\" \",Tableau1[[#This Row],[Niveau 1]],\" \",Tableau1[[#This Row],[Niveau 2]],\" \",Tableau1[[#This Row],[Niveau 3]],\" \",Tableau1[[#This Row],[Niveau 4]],\" \",Tableau1[[#This Row],[Niveau 5]])),\" \",\".\")","v":""},{"$f":"IFERROR(IF(COUNTBLANK(Tableau1[[#This Row],[Niveau 0]:[Niveau 5]])=5,\"0\",LEFT(Tableau1[[#This Row],[Niveau]],(LEN(Tableau1[[#This Row],[Niveau]])-LEN(OFFSET(Tableau1[[#This Row],[Niveau 5]],0,(-COUNTBLANK(Tableau1[[#This Row],[Niveau 0]:[Niveau 5]]))))-1))),\"\")","v":""},null,null,null,null,{"$f":"IF(Tableau1[[#This Row],[Catégorie pièce]]=\" Opérations\",VLOOKUP(Tableau1[[#This Row],[Article produit/\nPoste de charge]],'PDC+emplacement'!A:C,2,FALSE),IF(Tableau1[[#This Row],[Catégorie pièce]]=\" Nouveau\",\"***RENSEIGNER NOM***\",IFERROR(VLOOKUP(CONCATENATE(Tableau1[[#This Row],[Article produit/\nPoste de charge]]),[1]ARTRDCL!$A$1:$U$25000,2,FALSE),\"\")))","v":""},null,null,null,null,null,{"$f":"IF(Tableau1[[#This Row],[Type plan]]=\"SP\",\"SP\",IF(AND(Tableau1[[#This Row],[Catégorie pièce]]=\" Nouveau\",Tableau1[[#This Row],[Type de pièce]]<>\" Panoplie\"),MID(Tableau1[[#This Row],[Article produit/\nPoste de charge]],2,15),IF(AND(Tableau1[[#This Row],[Catégorie pièce]]=\" Nouveau\",Tableau1[[#This Row],[Type de pièce]]=\" Panoplie\"),Tableau1[[#This Row],[Article produit/\nPoste de charge]],\"\")))","v":""},null,null,{"$f":"ROUNDUP((Tableau1[[#This Row],[Qté / an]]/52)*2,0)","v":{"$error":"#VALUE!"}},null,null,{"$f":"IF(AND(Tableau1[[#This Row],[Catégorie pièce]]=\" Opérations\",Tableau1[[#This Row],[Type de pièce]]=\" Temps\"),Taux_horaire/100,IF(AND(Tableau1[[#This Row],[Catégorie pièce]]=\" Nouveau\",Tableau1[[#This Row],[Type de pièce]]=\" Fabriquée\"),BOM!$AO37,IF(OR(AND(Tableau1[[#This Row],[Catégorie pièce]]=\" Nouveau\",Tableau1[[#This Row],[Type de pièce]]=\" Assemblage\"),BOM!$Y37=\" Produit fini\",Tableau1[[#This Row],[Type de pièce]]=\" Opé pièce primaire\",Tableau1[[#This Row],[Type de pièce]]=\" Pièce/Opé Panoplie\"),\"/\",IF(Tableau1[[#This Row],[Catégorie pièce]]=\" Existant\",VLOOKUP(CONCATENATE(Tableau1[[#This Row],[Article produit/\nPoste de charge]]),[1]ARTRDCL!$A$1:$U$65536,15,FALSE),\"\"))))","v":""},{"$f":"IF(OR(Tableau1[[#This Row],[Catégorie pièce]]=\" Opérations\",Tableau1[[#This Row],[Catégorie pièce]]=\" Matière 1ère\",ISBLANK(Tableau1[[#This Row],[Catégorie pièce]])),\"/\",SUMPRODUCT($AY$6:$BB$6,Tableau1[[#This Row],[Modèle A]:[Modèle D]]))","v":"/"},{"$f":"IFERROR(ROUNDDOWN(Tableau1[[#This Row],[surface\ntôle (m²)]]/Tableau1[[#This Row],[Surface\npièce (m²)]],0),0)","v":0},{"$f":"IF(AND(Tableau1[[#This Row],[Catégorie pièce]]=\" Nouveau\",Tableau1[[#This Row],[Type de pièce]]=\" Fabriquée\"),ROUNDUP(Tableau1[[#This Row],[Qté / an]]*2/52,0),0)","v":0},null,null,null,null,null,null,null,null,null,null,null,{"$f":"SUM(Tableau1[[#This Row],[VCOGS\ntôle]:[VCOGS\npliage]])","v":0},{"$f":"IFERROR((VLOOKUP(Tableau1[[#This Row],[Format\ntôle]],Tableau2[],11,FALSE)/Tableau1[[#This Row],[Série \néconomique ]])*Tableau1[[#This Row],[surface\ntôle (m²)]],0)","v":0},{"$f":"IF(Tableau1[[#This Row],[Laser (O/N)]]= \"Oui\",Tableau1[[#This Row],[Coût\ndécoupe laser]],Tableau1[[#This Row],[Coût\npoinçonnage]])","v":0},{"$f":"IF(Tableau1[[#This Row],[Nb plis]]>0, (IF(Tableau1[[#This Row],[Nb plis]]<5,0.25,IF(Tableau1[[#This Row],[Nb plis]]<7,0.33,0.45))/Tableau1[[#This Row],[Série \néconomique ]] +0.004*Tableau1[[#This Row],[Nb plis]])*$N$5,0)","v":0},{"$f":"IFERROR(VLOOKUP(Tableau1[[#This Row],[Format\ntôle]],Tôles!B:P,9,FALSE),0)","v":0},{"$f":"Tableau1[[#This Row],[Dimention X (mm)]]/1000*Tableau1[[#This Row],[Dimention Y (mm)]]/1000","v":0},{"$f":"IFERROR(ROUNDUP(Tableau1[[#This Row],[Surface\npièce (m²)]]/Tableau1[[#This Row],[surface\ntôle (m²)]],4),0)","v":0},{"$f":"IF(Tableau1[[#This Row],[Forcer série Economique ]]>0,Tableau1[[#This Row],[Forcer série Economique ]],Tableau1[[#This Row],[Série Economique proposée]])","v":0},{"$f":"IF(OR(ISERROR((5/Tableau1[[#This Row],[Série \néconomique ]]+Tableau1[[#This Row],[Nb trous]]*0.08*VLOOKUP(Tableau1[[#This Row],[Format\ntôle]],Tôles!B:O,5,FALSE)+ (Tableau1[[#This Row],[Dimention X (mm)]]+Tableau1[[#This Row],[Dimention Y (mm)]]) * 0.001)*Taux_horaire/100),Tableau1[[#This Row],[VCOGS\ntôle]] = \"\"),0,(5/Tableau1[[#This Row],[Série \néconomique ]]+Tableau1[[#This Row],[Nb trous]]*0.08*VLOOKUP(Tableau1[[#This Row],[Format\ntôle]],Tôles!B:O,5,FALSE)+ (Tableau1[[#This Row],[Dimention X (mm)]]+Tableau1[[#This Row],[Dimention Y (mm)]]) * 0.001)*Taux_horaire/100)","v":0},{"$f":"IF(OR(ISERROR((10/Tableau1[[#This Row],[Série \néconomique ]]+Tableau1[[#This Row],[Nb trous]]*0.007 + (Tableau1[[#This Row],[Dimention X (mm)]]+Tableau1[[#This Row],[Dimention Y (mm)]]) * 0.0005)*Taux_horaire/100),Tableau1[[#This Row],[VCOGS\ntôle]]= \"\"),0,(10/Tableau1[[#This Row],[Série \néconomique ]]+Tableau1[[#This Row],[Nb trous]]*0.007 + (Tableau1[[#This Row],[Dimention X (mm)]]+Tableau1[[#This Row],[Dimention Y (mm)]]) * 0.0005)*Taux_horaire/100)","v":0}]
[null,null,null,null,null,null,null,{"$f":"SUBSTITUTE(TRIM(CONCATENATE(Tableau1[[#This Row],[Niveau 0]],\" \",Tableau1[[#This Row],[Niveau 1]],\" \",Tableau1[[#This Row],[Niveau 2]],\" \",Tableau1[[#This Row],[Niveau 3]],\" \",Tableau1[[#This Row],[Niveau 4]],\" \",Tableau1[[#This Row],[Niveau 5]])),\" \",\".\")","v":""},{"$f":"IFERROR(IF(COUNTBLANK(Tableau1[[#This Row],[Niveau 0]:[Niveau 5]])=5,\"0\",LEFT(Tableau1[[#This Row],[Niveau]],(LEN(Tableau1[[#This Row],[Niveau]])-LEN(OFFSET(Tableau1[[#This Row],[Niveau 5]],0,(-COUNTBLANK(Tableau1[[#This Row],[Niveau 0]:[Niveau 5]]))))-1))),\"\")","v":""},null,null,null,null,{"$f":"IF(Tableau1[[#This Row],[Catégorie pièce]]=\" Opérations\",VLOOKUP(Tableau1[[#This Row],[Article produit/\nPoste de charge]],'PDC+emplacement'!A:C,2,FALSE),IF(Tableau1[[#This Row],[Catégorie pièce]]=\" Nouveau\",\"***RENSEIGNER NOM***\",IFERROR(VLOOKUP(CONCATENATE(Tableau1[[#This Row],[Article produit/\nPoste de charge]]),[1]ARTRDCL!$A$1:$U$25000,2,FALSE),\"\")))","v":""},null,null,null,null,null,{"$f":"IF(Tableau1[[#This Row],[Type plan]]=\"SP\",\"SP\",IF(AND(Tableau1[[#This Row],[Catégorie pièce]]=\" Nouveau\",Tableau1[[#This Row],[Type de pièce]]<>\" Panoplie\"),MID(Tableau1[[#This Row],[Article produit/\nPoste de charge]],2,15),IF(AND(Tableau1[[#This Row],[Catégorie pièce]]=\" Nouveau\",Tableau1[[#This Row],[Type de pièce]]=\" Panoplie\"),Tableau1[[#This Row],[Article produit/\nPoste de charge]],\"\")))","v":""},null,null,{"$f":"ROUNDUP((Tableau1[[#This Row],[Qté / an]]/52)*2,0)","v":{"$error":"#VALUE!"}},null,null,{"$f":"IF(AND(Tableau1[[#This Row],[Catégorie pièce]]=\" Opérations\",Tableau1[[#This Row],[Type de pièce]]=\" Temps\"),Taux_horaire/100,IF(AND(Tableau1[[#This Row],[Catégorie pièce]]=\" Nouveau\",Tableau1[[#This Row],[Type de pièce]]=\" Fabriquée\"),BOM!$AO38,IF(OR(AND(Tableau1[[#This Row],[Catégorie pièce]]=\" Nouveau\",Tableau1[[#This Row],[Type de pièce]]=\" Assemblage\"),BOM!$Y38=\" Produit fini\",Tableau1[[#This Row],[Type de pièce]]=\" Opé pièce primaire\",Tableau1[[#This Row],[Type de pièce]]=\" Pièce/Opé Panoplie\"),\"/\",IF(Tableau1[[#This Row],[Catégorie pièce]]=\" Existant\",VLOOKUP(CONCATENATE(Tableau1[[#This Row],[Article produit/\nPoste de charge]]),[1]ARTRDCL!$A$1:$U$65536,15,FALSE),\"\"))))","v":""},{"$f":"IF(OR(Tableau1[[#This Row],[Catégorie pièce]]=\" Opérations\",Tableau1[[#This Row],[Catégorie pièce]]=\" Matière 1ère\",ISBLANK(Tableau1[[#This Row],[Catégorie pièce]])),\"/\",SUMPRODUCT($AY$6:$BB$6,Tableau1[[#This Row],[Modèle A]:[Modèle D]]))","v":"/"},{"$f":"IFERROR(ROUNDDOWN(Tableau1[[#This Row],[surface\ntôle (m²)]]/Tableau1[[#This Row],[Surface\npièce (m²)]],0),0)","v":0},{"$f":"IF(AND(Tableau1[[#This Row],[Catégorie pièce]]=\" Nouveau\",Tableau1[[#This Row],[Type de pièce]]=\" Fabriquée\"),ROUNDUP(Tableau1[[#This Row],[Qté / an]]*2/52,0),0)","v":0},null,null,null,null,null,null,null,null,null,null,null,{"$f":"SUM(Tableau1[[#This Row],[VCOGS\ntôle]:[VCOGS\npliage]])","v":0},{"$f":"IFERROR((VLOOKUP(Tableau1[[#This Row],[Format\ntôle]],Tableau2[],11,FALSE)/Tableau1[[#This Row],[Série \néconomique ]])*Tableau1[[#This Row],[surface\ntôle (m²)]],0)","v":0},{"$f":"IF(Tableau1[[#This Row],[Laser (O/N)]]= \"Oui\",Tableau1[[#This Row],[Coût\ndécoupe laser]],Tableau1[[#This Row],[Coût\npoinçonnage]])","v":0},{"$f":"IF(Tableau1[[#This Row],[Nb plis]]>0, (IF(Tableau1[[#This Row],[Nb plis]]<5,0.25,IF(Tableau1[[#This Row],[Nb plis]]<7,0.33,0.45))/Tableau1[[#This Row],[Série \néconomique ]] +0.004*Tableau1[[#This Row],[Nb plis]])*$N$5,0)","v":0},{"$f":"IFERROR(VLOOKUP(Tableau1[[#This Row],[Format\ntôle]],Tôles!B:P,9,FALSE),0)","v":0},{"$f":"Tableau1[[#This Row],[Dimention X (mm)]]/1000*Tableau1[[#This Row],[Dimention Y (mm)]]/1000","v":0},{"$f":"IFERROR(ROUNDUP(Tableau1[[#This Row],[Surface\npièce (m²)]]/Tableau1[[#This Row],[surface\ntôle (m²)]],4),0)","v":0},{"$f":"IF(Tableau1[[#This Row],[Forcer série Economique ]]>0,Tableau1[[#This Row],[Forcer série Economique ]],Tableau1[[#This Row],[Série Economique proposée]])","v":0},{"$f":"IF(OR(ISERROR((5/Tableau1[[#This Row],[Série \néconomique ]]+Tableau1[[#This Row],[Nb trous]]*0.08*VLOOKUP(Tableau1[[#This Row],[Format\ntôle]],Tôles!B:O,5,FALSE)+ (Tableau1[[#This Row],[Dimention X (mm)]]+Tableau1[[#This Row],[Dimention Y (mm)]]) * 0.001)*Taux_horaire/100),Tableau1[[#This Row],[VCOGS\ntôle]] = \"\"),0,(5/Tableau1[[#This Row],[Série \néconomique ]]+Tableau1[[#This Row],[Nb trous]]*0.08*VLOOKUP(Tableau1[[#This Row],[Format\ntôle]],Tôles!B:O,5,FALSE)+ (Tableau1[[#This Row],[Dimention X (mm)]]+Tableau1[[#This Row],[Dimention Y (mm)]]) * 0.001)*Taux_horaire/100)","v":0},{"$f":"IF(OR(ISERROR((10/Tableau1[[#This Row],[Série \néconomique ]]+Tableau1[[#This Row],[Nb trous]]*0.007 + (Tableau1[[#This Row],[Dimention X (mm)]]+Tableau1[[#This Row],[Dimention Y (mm)]]) * 0.0005)*Taux_horaire/100),Tableau1[[#This Row],[VCOGS\ntôle]]= \"\"),0,(10/Tableau1[[#This Row],[Série \néconomique ]]+Tableau1[[#This Row],[Nb trous]]*0.007 + (Tableau1[[#This Row],[Dimention X (mm)]]+Tableau1[[#This Row],[Dimention Y (mm)]]) * 0.0005)*Taux_horaire/100)","v":0}]
[null,null,null,null,null,null,null,{"$f":"SUBSTITUTE(TRIM(CONCATENATE(Tableau1[[#This Row],[Niveau 0]],\" \",Tableau1[[#This Row],[Niveau 1]],\" \",Tableau1[[#This Row],[Niveau 2]],\" \",Tableau1[[#This Row],[Niveau 3]],\" \",Tableau1[[#This Row],[Niveau 4]],\" \",Tableau1[[#This Row],[Niveau 5]])),\" \",\".\")","v":""},{"$f":"IFERROR(IF(COUNTBLANK(Tableau1[[#This Row],[Niveau 0]:[Niveau 5]])=5,\"0\",LEFT(Tableau1[[#This Row],[Niveau]],(LEN(Tableau1[[#This Row],[Niveau]])-LEN(OFFSET(Tableau1[[#This Row],[Niveau 5]],0,(-COUNTBLANK(Tableau1[[#This Row],[Niveau 0]:[Niveau 5]]))))-1))),\"\")","v":""},null,null,null,null,{"$f":"IF(Tableau1[[#This Row],[Catégorie pièce]]=\" Opérations\",VLOOKUP(Tableau1[[#This Row],[Article produit/\nPoste de charge]],'PDC+emplacement'!A:C,2,FALSE),IF(Tableau1[[#This Row],[Catégorie pièce]]=\" Nouveau\",\"***RENSEIGNER NOM***\",IFERROR(VLOOKUP(CONCATENATE(Tableau1[[#This Row],[Article produit/\nPoste de charge]]),[1]ARTRDCL!$A$1:$U$25000,2,FALSE),\"\")))","v":""},null,null,null,null,null,{"$f":"IF(Tableau1[[#This Row],[Type plan]]=\"SP\",\"SP\",IF(AND(Tableau1[[#This Row],[Catégorie pièce]]=\" Nouveau\",Tableau1[[#This Row],[Type de pièce]]<>\" Panoplie\"),MID(Tableau1[[#This Row],[Article produit/\nPoste de charge]],2,15),IF(AND(Tableau1[[#This Row],[Catégorie pièce]]=\" Nouveau\",Tableau1[[#This Row],[Type de pièce]]=\" Panoplie\"),Tableau1[[#This Row],[Article produit/\nPoste de charge]],\"\")))","v":""},null,null,{"$f":"ROUNDUP((Tableau1[[#This Row],[Qté / an]]/52)*2,0)","v":{"$error":"#VALUE!"}},null,null,{"$f":"IF(AND(Tableau1[[#This Row],[Catégorie pièce]]=\" Opérations\",Tableau1[[#This Row],[Type de pièce]]=\" Temps\"),Taux_horaire/100,IF(AND(Tableau1[[#This Row],[Catégorie pièce]]=\" Nouveau\",Tableau1[[#This Row],[Type de pièce]]=\" Fabriquée\"),BOM!$AO39,IF(OR(AND(Tableau1[[#This Row],[Catégorie pièce]]=\" Nouveau\",Tableau1[[#This Row],[Type de pièce]]=\" Assemblage\"),BOM!$Y39=\" Produit fini\",Tableau1[[#This Row],[Type de pièce]]=\" Opé pièce primaire\",Tableau1[[#This Row],[Type de pièce]]=\" Pièce/Opé Panoplie\"),\"/\",IF(Tableau1[[#This Row],[Catégorie pièce]]=\" Existant\",VLOOKUP(CONCATENATE(Tableau1[[#This Row],[Article produit/\nPoste de charge]]),[1]ARTRDCL!$A$1:$U$65536,15,FALSE),\"\"))))","v":""},{"$f":"IF(OR(Tableau1[[#This Row],[Catégorie pièce]]=\" Opérations\",Tableau1[[#This Row],[Catégorie pièce]]=\" Matière 1ère\",ISBLANK(Tableau1[[#This Row],[Catégorie pièce]])),\"/\",SUMPRODUCT($AY$6:$BB$6,Tableau1[[#This Row],[Modèle A]:[Modèle D]]))","v":"/"},{"$f":"IFERROR(ROUNDDOWN(Tableau1[[#This Row],[surface\ntôle (m²)]]/Tableau1[[#This Row],[Surface\npièce (m²)]],0),0)","v":0},{"$f":"IF(AND(Tableau1[[#This Row],[Catégorie pièce]]=\" Nouveau\",Tableau1[[#This Row],[Type de pièce]]=\" Fabriquée\"),ROUNDUP(Tableau1[[#This Row],[Qté / an]]*2/52,0),0)","v":0},null,null,null,null,null,null,null,null,null,null,null,{"$f":"SUM(Tableau1[[#This Row],[VCOGS\ntôle]:[VCOGS\npliage]])","v":0},{"$f":"IFERROR((VLOOKUP(Tableau1[[#This Row],[Format\ntôle]],Tableau2[],11,FALSE)/Tableau1[[#This Row],[Série \néconomique ]])*Tableau1[[#This Row],[surface\ntôle (m²)]],0)","v":0},{"$f":"IF(Tableau1[[#This Row],[Laser (O/N)]]= \"Oui\",Tableau1[[#This Row],[Coût\ndécoupe laser]],Tableau1[[#This Row],[Coût\npoinçonnage]])","v":0},{"$f":"IF(Tableau1[[#This Row],[Nb plis]]>0, (IF(Tableau1[[#This Row],[Nb plis]]<5,0.25,IF(Tableau1[[#This Row],[Nb plis]]<7,0.33,0.45))/Tableau1[[#This Row],[Série \néconomique ]] +0.004*Tableau1[[#This Row],[Nb plis]])*$N$5,0)","v":0},{"$f":"IFERROR(VLOOKUP(Tableau1[[#This Row],[Format\ntôle]],Tôles!B:P,9,FALSE),0)","v":0},{"$f":"Tableau1[[#This Row],[Dimention X (mm)]]/1000*Tableau1[[#This Row],[Dimention Y (mm)]]/1000","v":0},{"$f":"IFERROR(ROUNDUP(Tableau1[[#This Row],[Surface\npièce (m²)]]/Tableau1[[#This Row],[surface\ntôle (m²)]],4),0)","v":0},{"$f":"IF(Tableau1[[#This Row],[Forcer série Economique ]]>0,Tableau1[[#This Row],[Forcer série Economique ]],Tableau1[[#This Row],[Série Economique proposée]])","v":0},{"$f":"IF(OR(ISERROR((5/Tableau1[[#This Row],[Série \néconomique ]]+Tableau1[[#This Row],[Nb trous]]*0.08*VLOOKUP(Tableau1[[#This Row],[Format\ntôle]],Tôles!B:O,5,FALSE)+ (Tableau1[[#This Row],[Dimention X (mm)]]+Tableau1[[#This Row],[Dimention Y (mm)]]) * 0.001)*Taux_horaire/100),Tableau1[[#This Row],[VCOGS\ntôle]] = \"\"),0,(5/Tableau1[[#This Row],[Série \néconomique ]]+Tableau1[[#This Row],[Nb trous]]*0.08*VLOOKUP(Tableau1[[#This Row],[Format\ntôle]],Tôles!B:O,5,FALSE)+ (Tableau1[[#This Row],[Dimention X (mm)]]+Tableau1[[#This Row],[Dimention Y (mm)]]) * 0.001)*Taux_horaire/100)","v":0},{"$f":"IF(OR(ISERROR((10/Tableau1[[#This Row],[Série \néconomique ]]+Tableau1[[#This Row],[Nb trous]]*0.007 + (Tableau1[[#This Row],[Dimention X (mm)]]+Tableau1[[#This Row],[Dimention Y (mm)]]) * 0.0005)*Taux_horaire/100),Tableau1[[#This Row],[VCOGS\ntôle]]= \"\"),0,(10/Tableau1[[#This Row],[Série \néconomique ]]+Tableau1[[#This Row],[Nb trous]]*0.007 + (Tableau1[[#This Row],[Dimention X (mm)]]+Tableau1[[#This Row],[Dimention Y (mm)]]) * 0.0005)*Taux_horaire/100)","v":0}]
[null,null,null,null,null,null,null,{"$f":"SUBSTITUTE(TRIM(CONCATENATE(Tableau1[[#This Row],[Niveau 0]],\" \",Tableau1[[#This Row],[Niveau 1]],\" \",Tableau1[[#This Row],[Niveau 2]],\" \",Tableau1[[#This Row],[Niveau 3]],\" \",Tableau1[[#This Row],[Niveau 4]],\" \",Tableau1[[#This Row],[Niveau 5]])),\" \",\".\")","v":""},{"$f":"IFERROR(IF(COUNTBLANK(Tableau1[[#This Row],[Niveau 0]:[Niveau 5]])=5,\"0\",LEFT(Tableau1[[#This Row],[Niveau]],(LEN(Tableau1[[#This Row],[Niveau]])-LEN(OFFSET(Tableau1[[#This Row],[Niveau 5]],0,(-COUNTBLANK(Tableau1[[#This Row],[Niveau 0]:[Niveau 5]]))))-1))),\"\")","v":""},null,null,null,null,{"$f":"IF(Tableau1[[#This Row],[Catégorie pièce]]=\" Opérations\",VLOOKUP(Tableau1[[#This Row],[Article produit/\nPoste de charge]],'PDC+emplacement'!A:C,2,FALSE),IF(Tableau1[[#This Row],[Catégorie pièce]]=\" Nouveau\",\"***RENSEIGNER NOM***\",IFERROR(VLOOKUP(CONCATENATE(Tableau1[[#This Row],[Article produit/\nPoste de charge]]),[1]ARTRDCL!$A$1:$U$25000,2,FALSE),\"\")))","v":""},null,null,null,null,null,{"$f":"IF(Tableau1[[#This Row],[Type plan]]=\"SP\",\"SP\",IF(AND(Tableau1[[#This Row],[Catégorie pièce]]=\" Nouveau\",Tableau1[[#This Row],[Type de pièce]]<>\" Panoplie\"),MID(Tableau1[[#This Row],[Article produit/\nPoste de charge]],2,15),IF(AND(Tableau1[[#This Row],[Catégorie pièce]]=\" Nouveau\",Tableau1[[#This Row],[Type de pièce]]=\" Panoplie\"),Tableau1[[#This Row],[Article produit/\nPoste de charge]],\"\")))","v":""},null,null,{"$f":"ROUNDUP((Tableau1[[#This Row],[Qté / an]]/52)*2,0)","v":{"$error":"#VALUE!"}},null,null,{"$f":"IF(AND(Tableau1[[#This Row],[Catégorie pièce]]=\" Opérations\",Tableau1[[#This Row],[Type de pièce]]=\" Temps\"),Taux_horaire/100,IF(AND(Tableau1[[#This Row],[Catégorie pièce]]=\" Nouveau\",Tableau1[[#This Row],[Type de pièce]]=\" Fabriquée\"),BOM!$AO40,IF(OR(AND(Tableau1[[#This Row],[Catégorie pièce]]=\" Nouveau\",Tableau1[[#This Row],[Type de pièce]]=\" Assemblage\"),BOM!$Y40=\" Produit fini\",Tableau1[[#This Row],[Type de pièce]]=\" Opé pièce primaire\",Tableau1[[#This Row],[Type de pièce]]=\" Pièce/Opé Panoplie\"),\"/\",IF(Tableau1[[#This Row],[Catégorie pièce]]=\" Existant\",VLOOKUP(CONCATENATE(Tableau1[[#This Row],[Article produit/\nPoste de charge]]),[1]ARTRDCL!$A$1:$U$65536,15,FALSE),\"\"))))","v":""},{"$f":"IF(OR(Tableau1[[#This Row],[Catégorie pièce]]=\" Opérations\",Tableau1[[#This Row],[Catégorie pièce]]=\" Matière 1ère\",ISBLANK(Tableau1[[#This Row],[Catégorie pièce]])),\"/\",SUMPRODUCT($AY$6:$BB$6,Tableau1[[#This Row],[Modèle A]:[Modèle D]]))","v":"/"},{"$f":"IFERROR(ROUNDDOWN(Tableau1[[#This Row],[surface\ntôle (m²)]]/Tableau1[[#This Row],[Surface\npièce (m²)]],0),0)","v":0},{"$f":"IF(AND(Tableau1[[#This Row],[Catégorie pièce]]=\" Nouveau\",Tableau1[[#This Row],[Type de pièce]]=\" Fabriquée\"),ROUNDUP(Tableau1[[#This Row],[Qté / an]]*2/52,0),0)","v":0},null,null,null,null,null,null,null,null,null,null,null,{"$f":"SUM(Tableau1[[#This Row],[VCOGS\ntôle]:[VCOGS\npliage]])","v":0},{"$f":"IFERROR((VLOOKUP(Tableau1[[#This Row],[Format\ntôle]],Tableau2[],11,FALSE)/Tableau1[[#This Row],[Série \néconomique ]])*Tableau1[[#This Row],[surface\ntôle (m²)]],0)","v":0},{"$f":"IF(Tableau1[[#This Row],[Laser (O/N)]]= \"Oui\",Tableau1[[#This Row],[Coût\ndécoupe laser]],Tableau1[[#This Row],[Coût\npoinçonnage]])","v":0},{"$f":"IF(Tableau1[[#This Row],[Nb plis]]>0, (IF(Tableau1[[#This Row],[Nb plis]]<5,0.25,IF(Tableau1[[#This Row],[Nb plis]]<7,0.33,0.45))/Tableau1[[#This Row],[Série \néconomique ]] +0.004*Tableau1[[#This Row],[Nb plis]])*$N$5,0)","v":0},{"$f":"IFERROR(VLOOKUP(Tableau1[[#This Row],[Format\ntôle]],Tôles!B:P,9,FALSE),0)","v":0},{"$f":"Tableau1[[#This Row],[Dimention X (mm)]]/1000*Tableau1[[#This Row],[Dimention Y (mm)]]/1000","v":0},{"$f":"IFERROR(ROUNDUP(Tableau1[[#This Row],[Surface\npièce (m²)]]/Tableau1[[#This Row],[surface\ntôle (m²)]],4),0)","v":0},{"$f":"IF(Tableau1[[#This Row],[Forcer série Economique ]]>0,Tableau1[[#This Row],[Forcer série Economique ]],Tableau1[[#This Row],[Série Economique proposée]])","v":0},{"$f":"IF(OR(ISERROR((5/Tableau1[[#This Row],[Série \néconomique ]]+Tableau1[[#This Row],[Nb trous]]*0.08*VLOOKUP(Tableau1[[#This Row],[Format\ntôle]],Tôles!B:O,5,FALSE)+ (Tableau1[[#This Row],[Dimention X (mm)]]+Tableau1[[#This Row],[Dimention Y (mm)]]) * 0.001)*Taux_horaire/100),Tableau1[[#This Row],[VCOGS\ntôle]] = \"\"),0,(5/Tableau1[[#This Row],[Série \néconomique ]]+Tableau1[[#This Row],[Nb trous]]*0.08*VLOOKUP(Tableau1[[#This Row],[Format\ntôle]],Tôles!B:O,5,FALSE)+ (Tableau1[[#This Row],[Dimention X (mm)]]+Tableau1[[#This Row],[Dimention Y (mm)]]) * 0.001)*Taux_horaire/100)","v":0},{"$f":"IF(OR(ISERROR((10/Tableau1[[#This Row],[Série \néconomique ]]+Tableau1[[#This Row],[Nb trous]]*0.007 + (Tableau1[[#This Row],[Dimention X (mm)]]+Tableau1[[#This Row],[Dimention Y (mm)]]) * 0.0005)*Taux_horaire/100),Tableau1[[#This Row],[VCOGS\ntôle]]= \"\"),0,(10/Tableau1[[#This Row],[Série \néconomique ]]+Tableau1[[#This Row],[Nb trous]]*0.007 + (Tableau1[[#This Row],[Dimention X (mm)]]+Tableau1[[#This Row],[Dimention Y (mm)]]) * 0.0005)*Taux_horaire/100)","v":0}]
[null,null,null,null,null,null,null,{"$f":"SUBSTITUTE(TRIM(CONCATENATE(Tableau1[[#This Row],[Niveau 0]],\" \",Tableau1[[#This Row],[Niveau 1]],\" \",Tableau1[[#This Row],[Niveau 2]],\" \",Tableau1[[#This Row],[Niveau 3]],\" \",Tableau1[[#This Row],[Niveau 4]],\" \",Tableau1[[#This Row],[Niveau 5]])),\" \",\".\")","v":""},{"$f":"IFERROR(IF(COUNTBLANK(Tableau1[[#This Row],[Niveau 0]:[Niveau 5]])=5,\"0\",LEFT(Tableau1[[#This Row],[Niveau]],(LEN(Tableau1[[#This Row],[Niveau]])-LEN(OFFSET(Tableau1[[#This Row],[Niveau 5]],0,(-COUNTBLANK(Tableau1[[#This Row],[Niveau 0]:[Niveau 5]]))))-1))),\"\")","v":""},null,null,null,null,{"$f":"IF(Tableau1[[#This Row],[Catégorie pièce]]=\" Opérations\",VLOOKUP(Tableau1[[#This Row],[Article produit/\nPoste de charge]],'PDC+emplacement'!A:C,2,FALSE),IF(Tableau1[[#This Row],[Catégorie pièce]]=\" Nouveau\",\"***RENSEIGNER NOM***\",IFERROR(VLOOKUP(CONCATENATE(Tableau1[[#This Row],[Article produit/\nPoste de charge]]),[1]ARTRDCL!$A$1:$U$25000,2,FALSE),\"\")))","v":""},null,null,null,null,null,{"$f":"IF(Tableau1[[#This Row],[Type plan]]=\"SP\",\"SP\",IF(AND(Tableau1[[#This Row],[Catégorie pièce]]=\" Nouveau\",Tableau1[[#This Row],[Type de pièce]]<>\" Panoplie\"),MID(Tableau1[[#This Row],[Article produit/\nPoste de charge]],2,15),IF(AND(Tableau1[[#This Row],[Catégorie pièce]]=\" Nouveau\",Tableau1[[#This Row],[Type de pièce]]=\" Panoplie\"),Tableau1[[#This Row],[Article produit/\nPoste de charge]],\"\")))","v":""},null,null,{"$f":"ROUNDUP((Tableau1[[#This Row],[Qté / an]]/52)*2,0)","v":{"$error":"#VALUE!"}},null,null,{"$f":"IF(AND(Tableau1[[#This Row],[Catégorie pièce]]=\" Opérations\",Tableau1[[#This Row],[Type de pièce]]=\" Temps\"),Taux_horaire/100,IF(AND(Tableau1[[#This Row],[Catégorie pièce]]=\" Nouveau\",Tableau1[[#This Row],[Type de pièce]]=\" Fabriquée\"),BOM!$AO41,IF(OR(AND(Tableau1[[#This Row],[Catégorie pièce]]=\" Nouveau\",Tableau1[[#This Row],[Type de pièce]]=\" Assemblage\"),BOM!$Y41=\" Produit fini\",Tableau1[[#This Row],[Type de pièce]]=\" Opé pièce primaire\",Tableau1[[#This Row],[Type de pièce]]=\" Pièce/Opé Panoplie\"),\"/\",IF(Tableau1[[#This Row],[Catégorie pièce]]=\" Existant\",VLOOKUP(CONCATENATE(Tableau1[[#This Row],[Article produit/\nPoste de charge]]),[1]ARTRDCL!$A$1:$U$65536,15,FALSE),\"\"))))","v":""},{"$f":"IF(OR(Tableau1[[#This Row],[Catégorie pièce]]=\" Opérations\",Tableau1[[#This Row],[Catégorie pièce]]=\" Matière 1ère\",ISBLANK(Tableau1[[#This Row],[Catégorie pièce]])),\"/\",SUMPRODUCT($AY$6:$BB$6,Tableau1[[#This Row],[Modèle A]:[Modèle D]]))","v":"/"},{"$f":"IFERROR(ROUNDDOWN(Tableau1[[#This Row],[surface\ntôle (m²)]]/Tableau1[[#This Row],[Surface\npièce (m²)]],0),0)","v":0},{"$f":"IF(AND(Tableau1[[#This Row],[Catégorie pièce]]=\" Nouveau\",Tableau1[[#This Row],[Type de pièce]]=\" Fabriquée\"),ROUNDUP(Tableau1[[#This Row],[Qté / an]]*2/52,0),0)","v":0},null,null,null,null,null,null,null,null,null,null,null,{"$f":"SUM(Tableau1[[#This Row],[VCOGS\ntôle]:[VCOGS\npliage]])","v":0},{"$f":"IFERROR((VLOOKUP(Tableau1[[#This Row],[Format\ntôle]],Tableau2[],11,FALSE)/Tableau1[[#This Row],[Série \néconomique ]])*Tableau1[[#This Row],[surface\ntôle (m²)]],0)","v":0},{"$f":"IF(Tableau1[[#This Row],[Laser (O/N)]]= \"Oui\",Tableau1[[#This Row],[Coût\ndécoupe laser]],Tableau1[[#This Row],[Coût\npoinçonnage]])","v":0},{"$f":"IF(Tableau1[[#This Row],[Nb plis]]>0, (IF(Tableau1[[#This Row],[Nb plis]]<5,0.25,IF(Tableau1[[#This Row],[Nb plis]]<7,0.33,0.45))/Tableau1[[#This Row],[Série \néconomique ]] +0.004*Tableau1[[#This Row],[Nb plis]])*$N$5,0)","v":0},{"$f":"IFERROR(VLOOKUP(Tableau1[[#This Row],[Format\ntôle]],Tôles!B:P,9,FALSE),0)","v":0},{"$f":"Tableau1[[#This Row],[Dimention X (mm)]]/1000*Tableau1[[#This Row],[Dimention Y (mm)]]/1000","v":0},{"$f":"IFERROR(ROUNDUP(Tableau1[[#This Row],[Surface\npièce (m²)]]/Tableau1[[#This Row],[surface\ntôle (m²)]],4),0)","v":0},{"$f":"IF(Tableau1[[#This Row],[Forcer série Economique ]]>0,Tableau1[[#This Row],[Forcer série Economique ]],Tableau1[[#This Row],[Série Economique proposée]])","v":0},{"$f":"IF(OR(ISERROR((5/Tableau1[[#This Row],[Série \néconomique ]]+Tableau1[[#This Row],[Nb trous]]*0.08*VLOOKUP(Tableau1[[#This Row],[Format\ntôle]],Tôles!B:O,5,FALSE)+ (Tableau1[[#This Row],[Dimention X (mm)]]+Tableau1[[#This Row],[Dimention Y (mm)]]) * 0.001)*Taux_horaire/100),Tableau1[[#This Row],[VCOGS\ntôle]] = \"\"),0,(5/Tableau1[[#This Row],[Série \néconomique ]]+Tableau1[[#This Row],[Nb trous]]*0.08*VLOOKUP(Tableau1[[#This Row],[Format\ntôle]],Tôles!B:O,5,FALSE)+ (Tableau1[[#This Row],[Dimention X (mm)]]+Tableau1[[#This Row],[Dimention Y (mm)]]) * 0.001)*Taux_horaire/100)","v":0},{"$f":"IF(OR(ISERROR((10/Tableau1[[#This Row],[Série \néconomique ]]+Tableau1[[#This Row],[Nb trous]]*0.007 + (Tableau1[[#This Row],[Dimention X (mm)]]+Tableau1[[#This Row],[Dimention Y (mm)]]) * 0.0005)*Taux_horaire/100),Tableau1[[#This Row],[VCOGS\ntôle]]= \"\"),0,(10/Tableau1[[#This Row],[Série \néconomique ]]+Tableau1[[#This Row],[Nb trous]]*0.007 + (Tableau1[[#This Row],[Dimention X (mm)]]+Tableau1[[#This Row],[Dimention Y (mm)]]) * 0.0005)*Taux_horaire/100)","v":0}]
[null,null,null,null,null,null,null,{"$f":"SUBSTITUTE(TRIM(CONCATENATE(Tableau1[[#This Row],[Niveau 0]],\" \",Tableau1[[#This Row],[Niveau 1]],\" \",Tableau1[[#This Row],[Niveau 2]],\" \",Tableau1[[#This Row],[Niveau 3]],\" \",Tableau1[[#This Row],[Niveau 4]],\" \",Tableau1[[#This Row],[Niveau 5]])),\" \",\".\")","v":""},{"$f":"IFERROR(IF(COUNTBLANK(Tableau1[[#This Row],[Niveau 0]:[Niveau 5]])=5,\"0\",LEFT(Tableau1[[#This Row],[Niveau]],(LEN(Tableau1[[#This Row],[Niveau]])-LEN(OFFSET(Tableau1[[#This Row],[Niveau 5]],0,(-COUNTBLANK(Tableau1[[#This Row],[Niveau 0]:[Niveau 5]]))))-1))),\"\")","v":""},null,null,null,null,{"$f":"IF(Tableau1[[#This Row],[Catégorie pièce]]=\" Opérations\",VLOOKUP(Tableau1[[#This Row],[Article produit/\nPoste de charge]],'PDC+emplacement'!A:C,2,FALSE),IF(Tableau1[[#This Row],[Catégorie pièce]]=\" Nouveau\",\"***RENSEIGNER NOM***\",IFERROR(VLOOKUP(CONCATENATE(Tableau1[[#This Row],[Article produit/\nPoste de charge]]),[1]ARTRDCL!$A$1:$U$25000,2,FALSE),\"\")))","v":""},null,null,null,null,null,{"$f":"IF(Tableau1[[#This Row],[Type plan]]=\"SP\",\"SP\",IF(AND(Tableau1[[#This Row],[Catégorie pièce]]=\" Nouveau\",Tableau1[[#This Row],[Type de pièce]]<>\" Panoplie\"),MID(Tableau1[[#This Row],[Article produit/\nPoste de charge]],2,15),IF(AND(Tableau1[[#This Row],[Catégorie pièce]]=\" Nouveau\",Tableau1[[#This Row],[Type de pièce]]=\" Panoplie\"),Tableau1[[#This Row],[Article produit/\nPoste de charge]],\"\")))","v":""},null,null,{"$f":"ROUNDUP((Tableau1[[#This Row],[Qté / an]]/52)*2,0)","v":{"$error":"#VALUE!"}},null,null,{"$f":"IF(AND(Tableau1[[#This Row],[Catégorie pièce]]=\" Opérations\",Tableau1[[#This Row],[Type de pièce]]=\" Temps\"),Taux_horaire/100,IF(AND(Tableau1[[#This Row],[Catégorie pièce]]=\" Nouveau\",Tableau1[[#This Row],[Type de pièce]]=\" Fabriquée\"),BOM!$AO42,IF(OR(AND(Tableau1[[#This Row],[Catégorie pièce]]=\" Nouveau\",Tableau1[[#This Row],[Type de pièce]]=\" Assemblage\"),BOM!$Y42=\" Produit fini\",Tableau1[[#This Row],[Type de pièce]]=\" Opé pièce primaire\",Tableau1[[#This Row],[Type de pièce]]=\" Pièce/Opé Panoplie\"),\"/\",IF(Tableau1[[#This Row],[Catégorie pièce]]=\" Existant\",VLOOKUP(CONCATENATE(Tableau1[[#This Row],[Article produit/\nPoste de charge]]),[1]ARTRDCL!$A$1:$U$65536,15,FALSE),\"\"))))","v":""},{"$f":"IF(OR(Tableau1[[#This Row],[Catégorie pièce]]=\" Opérations\",Tableau1[[#This Row],[Catégorie pièce]]=\" Matière 1ère\",ISBLANK(Tableau1[[#This Row],[Catégorie pièce]])),\"/\",SUMPRODUCT($AY$6:$BB$6,Tableau1[[#This Row],[Modèle A]:[Modèle D]]))","v":"/"},{"$f":"IFERROR(ROUNDDOWN(Tableau1[[#This Row],[surface\ntôle (m²)]]/Tableau1[[#This Row],[Surface\npièce (m²)]],0),0)","v":0},{"$f":"IF(AND(Tableau1[[#This Row],[Catégorie pièce]]=\" Nouveau\",Tableau1[[#This Row],[Type de pièce]]=\" Fabriquée\"),ROUNDUP(Tableau1[[#This Row],[Qté / an]]*2/52,0),0)","v":0},null,null,null,null,null,null,null,null,null,null,null,{"$f":"SUM(Tableau1[[#This Row],[VCOGS\ntôle]:[VCOGS\npliage]])","v":0},{"$f":"IFERROR((VLOOKUP(Tableau1[[#This Row],[Format\ntôle]],Tableau2[],11,FALSE)/Tableau1[[#This Row],[Série \néconomique ]])*Tableau1[[#This Row],[surface\ntôle (m²)]],0)","v":0},{"$f":"IF(Tableau1[[#This Row],[Laser (O/N)]]= \"Oui\",Tableau1[[#This Row],[Coût\ndécoupe laser]],Tableau1[[#This Row],[Coût\npoinçonnage]])","v":0},{"$f":"IF(Tableau1[[#This Row],[Nb plis]]>0, (IF(Tableau1[[#This Row],[Nb plis]]<5,0.25,IF(Tableau1[[#This Row],[Nb plis]]<7,0.33,0.45))/Tableau1[[#This Row],[Série \néconomique ]] +0.004*Tableau1[[#This Row],[Nb plis]])*$N$5,0)","v":0},{"$f":"IFERROR(VLOOKUP(Tableau1[[#This Row],[Format\ntôle]],Tôles!B:P,9,FALSE),0)","v":0},{"$f":"Tableau1[[#This Row],[Dimention X (mm)]]/1000*Tableau1[[#This Row],[Dimention Y (mm)]]/1000","v":0},{"$f":"IFERROR(ROUNDUP(Tableau1[[#This Row],[Surface\npièce (m²)]]/Tableau1[[#This Row],[surface\ntôle (m²)]],4),0)","v":0},{"$f":"IF(Tableau1[[#This Row],[Forcer série Economique ]]>0,Tableau1[[#This Row],[Forcer série Economique ]],Tableau1[[#This Row],[Série Economique proposée]])","v":0},{"$f":"IF(OR(ISERROR((5/Tableau1[[#This Row],[Série \néconomique ]]+Tableau1[[#This Row],[Nb trous]]*0.08*VLOOKUP(Tableau1[[#This Row],[Format\ntôle]],Tôles!B:O,5,FALSE)+ (Tableau1[[#This Row],[Dimention X (mm)]]+Tableau1[[#This Row],[Dimention Y (mm)]]) * 0.001)*Taux_horaire/100),Tableau1[[#This Row],[VCOGS\ntôle]] = \"\"),0,(5/Tableau1[[#This Row],[Série \néconomique ]]+Tableau1[[#This Row],[Nb trous]]*0.08*VLOOKUP(Tableau1[[#This Row],[Format\ntôle]],Tôles!B:O,5,FALSE)+ (Tableau1[[#This Row],[Dimention X (mm)]]+Tableau1[[#This Row],[Dimention Y (mm)]]) * 0.001)*Taux_horaire/100)","v":0},{"$f":"IF(OR(ISERROR((10/Tableau1[[#This Row],[Série \néconomique ]]+Tableau1[[#This Row],[Nb trous]]*0.007 + (Tableau1[[#This Row],[Dimention X (mm)]]+Tableau1[[#This Row],[Dimention Y (mm)]]) * 0.0005)*Taux_horaire/100),Tableau1[[#This Row],[VCOGS\ntôle]]= \"\"),0,(10/Tableau1[[#This Row],[Série \néconomique ]]+Tableau1[[#This Row],[Nb trous]]*0.007 + (Tableau1[[#This Row],[Dimention X (mm)]]+Tableau1[[#This Row],[Dimention Y (mm)]]) * 0.0005)*Taux_horaire/100)","v":0}]
[null,null,null,null,null,null,null,{"$f":"SUBSTITUTE(TRIM(CONCATENATE(Tableau1[[#This Row],[Niveau 0]],\" \",Tableau1[[#This Row],[Niveau 1]],\" \",Tableau1[[#This Row],[Niveau 2]],\" \",Tableau1[[#This Row],[Niveau 3]],\" \",Tableau1[[#This Row],[Niveau 4]],\" \",Tableau1[[#This Row],[Niveau 5]])),\" \",\".\")","v":""},{"$f":"IFERROR(IF(COUNTBLANK(Tableau1[[#This Row],[Niveau 0]:[Niveau 5]])=5,\"0\",LEFT(Tableau1[[#This Row],[Niveau]],(LEN(Tableau1[[#This Row],[Niveau]])-LEN(OFFSET(Tableau1[[#This Row],[Niveau 5]],0,(-COUNTBLANK(Tableau1[[#This Row],[Niveau 0]:[Niveau 5]]))))-1))),\"\")","v":""},null,null,null,null,{"$f":"IF(Tableau1[[#This Row],[Catégorie pièce]]=\" Opérations\",VLOOKUP(Tableau1[[#This Row],[Article produit/\nPoste de charge]],'PDC+emplacement'!A:C,2,FALSE),IF(Tableau1[[#This Row],[Catégorie pièce]]=\" Nouveau\",\"***RENSEIGNER NOM***\",IFERROR(VLOOKUP(CONCATENATE(Tableau1[[#This Row],[Article produit/\nPoste de charge]]),[1]ARTRDCL!$A$1:$U$25000,2,FALSE),\"\")))","v":""},null,null,null,null,null,{"$f":"IF(Tableau1[[#This Row],[Type plan]]=\"SP\",\"SP\",IF(AND(Tableau1[[#This Row],[Catégorie pièce]]=\" Nouveau\",Tableau1[[#This Row],[Type de pièce]]<>\" Panoplie\"),MID(Tableau1[[#This Row],[Article produit/\nPoste de charge]],2,15),IF(AND(Tableau1[[#This Row],[Catégorie pièce]]=\" Nouveau\",Tableau1[[#This Row],[Type de pièce]]=\" Panoplie\"),Tableau1[[#This Row],[Article produit/\nPoste de charge]],\"\")))","v":""},null,null,{"$f":"ROUNDUP((Tableau1[[#This Row],[Qté / an]]/52)*2,0)","v":{"$error":"#VALUE!"}},null,null,{"$f":"IF(AND(Tableau1[[#This Row],[Catégorie pièce]]=\" Opérations\",Tableau1[[#This Row],[Type de pièce]]=\" Temps\"),Taux_horaire/100,IF(AND(Tableau1[[#This Row],[Catégorie pièce]]=\" Nouveau\",Tableau1[[#This Row],[Type de pièce]]=\" Fabriquée\"),BOM!$AO43,IF(OR(AND(Tableau1[[#This Row],[Catégorie pièce]]=\" Nouveau\",Tableau1[[#This Row],[Type de pièce]]=\" Assemblage\"),BOM!$Y43=\" Produit fini\",Tableau1[[#This Row],[Type de pièce]]=\" Opé pièce primaire\",Tableau1[[#This Row],[Type de pièce]]=\" Pièce/Opé Panoplie\"),\"/\",IF(Tableau1[[#This Row],[Catégorie pièce]]=\" Existant\",VLOOKUP(CONCATENATE(Tableau1[[#This Row],[Article produit/\nPoste de charge]]),[1]ARTRDCL!$A$1:$U$65536,15,FALSE),\"\"))))","v":""},{"$f":"IF(OR(Tableau1[[#This Row],[Catégorie pièce]]=\" Opérations\",Tableau1[[#This Row],[Catégorie pièce]]=\" Matière 1ère\",ISBLANK(Tableau1[[#This Row],[Catégorie pièce]])),\"/\",SUMPRODUCT($AY$6:$BB$6,Tableau1[[#This Row],[Modèle A]:[Modèle D]]))","v":"/"},{"$f":"IFERROR(ROUNDDOWN(Tableau1[[#This Row],[surface\ntôle (m²)]]/Tableau1[[#This Row],[Surface\npièce (m²)]],0),0)","v":0},{"$f":"IF(AND(Tableau1[[#This Row],[Catégorie pièce]]=\" Nouveau\",Tableau1[[#This Row],[Type de pièce]]=\" Fabriquée\"),ROUNDUP(Tableau1[[#This Row],[Qté / an]]*2/52,0),0)","v":0},null,null,null,null,null,null,null,null,null,null,null,{"$f":"SUM(Tableau1[[#This Row],[VCOGS\ntôle]:[VCOGS\npliage]])","v":0},{"$f":"IFERROR((VLOOKUP(Tableau1[[#This Row],[Format\ntôle]],Tableau2[],11,FALSE)/Tableau1[[#This Row],[Série \néconomique ]])*Tableau1[[#This Row],[surface\ntôle (m²)]],0)","v":0},{"$f":"IF(Tableau1[[#This Row],[Laser (O/N)]]= \"Oui\",Tableau1[[#This Row],[Coût\ndécoupe laser]],Tableau1[[#This Row],[Coût\npoinçonnage]])","v":0},{"$f":"IF(Tableau1[[#This Row],[Nb plis]]>0, (IF(Tableau1[[#This Row],[Nb plis]]<5,0.25,IF(Tableau1[[#This Row],[Nb plis]]<7,0.33,0.45))/Tableau1[[#This Row],[Série \néconomique ]] +0.004*Tableau1[[#This Row],[Nb plis]])*$N$5,0)","v":0},{"$f":"IFERROR(VLOOKUP(Tableau1[[#This Row],[Format\ntôle]],Tôles!B:P,9,FALSE),0)","v":0},{"$f":"Tableau1[[#This Row],[Dimention X (mm)]]/1000*Tableau1[[#This Row],[Dimention Y (mm)]]/1000","v":0},{"$f":"IFERROR(ROUNDUP(Tableau1[[#This Row],[Surface\npièce (m²)]]/Tableau1[[#This Row],[surface\ntôle (m²)]],4),0)","v":0},{"$f":"IF(Tableau1[[#This Row],[Forcer série Economique ]]>0,Tableau1[[#This Row],[Forcer série Economique ]],Tableau1[[#This Row],[Série Economique proposée]])","v":0},{"$f":"IF(OR(ISERROR((5/Tableau1[[#This Row],[Série \néconomique ]]+Tableau1[[#This Row],[Nb trous]]*0.08*VLOOKUP(Tableau1[[#This Row],[Format\ntôle]],Tôles!B:O,5,FALSE)+ (Tableau1[[#This Row],[Dimention X (mm)]]+Tableau1[[#This Row],[Dimention Y (mm)]]) * 0.001)*Taux_horaire/100),Tableau1[[#This Row],[VCOGS\ntôle]] = \"\"),0,(5/Tableau1[[#This Row],[Série \néconomique ]]+Tableau1[[#This Row],[Nb trous]]*0.08*VLOOKUP(Tableau1[[#This Row],[Format\ntôle]],Tôles!B:O,5,FALSE)+ (Tableau1[[#This Row],[Dimention X (mm)]]+Tableau1[[#This Row],[Dimention Y (mm)]]) * 0.001)*Taux_horaire/100)","v":0},{"$f":"IF(OR(ISERROR((10/Tableau1[[#This Row],[Série \néconomique ]]+Tableau1[[#This Row],[Nb trous]]*0.007 + (Tableau1[[#This Row],[Dimention X (mm)]]+Tableau1[[#This Row],[Dimention Y (mm)]]) * 0.0005)*Taux_horaire/100),Tableau1[[#This Row],[VCOGS\ntôle]]= \"\"),0,(10/Tableau1[[#This Row],[Série \néconomique ]]+Tableau1[[#This Row],[Nb trous]]*0.007 + (Tableau1[[#This Row],[Dimention X (mm)]]+Tableau1[[#This Row],[Dimention Y (mm)]]) * 0.0005)*Taux_horaire/100)","v":0}]
[null,null,null,null,null,null,null,{"$f":"SUBSTITUTE(TRIM(CONCATENATE(Tableau1[[#This Row],[Niveau 0]],\" \",Tableau1[[#This Row],[Niveau 1]],\" \",Tableau1[[#This Row],[Niveau 2]],\" \",Tableau1[[#This Row],[Niveau 3]],\" \",Tableau1[[#This Row],[Niveau 4]],\" \",Tableau1[[#This Row],[Niveau 5]])),\" \",\".\")","v":""},{"$f":"IFERROR(IF(COUNTBLANK(Tableau1[[#This Row],[Niveau 0]:[Niveau 5]])=5,\"0\",LEFT(Tableau1[[#This Row],[Niveau]],(LEN(Tableau1[[#This Row],[Niveau]])-LEN(OFFSET(Tableau1[[#This Row],[Niveau 5]],0,(-COUNTBLANK(Tableau1[[#This Row],[Niveau 0]:[Niveau 5]]))))-1))),\"\")","v":""},null,null,null,null,{"$f":"IF(Tableau1[[#This Row],[Catégorie pièce]]=\" Opérations\",VLOOKUP(Tableau1[[#This Row],[Article produit/\nPoste de charge]],'PDC+emplacement'!A:C,2,FALSE),IF(Tableau1[[#This Row],[Catégorie pièce]]=\" Nouveau\",\"***RENSEIGNER NOM***\",IFERROR(VLOOKUP(CONCATENATE(Tableau1[[#This Row],[Article produit/\nPoste de charge]]),[1]ARTRDCL!$A$1:$U$25000,2,FALSE),\"\")))","v":""},null,null,null,null,null,{"$f":"IF(Tableau1[[#This Row],[Type plan]]=\"SP\",\"SP\",IF(AND(Tableau1[[#This Row],[Catégorie pièce]]=\" Nouveau\",Tableau1[[#This Row],[Type de pièce]]<>\" Panoplie\"),MID(Tableau1[[#This Row],[Article produit/\nPoste de charge]],2,15),IF(AND(Tableau1[[#This Row],[Catégorie pièce]]=\" Nouveau\",Tableau1[[#This Row],[Type de pièce]]=\" Panoplie\"),Tableau1[[#This Row],[Article produit/\nPoste de charge]],\"\")))","v":""},null,null,{"$f":"ROUNDUP((Tableau1[[#This Row],[Qté / an]]/52)*2,0)","v":{"$error":"#VALUE!"}},null,null,{"$f":"IF(AND(Tableau1[[#This Row],[Catégorie pièce]]=\" Opérations\",Tableau1[[#This Row],[Type de pièce]]=\" Temps\"),Taux_horaire/100,IF(AND(Tableau1[[#This Row],[Catégorie pièce]]=\" Nouveau\",Tableau1[[#This Row],[Type de pièce]]=\" Fabriquée\"),BOM!$AO44,IF(OR(AND(Tableau1[[#This Row],[Catégorie pièce]]=\" Nouveau\",Tableau1[[#This Row],[Type de pièce]]=\" Assemblage\"),BOM!$Y44=\" Produit fini\",Tableau1[[#This Row],[Type de pièce]]=\" Opé pièce primaire\",Tableau1[[#This Row],[Type de pièce]]=\" Pièce/Opé Panoplie\"),\"/\",IF(Tableau1[[#This Row],[Catégorie pièce]]=\" Existant\",VLOOKUP(CONCATENATE(Tableau1[[#This Row],[Article produit/\nPoste de charge]]),[1]ARTRDCL!$A$1:$U$65536,15,FALSE),\"\"))))","v":""},{"$f":"IF(OR(Tableau1[[#This Row],[Catégorie pièce]]=\" Opérations\",Tableau1[[#This Row],[Catégorie pièce]]=\" Matière 1ère\",ISBLANK(Tableau1[[#This Row],[Catégorie pièce]])),\"/\",SUMPRODUCT($AY$6:$BB$6,Tableau1[[#This Row],[Modèle A]:[Modèle D]]))","v":"/"},{"$f":"IFERROR(ROUNDDOWN(Tableau1[[#This Row],[surface\ntôle (m²)]]/Tableau1[[#This Row],[Surface\npièce (m²)]],0),0)","v":0},{"$f":"IF(AND(Tableau1[[#This Row],[Catégorie pièce]]=\" Nouveau\",Tableau1[[#This Row],[Type de pièce]]=\" Fabriquée\"),ROUNDUP(Tableau1[[#This Row],[Qté / an]]*2/52,0),0)","v":0},null,null,null,null,null,null,null,null,null,null,null,{"$f":"SUM(Tableau1[[#This Row],[VCOGS\ntôle]:[VCOGS\npliage]])","v":0},{"$f":"IFERROR((VLOOKUP(Tableau1[[#This Row],[Format\ntôle]],Tableau2[],11,FALSE)/Tableau1[[#This Row],[Série \néconomique ]])*Tableau1[[#This Row],[surface\ntôle (m²)]],0)","v":0},{"$f":"IF(Tableau1[[#This Row],[Laser (O/N)]]= \"Oui\",Tableau1[[#This Row],[Coût\ndécoupe laser]],Tableau1[[#This Row],[Coût\npoinçonnage]])","v":0},{"$f":"IF(Tableau1[[#This Row],[Nb plis]]>0, (IF(Tableau1[[#This Row],[Nb plis]]<5,0.25,IF(Tableau1[[#This Row],[Nb plis]]<7,0.33,0.45))/Tableau1[[#This Row],[Série \néconomique ]] +0.004*Tableau1[[#This Row],[Nb plis]])*$N$5,0)","v":0},{"$f":"IFERROR(VLOOKUP(Tableau1[[#This Row],[Format\ntôle]],Tôles!B:P,9,FALSE),0)","v":0},{"$f":"Tableau1[[#This Row],[Dimention X (mm)]]/1000*Tableau1[[#This Row],[Dimention Y (mm)]]/1000","v":0},{"$f":"IFERROR(ROUNDUP(Tableau1[[#This Row],[Surface\npièce (m²)]]/Tableau1[[#This Row],[surface\ntôle (m²)]],4),0)","v":0},{"$f":"IF(Tableau1[[#This Row],[Forcer série Economique ]]>0,Tableau1[[#This Row],[Forcer série Economique ]],Tableau1[[#This Row],[Série Economique proposée]])","v":0},{"$f":"IF(OR(ISERROR((5/Tableau1[[#This Row],[Série \néconomique ]]+Tableau1[[#This Row],[Nb trous]]*0.08*VLOOKUP(Tableau1[[#This Row],[Format\ntôle]],Tôles!B:O,5,FALSE)+ (Tableau1[[#This Row],[Dimention X (mm)]]+Tableau1[[#This Row],[Dimention Y (mm)]]) * 0.001)*Taux_horaire/100),Tableau1[[#This Row],[VCOGS\ntôle]] = \"\"),0,(5/Tableau1[[#This Row],[Série \néconomique ]]+Tableau1[[#This Row],[Nb trous]]*0.08*VLOOKUP(Tableau1[[#This Row],[Format\ntôle]],Tôles!B:O,5,FALSE)+ (Tableau1[[#This Row],[Dimention X (mm)]]+Tableau1[[#This Row],[Dimention Y (mm)]]) * 0.001)*Taux_horaire/100)","v":0},{"$f":"IF(OR(ISERROR((10/Tableau1[[#This Row],[Série \néconomique ]]+Tableau1[[#This Row],[Nb trous]]*0.007 + (Tableau1[[#This Row],[Dimention X (mm)]]+Tableau1[[#This Row],[Dimention Y (mm)]]) * 0.0005)*Taux_horaire/100),Tableau1[[#This Row],[VCOGS\ntôle]]= \"\"),0,(10/Tableau1[[#This Row],[Série \néconomique ]]+Tableau1[[#This Row],[Nb trous]]*0.007 + (Tableau1[[#This Row],[Dimention X (mm)]]+Tableau1[[#This Row],[Dimention Y (mm)]]) * 0.0005)*Taux_horaire/100)","v":0}]
[null,null,null,null,null,null,null,{"$f":"SUBSTITUTE(TRIM(CONCATENATE(Tableau1[[#This Row],[Niveau 0]],\" \",Tableau1[[#This Row],[Niveau 1]],\" \",Tableau1[[#This Row],[Niveau 2]],\" \",Tableau1[[#This Row],[Niveau 3]],\" \",Tableau1[[#This Row],[Niveau 4]],\" \",Tableau1[[#This Row],[Niveau 5]])),\" \",\".\")","v":""},{"$f":"IFERROR(IF(COUNTBLANK(Tableau1[[#This Row],[Niveau 0]:[Niveau 5]])=5,\"0\",LEFT(Tableau1[[#This Row],[Niveau]],(LEN(Tableau1[[#This Row],[Niveau]])-LEN(OFFSET(Tableau1[[#This Row],[Niveau 5]],0,(-COUNTBLANK(Tableau1[[#This Row],[Niveau 0]:[Niveau 5]]))))-1))),\"\")","v":""},null,null,null,null,{"$f":"IF(Tableau1[[#This Row],[Catégorie pièce]]=\" Opérations\",VLOOKUP(Tableau1[[#This Row],[Article produit/\nPoste de charge]],'PDC+emplacement'!A:C,2,FALSE),IF(Tableau1[[#This Row],[Catégorie pièce]]=\" Nouveau\",\"***RENSEIGNER NOM***\",IFERROR(VLOOKUP(CONCATENATE(Tableau1[[#This Row],[Article produit/\nPoste de charge]]),[1]ARTRDCL!$A$1:$U$25000,2,FALSE),\"\")))","v":""},null,null,null,null,null,{"$f":"IF(Tableau1[[#This Row],[Type plan]]=\"SP\",\"SP\",IF(AND(Tableau1[[#This Row],[Catégorie pièce]]=\" Nouveau\",Tableau1[[#This Row],[Type de pièce]]<>\" Panoplie\"),MID(Tableau1[[#This Row],[Article produit/\nPoste de charge]],2,15),IF(AND(Tableau1[[#This Row],[Catégorie pièce]]=\" Nouveau\",Tableau1[[#This Row],[Type de pièce]]=\" Panoplie\"),Tableau1[[#This Row],[Article produit/\nPoste de charge]],\"\")))","v":""},null,null,{"$f":"ROUNDUP((Tableau1[[#This Row],[Qté / an]]/52)*2,0)","v":{"$error":"#VALUE!"}},null,null,{"$f":"IF(AND(Tableau1[[#This Row],[Catégorie pièce]]=\" Opérations\",Tableau1[[#This Row],[Type de pièce]]=\" Temps\"),Taux_horaire/100,IF(AND(Tableau1[[#This Row],[Catégorie pièce]]=\" Nouveau\",Tableau1[[#This Row],[Type de pièce]]=\" Fabriquée\"),BOM!$AO45,IF(OR(AND(Tableau1[[#This Row],[Catégorie pièce]]=\" Nouveau\",Tableau1[[#This Row],[Type de pièce]]=\" Assemblage\"),BOM!$Y45=\" Produit fini\",Tableau1[[#This Row],[Type de pièce]]=\" Opé pièce primaire\",Tableau1[[#This Row],[Type de pièce]]=\" Pièce/Opé Panoplie\"),\"/\",IF(Tableau1[[#This Row],[Catégorie pièce]]=\" Existant\",VLOOKUP(CONCATENATE(Tableau1[[#This Row],[Article produit/\nPoste de charge]]),[1]ARTRDCL!$A$1:$U$65536,15,FALSE),\"\"))))","v":""},{"$f":"IF(OR(Tableau1[[#This Row],[Catégorie pièce]]=\" Opérations\",Tableau1[[#This Row],[Catégorie pièce]]=\" Matière 1ère\",ISBLANK(Tableau1[[#This Row],[Catégorie pièce]])),\"/\",SUMPRODUCT($AY$6:$BB$6,Tableau1[[#This Row],[Modèle A]:[Modèle D]]))","v":"/"},{"$f":"IFERROR(ROUNDDOWN(Tableau1[[#This Row],[surface\ntôle (m²)]]/Tableau1[[#This Row],[Surface\npièce (m²)]],0),0)","v":0},{"$f":"IF(AND(Tableau1[[#This Row],[Catégorie pièce]]=\" Nouveau\",Tableau1[[#This Row],[Type de pièce]]=\" Fabriquée\"),ROUNDUP(Tableau1[[#This Row],[Qté / an]]*2/52,0),0)","v":0},null,null,null,null,null,null,null,null,null,null,null,{"$f":"SUM(Tableau1[[#This Row],[VCOGS\ntôle]:[VCOGS\npliage]])","v":0},{"$f":"IFERROR((VLOOKUP(Tableau1[[#This Row],[Format\ntôle]],Tableau2[],11,FALSE)/Tableau1[[#This Row],[Série \néconomique ]])*Tableau1[[#This Row],[surface\ntôle (m²)]],0)","v":0},{"$f":"IF(Tableau1[[#This Row],[Laser (O/N)]]= \"Oui\",Tableau1[[#This Row],[Coût\ndécoupe laser]],Tableau1[[#This Row],[Coût\npoinçonnage]])","v":0},{"$f":"IF(Tableau1[[#This Row],[Nb plis]]>0, (IF(Tableau1[[#This Row],[Nb plis]]<5,0.25,IF(Tableau1[[#This Row],[Nb plis]]<7,0.33,0.45))/Tableau1[[#This Row],[Série \néconomique ]] +0.004*Tableau1[[#This Row],[Nb plis]])*$N$5,0)","v":0},{"$f":"IFERROR(VLOOKUP(Tableau1[[#This Row],[Format\ntôle]],Tôles!B:P,9,FALSE),0)","v":0},{"$f":"Tableau1[[#This Row],[Dimention X (mm)]]/1000*Tableau1[[#This Row],[Dimention Y (mm)]]/1000","v":0},{"$f":"IFERROR(ROUNDUP(Tableau1[[#This Row],[Surface\npièce (m²)]]/Tableau1[[#This Row],[surface\ntôle (m²)]],4),0)","v":0},{"$f":"IF(Tableau1[[#This Row],[Forcer série Economique ]]>0,Tableau1[[#This Row],[Forcer série Economique ]],Tableau1[[#This Row],[Série Economique proposée]])","v":0},{"$f":"IF(OR(ISERROR((5/Tableau1[[#This Row],[Série \néconomique ]]+Tableau1[[#This Row],[Nb trous]]*0.08*VLOOKUP(Tableau1[[#This Row],[Format\ntôle]],Tôles!B:O,5,FALSE)+ (Tableau1[[#This Row],[Dimention X (mm)]]+Tableau1[[#This Row],[Dimention Y (mm)]]) * 0.001)*Taux_horaire/100),Tableau1[[#This Row],[VCOGS\ntôle]] = \"\"),0,(5/Tableau1[[#This Row],[Série \néconomique ]]+Tableau1[[#This Row],[Nb trous]]*0.08*VLOOKUP(Tableau1[[#This Row],[Format\ntôle]],Tôles!B:O,5,FALSE)+ (Tableau1[[#This Row],[Dimention X (mm)]]+Tableau1[[#This Row],[Dimention Y (mm)]]) * 0.001)*Taux_horaire/100)","v":0},{"$f":"IF(OR(ISERROR((10/Tableau1[[#This Row],[Série \néconomique ]]+Tableau1[[#This Row],[Nb trous]]*0.007 + (Tableau1[[#This Row],[Dimention X (mm)]]+Tableau1[[#This Row],[Dimention Y (mm)]]) * 0.0005)*Taux_horaire/100),Tableau1[[#This Row],[VCOGS\ntôle]]= \"\"),0,(10/Tableau1[[#This Row],[Série \néconomique ]]+Tableau1[[#This Row],[Nb trous]]*0.007 + (Tableau1[[#This Row],[Dimention X (mm)]]+Tableau1[[#This Row],[Dimention Y (mm)]]) * 0.0005)*Taux_horaire/100)","v":0}]
["PORTE",null,null,null,null,null,null,{"$f":"SUBSTITUTE(TRIM(CONCATENATE(Tableau1[[#This Row],[Niveau 0]],\" \",Tableau1[[#This Row],[Niveau 1]],\" \",Tableau1[[#This Row],[Niveau 2]],\" \",Tableau1[[#This Row],[Niveau 3]],\" \",Tableau1[[#This Row],[Niveau 4]],\" \",Tableau1[[#This Row],[Niveau 5]])),\" \",\".\")","v":""},{"$f":"IFERROR(IF(COUNTBLANK(Tableau1[[#This Row],[Niveau 0]:[Niveau 5]])=5,\"0\",LEFT(Tableau1[[#This Row],[Niveau]],(LEN(Tableau1[[#This Row],[Niveau]])-LEN(OFFSET(Tableau1[[#This Row],[Niveau 5]],0,(-COUNTBLANK(Tableau1[[#This Row],[Niveau 0]:[Niveau 5]]))))-1))),\"\")","v":""},null,null,null,null,{"$f":"IF(Tableau1[[#This Row],[Catégorie pièce]]=\" Opérations\",VLOOKUP(Tableau1[[#This Row],[Article produit/\nPoste de charge]],'PDC+emplacement'!A:C,2,FALSE),IF(Tableau1[[#This Row],[Catégorie pièce]]=\" Nouveau\",\"***RENSEIGNER NOM***\",IFERROR(VLOOKUP(CONCATENATE(Tableau1[[#This Row],[Article produit/\nPoste de charge]]),[1]ARTRDCL!$A$1:$U$25000,2,FALSE),\"\")))","v":""},null,null,null,null,null,{"$f":"IF(Tableau1[[#This Row],[Type plan]]=\"SP\",\"SP\",IF(AND(Tableau1[[#This Row],[Catégorie pièce]]=\" Nouveau\",Tableau1[[#This Row],[Type de pièce]]<>\" Panoplie\"),MID(Tableau1[[#This Row],[Article produit/\nPoste de charge]],2,15),IF(AND(Tableau1[[#This Row],[Catégorie pièce]]=\" Nouveau\",Tableau1[[#This Row],[Type de pièce]]=\" Panoplie\"),Tableau1[[#This Row],[Article produit/\nPoste de charge]],\"\")))","v":""},null,null,{"$f":"ROUNDUP((Tableau1[[#This Row],[Qté / an]]/52)*2,0)","v":{"$error":"#VALUE!"}},null,null,{"$f":"IF(AND(Tableau1[[#This Row],[Catégorie pièce]]=\" Opérations\",Tableau1[[#This Row],[Type de pièce]]=\" Temps\"),Taux_horaire/100,IF(AND(Tableau1[[#This Row],[Catégorie pièce]]=\" Nouveau\",Tableau1[[#This Row],[Type de pièce]]=\" Fabriquée\"),BOM!$AO46,IF(OR(AND(Tableau1[[#This Row],[Catégorie pièce]]=\" Nouveau\",Tableau1[[#This Row],[Type de pièce]]=\" Assemblage\"),BOM!$Y46=\" Produit fini\",Tableau1[[#This Row],[Type de pièce]]=\" Opé pièce primaire\",Tableau1[[#This Row],[Type de pièce]]=\" Pièce/Opé Panoplie\"),\"/\",IF(Tableau1[[#This Row],[Catégorie pièce]]=\" Existant\",VLOOKUP(CONCATENATE(Tableau1[[#This Row],[Article produit/\nPoste de charge]]),[1]ARTRDCL!$A$1:$U$65536,15,FALSE),\"\"))))","v":""},{"$f":"IF(OR(Tableau1[[#This Row],[Catégorie pièce]]=\" Opérations\",Tableau1[[#This Row],[Catégorie pièce]]=\" Matière 1ère\",ISBLANK(Tableau1[[#This Row],[Catégorie pièce]])),\"/\",SUMPRODUCT($AY$6:$BB$6,Tableau1[[#This Row],[Modèle A]:[Modèle D]]))","v":"/"},{"$f":"IFERROR(ROUNDDOWN(Tableau1[[#This Row],[surface\ntôle (m²)]]/Tableau1[[#This Row],[Surface\npièce (m²)]],0),0)","v":0},{"$f":"IF(AND(Tableau1[[#This Row],[Catégorie pièce]]=\" Nouveau\",Tableau1[[#This Row],[Type de pièce]]=\" Fabriquée\"),ROUNDUP(Tableau1[[#This Row],[Qté / an]]*2/52,0),0)","v":0},null,null,null,null,null,null,null,null,null,null,null,{"$f":"SUM(Tableau1[[#This Row],[VCOGS\ntôle]:[VCOGS\npliage]])","v":0},{"$f":"IFERROR((VLOOKUP(Tableau1[[#This Row],[Format\ntôle]],Tableau2[],11,FALSE)/Tableau1[[#This Row],[Série \néconomique ]])*Tableau1[[#This Row],[surface\ntôle (m²)]],0)","v":0},{"$f":"IF(Tableau1[[#This Row],[Laser (O/N)]]= \"Oui\",Tableau1[[#This Row],[Coût\ndécoupe laser]],Tableau1[[#This Row],[Coût\npoinçonnage]])","v":0},{"$f":"IF(Tableau1[[#This Row],[Nb plis]]>0, (IF(Tableau1[[#This Row],[Nb plis]]<5,0.25,IF(Tableau1[[#This Row],[Nb plis]]<7,0.33,0.45))/Tableau1[[#This Row],[Série \néconomique ]] +0.004*Tableau1[[#This Row],[Nb plis]])*$N$5,0)","v":0},{"$f":"IFERROR(VLOOKUP(Tableau1[[#This Row],[Format\ntôle]],Tôles!B:P,9,FALSE),0)","v":0},{"$f":"Tableau1[[#This Row],[Dimention X (mm)]]/1000*Tableau1[[#This Row],[Dimention Y (mm)]]/1000","v":0},{"$f":"IFERROR(ROUNDUP(Tableau1[[#This Row],[Surface\npièce (m²)]]/Tableau1[[#This Row],[surface\ntôle (m²)]],4),0)","v":0},{"$f":"IF(Tableau1[[#This Row],[Forcer série Economique ]]>0,Tableau1[[#This Row],[Forcer série Economique ]],Tableau1[[#This Row],[Série Economique proposée]])","v":0},{"$f":"IF(OR(ISERROR((5/Tableau1[[#This Row],[Série \néconomique ]]+Tableau1[[#This Row],[Nb trous]]*0.08*VLOOKUP(Tableau1[[#This Row],[Format\ntôle]],Tôles!B:O,5,FALSE)+ (Tableau1[[#This Row],[Dimention X (mm)]]+Tableau1[[#This Row],[Dimention Y (mm)]]) * 0.001)*Taux_horaire/100),Tableau1[[#This Row],[VCOGS\ntôle]] = \"\"),0,(5/Tableau1[[#This Row],[Série \néconomique ]]+Tableau1[[#This Row],[Nb trous]]*0.08*VLOOKUP(Tableau1[[#This Row],[Format\ntôle]],Tôles!B:O,5,FALSE)+ (Tableau1[[#This Row],[Dimention X (mm)]]+Tableau1[[#This Row],[Dimention Y (mm)]]) * 0.001)*Taux_horaire/100)","v":0},{"$f":"IF(OR(ISERROR((10/Tableau1[[#This Row],[Série \néconomique ]]+Tableau1[[#This Row],[Nb trous]]*0.007 + (Tableau1[[#This Row],[Dimention X (mm)]]+Tableau1[[#This Row],[Dimention Y (mm)]]) * 0.0005)*Taux_horaire/100),Tableau1[[#This Row],[VCOGS\ntôle]]= \"\"),0,(10/Tableau1[[#This Row],[Série \néconomique ]]+Tableau1[[#This Row],[Nb trous]]*0.007 + (Tableau1[[#This Row],[Dimention X (mm)]]+Tableau1[[#This Row],[Dimention Y (mm)]]) * 0.0005)*Taux_horaire/100)","v":0}]
[null,null,null,null,null,null,null,{"$f":"SUBSTITUTE(TRIM(CONCATENATE(Tableau1[[#This Row],[Niveau 0]],\" \",Tableau1[[#This Row],[Niveau 1]],\" \",Tableau1[[#This Row],[Niveau 2]],\" \",Tableau1[[#This Row],[Niveau 3]],\" \",Tableau1[[#This Row],[Niveau 4]],\" \",Tableau1[[#This Row],[Niveau 5]])),\" \",\".\")","v":""},{"$f":"IFERROR(IF(COUNTBLANK(Tableau1[[#This Row],[Niveau 0]:[Niveau 5]])=5,\"0\",LEFT(Tableau1[[#This Row],[Niveau]],(LEN(Tableau1[[#This Row],[Niveau]])-LEN(OFFSET(Tableau1[[#This Row],[Niveau 5]],0,(-COUNTBLANK(Tableau1[[#This Row],[Niveau 0]:[Niveau 5]]))))-1))),\"\")","v":""},null,null,null,null,{"$f":"IF(Tableau1[[#This Row],[Catégorie pièce]]=\" Opérations\",VLOOKUP(Tableau1[[#This Row],[Article produit/\nPoste de charge]],'PDC+emplacement'!A:C,2,FALSE),IF(Tableau1[[#This Row],[Catégorie pièce]]=\" Nouveau\",\"***RENSEIGNER NOM***\",IFERROR(VLOOKUP(CONCATENATE(Tableau1[[#This Row],[Article produit/\nPoste de charge]]),[1]ARTRDCL!$A$1:$U$25000,2,FALSE),\"\")))","v":""},null,null,null,null,null,{"$f":"IF(Tableau1[[#This Row],[Type plan]]=\"SP\",\"SP\",IF(AND(Tableau1[[#This Row],[Catégorie pièce]]=\" Nouveau\",Tableau1[[#This Row],[Type de pièce]]<>\" Panoplie\"),MID(Tableau1[[#This Row],[Article produit/\nPoste de charge]],2,15),IF(AND(Tableau1[[#This Row],[Catégorie pièce]]=\" Nouveau\",Tableau1[[#This Row],[Type de pièce]]=\" Panoplie\"),Tableau1[[#This Row],[Article produit/\nPoste de charge]],\"\")))","v":""},null,null,{"$f":"ROUNDUP((Tableau1[[#This Row],[Qté / an]]/52)*2,0)","v":{"$error":"#VALUE!"}},null,null,{"$f":"IF(AND(Tableau1[[#This Row],[Catégorie pièce]]=\" Opérations\",Tableau1[[#This Row],[Type de pièce]]=\" Temps\"),Taux_horaire/100,IF(AND(Tableau1[[#This Row],[Catégorie pièce]]=\" Nouveau\",Tableau1[[#This Row],[Type de pièce]]=\" Fabriquée\"),BOM!$AO47,IF(OR(AND(Tableau1[[#This Row],[Catégorie pièce]]=\" Nouveau\",Tableau1[[#This Row],[Type de pièce]]=\" Assemblage\"),BOM!$Y47=\" Produit fini\",Tableau1[[#This Row],[Type de pièce]]=\" Opé pièce primaire\",Tableau1[[#This Row],[Type de pièce]]=\" Pièce/Opé Panoplie\"),\"/\",IF(Tableau1[[#This Row],[Catégorie pièce]]=\" Existant\",VLOOKUP(CONCATENATE(Tableau1[[#This Row],[Article produit/\nPoste de charge]]),[1]ARTRDCL!$A$1:$U$65536,15,FALSE),\"\"))))","v":""},{"$f":"IF(OR(Tableau1[[#This Row],[Catégorie pièce]]=\" Opérations\",Tableau1[[#This Row],[Catégorie pièce]]=\" Matière 1ère\",ISBLANK(Tableau1[[#This Row],[Catégorie pièce]])),\"/\",SUMPRODUCT($AY$6:$BB$6,Tableau1[[#This Row],[Modèle A]:[Modèle D]]))","v":"/"},{"$f":"IFERROR(ROUNDDOWN(Tableau1[[#This Row],[surface\ntôle (m²)]]/Tableau1[[#This Row],[Surface\npièce (m²)]],0),0)","v":0},{"$f":"IF(AND(Tableau1[[#This Row],[Catégorie pièce]]=\" Nouveau\",Tableau1[[#This Row],[Type de pièce]]=\" Fabriquée\"),ROUNDUP(Tableau1[[#This Row],[Qté / an]]*2/52,0),0)","v":0},null,null,null,null,null,null,null,null,null,null,null,{"$f":"SUM(Tableau1[[#This Row],[VCOGS\ntôle]:[VCOGS\npliage]])","v":0},{"$f":"IFERROR((VLOOKUP(Tableau1[[#This Row],[Format\ntôle]],Tableau2[],11,FALSE)/Tableau1[[#This Row],[Série \néconomique ]])*Tableau1[[#This Row],[surface\ntôle (m²)]],0)","v":0},{"$f":"IF(Tableau1[[#This Row],[Laser (O/N)]]= \"Oui\",Tableau1[[#This Row],[Coût\ndécoupe laser]],Tableau1[[#This Row],[Coût\npoinçonnage]])","v":0},{"$f":"IF(Tableau1[[#This Row],[Nb plis]]>0, (IF(Tableau1[[#This Row],[Nb plis]]<5,0.25,IF(Tableau1[[#This Row],[Nb plis]]<7,0.33,0.45))/Tableau1[[#This Row],[Série \néconomique ]] +0.004*Tableau1[[#This Row],[Nb plis]])*$N$5,0)","v":0},{"$f":"IFERROR(VLOOKUP(Tableau1[[#This Row],[Format\ntôle]],Tôles!B:P,9,FALSE),0)","v":0},{"$f":"Tableau1[[#This Row],[Dimention X (mm)]]/1000*Tableau1[[#This Row],[Dimention Y (mm)]]/1000","v":0},{"$f":"IFERROR(ROUNDUP(Tableau1[[#This Row],[Surface\npièce (m²)]]/Tableau1[[#This Row],[surface\ntôle (m²)]],4),0)","v":0},{"$f":"IF(Tableau1[[#This Row],[Forcer série Economique ]]>0,Tableau1[[#This Row],[Forcer série Economique ]],Tableau1[[#This Row],[Série Economique proposée]])","v":0},{"$f":"IF(OR(ISERROR((5/Tableau1[[#This Row],[Série \néconomique ]]+Tableau1[[#This Row],[Nb trous]]*0.08*VLOOKUP(Tableau1[[#This Row],[Format\ntôle]],Tôles!B:O,5,FALSE)+ (Tableau1[[#This Row],[Dimention X (mm)]]+Tableau1[[#This Row],[Dimention Y (mm)]]) * 0.001)*Taux_horaire/100),Tableau1[[#This Row],[VCOGS\ntôle]] = \"\"),0,(5/Tableau1[[#This Row],[Série \néconomique ]]+Tableau1[[#This Row],[Nb trous]]*0.08*VLOOKUP(Tableau1[[#This Row],[Format\ntôle]],Tôles!B:O,5,FALSE)+ (Tableau1[[#This Row],[Dimention X (mm)]]+Tableau1[[#This Row],[Dimention Y (mm)]]) * 0.001)*Taux_horaire/100)","v":0},{"$f":"IF(OR(ISERROR((10/Tableau1[[#This Row],[Série \néconomique ]]+Tableau1[[#This Row],[Nb trous]]*0.007 + (Tableau1[[#This Row],[Dimention X (mm)]]+Tableau1[[#This Row],[Dimention Y (mm)]]) * 0.0005)*Taux_horaire/100),Tableau1[[#This Row],[VCOGS\ntôle]]= \"\"),0,(10/Tableau1[[#This Row],[Série \néconomique ]]+Tableau1[[#This Row],[Nb trous]]*0.007 + (Tableau1[[#This Row],[Dimention X (mm)]]+Tableau1[[#This Row],[Dimention Y (mm)]]) * 0.0005)*Taux_horaire/100)","v":0}]
[null,null,null,null,null,null,null,{"$f":"SUBSTITUTE(TRIM(CONCATENATE(Tableau1[[#This Row],[Niveau 0]],\" \",Tableau1[[#This Row],[Niveau 1]],\" \",Tableau1[[#This Row],[Niveau 2]],\" \",Tableau1[[#This Row],[Niveau 3]],\" \",Tableau1[[#This Row],[Niveau 4]],\" \",Tableau1[[#This Row],[Niveau 5]])),\" \",\".\")","v":""},{"$f":"IFERROR(IF(COUNTBLANK(Tableau1[[#This Row],[Niveau 0]:[Niveau 5]])=5,\"0\",LEFT(Tableau1[[#This Row],[Niveau]],(LEN(Tableau1[[#This Row],[Niveau]])-LEN(OFFSET(Tableau1[[#This Row],[Niveau 5]],0,(-COUNTBLANK(Tableau1[[#This Row],[Niveau 0]:[Niveau 5]]))))-1))),\"\")","v":""},null,null,null,null,{"$f":"IF(Tableau1[[#This Row],[Catégorie pièce]]=\" Opérations\",VLOOKUP(Tableau1[[#This Row],[Article produit/\nPoste de charge]],'PDC+emplacement'!A:C,2,FALSE),IF(Tableau1[[#This Row],[Catégorie pièce]]=\" Nouveau\",\"***RENSEIGNER NOM***\",IFERROR(VLOOKUP(CONCATENATE(Tableau1[[#This Row],[Article produit/\nPoste de charge]]),[1]ARTRDCL!$A$1:$U$25000,2,FALSE),\"\")))","v":""},null,null,null,null,null,{"$f":"IF(Tableau1[[#This Row],[Type plan]]=\"SP\",\"SP\",IF(AND(Tableau1[[#This Row],[Catégorie pièce]]=\" Nouveau\",Tableau1[[#This Row],[Type de pièce]]<>\" Panoplie\"),MID(Tableau1[[#This Row],[Article produit/\nPoste de charge]],2,15),IF(AND(Tableau1[[#This Row],[Catégorie pièce]]=\" Nouveau\",Tableau1[[#This Row],[Type de pièce]]=\" Panoplie\"),Tableau1[[#This Row],[Article produit/\nPoste de charge]],\"\")))","v":""},null,null,{"$f":"ROUNDUP((Tableau1[[#This Row],[Qté / an]]/52)*2,0)","v":{"$error":"#VALUE!"}},null,null,{"$f":"IF(AND(Tableau1[[#This Row],[Catégorie pièce]]=\" Opérations\",Tableau1[[#This Row],[Type de pièce]]=\" Temps\"),Taux_horaire/100,IF(AND(Tableau1[[#This Row],[Catégorie pièce]]=\" Nouveau\",Tableau1[[#This Row],[Type de pièce]]=\" Fabriquée\"),BOM!$AO48,IF(OR(AND(Tableau1[[#This Row],[Catégorie pièce]]=\" Nouveau\",Tableau1[[#This Row],[Type de pièce]]=\" Assemblage\"),BOM!$Y48=\" Produit fini\",Tableau1[[#This Row],[Type de pièce]]=\" Opé pièce primaire\",Tableau1[[#This Row],[Type de pièce]]=\" Pièce/Opé Panoplie\"),\"/\",IF(Tableau1[[#This Row],[Catégorie pièce]]=\" Existant\",VLOOKUP(CONCATENATE(Tableau1[[#This Row],[Article produit/\nPoste de charge]]),[1]ARTRDCL!$A$1:$U$65536,15,FALSE),\"\"))))","v":""},{"$f":"IF(OR(Tableau1[[#This Row],[Catégorie pièce]]=\" Opérations\",Tableau1[[#This Row],[Catégorie pièce]]=\" Matière 1ère\",ISBLANK(Tableau1[[#This Row],[Catégorie pièce]])),\"/\",SUMPRODUCT($AY$6:$BB$6,Tableau1[[#This Row],[Modèle A]:[Modèle D]]))","v":"/"},{"$f":"IFERROR(ROUNDDOWN(Tableau1[[#This Row],[surface\ntôle (m²)]]/Tableau1[[#This Row],[Surface\npièce (m²)]],0),0)","v":0},{"$f":"IF(AND(Tableau1[[#This Row],[Catégorie pièce]]=\" Nouveau\",Tableau1[[#This Row],[Type de pièce]]=\" Fabriquée\"),ROUNDUP(Tableau1[[#This Row],[Qté / an]]*2/52,0),0)","v":0},null,null,null,null,null,null,null,null,null,null,null,{"$f":"SUM(Tableau1[[#This Row],[VCOGS\ntôle]:[VCOGS\npliage]])","v":0},{"$f":"IFERROR((VLOOKUP(Tableau1[[#This Row],[Format\ntôle]],Tableau2[],11,FALSE)/Tableau1[[#This Row],[Série \néconomique ]])*Tableau1[[#This Row],[surface\ntôle (m²)]],0)","v":0},{"$f":"IF(Tableau1[[#This Row],[Laser (O/N)]]= \"Oui\",Tableau1[[#This Row],[Coût\ndécoupe laser]],Tableau1[[#This Row],[Coût\npoinçonnage]])","v":0},{"$f":"IF(Tableau1[[#This Row],[Nb plis]]>0, (IF(Tableau1[[#This Row],[Nb plis]]<5,0.25,IF(Tableau1[[#This Row],[Nb plis]]<7,0.33,0.45))/Tableau1[[#This Row],[Série \néconomique ]] +0.004*Tableau1[[#This Row],[Nb plis]])*$N$5,0)","v":0},{"$f":"IFERROR(VLOOKUP(Tableau1[[#This Row],[Format\ntôle]],Tôles!B:P,9,FALSE),0)","v":0},{"$f":"Tableau1[[#This Row],[Dimention X (mm)]]/1000*Tableau1[[#This Row],[Dimention Y (mm)]]/1000","v":0},{"$f":"IFERROR(ROUNDUP(Tableau1[[#This Row],[Surface\npièce (m²)]]/Tableau1[[#This Row],[surface\ntôle (m²)]],4),0)","v":0},{"$f":"IF(Tableau1[[#This Row],[Forcer série Economique ]]>0,Tableau1[[#This Row],[Forcer série Economique ]],Tableau1[[#This Row],[Série Economique proposée]])","v":0},{"$f":"IF(OR(ISERROR((5/Tableau1[[#This Row],[Série \néconomique ]]+Tableau1[[#This Row],[Nb trous]]*0.08*VLOOKUP(Tableau1[[#This Row],[Format\ntôle]],Tôles!B:O,5,FALSE)+ (Tableau1[[#This Row],[Dimention X (mm)]]+Tableau1[[#This Row],[Dimention Y (mm)]]) * 0.001)*Taux_horaire/100),Tableau1[[#This Row],[VCOGS\ntôle]] = \"\"),0,(5/Tableau1[[#This Row],[Série \néconomique ]]+Tableau1[[#This Row],[Nb trous]]*0.08*VLOOKUP(Tableau1[[#This Row],[Format\ntôle]],Tôles!B:O,5,FALSE)+ (Tableau1[[#This Row],[Dimention X (mm)]]+Tableau1[[#This Row],[Dimention Y (mm)]]) * 0.001)*Taux_horaire/100)","v":0},{"$f":"IF(OR(ISERROR((10/Tableau1[[#This Row],[Série \néconomique ]]+Tableau1[[#This Row],[Nb trous]]*0.007 + (Tableau1[[#This Row],[Dimention X (mm)]]+Tableau1[[#This Row],[Dimention Y (mm)]]) * 0.0005)*Taux_horaire/100),Tableau1[[#This Row],[VCOGS\ntôle]]= \"\"),0,(10/Tableau1[[#This Row],[Série \néconomique ]]+Tableau1[[#This Row],[Nb trous]]*0.007 + (Tableau1[[#This Row],[Dimention X (mm)]]+Tableau1[[#This Row],[Dimention Y (mm)]]) * 0.0005)*Taux_horaire/100)","v":0}]
[null,null,null,null,null,null,null,{"$f":"SUBSTITUTE(TRIM(CONCATENATE(Tableau1[[#This Row],[Niveau 0]],\" \",Tableau1[[#This Row],[Niveau 1]],\" \",Tableau1[[#This Row],[Niveau 2]],\" \",Tableau1[[#This Row],[Niveau 3]],\" \",Tableau1[[#This Row],[Niveau 4]],\" \",Tableau1[[#This Row],[Niveau 5]])),\" \",\".\")","v":""},{"$f":"IFERROR(IF(COUNTBLANK(Tableau1[[#This Row],[Niveau 0]:[Niveau 5]])=5,\"0\",LEFT(Tableau1[[#This Row],[Niveau]],(LEN(Tableau1[[#This Row],[Niveau]])-LEN(OFFSET(Tableau1[[#This Row],[Niveau 5]],0,(-COUNTBLANK(Tableau1[[#This Row],[Niveau 0]:[Niveau 5]]))))-1))),\"\")","v":""},null,null,null,null,{"$f":"IF(Tableau1[[#This Row],[Catégorie pièce]]=\" Opérations\",VLOOKUP(Tableau1[[#This Row],[Article produit/\nPoste de charge]],'PDC+emplacement'!A:C,2,FALSE),IF(Tableau1[[#This Row],[Catégorie pièce]]=\" Nouveau\",\"***RENSEIGNER NOM***\",IFERROR(VLOOKUP(CONCATENATE(Tableau1[[#This Row],[Article produit/\nPoste de charge]]),[1]ARTRDCL!$A$1:$U$25000,2,FALSE),\"\")))","v":""},null,null,null,null,null,{"$f":"IF(Tableau1[[#This Row],[Type plan]]=\"SP\",\"SP\",IF(AND(Tableau1[[#This Row],[Catégorie pièce]]=\" Nouveau\",Tableau1[[#This Row],[Type de pièce]]<>\" Panoplie\"),MID(Tableau1[[#This Row],[Article produit/\nPoste de charge]],2,15),IF(AND(Tableau1[[#This Row],[Catégorie pièce]]=\" Nouveau\",Tableau1[[#This Row],[Type de pièce]]=\" Panoplie\"),Tableau1[[#This Row],[Article produit/\nPoste de charge]],\"\")))","v":""},null,null,{"$f":"ROUNDUP((Tableau1[[#This Row],[Qté / an]]/52)*2,0)","v":{"$error":"#VALUE!"}},null,null,{"$f":"IF(AND(Tableau1[[#This Row],[Catégorie pièce]]=\" Opérations\",Tableau1[[#This Row],[Type de pièce]]=\" Temps\"),Taux_horaire/100,IF(AND(Tableau1[[#This Row],[Catégorie pièce]]=\" Nouveau\",Tableau1[[#This Row],[Type de pièce]]=\" Fabriquée\"),BOM!$AO49,IF(OR(AND(Tableau1[[#This Row],[Catégorie pièce]]=\" Nouveau\",Tableau1[[#This Row],[Type de pièce]]=\" Assemblage\"),BOM!$Y49=\" Produit fini\",Tableau1[[#This Row],[Type de pièce]]=\" Opé pièce primaire\",Tableau1[[#This Row],[Type de pièce]]=\" Pièce/Opé Panoplie\"),\"/\",IF(Tableau1[[#This Row],[Catégorie pièce]]=\" Existant\",VLOOKUP(CONCATENATE(Tableau1[[#This Row],[Article produit/\nPoste de charge]]),[1]ARTRDCL!$A$1:$U$65536,15,FALSE),\"\"))))","v":""},{"$f":"IF(OR(Tableau1[[#This Row],[Catégorie pièce]]=\" Opérations\",Tableau1[[#This Row],[Catégorie pièce]]=\" Matière 1ère\",ISBLANK(Tableau1[[#This Row],[Catégorie pièce]])),\"/\",SUMPRODUCT($AY$6:$BB$6,Tableau1[[#This Row],[Modèle A]:[Modèle D]]))","v":"/"},{"$f":"IFERROR(ROUNDDOWN(Tableau1[[#This Row],[surface\ntôle (m²)]]/Tableau1[[#This Row],[Surface\npièce (m²)]],0),0)","v":0},{"$f":"IF(AND(Tableau1[[#This Row],[Catégorie pièce]]=\" Nouveau\",Tableau1[[#This Row],[Type de pièce]]=\" Fabriquée\"),ROUNDUP(Tableau1[[#This Row],[Qté / an]]*2/52,0),0)","v":0},null,null,null,null,null,null,null,null,null,null,null,{"$f":"SUM(Tableau1[[#This Row],[VCOGS\ntôle]:[VCOGS\npliage]])","v":0},{"$f":"IFERROR((VLOOKUP(Tableau1[[#This Row],[Format\ntôle]],Tableau2[],11,FALSE)/Tableau1[[#This Row],[Série \néconomique ]])*Tableau1[[#This Row],[surface\ntôle (m²)]],0)","v":0},{"$f":"IF(Tableau1[[#This Row],[Laser (O/N)]]= \"Oui\",Tableau1[[#This Row],[Coût\ndécoupe laser]],Tableau1[[#This Row],[Coût\npoinçonnage]])","v":0},{"$f":"IF(Tableau1[[#This Row],[Nb plis]]>0, (IF(Tableau1[[#This Row],[Nb plis]]<5,0.25,IF(Tableau1[[#This Row],[Nb plis]]<7,0.33,0.45))/Tableau1[[#This Row],[Série \néconomique ]] +0.004*Tableau1[[#This Row],[Nb plis]])*$N$5,0)","v":0},{"$f":"IFERROR(VLOOKUP(Tableau1[[#This Row],[Format\ntôle]],Tôles!B:P,9,FALSE),0)","v":0},{"$f":"Tableau1[[#This Row],[Dimention X (mm)]]/1000*Tableau1[[#This Row],[Dimention Y (mm)]]/1000","v":0},{"$f":"IFERROR(ROUNDUP(Tableau1[[#This Row],[Surface\npièce (m²)]]/Tableau1[[#This Row],[surface\ntôle (m²)]],4),0)","v":0},{"$f":"IF(Tableau1[[#This Row],[Forcer série Economique ]]>0,Tableau1[[#This Row],[Forcer série Economique ]],Tableau1[[#This Row],[Série Economique proposée]])","v":0},{"$f":"IF(OR(ISERROR((5/Tableau1[[#This Row],[Série \néconomique ]]+Tableau1[[#This Row],[Nb trous]]*0.08*VLOOKUP(Tableau1[[#This Row],[Format\ntôle]],Tôles!B:O,5,FALSE)+ (Tableau1[[#This Row],[Dimention X (mm)]]+Tableau1[[#This Row],[Dimention Y (mm)]]) * 0.001)*Taux_horaire/100),Tableau1[[#This Row],[VCOGS\ntôle]] = \"\"),0,(5/Tableau1[[#This Row],[Série \néconomique ]]+Tableau1[[#This Row],[Nb trous]]*0.08*VLOOKUP(Tableau1[[#This Row],[Format\ntôle]],Tôles!B:O,5,FALSE)+ (Tableau1[[#This Row],[Dimention X (mm)]]+Tableau1[[#This Row],[Dimention Y (mm)]]) * 0.001)*Taux_horaire/100)","v":0},{"$f":"IF(OR(ISERROR((10/Tableau1[[#This Row],[Série \néconomique ]]+Tableau1[[#This Row],[Nb trous]]*0.007 + (Tableau1[[#This Row],[Dimention X (mm)]]+Tableau1[[#This Row],[Dimention Y (mm)]]) * 0.0005)*Taux_horaire/100),Tableau1[[#This Row],[VCOGS\ntôle]]= \"\"),0,(10/Tableau1[[#This Row],[Série \néconomique ]]+Tableau1[[#This Row],[Nb trous]]*0.007 + (Tableau1[[#This Row],[Dimention X (mm)]]+Tableau1[[#This Row],[Dimention Y (mm)]]) * 0.0005)*Taux_horaire/100)","v":0}]
[null,null,null,null,null,null,null,{"$f":"SUBSTITUTE(TRIM(CONCATENATE(Tableau1[[#This Row],[Niveau 0]],\" \",Tableau1[[#This Row],[Niveau 1]],\" \",Tableau1[[#This Row],[Niveau 2]],\" \",Tableau1[[#This Row],[Niveau 3]],\" \",Tableau1[[#This Row],[Niveau 4]],\" \",Tableau1[[#This Row],[Niveau 5]])),\" \",\".\")","v":""},{"$f":"IFERROR(IF(COUNTBLANK(Tableau1[[#This Row],[Niveau 0]:[Niveau 5]])=5,\"0\",LEFT(Tableau1[[#This Row],[Niveau]],(LEN(Tableau1[[#This Row],[Niveau]])-LEN(OFFSET(Tableau1[[#This Row],[Niveau 5]],0,(-COUNTBLANK(Tableau1[[#This Row],[Niveau 0]:[Niveau 5]]))))-1))),\"\")","v":""},null,null,null,null,{"$f":"IF(Tableau1[[#This Row],[Catégorie pièce]]=\" Opérations\",VLOOKUP(Tableau1[[#This Row],[Article produit/\nPoste de charge]],'PDC+emplacement'!A:C,2,FALSE),IF(Tableau1[[#This Row],[Catégorie pièce]]=\" Nouveau\",\"***RENSEIGNER NOM***\",IFERROR(VLOOKUP(CONCATENATE(Tableau1[[#This Row],[Article produit/\nPoste de charge]]),[1]ARTRDCL!$A$1:$U$25000,2,FALSE),\"\")))","v":""},null,null,null,null,null,{"$f":"IF(Tableau1[[#This Row],[Type plan]]=\"SP\",\"SP\",IF(AND(Tableau1[[#This Row],[Catégorie pièce]]=\" Nouveau\",Tableau1[[#This Row],[Type de pièce]]<>\" Panoplie\"),MID(Tableau1[[#This Row],[Article produit/\nPoste de charge]],2,15),IF(AND(Tableau1[[#This Row],[Catégorie pièce]]=\" Nouveau\",Tableau1[[#This Row],[Type de pièce]]=\" Panoplie\"),Tableau1[[#This Row],[Article produit/\nPoste de charge]],\"\")))","v":""},null,null,{"$f":"ROUNDUP((Tableau1[[#This Row],[Qté / an]]/52)*2,0)","v":{"$error":"#VALUE!"}},null,null,{"$f":"IF(AND(Tableau1[[#This Row],[Catégorie pièce]]=\" Opérations\",Tableau1[[#This Row],[Type de pièce]]=\" Temps\"),Taux_horaire/100,IF(AND(Tableau1[[#This Row],[Catégorie pièce]]=\" Nouveau\",Tableau1[[#This Row],[Type de pièce]]=\" Fabriquée\"),BOM!$AO50,IF(OR(AND(Tableau1[[#This Row],[Catégorie pièce]]=\" Nouveau\",Tableau1[[#This Row],[Type de pièce]]=\" Assemblage\"),BOM!$Y50=\" Produit fini\",Tableau1[[#This Row],[Type de pièce]]=\" Opé pièce primaire\",Tableau1[[#This Row],[Type de pièce]]=\" Pièce/Opé Panoplie\"),\"/\",IF(Tableau1[[#This Row],[Catégorie pièce]]=\" Existant\",VLOOKUP(CONCATENATE(Tableau1[[#This Row],[Article produit/\nPoste de charge]]),[1]ARTRDCL!$A$1:$U$65536,15,FALSE),\"\"))))","v":""},{"$f":"IF(OR(Tableau1[[#This Row],[Catégorie pièce]]=\" Opérations\",Tableau1[[#This Row],[Catégorie pièce]]=\" Matière 1ère\",ISBLANK(Tableau1[[#This Row],[Catégorie pièce]])),\"/\",SUMPRODUCT($AY$6:$BB$6,Tableau1[[#This Row],[Modèle A]:[Modèle D]]))","v":"/"},{"$f":"IFERROR(ROUNDDOWN(Tableau1[[#This Row],[surface\ntôle (m²)]]/Tableau1[[#This Row],[Surface\npièce (m²)]],0),0)","v":0},{"$f":"IF(AND(Tableau1[[#This Row],[Catégorie pièce]]=\" Nouveau\",Tableau1[[#This Row],[Type de pièce]]=\" Fabriquée\"),ROUNDUP(Tableau1[[#This Row],[Qté / an]]*2/52,0),0)","v":0},null,null,null,null,null,null,null,null,null,null,null,{"$f":"SUM(Tableau1[[#This Row],[VCOGS\ntôle]:[VCOGS\npliage]])","v":0},{"$f":"IFERROR((VLOOKUP(Tableau1[[#This Row],[Format\ntôle]],Tableau2[],11,FALSE)/Tableau1[[#This Row],[Série \néconomique ]])*Tableau1[[#This Row],[surface\ntôle (m²)]],0)","v":0},{"$f":"IF(Tableau1[[#This Row],[Laser (O/N)]]= \"Oui\",Tableau1[[#This Row],[Coût\ndécoupe laser]],Tableau1[[#This Row],[Coût\npoinçonnage]])","v":0},{"$f":"IF(Tableau1[[#This Row],[Nb plis]]>0, (IF(Tableau1[[#This Row],[Nb plis]]<5,0.25,IF(Tableau1[[#This Row],[Nb plis]]<7,0.33,0.45))/Tableau1[[#This Row],[Série \néconomique ]] +0.004*Tableau1[[#This Row],[Nb plis]])*$N$5,0)","v":0},{"$f":"IFERROR(VLOOKUP(Tableau1[[#This Row],[Format\ntôle]],Tôles!B:P,9,FALSE),0)","v":0},{"$f":"Tableau1[[#This Row],[Dimention X (mm)]]/1000*Tableau1[[#This Row],[Dimention Y (mm)]]/1000","v":0},{"$f":"IFERROR(ROUNDUP(Tableau1[[#This Row],[Surface\npièce (m²)]]/Tableau1[[#This Row],[surface\ntôle (m²)]],4),0)","v":0},{"$f":"IF(Tableau1[[#This Row],[Forcer série Economique ]]>0,Tableau1[[#This Row],[Forcer série Economique ]],Tableau1[[#This Row],[Série Economique proposée]])","v":0},{"$f":"IF(OR(ISERROR((5/Tableau1[[#This Row],[Série \néconomique ]]+Tableau1[[#This Row],[Nb trous]]*0.08*VLOOKUP(Tableau1[[#This Row],[Format\ntôle]],Tôles!B:O,5,FALSE)+ (Tableau1[[#This Row],[Dimention X (mm)]]+Tableau1[[#This Row],[Dimention Y (mm)]]) * 0.001)*Taux_horaire/100),Tableau1[[#This Row],[VCOGS\ntôle]] = \"\"),0,(5/Tableau1[[#This Row],[Série \néconomique ]]+Tableau1[[#This Row],[Nb trous]]*0.08*VLOOKUP(Tableau1[[#This Row],[Format\ntôle]],Tôles!B:O,5,FALSE)+ (Tableau1[[#This Row],[Dimention X (mm)]]+Tableau1[[#This Row],[Dimention Y (mm)]]) * 0.001)*Taux_horaire/100)","v":0},{"$f":"IF(OR(ISERROR((10/Tableau1[[#This Row],[Série \néconomique ]]+Tableau1[[#This Row],[Nb trous]]*0.007 + (Tableau1[[#This Row],[Dimention X (mm)]]+Tableau1[[#This Row],[Dimention Y (mm)]]) * 0.0005)*Taux_horaire/100),Tableau1[[#This Row],[VCOGS\ntôle]]= \"\"),0,(10/Tableau1[[#This Row],[Série \néconomique ]]+Tableau1[[#This Row],[Nb trous]]*0.007 + (Tableau1[[#This Row],[Dimention X (mm)]]+Tableau1[[#This Row],[Dimention Y (mm)]]) * 0.0005)*Taux_horaire/100)","v":0}]
[null,null,null,null,null,null,null,{"$f":"SUBSTITUTE(TRIM(CONCATENATE(Tableau1[[#This Row],[Niveau 0]],\" \",Tableau1[[#This Row],[Niveau 1]],\" \",Tableau1[[#This Row],[Niveau 2]],\" \",Tableau1[[#This Row],[Niveau 3]],\" \",Tableau1[[#This Row],[Niveau 4]],\" \",Tableau1[[#This Row],[Niveau 5]])),\" \",\".\")","v":""},{"$f":"IFERROR(IF(COUNTBLANK(Tableau1[[#This Row],[Niveau 0]:[Niveau 5]])=5,\"0\",LEFT(Tableau1[[#This Row],[Niveau]],(LEN(Tableau1[[#This Row],[Niveau]])-LEN(OFFSET(Tableau1[[#This Row],[Niveau 5]],0,(-COUNTBLANK(Tableau1[[#This Row],[Niveau 0]:[Niveau 5]]))))-1))),\"\")","v":""},null,null,null,null,{"$f":"IF(Tableau1[[#This Row],[Catégorie pièce]]=\" Opérations\",VLOOKUP(Tableau1[[#This Row],[Article produit/\nPoste de charge]],'PDC+emplacement'!A:C,2,FALSE),IF(Tableau1[[#This Row],[Catégorie pièce]]=\" Nouveau\",\"***RENSEIGNER NOM***\",IFERROR(VLOOKUP(CONCATENATE(Tableau1[[#This Row],[Article produit/\nPoste de charge]]),[1]ARTRDCL!$A$1:$U$25000,2,FALSE),\"\")))","v":""},null,null,null,null,null,{"$f":"IF(Tableau1[[#This Row],[Type plan]]=\"SP\",\"SP\",IF(AND(Tableau1[[#This Row],[Catégorie pièce]]=\" Nouveau\",Tableau1[[#This Row],[Type de pièce]]<>\" Panoplie\"),MID(Tableau1[[#This Row],[Article produit/\nPoste de charge]],2,15),IF(AND(Tableau1[[#This Row],[Catégorie pièce]]=\" Nouveau\",Tableau1[[#This Row],[Type de pièce]]=\" Panoplie\"),Tableau1[[#This Row],[Article produit/\nPoste de charge]],\"\")))","v":""},null,null,{"$f":"ROUNDUP((Tableau1[[#This Row],[Qté / an]]/52)*2,0)","v":{"$error":"#VALUE!"}},null,null,{"$f":"IF(AND(Tableau1[[#This Row],[Catégorie pièce]]=\" Opérations\",Tableau1[[#This Row],[Type de pièce]]=\" Temps\"),Taux_horaire/100,IF(AND(Tableau1[[#This Row],[Catégorie pièce]]=\" Nouveau\",Tableau1[[#This Row],[Type de pièce]]=\" Fabriquée\"),BOM!$AO51,IF(OR(AND(Tableau1[[#This Row],[Catégorie pièce]]=\" Nouveau\",Tableau1[[#This Row],[Type de pièce]]=\" Assemblage\"),BOM!$Y51=\" Produit fini\",Tableau1[[#This Row],[Type de pièce]]=\" Opé pièce primaire\",Tableau1[[#This Row],[Type de pièce]]=\" Pièce/Opé Panoplie\"),\"/\",IF(Tableau1[[#This Row],[Catégorie pièce]]=\" Existant\",VLOOKUP(CONCATENATE(Tableau1[[#This Row],[Article produit/\nPoste de charge]]),[1]ARTRDCL!$A$1:$U$65536,15,FALSE),\"\"))))","v":""},{"$f":"IF(OR(Tableau1[[#This Row],[Catégorie pièce]]=\" Opérations\",Tableau1[[#This Row],[Catégorie pièce]]=\" Matière 1ère\",ISBLANK(Tableau1[[#This Row],[Catégorie pièce]])),\"/\",SUMPRODUCT($AY$6:$BB$6,Tableau1[[#This Row],[Modèle A]:[Modèle D]]))","v":"/"},{"$f":"IFERROR(ROUNDDOWN(Tableau1[[#This Row],[surface\ntôle (m²)]]/Tableau1[[#This Row],[Surface\npièce (m²)]],0),0)","v":0},{"$f":"IF(AND(Tableau1[[#This Row],[Catégorie pièce]]=\" Nouveau\",Tableau1[[#This Row],[Type de pièce]]=\" Fabriquée\"),ROUNDUP(Tableau1[[#This Row],[Qté / an]]*2/52,0),0)","v":0},null,null,null,null,null,null,null,null,null,null,null,{"$f":"SUM(Tableau1[[#This Row],[VCOGS\ntôle]:[VCOGS\npliage]])","v":0},{"$f":"IFERROR((VLOOKUP(Tableau1[[#This Row],[Format\ntôle]],Tableau2[],11,FALSE)/Tableau1[[#This Row],[Série \néconomique ]])*Tableau1[[#This Row],[surface\ntôle (m²)]],0)","v":0},{"$f":"IF(Tableau1[[#This Row],[Laser (O/N)]]= \"Oui\",Tableau1[[#This Row],[Coût\ndécoupe laser]],Tableau1[[#This Row],[Coût\npoinçonnage]])","v":0},{"$f":"IF(Tableau1[[#This Row],[Nb plis]]>0, (IF(Tableau1[[#This Row],[Nb plis]]<5,0.25,IF(Tableau1[[#This Row],[Nb plis]]<7,0.33,0.45))/Tableau1[[#This Row],[Série \néconomique ]] +0.004*Tableau1[[#This Row],[Nb plis]])*$N$5,0)","v":0},{"$f":"IFERROR(VLOOKUP(Tableau1[[#This Row],[Format\ntôle]],Tôles!B:P,9,FALSE),0)","v":0},{"$f":"Tableau1[[#This Row],[Dimention X (mm)]]/1000*Tableau1[[#This Row],[Dimention Y (mm)]]/1000","v":0},{"$f":"IFERROR(ROUNDUP(Tableau1[[#This Row],[Surface\npièce (m²)]]/Tableau1[[#This Row],[surface\ntôle (m²)]],4),0)","v":0},{"$f":"IF(Tableau1[[#This Row],[Forcer série Economique ]]>0,Tableau1[[#This Row],[Forcer série Economique ]],Tableau1[[#This Row],[Série Economique proposée]])","v":0},{"$f":"IF(OR(ISERROR((5/Tableau1[[#This Row],[Série \néconomique ]]+Tableau1[[#This Row],[Nb trous]]*0.08*VLOOKUP(Tableau1[[#This Row],[Format\ntôle]],Tôles!B:O,5,FALSE)+ (Tableau1[[#This Row],[Dimention X (mm)]]+Tableau1[[#This Row],[Dimention Y (mm)]]) * 0.001)*Taux_horaire/100),Tableau1[[#This Row],[VCOGS\ntôle]] = \"\"),0,(5/Tableau1[[#This Row],[Série \néconomique ]]+Tableau1[[#This Row],[Nb trous]]*0.08*VLOOKUP(Tableau1[[#This Row],[Format\ntôle]],Tôles!B:O,5,FALSE)+ (Tableau1[[#This Row],[Dimention X (mm)]]+Tableau1[[#This Row],[Dimention Y (mm)]]) * 0.001)*Taux_horaire/100)","v":0},{"$f":"IF(OR(ISERROR((10/Tableau1[[#This Row],[Série \néconomique ]]+Tableau1[[#This Row],[Nb trous]]*0.007 + (Tableau1[[#This Row],[Dimention X (mm)]]+Tableau1[[#This Row],[Dimention Y (mm)]]) * 0.0005)*Taux_horaire/100),Tableau1[[#This Row],[VCOGS\ntôle]]= \"\"),0,(10/Tableau1[[#This Row],[Série \néconomique ]]+Tableau1[[#This Row],[Nb trous]]*0.007 + (Tableau1[[#This Row],[Dimention X (mm)]]+Tableau1[[#This Row],[Dimention Y (mm)]]) * 0.0005)*Taux_horaire/100)","v":0}]
[null,null,null,null,null,null,null,{"$f":"SUBSTITUTE(TRIM(CONCATENATE(Tableau1[[#This Row],[Niveau 0]],\" \",Tableau1[[#This Row],[Niveau 1]],\" \",Tableau1[[#This Row],[Niveau 2]],\" \",Tableau1[[#This Row],[Niveau 3]],\" \",Tableau1[[#This Row],[Niveau 4]],\" \",Tableau1[[#This Row],[Niveau 5]])),\" \",\".\")","v":""},{"$f":"IFERROR(IF(COUNTBLANK(Tableau1[[#This Row],[Niveau 0]:[Niveau 5]])=5,\"0\",LEFT(Tableau1[[#This Row],[Niveau]],(LEN(Tableau1[[#This Row],[Niveau]])-LEN(OFFSET(Tableau1[[#This Row],[Niveau 5]],0,(-COUNTBLANK(Tableau1[[#This Row],[Niveau 0]:[Niveau 5]]))))-1))),\"\")","v":""},null,null,null,null,{"$f":"IF(Tableau1[[#This Row],[Catégorie pièce]]=\" Opérations\",VLOOKUP(Tableau1[[#This Row],[Article produit/\nPoste de charge]],'PDC+emplacement'!A:C,2,FALSE),IF(Tableau1[[#This Row],[Catégorie pièce]]=\" Nouveau\",\"***RENSEIGNER NOM***\",IFERROR(VLOOKUP(CONCATENATE(Tableau1[[#This Row],[Article produit/\nPoste de charge]]),[1]ARTRDCL!$A$1:$U$25000,2,FALSE),\"\")))","v":""},null,null,null,null,null,{"$f":"IF(Tableau1[[#This Row],[Type plan]]=\"SP\",\"SP\",IF(AND(Tableau1[[#This Row],[Catégorie pièce]]=\" Nouveau\",Tableau1[[#This Row],[Type de pièce]]<>\" Panoplie\"),MID(Tableau1[[#This Row],[Article produit/\nPoste de charge]],2,15),IF(AND(Tableau1[[#This Row],[Catégorie pièce]]=\" Nouveau\",Tableau1[[#This Row],[Type de pièce]]=\" Panoplie\"),Tableau1[[#This Row],[Article produit/\nPoste de charge]],\"\")))","v":""},null,null,{"$f":"ROUNDUP((Tableau1[[#This Row],[Qté / an]]/52)*2,0)","v":{"$error":"#VALUE!"}},null,null,{"$f":"IF(AND(Tableau1[[#This Row],[Catégorie pièce]]=\" Opérations\",Tableau1[[#This Row],[Type de pièce]]=\" Temps\"),Taux_horaire/100,IF(AND(Tableau1[[#This Row],[Catégorie pièce]]=\" Nouveau\",Tableau1[[#This Row],[Type de pièce]]=\" Fabriquée\"),BOM!$AO52,IF(OR(AND(Tableau1[[#This Row],[Catégorie pièce]]=\" Nouveau\",Tableau1[[#This Row],[Type de pièce]]=\" Assemblage\"),BOM!$Y52=\" Produit fini\",Tableau1[[#This Row],[Type de pièce]]=\" Opé pièce primaire\",Tableau1[[#This Row],[Type de pièce]]=\" Pièce/Opé Panoplie\"),\"/\",IF(Tableau1[[#This Row],[Catégorie pièce]]=\" Existant\",VLOOKUP(CONCATENATE(Tableau1[[#This Row],[Article produit/\nPoste de charge]]),[1]ARTRDCL!$A$1:$U$65536,15,FALSE),\"\"))))","v":""},{"$f":"IF(OR(Tableau1[[#This Row],[Catégorie pièce]]=\" Opérations\",Tableau1[[#This Row],[Catégorie pièce]]=\" Matière 1ère\",ISBLANK(Tableau1[[#This Row],[Catégorie pièce]])),\"/\",SUMPRODUCT($AY$6:$BB$6,Tableau1[[#This Row],[Modèle A]:[Modèle D]]))","v":"/"},{"$f":"IFERROR(ROUNDDOWN(Tableau1[[#This Row],[surface\ntôle (m²)]]/Tableau1[[#This Row],[Surface\npièce (m²)]],0),0)","v":0},{"$f":"IF(AND(Tableau1[[#This Row],[Catégorie pièce]]=\" Nouveau\",Tableau1[[#This Row],[Type de pièce]]=\" Fabriquée\"),ROUNDUP(Tableau1[[#This Row],[Qté / an]]*2/52,0),0)","v":0},null,null,null,null,null,null,null,null,null,null,null,{"$f":"SUM(Tableau1[[#This Row],[VCOGS\ntôle]:[VCOGS\npliage]])","v":0},{"$f":"IFERROR((VLOOKUP(Tableau1[[#This Row],[Format\ntôle]],Tableau2[],11,FALSE)/Tableau1[[#This Row],[Série \néconomique ]])*Tableau1[[#This Row],[surface\ntôle (m²)]],0)","v":0},{"$f":"IF(Tableau1[[#This Row],[Laser (O/N)]]= \"Oui\",Tableau1[[#This Row],[Coût\ndécoupe laser]],Tableau1[[#This Row],[Coût\npoinçonnage]])","v":0},{"$f":"IF(Tableau1[[#This Row],[Nb plis]]>0, (IF(Tableau1[[#This Row],[Nb plis]]<5,0.25,IF(Tableau1[[#This Row],[Nb plis]]<7,0.33,0.45))/Tableau1[[#This Row],[Série \néconomique ]] +0.004*Tableau1[[#This Row],[Nb plis]])*$N$5,0)","v":0},{"$f":"IFERROR(VLOOKUP(Tableau1[[#This Row],[Format\ntôle]],Tôles!B:P,9,FALSE),0)","v":0},{"$f":"Tableau1[[#This Row],[Dimention X (mm)]]/1000*Tableau1[[#This Row],[Dimention Y (mm)]]/1000","v":0},{"$f":"IFERROR(ROUNDUP(Tableau1[[#This Row],[Surface\npièce (m²)]]/Tableau1[[#This Row],[surface\ntôle (m²)]],4),0)","v":0},{"$f":"IF(Tableau1[[#This Row],[Forcer série Economique ]]>0,Tableau1[[#This Row],[Forcer série Economique ]],Tableau1[[#This Row],[Série Economique proposée]])","v":0},{"$f":"IF(OR(ISERROR((5/Tableau1[[#This Row],[Série \néconomique ]]+Tableau1[[#This Row],[Nb trous]]*0.08*VLOOKUP(Tableau1[[#This Row],[Format\ntôle]],Tôles!B:O,5,FALSE)+ (Tableau1[[#This Row],[Dimention X (mm)]]+Tableau1[[#This Row],[Dimention Y (mm)]]) * 0.001)*Taux_horaire/100),Tableau1[[#This Row],[VCOGS\ntôle]] = \"\"),0,(5/Tableau1[[#This Row],[Série \néconomique ]]+Tableau1[[#This Row],[Nb trous]]*0.08*VLOOKUP(Tableau1[[#This Row],[Format\ntôle]],Tôles!B:O,5,FALSE)+ (Tableau1[[#This Row],[Dimention X (mm)]]+Tableau1[[#This Row],[Dimention Y (mm)]]) * 0.001)*Taux_horaire/100)","v":0},{"$f":"IF(OR(ISERROR((10/Tableau1[[#This Row],[Série \néconomique ]]+Tableau1[[#This Row],[Nb trous]]*0.007 + (Tableau1[[#This Row],[Dimention X (mm)]]+Tableau1[[#This Row],[Dimention Y (mm)]]) * 0.0005)*Taux_horaire/100),Tableau1[[#This Row],[VCOGS\ntôle]]= \"\"),0,(10/Tableau1[[#This Row],[Série \néconomique ]]+Tableau1[[#This Row],[Nb trous]]*0.007 + (Tableau1[[#This Row],[Dimention X (mm)]]+Tableau1[[#This Row],[Dimention Y (mm)]]) * 0.0005)*Taux_horaire/100)","v":0}]
[null,null,null,null,null,null,null,{"$f":"SUBSTITUTE(TRIM(CONCATENATE(Tableau1[[#This Row],[Niveau 0]],\" \",Tableau1[[#This Row],[Niveau 1]],\" \",Tableau1[[#This Row],[Niveau 2]],\" \",Tableau1[[#This Row],[Niveau 3]],\" \",Tableau1[[#This Row],[Niveau 4]],\" \",Tableau1[[#This Row],[Niveau 5]])),\" \",\".\")","v":""},{"$f":"IFERROR(IF(COUNTBLANK(Tableau1[[#This Row],[Niveau 0]:[Niveau 5]])=5,\"0\",LEFT(Tableau1[[#This Row],[Niveau]],(LEN(Tableau1[[#This Row],[Niveau]])-LEN(OFFSET(Tableau1[[#This Row],[Niveau 5]],0,(-COUNTBLANK(Tableau1[[#This Row],[Niveau 0]:[Niveau 5]]))))-1))),\"\")","v":""},null,null,null,null,{"$f":"IF(Tableau1[[#This Row],[Catégorie pièce]]=\" Opérations\",VLOOKUP(Tableau1[[#This Row],[Article produit/\nPoste de charge]],'PDC+emplacement'!A:C,2,FALSE),IF(Tableau1[[#This Row],[Catégorie pièce]]=\" Nouveau\",\"***RENSEIGNER NOM***\",IFERROR(VLOOKUP(CONCATENATE(Tableau1[[#This Row],[Article produit/\nPoste de charge]]),[1]ARTRDCL!$A$1:$U$25000,2,FALSE),\"\")))","v":""},null,null,null,null,null,{"$f":"IF(Tableau1[[#This Row],[Type plan]]=\"SP\",\"SP\",IF(AND(Tableau1[[#This Row],[Catégorie pièce]]=\" Nouveau\",Tableau1[[#This Row],[Type de pièce]]<>\" Panoplie\"),MID(Tableau1[[#This Row],[Article produit/\nPoste de charge]],2,15),IF(AND(Tableau1[[#This Row],[Catégorie pièce]]=\" Nouveau\",Tableau1[[#This Row],[Type de pièce]]=\" Panoplie\"),Tableau1[[#This Row],[Article produit/\nPoste de charge]],\"\")))","v":""},null,null,{"$f":"ROUNDUP((Tableau1[[#This Row],[Qté / an]]/52)*2,0)","v":{"$error":"#VALUE!"}},null,null,{"$f":"IF(AND(Tableau1[[#This Row],[Catégorie pièce]]=\" Opérations\",Tableau1[[#This Row],[Type de pièce]]=\" Temps\"),Taux_horaire/100,IF(AND(Tableau1[[#This Row],[Catégorie pièce]]=\" Nouveau\",Tableau1[[#This Row],[Type de pièce]]=\" Fabriquée\"),BOM!$AO53,IF(OR(AND(Tableau1[[#This Row],[Catégorie pièce]]=\" Nouveau\",Tableau1[[#This Row],[Type de pièce]]=\" Assemblage\"),BOM!$Y53=\" Produit fini\",Tableau1[[#This Row],[Type de pièce]]=\" Opé pièce primaire\",Tableau1[[#This Row],[Type de pièce]]=\" Pièce/Opé Panoplie\"),\"/\",IF(Tableau1[[#This Row],[Catégorie pièce]]=\" Existant\",VLOOKUP(CONCATENATE(Tableau1[[#This Row],[Article produit/\nPoste de charge]]),[1]ARTRDCL!$A$1:$U$65536,15,FALSE),\"\"))))","v":""},{"$f":"IF(OR(Tableau1[[#This Row],[Catégorie pièce]]=\" Opérations\",Tableau1[[#This Row],[Catégorie pièce]]=\" Matière 1ère\",ISBLANK(Tableau1[[#This Row],[Catégorie pièce]])),\"/\",SUMPRODUCT($AY$6:$BB$6,Tableau1[[#This Row],[Modèle A]:[Modèle D]]))","v":"/"},{"$f":"IFERROR(ROUNDDOWN(Tableau1[[#This Row],[surface\ntôle (m²)]]/Tableau1[[#This Row],[Surface\npièce (m²)]],0),0)","v":0},{"$f":"IF(AND(Tableau1[[#This Row],[Catégorie pièce]]=\" Nouveau\",Tableau1[[#This Row],[Type de pièce]]=\" Fabriquée\"),ROUNDUP(Tableau1[[#This Row],[Qté / an]]*2/52,0),0)","v":0},null,null,null,null,null,null,null,null,null,null,null,{"$f":"SUM(Tableau1[[#This Row],[VCOGS\ntôle]:[VCOGS\npliage]])","v":0},{"$f":"IFERROR((VLOOKUP(Tableau1[[#This Row],[Format\ntôle]],Tableau2[],11,FALSE)/Tableau1[[#This Row],[Série \néconomique ]])*Tableau1[[#This Row],[surface\ntôle (m²)]],0)","v":0},{"$f":"IF(Tableau1[[#This Row],[Laser (O/N)]]= \"Oui\",Tableau1[[#This Row],[Coût\ndécoupe laser]],Tableau1[[#This Row],[Coût\npoinçonnage]])","v":0},{"$f":"IF(Tableau1[[#This Row],[Nb plis]]>0, (IF(Tableau1[[#This Row],[Nb plis]]<5,0.25,IF(Tableau1[[#This Row],[Nb plis]]<7,0.33,0.45))/Tableau1[[#This Row],[Série \néconomique ]] +0.004*Tableau1[[#This Row],[Nb plis]])*$N$5,0)","v":0},{"$f":"IFERROR(VLOOKUP(Tableau1[[#This Row],[Format\ntôle]],Tôles!B:P,9,FALSE),0)","v":0},{"$f":"Tableau1[[#This Row],[Dimention X (mm)]]/1000*Tableau1[[#This Row],[Dimention Y (mm)]]/1000","v":0},{"$f":"IFERROR(ROUNDUP(Tableau1[[#This Row],[Surface\npièce (m²)]]/Tableau1[[#This Row],[surface\ntôle (m²)]],4),0)","v":0},{"$f":"IF(Tableau1[[#This Row],[Forcer série Economique ]]>0,Tableau1[[#This Row],[Forcer série Economique ]],Tableau1[[#This Row],[Série Economique proposée]])","v":0},{"$f":"IF(OR(ISERROR((5/Tableau1[[#This Row],[Série \néconomique ]]+Tableau1[[#This Row],[Nb trous]]*0.08*VLOOKUP(Tableau1[[#This Row],[Format\ntôle]],Tôles!B:O,5,FALSE)+ (Tableau1[[#This Row],[Dimention X (mm)]]+Tableau1[[#This Row],[Dimention Y (mm)]]) * 0.001)*Taux_horaire/100),Tableau1[[#This Row],[VCOGS\ntôle]] = \"\"),0,(5/Tableau1[[#This Row],[Série \néconomique ]]+Tableau1[[#This Row],[Nb trous]]*0.08*VLOOKUP(Tableau1[[#This Row],[Format\ntôle]],Tôles!B:O,5,FALSE)+ (Tableau1[[#This Row],[Dimention X (mm)]]+Tableau1[[#This Row],[Dimention Y (mm)]]) * 0.001)*Taux_horaire/100)","v":0},{"$f":"IF(OR(ISERROR((10/Tableau1[[#This Row],[Série \néconomique ]]+Tableau1[[#This Row],[Nb trous]]*0.007 + (Tableau1[[#This Row],[Dimention X (mm)]]+Tableau1[[#This Row],[Dimention Y (mm)]]) * 0.0005)*Taux_horaire/100),Tableau1[[#This Row],[VCOGS\ntôle]]= \"\"),0,(10/Tableau1[[#This Row],[Série \néconomique ]]+Tableau1[[#This Row],[Nb trous]]*0.007 + (Tableau1[[#This Row],[Dimention X (mm)]]+Tableau1[[#This Row],[Dimention Y (mm)]]) * 0.0005)*Taux_horaire/100)","v":0}]
[null,null,null,null,null,null,null,{"$f":"SUBSTITUTE(TRIM(CONCATENATE(Tableau1[[#This Row],[Niveau 0]],\" \",Tableau1[[#This Row],[Niveau 1]],\" \",Tableau1[[#This Row],[Niveau 2]],\" \",Tableau1[[#This Row],[Niveau 3]],\" \",Tableau1[[#This Row],[Niveau 4]],\" \",Tableau1[[#This Row],[Niveau 5]])),\" \",\".\")","v":""},{"$f":"IFERROR(IF(COUNTBLANK(Tableau1[[#This Row],[Niveau 0]:[Niveau 5]])=5,\"0\",LEFT(Tableau1[[#This Row],[Niveau]],(LEN(Tableau1[[#This Row],[Niveau]])-LEN(OFFSET(Tableau1[[#This Row],[Niveau 5]],0,(-COUNTBLANK(Tableau1[[#This Row],[Niveau 0]:[Niveau 5]]))))-1))),\"\")","v":""},null,null,null,null,{"$f":"IF(Tableau1[[#This Row],[Catégorie pièce]]=\" Opérations\",VLOOKUP(Tableau1[[#This Row],[Article produit/\nPoste de charge]],'PDC+emplacement'!A:C,2,FALSE),IF(Tableau1[[#This Row],[Catégorie pièce]]=\" Nouveau\",\"***RENSEIGNER NOM***\",IFERROR(VLOOKUP(CONCATENATE(Tableau1[[#This Row],[Article produit/\nPoste de charge]]),[1]ARTRDCL!$A$1:$U$25000,2,FALSE),\"\")))","v":""},null,null,null,null,null,{"$f":"IF(Tableau1[[#This Row],[Type plan]]=\"SP\",\"SP\",IF(AND(Tableau1[[#This Row],[Catégorie pièce]]=\" Nouveau\",Tableau1[[#This Row],[Type de pièce]]<>\" Panoplie\"),MID(Tableau1[[#This Row],[Article produit/\nPoste de charge]],2,15),IF(AND(Tableau1[[#This Row],[Catégorie pièce]]=\" Nouveau\",Tableau1[[#This Row],[Type de pièce]]=\" Panoplie\"),Tableau1[[#This Row],[Article produit/\nPoste de charge]],\"\")))","v":""},null,null,{"$f":"ROUNDUP((Tableau1[[#This Row],[Qté / an]]/52)*2,0)","v":{"$error":"#VALUE!"}},null,null,{"$f":"IF(AND(Tableau1[[#This Row],[Catégorie pièce]]=\" Opérations\",Tableau1[[#This Row],[Type de pièce]]=\" Temps\"),Taux_horaire/100,IF(AND(Tableau1[[#This Row],[Catégorie pièce]]=\" Nouveau\",Tableau1[[#This Row],[Type de pièce]]=\" Fabriquée\"),BOM!$AO54,IF(OR(AND(Tableau1[[#This Row],[Catégorie pièce]]=\" Nouveau\",Tableau1[[#This Row],[Type de pièce]]=\" Assemblage\"),BOM!$Y54=\" Produit fini\",Tableau1[[#This Row],[Type de pièce]]=\" Opé pièce primaire\",Tableau1[[#This Row],[Type de pièce]]=\" Pièce/Opé Panoplie\"),\"/\",IF(Tableau1[[#This Row],[Catégorie pièce]]=\" Existant\",VLOOKUP(CONCATENATE(Tableau1[[#This Row],[Article produit/\nPoste de charge]]),[1]ARTRDCL!$A$1:$U$65536,15,FALSE),\"\"))))","v":""},{"$f":"IF(OR(Tableau1[[#This Row],[Catégorie pièce]]=\" Opérations\",Tableau1[[#This Row],[Catégorie pièce]]=\" Matière 1ère\",ISBLANK(Tableau1[[#This Row],[Catégorie pièce]])),\"/\",SUMPRODUCT($AY$6:$BB$6,Tableau1[[#This Row],[Modèle A]:[Modèle D]]))","v":"/"},{"$f":"IFERROR(ROUNDDOWN(Tableau1[[#This Row],[surface\ntôle (m²)]]/Tableau1[[#This Row],[Surface\npièce (m²)]],0),0)","v":0},{"$f":"IF(AND(Tableau1[[#This Row],[Catégorie pièce]]=\" Nouveau\",Tableau1[[#This Row],[Type de pièce]]=\" Fabriquée\"),ROUNDUP(Tableau1[[#This Row],[Qté / an]]*2/52,0),0)","v":0},null,null,null,null,null,null,null,null,null,null,null,{"$f":"SUM(Tableau1[[#This Row],[VCOGS\ntôle]:[VCOGS\npliage]])","v":0},{"$f":"IFERROR((VLOOKUP(Tableau1[[#This Row],[Format\ntôle]],Tableau2[],11,FALSE)/Tableau1[[#This Row],[Série \néconomique ]])*Tableau1[[#This Row],[surface\ntôle (m²)]],0)","v":0},{"$f":"IF(Tableau1[[#This Row],[Laser (O/N)]]= \"Oui\",Tableau1[[#This Row],[Coût\ndécoupe laser]],Tableau1[[#This Row],[Coût\npoinçonnage]])","v":0},{"$f":"IF(Tableau1[[#This Row],[Nb plis]]>0, (IF(Tableau1[[#This Row],[Nb plis]]<5,0.25,IF(Tableau1[[#This Row],[Nb plis]]<7,0.33,0.45))/Tableau1[[#This Row],[Série \néconomique ]] +0.004*Tableau1[[#This Row],[Nb plis]])*$N$5,0)","v":0},{"$f":"IFERROR(VLOOKUP(Tableau1[[#This Row],[Format\ntôle]],Tôles!B:P,9,FALSE),0)","v":0},{"$f":"Tableau1[[#This Row],[Dimention X (mm)]]/1000*Tableau1[[#This Row],[Dimention Y (mm)]]/1000","v":0},{"$f":"IFERROR(ROUNDUP(Tableau1[[#This Row],[Surface\npièce (m²)]]/Tableau1[[#This Row],[surface\ntôle (m²)]],4),0)","v":0},{"$f":"IF(Tableau1[[#This Row],[Forcer série Economique ]]>0,Tableau1[[#This Row],[Forcer série Economique ]],Tableau1[[#This Row],[Série Economique proposée]])","v":0},{"$f":"IF(OR(ISERROR((5/Tableau1[[#This Row],[Série \néconomique ]]+Tableau1[[#This Row],[Nb trous]]*0.08*VLOOKUP(Tableau1[[#This Row],[Format\ntôle]],Tôles!B:O,5,FALSE)+ (Tableau1[[#This Row],[Dimention X (mm)]]+Tableau1[[#This Row],[Dimention Y (mm)]]) * 0.001)*Taux_horaire/100),Tableau1[[#This Row],[VCOGS\ntôle]] = \"\"),0,(5/Tableau1[[#This Row],[Série \néconomique ]]+Tableau1[[#This Row],[Nb trous]]*0.08*VLOOKUP(Tableau1[[#This Row],[Format\ntôle]],Tôles!B:O,5,FALSE)+ (Tableau1[[#This Row],[Dimention X (mm)]]+Tableau1[[#This Row],[Dimention Y (mm)]]) * 0.001)*Taux_horaire/100)","v":0},{"$f":"IF(OR(ISERROR((10/Tableau1[[#This Row],[Série \néconomique ]]+Tableau1[[#This Row],[Nb trous]]*0.007 + (Tableau1[[#This Row],[Dimention X (mm)]]+Tableau1[[#This Row],[Dimention Y (mm)]]) * 0.0005)*Taux_horaire/100),Tableau1[[#This Row],[VCOGS\ntôle]]= \"\"),0,(10/Tableau1[[#This Row],[Série \néconomique ]]+Tableau1[[#This Row],[Nb trous]]*0.007 + (Tableau1[[#This Row],[Dimention X (mm)]]+Tableau1[[#This Row],[Dimention Y (mm)]]) * 0.0005)*Taux_horaire/100)","v":0}]
[null,null,null,null,null,null,null,{"$f":"SUBSTITUTE(TRIM(CONCATENATE(Tableau1[[#This Row],[Niveau 0]],\" \",Tableau1[[#This Row],[Niveau 1]],\" \",Tableau1[[#This Row],[Niveau 2]],\" \",Tableau1[[#This Row],[Niveau 3]],\" \",Tableau1[[#This Row],[Niveau 4]],\" \",Tableau1[[#This Row],[Niveau 5]])),\" \",\".\")","v":""},{"$f":"IFERROR(IF(COUNTBLANK(Tableau1[[#This Row],[Niveau 0]:[Niveau 5]])=5,\"0\",LEFT(Tableau1[[#This Row],[Niveau]],(LEN(Tableau1[[#This Row],[Niveau]])-LEN(OFFSET(Tableau1[[#This Row],[Niveau 5]],0,(-COUNTBLANK(Tableau1[[#This Row],[Niveau 0]:[Niveau 5]]))))-1))),\"\")","v":""},null,null,null,null,{"$f":"IF(Tableau1[[#This Row],[Catégorie pièce]]=\" Opérations\",VLOOKUP(Tableau1[[#This Row],[Article produit/\nPoste de charge]],'PDC+emplacement'!A:C,2,FALSE),IF(Tableau1[[#This Row],[Catégorie pièce]]=\" Nouveau\",\"***RENSEIGNER NOM***\",IFERROR(VLOOKUP(CONCATENATE(Tableau1[[#This Row],[Article produit/\nPoste de charge]]),[1]ARTRDCL!$A$1:$U$25000,2,FALSE),\"\")))","v":""},null,null,null,null,null,{"$f":"IF(Tableau1[[#This Row],[Type plan]]=\"SP\",\"SP\",IF(AND(Tableau1[[#This Row],[Catégorie pièce]]=\" Nouveau\",Tableau1[[#This Row],[Type de pièce]]<>\" Panoplie\"),MID(Tableau1[[#This Row],[Article produit/\nPoste de charge]],2,15),IF(AND(Tableau1[[#This Row],[Catégorie pièce]]=\" Nouveau\",Tableau1[[#This Row],[Type de pièce]]=\" Panoplie\"),Tableau1[[#This Row],[Article produit/\nPoste de charge]],\"\")))","v":""},null,null,{"$f":"ROUNDUP((Tableau1[[#This Row],[Qté / an]]/52)*2,0)","v":{"$error":"#VALUE!"}},null,null,{"$f":"IF(AND(Tableau1[[#This Row],[Catégorie pièce]]=\" Opérations\",Tableau1[[#This Row],[Type de pièce]]=\" Temps\"),Taux_horaire/100,IF(AND(Tableau1[[#This Row],[Catégorie pièce]]=\" Nouveau\",Tableau1[[#This Row],[Type de pièce]]=\" Fabriquée\"),BOM!$AO55,IF(OR(AND(Tableau1[[#This Row],[Catégorie pièce]]=\" Nouveau\",Tableau1[[#This Row],[Type de pièce]]=\" Assemblage\"),BOM!$Y55=\" Produit fini\",Tableau1[[#This Row],[Type de pièce]]=\" Opé pièce primaire\",Tableau1[[#This Row],[Type de pièce]]=\" Pièce/Opé Panoplie\"),\"/\",IF(Tableau1[[#This Row],[Catégorie pièce]]=\" Existant\",VLOOKUP(CONCATENATE(Tableau1[[#This Row],[Article produit/\nPoste de charge]]),[1]ARTRDCL!$A$1:$U$65536,15,FALSE),\"\"))))","v":""},{"$f":"IF(OR(Tableau1[[#This Row],[Catégorie pièce]]=\" Opérations\",Tableau1[[#This Row],[Catégorie pièce]]=\" Matière 1ère\",ISBLANK(Tableau1[[#This Row],[Catégorie pièce]])),\"/\",SUMPRODUCT($AY$6:$BB$6,Tableau1[[#This Row],[Modèle A]:[Modèle D]]))","v":"/"},{"$f":"IFERROR(ROUNDDOWN(Tableau1[[#This Row],[surface\ntôle (m²)]]/Tableau1[[#This Row],[Surface\npièce (m²)]],0),0)","v":0},{"$f":"IF(AND(Tableau1[[#This Row],[Catégorie pièce]]=\" Nouveau\",Tableau1[[#This Row],[Type de pièce]]=\" Fabriquée\"),ROUNDUP(Tableau1[[#This Row],[Qté / an]]*2/52,0),0)","v":0},null,null,null,null,null,null,null,null,null,null,null,{"$f":"SUM(Tableau1[[#This Row],[VCOGS\ntôle]:[VCOGS\npliage]])","v":0},{"$f":"IFERROR((VLOOKUP(Tableau1[[#This Row],[Format\ntôle]],Tableau2[],11,FALSE)/Tableau1[[#This Row],[Série \néconomique ]])*Tableau1[[#This Row],[surface\ntôle (m²)]],0)","v":0},{"$f":"IF(Tableau1[[#This Row],[Laser (O/N)]]= \"Oui\",Tableau1[[#This Row],[Coût\ndécoupe laser]],Tableau1[[#This Row],[Coût\npoinçonnage]])","v":0},{"$f":"IF(Tableau1[[#This Row],[Nb plis]]>0, (IF(Tableau1[[#This Row],[Nb plis]]<5,0.25,IF(Tableau1[[#This Row],[Nb plis]]<7,0.33,0.45))/Tableau1[[#This Row],[Série \néconomique ]] +0.004*Tableau1[[#This Row],[Nb plis]])*$N$5,0)","v":0},{"$f":"IFERROR(VLOOKUP(Tableau1[[#This Row],[Format\ntôle]],Tôles!B:P,9,FALSE),0)","v":0},{"$f":"Tableau1[[#This Row],[Dimention X (mm)]]/1000*Tableau1[[#This Row],[Dimention Y (mm)]]/1000","v":0},{"$f":"IFERROR(ROUNDUP(Tableau1[[#This Row],[Surface\npièce (m²)]]/Tableau1[[#This Row],[surface\ntôle (m²)]],4),0)","v":0},{"$f":"IF(Tableau1[[#This Row],[Forcer série Economique ]]>0,Tableau1[[#This Row],[Forcer série Economique ]],Tableau1[[#This Row],[Série Economique proposée]])","v":0},{"$f":"IF(OR(ISERROR((5/Tableau1[[#This Row],[Série \néconomique ]]+Tableau1[[#This Row],[Nb trous]]*0.08*VLOOKUP(Tableau1[[#This Row],[Format\ntôle]],Tôles!B:O,5,FALSE)+ (Tableau1[[#This Row],[Dimention X (mm)]]+Tableau1[[#This Row],[Dimention Y (mm)]]) * 0.001)*Taux_horaire/100),Tableau1[[#This Row],[VCOGS\ntôle]] = \"\"),0,(5/Tableau1[[#This Row],[Série \néconomique ]]+Tableau1[[#This Row],[Nb trous]]*0.08*VLOOKUP(Tableau1[[#This Row],[Format\ntôle]],Tôles!B:O,5,FALSE)+ (Tableau1[[#This Row],[Dimention X (mm)]]+Tableau1[[#This Row],[Dimention Y (mm)]]) * 0.001)*Taux_horaire/100)","v":0},{"$f":"IF(OR(ISERROR((10/Tableau1[[#This Row],[Série \néconomique ]]+Tableau1[[#This Row],[Nb trous]]*0.007 + (Tableau1[[#This Row],[Dimention X (mm)]]+Tableau1[[#This Row],[Dimention Y (mm)]]) * 0.0005)*Taux_horaire/100),Tableau1[[#This Row],[VCOGS\ntôle]]= \"\"),0,(10/Tableau1[[#This Row],[Série \néconomique ]]+Tableau1[[#This Row],[Nb trous]]*0.007 + (Tableau1[[#This Row],[Dimention X (mm)]]+Tableau1[[#This Row],[Dimention Y (mm)]]) * 0.0005)*Taux_horaire/100)","v":0}]
[null,null,null,null,null,null,null,{"$f":"SUBSTITUTE(TRIM(CONCATENATE(Tableau1[[#This Row],[Niveau 0]],\" \",Tableau1[[#This Row],[Niveau 1]],\" \",Tableau1[[#This Row],[Niveau 2]],\" \",Tableau1[[#This Row],[Niveau 3]],\" \",Tableau1[[#This Row],[Niveau 4]],\" \",Tableau1[[#This Row],[Niveau 5]])),\" \",\".\")","v":""},{"$f":"IFERROR(IF(COUNTBLANK(Tableau1[[#This Row],[Niveau 0]:[Niveau 5]])=5,\"0\",LEFT(Tableau1[[#This Row],[Niveau]],(LEN(Tableau1[[#This Row],[Niveau]])-LEN(OFFSET(Tableau1[[#This Row],[Niveau 5]],0,(-COUNTBLANK(Tableau1[[#This Row],[Niveau 0]:[Niveau 5]]))))-1))),\"\")","v":""},null,null,null,null,{"$f":"IF(Tableau1[[#This Row],[Catégorie pièce]]=\" Opérations\",VLOOKUP(Tableau1[[#This Row],[Article produit/\nPoste de charge]],'PDC+emplacement'!A:C,2,FALSE),IF(Tableau1[[#This Row],[Catégorie pièce]]=\" Nouveau\",\"***RENSEIGNER NOM***\",IFERROR(VLOOKUP(CONCATENATE(Tableau1[[#This Row],[Article produit/\nPoste de charge]]),[1]ARTRDCL!$A$1:$U$25000,2,FALSE),\"\")))","v":""},null,null,null,null,null,{"$f":"IF(Tableau1[[#This Row],[Type plan]]=\"SP\",\"SP\",IF(AND(Tableau1[[#This Row],[Catégorie pièce]]=\" Nouveau\",Tableau1[[#This Row],[Type de pièce]]<>\" Panoplie\"),MID(Tableau1[[#This Row],[Article produit/\nPoste de charge]],2,15),IF(AND(Tableau1[[#This Row],[Catégorie pièce]]=\" Nouveau\",Tableau1[[#This Row],[Type de pièce]]=\" Panoplie\"),Tableau1[[#This Row],[Article produit/\nPoste de charge]],\"\")))","v":""},null,null,{"$f":"ROUNDUP((Tableau1[[#This Row],[Qté / an]]/52)*2,0)","v":{"$error":"#VALUE!"}},null,null,{"$f":"IF(AND(Tableau1[[#This Row],[Catégorie pièce]]=\" Opérations\",Tableau1[[#This Row],[Type de pièce]]=\" Temps\"),Taux_horaire/100,IF(AND(Tableau1[[#This Row],[Catégorie pièce]]=\" Nouveau\",Tableau1[[#This Row],[Type de pièce]]=\" Fabriquée\"),BOM!$AO56,IF(OR(AND(Tableau1[[#This Row],[Catégorie pièce]]=\" Nouveau\",Tableau1[[#This Row],[Type de pièce]]=\" Assemblage\"),BOM!$Y56=\" Produit fini\",Tableau1[[#This Row],[Type de pièce]]=\" Opé pièce primaire\",Tableau1[[#This Row],[Type de pièce]]=\" Pièce/Opé Panoplie\"),\"/\",IF(Tableau1[[#This Row],[Catégorie pièce]]=\" Existant\",VLOOKUP(CONCATENATE(Tableau1[[#This Row],[Article produit/\nPoste de charge]]),[1]ARTRDCL!$A$1:$U$65536,15,FALSE),\"\"))))","v":""},{"$f":"IF(OR(Tableau1[[#This Row],[Catégorie pièce]]=\" Opérations\",Tableau1[[#This Row],[Catégorie pièce]]=\" Matière 1ère\",ISBLANK(Tableau1[[#This Row],[Catégorie pièce]])),\"/\",SUMPRODUCT($AY$6:$BB$6,Tableau1[[#This Row],[Modèle A]:[Modèle D]]))","v":"/"},{"$f":"IFERROR(ROUNDDOWN(Tableau1[[#This Row],[surface\ntôle (m²)]]/Tableau1[[#This Row],[Surface\npièce (m²)]],0),0)","v":0},{"$f":"IF(AND(Tableau1[[#This Row],[Catégorie pièce]]=\" Nouveau\",Tableau1[[#This Row],[Type de pièce]]=\" Fabriquée\"),ROUNDUP(Tableau1[[#This Row],[Qté / an]]*2/52,0),0)","v":0},null,null,null,null,null,null,null,null,null,null,null,{"$f":"SUM(Tableau1[[#This Row],[VCOGS\ntôle]:[VCOGS\npliage]])","v":0},{"$f":"IFERROR((VLOOKUP(Tableau1[[#This Row],[Format\ntôle]],Tableau2[],11,FALSE)/Tableau1[[#This Row],[Série \néconomique ]])*Tableau1[[#This Row],[surface\ntôle (m²)]],0)","v":0},{"$f":"IF(Tableau1[[#This Row],[Laser (O/N)]]= \"Oui\",Tableau1[[#This Row],[Coût\ndécoupe laser]],Tableau1[[#This Row],[Coût\npoinçonnage]])","v":0},{"$f":"IF(Tableau1[[#This Row],[Nb plis]]>0, (IF(Tableau1[[#This Row],[Nb plis]]<5,0.25,IF(Tableau1[[#This Row],[Nb plis]]<7,0.33,0.45))/Tableau1[[#This Row],[Série \néconomique ]] +0.004*Tableau1[[#This Row],[Nb plis]])*$N$5,0)","v":0},{"$f":"IFERROR(VLOOKUP(Tableau1[[#This Row],[Format\ntôle]],Tôles!B:P,9,FALSE),0)","v":0},{"$f":"Tableau1[[#This Row],[Dimention X (mm)]]/1000*Tableau1[[#This Row],[Dimention Y (mm)]]/1000","v":0},{"$f":"IFERROR(ROUNDUP(Tableau1[[#This Row],[Surface\npièce (m²)]]/Tableau1[[#This Row],[surface\ntôle (m²)]],4),0)","v":0},{"$f":"IF(Tableau1[[#This Row],[Forcer série Economique ]]>0,Tableau1[[#This Row],[Forcer série Economique ]],Tableau1[[#This Row],[Série Economique proposée]])","v":0},{"$f":"IF(OR(ISERROR((5/Tableau1[[#This Row],[Série \néconomique ]]+Tableau1[[#This Row],[Nb trous]]*0.08*VLOOKUP(Tableau1[[#This Row],[Format\ntôle]],Tôles!B:O,5,FALSE)+ (Tableau1[[#This Row],[Dimention X (mm)]]+Tableau1[[#This Row],[Dimention Y (mm)]]) * 0.001)*Taux_horaire/100),Tableau1[[#This Row],[VCOGS\ntôle]] = \"\"),0,(5/Tableau1[[#This Row],[Série \néconomique ]]+Tableau1[[#This Row],[Nb trous]]*0.08*VLOOKUP(Tableau1[[#This Row],[Format\ntôle]],Tôles!B:O,5,FALSE)+ (Tableau1[[#This Row],[Dimention X (mm)]]+Tableau1[[#This Row],[Dimention Y (mm)]]) * 0.001)*Taux_horaire/100)","v":0},{"$f":"IF(OR(ISERROR((10/Tableau1[[#This Row],[Série \néconomique ]]+Tableau1[[#This Row],[Nb trous]]*0.007 + (Tableau1[[#This Row],[Dimention X (mm)]]+Tableau1[[#This Row],[Dimention Y (mm)]]) * 0.0005)*Taux_horaire/100),Tableau1[[#This Row],[VCOGS\ntôle]]= \"\"),0,(10/Tableau1[[#This Row],[Série \néconomique ]]+Tableau1[[#This Row],[Nb trous]]*0.007 + (Tableau1[[#This Row],[Dimention X (mm)]]+Tableau1[[#This Row],[Dimention Y (mm)]]) * 0.0005)*Taux_horaire/100)","v":0}]
[null,null,null,null,null,null,null,{"$f":"SUBSTITUTE(TRIM(CONCATENATE(Tableau1[[#This Row],[Niveau 0]],\" \",Tableau1[[#This Row],[Niveau 1]],\" \",Tableau1[[#This Row],[Niveau 2]],\" \",Tableau1[[#This Row],[Niveau 3]],\" \",Tableau1[[#This Row],[Niveau 4]],\" \",Tableau1[[#This Row],[Niveau 5]])),\" \",\".\")","v":""},{"$f":"IFERROR(IF(COUNTBLANK(Tableau1[[#This Row],[Niveau 0]:[Niveau 5]])=5,\"0\",LEFT(Tableau1[[#This Row],[Niveau]],(LEN(Tableau1[[#This Row],[Niveau]])-LEN(OFFSET(Tableau1[[#This Row],[Niveau 5]],0,(-COUNTBLANK(Tableau1[[#This Row],[Niveau 0]:[Niveau 5]]))))-1))),\"\")","v":""},null,null,null,null,{"$f":"IF(Tableau1[[#This Row],[Catégorie pièce]]=\" Opérations\",VLOOKUP(Tableau1[[#This Row],[Article produit/\nPoste de charge]],'PDC+emplacement'!A:C,2,FALSE),IF(Tableau1[[#This Row],[Catégorie pièce]]=\" Nouveau\",\"***RENSEIGNER NOM***\",IFERROR(VLOOKUP(CONCATENATE(Tableau1[[#This Row],[Article produit/\nPoste de charge]]),[1]ARTRDCL!$A$1:$U$25000,2,FALSE),\"\")))","v":""},null,null,null,null,null,{"$f":"IF(Tableau1[[#This Row],[Type plan]]=\"SP\",\"SP\",IF(AND(Tableau1[[#This Row],[Catégorie pièce]]=\" Nouveau\",Tableau1[[#This Row],[Type de pièce]]<>\" Panoplie\"),MID(Tableau1[[#This Row],[Article produit/\nPoste de charge]],2,15),IF(AND(Tableau1[[#This Row],[Catégorie pièce]]=\" Nouveau\",Tableau1[[#This Row],[Type de pièce]]=\" Panoplie\"),Tableau1[[#This Row],[Article produit/\nPoste de charge]],\"\")))","v":""},null,null,{"$f":"ROUNDUP((Tableau1[[#This Row],[Qté / an]]/52)*2,0)","v":{"$error":"#VALUE!"}},null,null,{"$f":"IF(AND(Tableau1[[#This Row],[Catégorie pièce]]=\" Opérations\",Tableau1[[#This Row],[Type de pièce]]=\" Temps\"),Taux_horaire/100,IF(AND(Tableau1[[#This Row],[Catégorie pièce]]=\" Nouveau\",Tableau1[[#This Row],[Type de pièce]]=\" Fabriquée\"),BOM!$AO57,IF(OR(AND(Tableau1[[#This Row],[Catégorie pièce]]=\" Nouveau\",Tableau1[[#This Row],[Type de pièce]]=\" Assemblage\"),BOM!$Y57=\" Produit fini\",Tableau1[[#This Row],[Type de pièce]]=\" Opé pièce primaire\",Tableau1[[#This Row],[Type de pièce]]=\" Pièce/Opé Panoplie\"),\"/\",IF(Tableau1[[#This Row],[Catégorie pièce]]=\" Existant\",VLOOKUP(CONCATENATE(Tableau1[[#This Row],[Article produit/\nPoste de charge]]),[1]ARTRDCL!$A$1:$U$65536,15,FALSE),\"\"))))","v":""},{"$f":"IF(OR(Tableau1[[#This Row],[Catégorie pièce]]=\" Opérations\",Tableau1[[#This Row],[Catégorie pièce]]=\" Matière 1ère\",ISBLANK(Tableau1[[#This Row],[Catégorie pièce]])),\"/\",SUMPRODUCT($AY$6:$BB$6,Tableau1[[#This Row],[Modèle A]:[Modèle D]]))","v":"/"},{"$f":"IFERROR(ROUNDDOWN(Tableau1[[#This Row],[surface\ntôle (m²)]]/Tableau1[[#This Row],[Surface\npièce (m²)]],0),0)","v":0},{"$f":"IF(AND(Tableau1[[#This Row],[Catégorie pièce]]=\" Nouveau\",Tableau1[[#This Row],[Type de pièce]]=\" Fabriquée\"),ROUNDUP(Tableau1[[#This Row],[Qté / an]]*2/52,0),0)","v":0},null,null,null,null,null,null,null,null,null,null,null,{"$f":"SUM(Tableau1[[#This Row],[VCOGS\ntôle]:[VCOGS\npliage]])","v":0},{"$f":"IFERROR((VLOOKUP(Tableau1[[#This Row],[Format\ntôle]],Tableau2[],11,FALSE)/Tableau1[[#This Row],[Série \néconomique ]])*Tableau1[[#This Row],[surface\ntôle (m²)]],0)","v":0},{"$f":"IF(Tableau1[[#This Row],[Laser (O/N)]]= \"Oui\",Tableau1[[#This Row],[Coût\ndécoupe laser]],Tableau1[[#This Row],[Coût\npoinçonnage]])","v":0},{"$f":"IF(Tableau1[[#This Row],[Nb plis]]>0, (IF(Tableau1[[#This Row],[Nb plis]]<5,0.25,IF(Tableau1[[#This Row],[Nb plis]]<7,0.33,0.45))/Tableau1[[#This Row],[Série \néconomique ]] +0.004*Tableau1[[#This Row],[Nb plis]])*$N$5,0)","v":0},{"$f":"IFERROR(VLOOKUP(Tableau1[[#This Row],[Format\ntôle]],Tôles!B:P,9,FALSE),0)","v":0},{"$f":"Tableau1[[#This Row],[Dimention X (mm)]]/1000*Tableau1[[#This Row],[Dimention Y (mm)]]/1000","v":0},{"$f":"IFERROR(ROUNDUP(Tableau1[[#This Row],[Surface\npièce (m²)]]/Tableau1[[#This Row],[surface\ntôle (m²)]],4),0)","v":0},{"$f":"IF(Tableau1[[#This Row],[Forcer série Economique ]]>0,Tableau1[[#This Row],[Forcer série Economique ]],Tableau1[[#This Row],[Série Economique proposée]])","v":0},{"$f":"IF(OR(ISERROR((5/Tableau1[[#This Row],[Série \néconomique ]]+Tableau1[[#This Row],[Nb trous]]*0.08*VLOOKUP(Tableau1[[#This Row],[Format\ntôle]],Tôles!B:O,5,FALSE)+ (Tableau1[[#This Row],[Dimention X (mm)]]+Tableau1[[#This Row],[Dimention Y (mm)]]) * 0.001)*Taux_horaire/100),Tableau1[[#This Row],[VCOGS\ntôle]] = \"\"),0,(5/Tableau1[[#This Row],[Série \néconomique ]]+Tableau1[[#This Row],[Nb trous]]*0.08*VLOOKUP(Tableau1[[#This Row],[Format\ntôle]],Tôles!B:O,5,FALSE)+ (Tableau1[[#This Row],[Dimention X (mm)]]+Tableau1[[#This Row],[Dimention Y (mm)]]) * 0.001)*Taux_horaire/100)","v":0},{"$f":"IF(OR(ISERROR((10/Tableau1[[#This Row],[Série \néconomique ]]+Tableau1[[#This Row],[Nb trous]]*0.007 + (Tableau1[[#This Row],[Dimention X (mm)]]+Tableau1[[#This Row],[Dimention Y (mm)]]) * 0.0005)*Taux_horaire/100),Tableau1[[#This Row],[VCOGS\ntôle]]= \"\"),0,(10/Tableau1[[#This Row],[Série \néconomique ]]+Tableau1[[#This Row],[Nb trous]]*0.007 + (Tableau1[[#This Row],[Dimention X (mm)]]+Tableau1[[#This Row],[Dimention Y (mm)]]) * 0.0005)*Taux_horaire/100)","v":0}]
[null,null,null,null,null,null,null,{"$f":"SUBSTITUTE(TRIM(CONCATENATE(Tableau1[[#This Row],[Niveau 0]],\" \",Tableau1[[#This Row],[Niveau 1]],\" \",Tableau1[[#This Row],[Niveau 2]],\" \",Tableau1[[#This Row],[Niveau 3]],\" \",Tableau1[[#This Row],[Niveau 4]],\" \",Tableau1[[#This Row],[Niveau 5]])),\" \",\".\")","v":""},{"$f":"IFERROR(IF(COUNTBLANK(Tableau1[[#This Row],[Niveau 0]:[Niveau 5]])=5,\"0\",LEFT(Tableau1[[#This Row],[Niveau]],(LEN(Tableau1[[#This Row],[Niveau]])-LEN(OFFSET(Tableau1[[#This Row],[Niveau 5]],0,(-COUNTBLANK(Tableau1[[#This Row],[Niveau 0]:[Niveau 5]]))))-1))),\"\")","v":""},null,null,null,null,{"$f":"IF(Tableau1[[#This Row],[Catégorie pièce]]=\" Opérations\",VLOOKUP(Tableau1[[#This Row],[Article produit/\nPoste de charge]],'PDC+emplacement'!A:C,2,FALSE),IF(Tableau1[[#This Row],[Catégorie pièce]]=\" Nouveau\",\"***RENSEIGNER NOM***\",IFERROR(VLOOKUP(CONCATENATE(Tableau1[[#This Row],[Article produit/\nPoste de charge]]),[1]ARTRDCL!$A$1:$U$25000,2,FALSE),\"\")))","v":""},null,null,null,null,null,{"$f":"IF(Tableau1[[#This Row],[Type plan]]=\"SP\",\"SP\",IF(AND(Tableau1[[#This Row],[Catégorie pièce]]=\" Nouveau\",Tableau1[[#This Row],[Type de pièce]]<>\" Panoplie\"),MID(Tableau1[[#This Row],[Article produit/\nPoste de charge]],2,15),IF(AND(Tableau1[[#This Row],[Catégorie pièce]]=\" Nouveau\",Tableau1[[#This Row],[Type de pièce]]=\" Panoplie\"),Tableau1[[#This Row],[Article produit/\nPoste de charge]],\"\")))","v":""},null,null,{"$f":"ROUNDUP((Tableau1[[#This Row],[Qté / an]]/52)*2,0)","v":{"$error":"#VALUE!"}},null,null,{"$f":"IF(AND(Tableau1[[#This Row],[Catégorie pièce]]=\" Opérations\",Tableau1[[#This Row],[Type de pièce]]=\" Temps\"),Taux_horaire/100,IF(AND(Tableau1[[#This Row],[Catégorie pièce]]=\" Nouveau\",Tableau1[[#This Row],[Type de pièce]]=\" Fabriquée\"),BOM!$AO58,IF(OR(AND(Tableau1[[#This Row],[Catégorie pièce]]=\" Nouveau\",Tableau1[[#This Row],[Type de pièce]]=\" Assemblage\"),BOM!$Y58=\" Produit fini\",Tableau1[[#This Row],[Type de pièce]]=\" Opé pièce primaire\",Tableau1[[#This Row],[Type de pièce]]=\" Pièce/Opé Panoplie\"),\"/\",IF(Tableau1[[#This Row],[Catégorie pièce]]=\" Existant\",VLOOKUP(CONCATENATE(Tableau1[[#This Row],[Article produit/\nPoste de charge]]),[1]ARTRDCL!$A$1:$U$65536,15,FALSE),\"\"))))","v":""},{"$f":"IF(OR(Tableau1[[#This Row],[Catégorie pièce]]=\" Opérations\",Tableau1[[#This Row],[Catégorie pièce]]=\" Matière 1ère\",ISBLANK(Tableau1[[#This Row],[Catégorie pièce]])),\"/\",SUMPRODUCT($AY$6:$BB$6,Tableau1[[#This Row],[Modèle A]:[Modèle D]]))","v":"/"},{"$f":"IFERROR(ROUNDDOWN(Tableau1[[#This Row],[surface\ntôle (m²)]]/Tableau1[[#This Row],[Surface\npièce (m²)]],0),0)","v":0},{"$f":"IF(AND(Tableau1[[#This Row],[Catégorie pièce]]=\" Nouveau\",Tableau1[[#This Row],[Type de pièce]]=\" Fabriquée\"),ROUNDUP(Tableau1[[#This Row],[Qté / an]]*2/52,0),0)","v":0},null,null,null,null,null,null,null,null,null,null,null,{"$f":"SUM(Tableau1[[#This Row],[VCOGS\ntôle]:[VCOGS\npliage]])","v":0},{"$f":"IFERROR((VLOOKUP(Tableau1[[#This Row],[Format\ntôle]],Tableau2[],11,FALSE)/Tableau1[[#This Row],[Série \néconomique ]])*Tableau1[[#This Row],[surface\ntôle (m²)]],0)","v":0},{"$f":"IF(Tableau1[[#This Row],[Laser (O/N)]]= \"Oui\",Tableau1[[#This Row],[Coût\ndécoupe laser]],Tableau1[[#This Row],[Coût\npoinçonnage]])","v":0},{"$f":"IF(Tableau1[[#This Row],[Nb plis]]>0, (IF(Tableau1[[#This Row],[Nb plis]]<5,0.25,IF(Tableau1[[#This Row],[Nb plis]]<7,0.33,0.45))/Tableau1[[#This Row],[Série \néconomique ]] +0.004*Tableau1[[#This Row],[Nb plis]])*$N$5,0)","v":0},{"$f":"IFERROR(VLOOKUP(Tableau1[[#This Row],[Format\ntôle]],Tôles!B:P,9,FALSE),0)","v":0},{"$f":"Tableau1[[#This Row],[Dimention X (mm)]]/1000*Tableau1[[#This Row],[Dimention Y (mm)]]/1000","v":0},{"$f":"IFERROR(ROUNDUP(Tableau1[[#This Row],[Surface\npièce (m²)]]/Tableau1[[#This Row],[surface\ntôle (m²)]],4),0)","v":0},{"$f":"IF(Tableau1[[#This Row],[Forcer série Economique ]]>0,Tableau1[[#This Row],[Forcer série Economique ]],Tableau1[[#This Row],[Série Economique proposée]])","v":0},{"$f":"IF(OR(ISERROR((5/Tableau1[[#This Row],[Série \néconomique ]]+Tableau1[[#This Row],[Nb trous]]*0.08*VLOOKUP(Tableau1[[#This Row],[Format\ntôle]],Tôles!B:O,5,FALSE)+ (Tableau1[[#This Row],[Dimention X (mm)]]+Tableau1[[#This Row],[Dimention Y (mm)]]) * 0.001)*Taux_horaire/100),Tableau1[[#This Row],[VCOGS\ntôle]] = \"\"),0,(5/Tableau1[[#This Row],[Série \néconomique ]]+Tableau1[[#This Row],[Nb trous]]*0.08*VLOOKUP(Tableau1[[#This Row],[Format\ntôle]],Tôles!B:O,5,FALSE)+ (Tableau1[[#This Row],[Dimention X (mm)]]+Tableau1[[#This Row],[Dimention Y (mm)]]) * 0.001)*Taux_horaire/100)","v":0},{"$f":"IF(OR(ISERROR((10/Tableau1[[#This Row],[Série \néconomique ]]+Tableau1[[#This Row],[Nb trous]]*0.007 + (Tableau1[[#This Row],[Dimention X (mm)]]+Tableau1[[#This Row],[Dimention Y (mm)]]) * 0.0005)*Taux_horaire/100),Tableau1[[#This Row],[VCOGS\ntôle]]= \"\"),0,(10/Tableau1[[#This Row],[Série \néconomique ]]+Tableau1[[#This Row],[Nb trous]]*0.007 + (Tableau1[[#This Row],[Dimention X (mm)]]+Tableau1[[#This Row],[Dimention Y (mm)]]) * 0.0005)*Taux_horaire/100)","v":0}]
[null,null,null,null,null,null,null,{"$f":"SUBSTITUTE(TRIM(CONCATENATE(Tableau1[[#This Row],[Niveau 0]],\" \",Tableau1[[#This Row],[Niveau 1]],\" \",Tableau1[[#This Row],[Niveau 2]],\" \",Tableau1[[#This Row],[Niveau 3]],\" \",Tableau1[[#This Row],[Niveau 4]],\" \",Tableau1[[#This Row],[Niveau 5]])),\" \",\".\")","v":""},{"$f":"IFERROR(IF(COUNTBLANK(Tableau1[[#This Row],[Niveau 0]:[Niveau 5]])=5,\"0\",LEFT(Tableau1[[#This Row],[Niveau]],(LEN(Tableau1[[#This Row],[Niveau]])-LEN(OFFSET(Tableau1[[#This Row],[Niveau 5]],0,(-COUNTBLANK(Tableau1[[#This Row],[Niveau 0]:[Niveau 5]]))))-1))),\"\")","v":""},null,null,null,null,{"$f":"IF(Tableau1[[#This Row],[Catégorie pièce]]=\" Opérations\",VLOOKUP(Tableau1[[#This Row],[Article produit/\nPoste de charge]],'PDC+emplacement'!A:C,2,FALSE),IF(Tableau1[[#This Row],[Catégorie pièce]]=\" Nouveau\",\"***RENSEIGNER NOM***\",IFERROR(VLOOKUP(CONCATENATE(Tableau1[[#This Row],[Article produit/\nPoste de charge]]),[1]ARTRDCL!$A$1:$U$25000,2,FALSE),\"\")))","v":""},null,null,null,null,null,{"$f":"IF(Tableau1[[#This Row],[Type plan]]=\"SP\",\"SP\",IF(AND(Tableau1[[#This Row],[Catégorie pièce]]=\" Nouveau\",Tableau1[[#This Row],[Type de pièce]]<>\" Panoplie\"),MID(Tableau1[[#This Row],[Article produit/\nPoste de charge]],2,15),IF(AND(Tableau1[[#This Row],[Catégorie pièce]]=\" Nouveau\",Tableau1[[#This Row],[Type de pièce]]=\" Panoplie\"),Tableau1[[#This Row],[Article produit/\nPoste de charge]],\"\")))","v":""},null,null,{"$f":"ROUNDUP((Tableau1[[#This Row],[Qté / an]]/52)*2,0)","v":{"$error":"#VALUE!"}},null,null,{"$f":"IF(AND(Tableau1[[#This Row],[Catégorie pièce]]=\" Opérations\",Tableau1[[#This Row],[Type de pièce]]=\" Temps\"),Taux_horaire/100,IF(AND(Tableau1[[#This Row],[Catégorie pièce]]=\" Nouveau\",Tableau1[[#This Row],[Type de pièce]]=\" Fabriquée\"),BOM!$AO59,IF(OR(AND(Tableau1[[#This Row],[Catégorie pièce]]=\" Nouveau\",Tableau1[[#This Row],[Type de pièce]]=\" Assemblage\"),BOM!$Y59=\" Produit fini\",Tableau1[[#This Row],[Type de pièce]]=\" Opé pièce primaire\",Tableau1[[#This Row],[Type de pièce]]=\" Pièce/Opé Panoplie\"),\"/\",IF(Tableau1[[#This Row],[Catégorie pièce]]=\" Existant\",VLOOKUP(CONCATENATE(Tableau1[[#This Row],[Article produit/\nPoste de charge]]),[1]ARTRDCL!$A$1:$U$65536,15,FALSE),\"\"))))","v":""},{"$f":"IF(OR(Tableau1[[#This Row],[Catégorie pièce]]=\" Opérations\",Tableau1[[#This Row],[Catégorie pièce]]=\" Matière 1ère\",ISBLANK(Tableau1[[#This Row],[Catégorie pièce]])),\"/\",SUMPRODUCT($AY$6:$BB$6,Tableau1[[#This Row],[Modèle A]:[Modèle D]]))","v":"/"},{"$f":"IFERROR(ROUNDDOWN(Tableau1[[#This Row],[surface\ntôle (m²)]]/Tableau1[[#This Row],[Surface\npièce (m²)]],0),0)","v":0},{"$f":"IF(AND(Tableau1[[#This Row],[Catégorie pièce]]=\" Nouveau\",Tableau1[[#This Row],[Type de pièce]]=\" Fabriquée\"),ROUNDUP(Tableau1[[#This Row],[Qté / an]]*2/52,0),0)","v":0},null,null,null,null,null,null,null,null,null,null,null,{"$f":"SUM(Tableau1[[#This Row],[VCOGS\ntôle]:[VCOGS\npliage]])","v":0},{"$f":"IFERROR((VLOOKUP(Tableau1[[#This Row],[Format\ntôle]],Tableau2[],11,FALSE)/Tableau1[[#This Row],[Série \néconomique ]])*Tableau1[[#This Row],[surface\ntôle (m²)]],0)","v":0},{"$f":"IF(Tableau1[[#This Row],[Laser (O/N)]]= \"Oui\",Tableau1[[#This Row],[Coût\ndécoupe laser]],Tableau1[[#This Row],[Coût\npoinçonnage]])","v":0},{"$f":"IF(Tableau1[[#This Row],[Nb plis]]>0, (IF(Tableau1[[#This Row],[Nb plis]]<5,0.25,IF(Tableau1[[#This Row],[Nb plis]]<7,0.33,0.45))/Tableau1[[#This Row],[Série \néconomique ]] +0.004*Tableau1[[#This Row],[Nb plis]])*$N$5,0)","v":0},{"$f":"IFERROR(VLOOKUP(Tableau1[[#This Row],[Format\ntôle]],Tôles!B:P,9,FALSE),0)","v":0},{"$f":"Tableau1[[#This Row],[Dimention X (mm)]]/1000*Tableau1[[#This Row],[Dimention Y (mm)]]/1000","v":0},{"$f":"IFERROR(ROUNDUP(Tableau1[[#This Row],[Surface\npièce (m²)]]/Tableau1[[#This Row],[surface\ntôle (m²)]],4),0)","v":0},{"$f":"IF(Tableau1[[#This Row],[Forcer série Economique ]]>0,Tableau1[[#This Row],[Forcer série Economique ]],Tableau1[[#This Row],[Série Economique proposée]])","v":0},{"$f":"IF(OR(ISERROR((5/Tableau1[[#This Row],[Série \néconomique ]]+Tableau1[[#This Row],[Nb trous]]*0.08*VLOOKUP(Tableau1[[#This Row],[Format\ntôle]],Tôles!B:O,5,FALSE)+ (Tableau1[[#This Row],[Dimention X (mm)]]+Tableau1[[#This Row],[Dimention Y (mm)]]) * 0.001)*Taux_horaire/100),Tableau1[[#This Row],[VCOGS\ntôle]] = \"\"),0,(5/Tableau1[[#This Row],[Série \néconomique ]]+Tableau1[[#This Row],[Nb trous]]*0.08*VLOOKUP(Tableau1[[#This Row],[Format\ntôle]],Tôles!B:O,5,FALSE)+ (Tableau1[[#This Row],[Dimention X (mm)]]+Tableau1[[#This Row],[Dimention Y (mm)]]) * 0.001)*Taux_horaire/100)","v":0},{"$f":"IF(OR(ISERROR((10/Tableau1[[#This Row],[Série \néconomique ]]+Tableau1[[#This Row],[Nb trous]]*0.007 + (Tableau1[[#This Row],[Dimention X (mm)]]+Tableau1[[#This Row],[Dimention Y (mm)]]) * 0.0005)*Taux_horaire/100),Tableau1[[#This Row],[VCOGS\ntôle]]= \"\"),0,(10/Tableau1[[#This Row],[Série \néconomique ]]+Tableau1[[#This Row],[Nb trous]]*0.007 + (Tableau1[[#This Row],[Dimention X (mm)]]+Tableau1[[#This Row],[Dimention Y (mm)]]) * 0.0005)*Taux_horaire/100)","v":0}]
[null,null,null,null,null,null,null,{"$f":"SUBSTITUTE(TRIM(CONCATENATE(Tableau1[[#This Row],[Niveau 0]],\" \",Tableau1[[#This Row],[Niveau 1]],\" \",Tableau1[[#This Row],[Niveau 2]],\" \",Tableau1[[#This Row],[Niveau 3]],\" \",Tableau1[[#This Row],[Niveau 4]],\" \",Tableau1[[#This Row],[Niveau 5]])),\" \",\".\")","v":""},{"$f":"IFERROR(IF(COUNTBLANK(Tableau1[[#This Row],[Niveau 0]:[Niveau 5]])=5,\"0\",LEFT(Tableau1[[#This Row],[Niveau]],(LEN(Tableau1[[#This Row],[Niveau]])-LEN(OFFSET(Tableau1[[#This Row],[Niveau 5]],0,(-COUNTBLANK(Tableau1[[#This Row],[Niveau 0]:[Niveau 5]]))))-1))),\"\")","v":""},null,null,null,null,{"$f":"IF(Tableau1[[#This Row],[Catégorie pièce]]=\" Opérations\",VLOOKUP(Tableau1[[#This Row],[Article produit/\nPoste de charge]],'PDC+emplacement'!A:C,2,FALSE),IF(Tableau1[[#This Row],[Catégorie pièce]]=\" Nouveau\",\"***RENSEIGNER NOM***\",IFERROR(VLOOKUP(CONCATENATE(Tableau1[[#This Row],[Article produit/\nPoste de charge]]),[1]ARTRDCL!$A$1:$U$25000,2,FALSE),\"\")))","v":""},null,null,null,null,null,{"$f":"IF(Tableau1[[#This Row],[Type plan]]=\"SP\",\"SP\",IF(AND(Tableau1[[#This Row],[Catégorie pièce]]=\" Nouveau\",Tableau1[[#This Row],[Type de pièce]]<>\" Panoplie\"),MID(Tableau1[[#This Row],[Article produit/\nPoste de charge]],2,15),IF(AND(Tableau1[[#This Row],[Catégorie pièce]]=\" Nouveau\",Tableau1[[#This Row],[Type de pièce]]=\" Panoplie\"),Tableau1[[#This Row],[Article produit/\nPoste de charge]],\"\")))","v":""},null,null,{"$f":"ROUNDUP((Tableau1[[#This Row],[Qté / an]]/52)*2,0)","v":{"$error":"#VALUE!"}},null,null,{"$f":"IF(AND(Tableau1[[#This Row],[Catégorie pièce]]=\" Opérations\",Tableau1[[#This Row],[Type de pièce]]=\" Temps\"),Taux_horaire/100,IF(AND(Tableau1[[#This Row],[Catégorie pièce]]=\" Nouveau\",Tableau1[[#This Row],[Type de pièce]]=\" Fabriquée\"),BOM!$AO60,IF(OR(AND(Tableau1[[#This Row],[Catégorie pièce]]=\" Nouveau\",Tableau1[[#This Row],[Type de pièce]]=\" Assemblage\"),BOM!$Y60=\" Produit fini\",Tableau1[[#This Row],[Type de pièce]]=\" Opé pièce primaire\",Tableau1[[#This Row],[Type de pièce]]=\" Pièce/Opé Panoplie\"),\"/\",IF(Tableau1[[#This Row],[Catégorie pièce]]=\" Existant\",VLOOKUP(CONCATENATE(Tableau1[[#This Row],[Article produit/\nPoste de charge]]),[1]ARTRDCL!$A$1:$U$65536,15,FALSE),\"\"))))","v":""},{"$f":"IF(OR(Tableau1[[#This Row],[Catégorie pièce]]=\" Opérations\",Tableau1[[#This Row],[Catégorie pièce]]=\" Matière 1ère\",ISBLANK(Tableau1[[#This Row],[Catégorie pièce]])),\"/\",SUMPRODUCT($AY$6:$BB$6,Tableau1[[#This Row],[Modèle A]:[Modèle D]]))","v":"/"},{"$f":"IFERROR(ROUNDDOWN(Tableau1[[#This Row],[surface\ntôle (m²)]]/Tableau1[[#This Row],[Surface\npièce (m²)]],0),0)","v":0},{"$f":"IF(AND(Tableau1[[#This Row],[Catégorie pièce]]=\" Nouveau\",Tableau1[[#This Row],[Type de pièce]]=\" Fabriquée\"),ROUNDUP(Tableau1[[#This Row],[Qté / an]]*2/52,0),0)","v":0},null,null,null,null,null,null,null,null,null,null,null,{"$f":"SUM(Tableau1[[#This Row],[VCOGS\ntôle]:[VCOGS\npliage]])","v":0},{"$f":"IFERROR((VLOOKUP(Tableau1[[#This Row],[Format\ntôle]],Tableau2[],11,FALSE)/Tableau1[[#This Row],[Série \néconomique ]])*Tableau1[[#This Row],[surface\ntôle (m²)]],0)","v":0},{"$f":"IF(Tableau1[[#This Row],[Laser (O/N)]]= \"Oui\",Tableau1[[#This Row],[Coût\ndécoupe laser]],Tableau1[[#This Row],[Coût\npoinçonnage]])","v":0},{"$f":"IF(Tableau1[[#This Row],[Nb plis]]>0, (IF(Tableau1[[#This Row],[Nb plis]]<5,0.25,IF(Tableau1[[#This Row],[Nb plis]]<7,0.33,0.45))/Tableau1[[#This Row],[Série \néconomique ]] +0.004*Tableau1[[#This Row],[Nb plis]])*$N$5,0)","v":0},{"$f":"IFERROR(VLOOKUP(Tableau1[[#This Row],[Format\ntôle]],Tôles!B:P,9,FALSE),0)","v":0},{"$f":"Tableau1[[#This Row],[Dimention X (mm)]]/1000*Tableau1[[#This Row],[Dimention Y (mm)]]/1000","v":0},{"$f":"IFERROR(ROUNDUP(Tableau1[[#This Row],[Surface\npièce (m²)]]/Tableau1[[#This Row],[surface\ntôle (m²)]],4),0)","v":0},{"$f":"IF(Tableau1[[#This Row],[Forcer série Economique ]]>0,Tableau1[[#This Row],[Forcer série Economique ]],Tableau1[[#This Row],[Série Economique proposée]])","v":0},{"$f":"IF(OR(ISERROR((5/Tableau1[[#This Row],[Série \néconomique ]]+Tableau1[[#This Row],[Nb trous]]*0.08*VLOOKUP(Tableau1[[#This Row],[Format\ntôle]],Tôles!B:O,5,FALSE)+ (Tableau1[[#This Row],[Dimention X (mm)]]+Tableau1[[#This Row],[Dimention Y (mm)]]) * 0.001)*Taux_horaire/100),Tableau1[[#This Row],[VCOGS\ntôle]] = \"\"),0,(5/Tableau1[[#This Row],[Série \néconomique ]]+Tableau1[[#This Row],[Nb trous]]*0.08*VLOOKUP(Tableau1[[#This Row],[Format\ntôle]],Tôles!B:O,5,FALSE)+ (Tableau1[[#This Row],[Dimention X (mm)]]+Tableau1[[#This Row],[Dimention Y (mm)]]) * 0.001)*Taux_horaire/100)","v":0},{"$f":"IF(OR(ISERROR((10/Tableau1[[#This Row],[Série \néconomique ]]+Tableau1[[#This Row],[Nb trous]]*0.007 + (Tableau1[[#This Row],[Dimention X (mm)]]+Tableau1[[#This Row],[Dimention Y (mm)]]) * 0.0005)*Taux_horaire/100),Tableau1[[#This Row],[VCOGS\ntôle]]= \"\"),0,(10/Tableau1[[#This Row],[Série \néconomique ]]+Tableau1[[#This Row],[Nb trous]]*0.007 + (Tableau1[[#This Row],[Dimention X (mm)]]+Tableau1[[#This Row],[Dimention Y (mm)]]) * 0.0005)*Taux_horaire/100)","v":0}]
[null,null,null,null,null,null,null,{"$f":"SUBSTITUTE(TRIM(CONCATENATE(Tableau1[[#This Row],[Niveau 0]],\" \",Tableau1[[#This Row],[Niveau 1]],\" \",Tableau1[[#This Row],[Niveau 2]],\" \",Tableau1[[#This Row],[Niveau 3]],\" \",Tableau1[[#This Row],[Niveau 4]],\" \",Tableau1[[#This Row],[Niveau 5]])),\" \",\".\")","v":""},{"$f":"IFERROR(IF(COUNTBLANK(Tableau1[[#This Row],[Niveau 0]:[Niveau 5]])=5,\"0\",LEFT(Tableau1[[#This Row],[Niveau]],(LEN(Tableau1[[#This Row],[Niveau]])-LEN(OFFSET(Tableau1[[#This Row],[Niveau 5]],0,(-COUNTBLANK(Tableau1[[#This Row],[Niveau 0]:[Niveau 5]]))))-1))),\"\")","v":""},null,null,null,null,{"$f":"IF(Tableau1[[#This Row],[Catégorie pièce]]=\" Opérations\",VLOOKUP(Tableau1[[#This Row],[Article produit/\nPoste de charge]],'PDC+emplacement'!A:C,2,FALSE),IF(Tableau1[[#This Row],[Catégorie pièce]]=\" Nouveau\",\"***RENSEIGNER NOM***\",IFERROR(VLOOKUP(CONCATENATE(Tableau1[[#This Row],[Article produit/\nPoste de charge]]),[1]ARTRDCL!$A$1:$U$25000,2,FALSE),\"\")))","v":""},null,null,null,null,null,{"$f":"IF(Tableau1[[#This Row],[Type plan]]=\"SP\",\"SP\",IF(AND(Tableau1[[#This Row],[Catégorie pièce]]=\" Nouveau\",Tableau1[[#This Row],[Type de pièce]]<>\" Panoplie\"),MID(Tableau1[[#This Row],[Article produit/\nPoste de charge]],2,15),IF(AND(Tableau1[[#This Row],[Catégorie pièce]]=\" Nouveau\",Tableau1[[#This Row],[Type de pièce]]=\" Panoplie\"),Tableau1[[#This Row],[Article produit/\nPoste de charge]],\"\")))","v":""},null,null,{"$f":"ROUNDUP((Tableau1[[#This Row],[Qté / an]]/52)*2,0)","v":{"$error":"#VALUE!"}},null,null,{"$f":"IF(AND(Tableau1[[#This Row],[Catégorie pièce]]=\" Opérations\",Tableau1[[#This Row],[Type de pièce]]=\" Temps\"),Taux_horaire/100,IF(AND(Tableau1[[#This Row],[Catégorie pièce]]=\" Nouveau\",Tableau1[[#This Row],[Type de pièce]]=\" Fabriquée\"),BOM!$AO61,IF(OR(AND(Tableau1[[#This Row],[Catégorie pièce]]=\" Nouveau\",Tableau1[[#This Row],[Type de pièce]]=\" Assemblage\"),BOM!$Y61=\" Produit fini\",Tableau1[[#This Row],[Type de pièce]]=\" Opé pièce primaire\",Tableau1[[#This Row],[Type de pièce]]=\" Pièce/Opé Panoplie\"),\"/\",IF(Tableau1[[#This Row],[Catégorie pièce]]=\" Existant\",VLOOKUP(CONCATENATE(Tableau1[[#This Row],[Article produit/\nPoste de charge]]),[1]ARTRDCL!$A$1:$U$65536,15,FALSE),\"\"))))","v":""},{"$f":"IF(OR(Tableau1[[#This Row],[Catégorie pièce]]=\" Opérations\",Tableau1[[#This Row],[Catégorie pièce]]=\" Matière 1ère\",ISBLANK(Tableau1[[#This Row],[Catégorie pièce]])),\"/\",SUMPRODUCT($AY$6:$BB$6,Tableau1[[#This Row],[Modèle A]:[Modèle D]]))","v":"/"},{"$f":"IFERROR(ROUNDDOWN(Tableau1[[#This Row],[surface\ntôle (m²)]]/Tableau1[[#This Row],[Surface\npièce (m²)]],0),0)","v":0},{"$f":"IF(AND(Tableau1[[#This Row],[Catégorie pièce]]=\" Nouveau\",Tableau1[[#This Row],[Type de pièce]]=\" Fabriquée\"),ROUNDUP(Tableau1[[#This Row],[Qté / an]]*2/52,0),0)","v":0},null,null,null,null,null,null,null,null,null,null,null,{"$f":"SUM(Tableau1[[#This Row],[VCOGS\ntôle]:[VCOGS\npliage]])","v":0},{"$f":"IFERROR((VLOOKUP(Tableau1[[#This Row],[Format\ntôle]],Tableau2[],11,FALSE)/Tableau1[[#This Row],[Série \néconomique ]])*Tableau1[[#This Row],[surface\ntôle (m²)]],0)","v":0},{"$f":"IF(Tableau1[[#This Row],[Laser (O/N)]]= \"Oui\",Tableau1[[#This Row],[Coût\ndécoupe laser]],Tableau1[[#This Row],[Coût\npoinçonnage]])","v":0},{"$f":"IF(Tableau1[[#This Row],[Nb plis]]>0, (IF(Tableau1[[#This Row],[Nb plis]]<5,0.25,IF(Tableau1[[#This Row],[Nb plis]]<7,0.33,0.45))/Tableau1[[#This Row],[Série \néconomique ]] +0.004*Tableau1[[#This Row],[Nb plis]])*$N$5,0)","v":0},{"$f":"IFERROR(VLOOKUP(Tableau1[[#This Row],[Format\ntôle]],Tôles!B:P,9,FALSE),0)","v":0},{"$f":"Tableau1[[#This Row],[Dimention X (mm)]]/1000*Tableau1[[#This Row],[Dimention Y (mm)]]/1000","v":0},{"$f":"IFERROR(ROUNDUP(Tableau1[[#This Row],[Surface\npièce (m²)]]/Tableau1[[#This Row],[surface\ntôle (m²)]],4),0)","v":0},{"$f":"IF(Tableau1[[#This Row],[Forcer série Economique ]]>0,Tableau1[[#This Row],[Forcer série Economique ]],Tableau1[[#This Row],[Série Economique proposée]])","v":0},{"$f":"IF(OR(ISERROR((5/Tableau1[[#This Row],[Série \néconomique ]]+Tableau1[[#This Row],[Nb trous]]*0.08*VLOOKUP(Tableau1[[#This Row],[Format\ntôle]],Tôles!B:O,5,FALSE)+ (Tableau1[[#This Row],[Dimention X (mm)]]+Tableau1[[#This Row],[Dimention Y (mm)]]) * 0.001)*Taux_horaire/100),Tableau1[[#This Row],[VCOGS\ntôle]] = \"\"),0,(5/Tableau1[[#This Row],[Série \néconomique ]]+Tableau1[[#This Row],[Nb trous]]*0.08*VLOOKUP(Tableau1[[#This Row],[Format\ntôle]],Tôles!B:O,5,FALSE)+ (Tableau1[[#This Row],[Dimention X (mm)]]+Tableau1[[#This Row],[Dimention Y (mm)]]) * 0.001)*Taux_horaire/100)","v":0},{"$f":"IF(OR(ISERROR((10/Tableau1[[#This Row],[Série \néconomique ]]+Tableau1[[#This Row],[Nb trous]]*0.007 + (Tableau1[[#This Row],[Dimention X (mm)]]+Tableau1[[#This Row],[Dimention Y (mm)]]) * 0.0005)*Taux_horaire/100),Tableau1[[#This Row],[VCOGS\ntôle]]= \"\"),0,(10/Tableau1[[#This Row],[Série \néconomique ]]+Tableau1[[#This Row],[Nb trous]]*0.007 + (Tableau1[[#This Row],[Dimention X (mm)]]+Tableau1[[#This Row],[Dimention Y (mm)]]) * 0.0005)*Taux_horaire/100)","v":0}]
[null,null,null,null,null,null,null,{"$f":"SUBSTITUTE(TRIM(CONCATENATE(Tableau1[[#This Row],[Niveau 0]],\" \",Tableau1[[#This Row],[Niveau 1]],\" \",Tableau1[[#This Row],[Niveau 2]],\" \",Tableau1[[#This Row],[Niveau 3]],\" \",Tableau1[[#This Row],[Niveau 4]],\" \",Tableau1[[#This Row],[Niveau 5]])),\" \",\".\")","v":""},{"$f":"IFERROR(IF(COUNTBLANK(Tableau1[[#This Row],[Niveau 0]:[Niveau 5]])=5,\"0\",LEFT(Tableau1[[#This Row],[Niveau]],(LEN(Tableau1[[#This Row],[Niveau]])-LEN(OFFSET(Tableau1[[#This Row],[Niveau 5]],0,(-COUNTBLANK(Tableau1[[#This Row],[Niveau 0]:[Niveau 5]]))))-1))),\"\")","v":""},null,null,null,null,{"$f":"IF(Tableau1[[#This Row],[Catégorie pièce]]=\" Opérations\",VLOOKUP(Tableau1[[#This Row],[Article produit/\nPoste de charge]],'PDC+emplacement'!A:C,2,FALSE),IF(Tableau1[[#This Row],[Catégorie pièce]]=\" Nouveau\",\"***RENSEIGNER NOM***\",IFERROR(VLOOKUP(CONCATENATE(Tableau1[[#This Row],[Article produit/\nPoste de charge]]),[1]ARTRDCL!$A$1:$U$25000,2,FALSE),\"\")))","v":""},null,null,null,null,null,{"$f":"IF(Tableau1[[#This Row],[Type plan]]=\"SP\",\"SP\",IF(AND(Tableau1[[#This Row],[Catégorie pièce]]=\" Nouveau\",Tableau1[[#This Row],[Type de pièce]]<>\" Panoplie\"),MID(Tableau1[[#This Row],[Article produit/\nPoste de charge]],2,15),IF(AND(Tableau1[[#This Row],[Catégorie pièce]]=\" Nouveau\",Tableau1[[#This Row],[Type de pièce]]=\" Panoplie\"),Tableau1[[#This Row],[Article produit/\nPoste de charge]],\"\")))","v":""},null,null,{"$f":"ROUNDUP((Tableau1[[#This Row],[Qté / an]]/52)*2,0)","v":{"$error":"#VALUE!"}},null,null,{"$f":"IF(AND(Tableau1[[#This Row],[Catégorie pièce]]=\" Opérations\",Tableau1[[#This Row],[Type de pièce]]=\" Temps\"),Taux_horaire/100,IF(AND(Tableau1[[#This Row],[Catégorie pièce]]=\" Nouveau\",Tableau1[[#This Row],[Type de pièce]]=\" Fabriquée\"),BOM!$AO62,IF(OR(AND(Tableau1[[#This Row],[Catégorie pièce]]=\" Nouveau\",Tableau1[[#This Row],[Type de pièce]]=\" Assemblage\"),BOM!$Y62=\" Produit fini\",Tableau1[[#This Row],[Type de pièce]]=\" Opé pièce primaire\",Tableau1[[#This Row],[Type de pièce]]=\" Pièce/Opé Panoplie\"),\"/\",IF(Tableau1[[#This Row],[Catégorie pièce]]=\" Existant\",VLOOKUP(CONCATENATE(Tableau1[[#This Row],[Article produit/\nPoste de charge]]),[1]ARTRDCL!$A$1:$U$65536,15,FALSE),\"\"))))","v":""},{"$f":"IF(OR(Tableau1[[#This Row],[Catégorie pièce]]=\" Opérations\",Tableau1[[#This Row],[Catégorie pièce]]=\" Matière 1ère\",ISBLANK(Tableau1[[#This Row],[Catégorie pièce]])),\"/\",SUMPRODUCT($AY$6:$BB$6,Tableau1[[#This Row],[Modèle A]:[Modèle D]]))","v":"/"},{"$f":"IFERROR(ROUNDDOWN(Tableau1[[#This Row],[surface\ntôle (m²)]]/Tableau1[[#This Row],[Surface\npièce (m²)]],0),0)","v":0},{"$f":"IF(AND(Tableau1[[#This Row],[Catégorie pièce]]=\" Nouveau\",Tableau1[[#This Row],[Type de pièce]]=\" Fabriquée\"),ROUNDUP(Tableau1[[#This Row],[Qté / an]]*2/52,0),0)","v":0},null,null,null,null,null,null,null,null,null,null,null,{"$f":"SUM(Tableau1[[#This Row],[VCOGS\ntôle]:[VCOGS\npliage]])","v":0},{"$f":"IFERROR((VLOOKUP(Tableau1[[#This Row],[Format\ntôle]],Tableau2[],11,FALSE)/Tableau1[[#This Row],[Série \néconomique ]])*Tableau1[[#This Row],[surface\ntôle (m²)]],0)","v":0},{"$f":"IF(Tableau1[[#This Row],[Laser (O/N)]]= \"Oui\",Tableau1[[#This Row],[Coût\ndécoupe laser]],Tableau1[[#This Row],[Coût\npoinçonnage]])","v":0},{"$f":"IF(Tableau1[[#This Row],[Nb plis]]>0, (IF(Tableau1[[#This Row],[Nb plis]]<5,0.25,IF(Tableau1[[#This Row],[Nb plis]]<7,0.33,0.45))/Tableau1[[#This Row],[Série \néconomique ]] +0.004*Tableau1[[#This Row],[Nb plis]])*$N$5,0)","v":0},{"$f":"IFERROR(VLOOKUP(Tableau1[[#This Row],[Format\ntôle]],Tôles!B:P,9,FALSE),0)","v":0},{"$f":"Tableau1[[#This Row],[Dimention X (mm)]]/1000*Tableau1[[#This Row],[Dimention Y (mm)]]/1000","v":0},{"$f":"IFERROR(ROUNDUP(Tableau1[[#This Row],[Surface\npièce (m²)]]/Tableau1[[#This Row],[surface\ntôle (m²)]],4),0)","v":0},{"$f":"IF(Tableau1[[#This Row],[Forcer série Economique ]]>0,Tableau1[[#This Row],[Forcer série Economique ]],Tableau1[[#This Row],[Série Economique proposée]])","v":0},{"$f":"IF(OR(ISERROR((5/Tableau1[[#This Row],[Série \néconomique ]]+Tableau1[[#This Row],[Nb trous]]*0.08*VLOOKUP(Tableau1[[#This Row],[Format\ntôle]],Tôles!B:O,5,FALSE)+ (Tableau1[[#This Row],[Dimention X (mm)]]+Tableau1[[#This Row],[Dimention Y (mm)]]) * 0.001)*Taux_horaire/100),Tableau1[[#This Row],[VCOGS\ntôle]] = \"\"),0,(5/Tableau1[[#This Row],[Série \néconomique ]]+Tableau1[[#This Row],[Nb trous]]*0.08*VLOOKUP(Tableau1[[#This Row],[Format\ntôle]],Tôles!B:O,5,FALSE)+ (Tableau1[[#This Row],[Dimention X (mm)]]+Tableau1[[#This Row],[Dimention Y (mm)]]) * 0.001)*Taux_horaire/100)","v":0},{"$f":"IF(OR(ISERROR((10/Tableau1[[#This Row],[Série \néconomique ]]+Tableau1[[#This Row],[Nb trous]]*0.007 + (Tableau1[[#This Row],[Dimention X (mm)]]+Tableau1[[#This Row],[Dimention Y (mm)]]) * 0.0005)*Taux_horaire/100),Tableau1[[#This Row],[VCOGS\ntôle]]= \"\"),0,(10/Tableau1[[#This Row],[Série \néconomique ]]+Tableau1[[#This Row],[Nb trous]]*0.007 + (Tableau1[[#This Row],[Dimention X (mm)]]+Tableau1[[#This Row],[Dimention Y (mm)]]) * 0.0005)*Taux_horaire/100)","v":0}]
[null,null,null,null,null,null,null,{"$f":"SUBSTITUTE(TRIM(CONCATENATE(Tableau1[[#This Row],[Niveau 0]],\" \",Tableau1[[#This Row],[Niveau 1]],\" \",Tableau1[[#This Row],[Niveau 2]],\" \",Tableau1[[#This Row],[Niveau 3]],\" \",Tableau1[[#This Row],[Niveau 4]],\" \",Tableau1[[#This Row],[Niveau 5]])),\" \",\".\")","v":""},{"$f":"IFERROR(IF(COUNTBLANK(Tableau1[[#This Row],[Niveau 0]:[Niveau 5]])=5,\"0\",LEFT(Tableau1[[#This Row],[Niveau]],(LEN(Tableau1[[#This Row],[Niveau]])-LEN(OFFSET(Tableau1[[#This Row],[Niveau 5]],0,(-COUNTBLANK(Tableau1[[#This Row],[Niveau 0]:[Niveau 5]]))))-1))),\"\")","v":""},null,null,null,null,{"$f":"IF(Tableau1[[#This Row],[Catégorie pièce]]=\" Opérations\",VLOOKUP(Tableau1[[#This Row],[Article produit/\nPoste de charge]],'PDC+emplacement'!A:C,2,FALSE),IF(Tableau1[[#This Row],[Catégorie pièce]]=\" Nouveau\",\"***RENSEIGNER NOM***\",IFERROR(VLOOKUP(CONCATENATE(Tableau1[[#This Row],[Article produit/\nPoste de charge]]),[1]ARTRDCL!$A$1:$U$25000,2,FALSE),\"\")))","v":""},null,null,null,null,null,{"$f":"IF(Tableau1[[#This Row],[Type plan]]=\"SP\",\"SP\",IF(AND(Tableau1[[#This Row],[Catégorie pièce]]=\" Nouveau\",Tableau1[[#This Row],[Type de pièce]]<>\" Panoplie\"),MID(Tableau1[[#This Row],[Article produit/\nPoste de charge]],2,15),IF(AND(Tableau1[[#This Row],[Catégorie pièce]]=\" Nouveau\",Tableau1[[#This Row],[Type de pièce]]=\" Panoplie\"),Tableau1[[#This Row],[Article produit/\nPoste de charge]],\"\")))","v":""},null,null,{"$f":"ROUNDUP((Tableau1[[#This Row],[Qté / an]]/52)*2,0)","v":{"$error":"#VALUE!"}},null,null,{"$f":"IF(AND(Tableau1[[#This Row],[Catégorie pièce]]=\" Opérations\",Tableau1[[#This Row],[Type de pièce]]=\" Temps\"),Taux_horaire/100,IF(AND(Tableau1[[#This Row],[Catégorie pièce]]=\" Nouveau\",Tableau1[[#This Row],[Type de pièce]]=\" Fabriquée\"),BOM!$AO63,IF(OR(AND(Tableau1[[#This Row],[Catégorie pièce]]=\" Nouveau\",Tableau1[[#This Row],[Type de pièce]]=\" Assemblage\"),BOM!$Y63=\" Produit fini\",Tableau1[[#This Row],[Type de pièce]]=\" Opé pièce primaire\",Tableau1[[#This Row],[Type de pièce]]=\" Pièce/Opé Panoplie\"),\"/\",IF(Tableau1[[#This Row],[Catégorie pièce]]=\" Existant\",VLOOKUP(CONCATENATE(Tableau1[[#This Row],[Article produit/\nPoste de charge]]),[1]ARTRDCL!$A$1:$U$65536,15,FALSE),\"\"))))","v":""},{"$f":"IF(OR(Tableau1[[#This Row],[Catégorie pièce]]=\" Opérations\",Tableau1[[#This Row],[Catégorie pièce]]=\" Matière 1ère\",ISBLANK(Tableau1[[#This Row],[Catégorie pièce]])),\"/\",SUMPRODUCT($AY$6:$BB$6,Tableau1[[#This Row],[Modèle A]:[Modèle D]]))","v":"/"},{"$f":"IFERROR(ROUNDDOWN(Tableau1[[#This Row],[surface\ntôle (m²)]]/Tableau1[[#This Row],[Surface\npièce (m²)]],0),0)","v":0},{"$f":"IF(AND(Tableau1[[#This Row],[Catégorie pièce]]=\" Nouveau\",Tableau1[[#This Row],[Type de pièce]]=\" Fabriquée\"),ROUNDUP(Tableau1[[#This Row],[Qté / an]]*2/52,0),0)","v":0},null,null,null,null,null,null,null,null,null,null,null,{"$f":"SUM(Tableau1[[#This Row],[VCOGS\ntôle]:[VCOGS\npliage]])","v":0},{"$f":"IFERROR((VLOOKUP(Tableau1[[#This Row],[Format\ntôle]],Tableau2[],11,FALSE)/Tableau1[[#This Row],[Série \néconomique ]])*Tableau1[[#This Row],[surface\ntôle (m²)]],0)","v":0},{"$f":"IF(Tableau1[[#This Row],[Laser (O/N)]]= \"Oui\",Tableau1[[#This Row],[Coût\ndécoupe laser]],Tableau1[[#This Row],[Coût\npoinçonnage]])","v":0},{"$f":"IF(Tableau1[[#This Row],[Nb plis]]>0, (IF(Tableau1[[#This Row],[Nb plis]]<5,0.25,IF(Tableau1[[#This Row],[Nb plis]]<7,0.33,0.45))/Tableau1[[#This Row],[Série \néconomique ]] +0.004*Tableau1[[#This Row],[Nb plis]])*$N$5,0)","v":0},{"$f":"IFERROR(VLOOKUP(Tableau1[[#This Row],[Format\ntôle]],Tôles!B:P,9,FALSE),0)","v":0},{"$f":"Tableau1[[#This Row],[Dimention X (mm)]]/1000*Tableau1[[#This Row],[Dimention Y (mm)]]/1000","v":0},{"$f":"IFERROR(ROUNDUP(Tableau1[[#This Row],[Surface\npièce (m²)]]/Tableau1[[#This Row],[surface\ntôle (m²)]],4),0)","v":0},{"$f":"IF(Tableau1[[#This Row],[Forcer série Economique ]]>0,Tableau1[[#This Row],[Forcer série Economique ]],Tableau1[[#This Row],[Série Economique proposée]])","v":0},{"$f":"IF(OR(ISERROR((5/Tableau1[[#This Row],[Série \néconomique ]]+Tableau1[[#This Row],[Nb trous]]*0.08*VLOOKUP(Tableau1[[#This Row],[Format\ntôle]],Tôles!B:O,5,FALSE)+ (Tableau1[[#This Row],[Dimention X (mm)]]+Tableau1[[#This Row],[Dimention Y (mm)]]) * 0.001)*Taux_horaire/100),Tableau1[[#This Row],[VCOGS\ntôle]] = \"\"),0,(5/Tableau1[[#This Row],[Série \néconomique ]]+Tableau1[[#This Row],[Nb trous]]*0.08*VLOOKUP(Tableau1[[#This Row],[Format\ntôle]],Tôles!B:O,5,FALSE)+ (Tableau1[[#This Row],[Dimention X (mm)]]+Tableau1[[#This Row],[Dimention Y (mm)]]) * 0.001)*Taux_horaire/100)","v":0},{"$f":"IF(OR(ISERROR((10/Tableau1[[#This Row],[Série \néconomique ]]+Tableau1[[#This Row],[Nb trous]]*0.007 + (Tableau1[[#This Row],[Dimention X (mm)]]+Tableau1[[#This Row],[Dimention Y (mm)]]) * 0.0005)*Taux_horaire/100),Tableau1[[#This Row],[VCOGS\ntôle]]= \"\"),0,(10/Tableau1[[#This Row],[Série \néconomique ]]+Tableau1[[#This Row],[Nb trous]]*0.007 + (Tableau1[[#This Row],[Dimention X (mm)]]+Tableau1[[#This Row],[Dimention Y (mm)]]) * 0.0005)*Taux_horaire/100)","v":0}]
[null,null,null,null,null,null,null,{"$f":"SUBSTITUTE(TRIM(CONCATENATE(Tableau1[[#This Row],[Niveau 0]],\" \",Tableau1[[#This Row],[Niveau 1]],\" \",Tableau1[[#This Row],[Niveau 2]],\" \",Tableau1[[#This Row],[Niveau 3]],\" \",Tableau1[[#This Row],[Niveau 4]],\" \",Tableau1[[#This Row],[Niveau 5]])),\" \",\".\")","v":""},{"$f":"IFERROR(IF(COUNTBLANK(Tableau1[[#This Row],[Niveau 0]:[Niveau 5]])=5,\"0\",LEFT(Tableau1[[#This Row],[Niveau]],(LEN(Tableau1[[#This Row],[Niveau]])-LEN(OFFSET(Tableau1[[#This Row],[Niveau 5]],0,(-COUNTBLANK(Tableau1[[#This Row],[Niveau 0]:[Niveau 5]]))))-1))),\"\")","v":""},null,null,null,null,{"$f":"IF(Tableau1[[#This Row],[Catégorie pièce]]=\" Opérations\",VLOOKUP(Tableau1[[#This Row],[Article produit/\nPoste de charge]],'PDC+emplacement'!A:C,2,FALSE),IF(Tableau1[[#This Row],[Catégorie pièce]]=\" Nouveau\",\"***RENSEIGNER NOM***\",IFERROR(VLOOKUP(CONCATENATE(Tableau1[[#This Row],[Article produit/\nPoste de charge]]),[1]ARTRDCL!$A$1:$U$25000,2,FALSE),\"\")))","v":""},null,null,null,null,null,{"$f":"IF(Tableau1[[#This Row],[Type plan]]=\"SP\",\"SP\",IF(AND(Tableau1[[#This Row],[Catégorie pièce]]=\" Nouveau\",Tableau1[[#This Row],[Type de pièce]]<>\" Panoplie\"),MID(Tableau1[[#This Row],[Article produit/\nPoste de charge]],2,15),IF(AND(Tableau1[[#This Row],[Catégorie pièce]]=\" Nouveau\",Tableau1[[#This Row],[Type de pièce]]=\" Panoplie\"),Tableau1[[#This Row],[Article produit/\nPoste de charge]],\"\")))","v":""},null,null,{"$f":"ROUNDUP((Tableau1[[#This Row],[Qté / an]]/52)*2,0)","v":{"$error":"#VALUE!"}},null,null,{"$f":"IF(AND(Tableau1[[#This Row],[Catégorie pièce]]=\" Opérations\",Tableau1[[#This Row],[Type de pièce]]=\" Temps\"),Taux_horaire/100,IF(AND(Tableau1[[#This Row],[Catégorie pièce]]=\" Nouveau\",Tableau1[[#This Row],[Type de pièce]]=\" Fabriquée\"),BOM!$AO64,IF(OR(AND(Tableau1[[#This Row],[Catégorie pièce]]=\" Nouveau\",Tableau1[[#This Row],[Type de pièce]]=\" Assemblage\"),BOM!$Y64=\" Produit fini\",Tableau1[[#This Row],[Type de pièce]]=\" Opé pièce primaire\",Tableau1[[#This Row],[Type de pièce]]=\" Pièce/Opé Panoplie\"),\"/\",IF(Tableau1[[#This Row],[Catégorie pièce]]=\" Existant\",VLOOKUP(CONCATENATE(Tableau1[[#This Row],[Article produit/\nPoste de charge]]),[1]ARTRDCL!$A$1:$U$65536,15,FALSE),\"\"))))","v":""},{"$f":"IF(OR(Tableau1[[#This Row],[Catégorie pièce]]=\" Opérations\",Tableau1[[#This Row],[Catégorie pièce]]=\" Matière 1ère\",ISBLANK(Tableau1[[#This Row],[Catégorie pièce]])),\"/\",SUMPRODUCT($AY$6:$BB$6,Tableau1[[#This Row],[Modèle A]:[Modèle D]]))","v":"/"},{"$f":"IFERROR(ROUNDDOWN(Tableau1[[#This Row],[surface\ntôle (m²)]]/Tableau1[[#This Row],[Surface\npièce (m²)]],0),0)","v":0},{"$f":"IF(AND(Tableau1[[#This Row],[Catégorie pièce]]=\" Nouveau\",Tableau1[[#This Row],[Type de pièce]]=\" Fabriquée\"),ROUNDUP(Tableau1[[#This Row],[Qté / an]]*2/52,0),0)","v":0},null,null,null,null,null,null,null,null,null,null,null,{"$f":"SUM(Tableau1[[#This Row],[VCOGS\ntôle]:[VCOGS\npliage]])","v":0},{"$f":"IFERROR((VLOOKUP(Tableau1[[#This Row],[Format\ntôle]],Tableau2[],11,FALSE)/Tableau1[[#This Row],[Série \néconomique ]])*Tableau1[[#This Row],[surface\ntôle (m²)]],0)","v":0},{"$f":"IF(Tableau1[[#This Row],[Laser (O/N)]]= \"Oui\",Tableau1[[#This Row],[Coût\ndécoupe laser]],Tableau1[[#This Row],[Coût\npoinçonnage]])","v":0},{"$f":"IF(Tableau1[[#This Row],[Nb plis]]>0, (IF(Tableau1[[#This Row],[Nb plis]]<5,0.25,IF(Tableau1[[#This Row],[Nb plis]]<7,0.33,0.45))/Tableau1[[#This Row],[Série \néconomique ]] +0.004*Tableau1[[#This Row],[Nb plis]])*$N$5,0)","v":0},{"$f":"IFERROR(VLOOKUP(Tableau1[[#This Row],[Format\ntôle]],Tôles!B:P,9,FALSE),0)","v":0},{"$f":"Tableau1[[#This Row],[Dimention X (mm)]]/1000*Tableau1[[#This Row],[Dimention Y (mm)]]/1000","v":0},{"$f":"IFERROR(ROUNDUP(Tableau1[[#This Row],[Surface\npièce (m²)]]/Tableau1[[#This Row],[surface\ntôle (m²)]],4),0)","v":0},{"$f":"IF(Tableau1[[#This Row],[Forcer série Economique ]]>0,Tableau1[[#This Row],[Forcer série Economique ]],Tableau1[[#This Row],[Série Economique proposée]])","v":0},{"$f":"IF(OR(ISERROR((5/Tableau1[[#This Row],[Série \néconomique ]]+Tableau1[[#This Row],[Nb trous]]*0.08*VLOOKUP(Tableau1[[#This Row],[Format\ntôle]],Tôles!B:O,5,FALSE)+ (Tableau1[[#This Row],[Dimention X (mm)]]+Tableau1[[#This Row],[Dimention Y (mm)]]) * 0.001)*Taux_horaire/100),Tableau1[[#This Row],[VCOGS\ntôle]] = \"\"),0,(5/Tableau1[[#This Row],[Série \néconomique ]]+Tableau1[[#This Row],[Nb trous]]*0.08*VLOOKUP(Tableau1[[#This Row],[Format\ntôle]],Tôles!B:O,5,FALSE)+ (Tableau1[[#This Row],[Dimention X (mm)]]+Tableau1[[#This Row],[Dimention Y (mm)]]) * 0.001)*Taux_horaire/100)","v":0},{"$f":"IF(OR(ISERROR((10/Tableau1[[#This Row],[Série \néconomique ]]+Tableau1[[#This Row],[Nb trous]]*0.007 + (Tableau1[[#This Row],[Dimention X (mm)]]+Tableau1[[#This Row],[Dimention Y (mm)]]) * 0.0005)*Taux_horaire/100),Tableau1[[#This Row],[VCOGS\ntôle]]= \"\"),0,(10/Tableau1[[#This Row],[Série \néconomique ]]+Tableau1[[#This Row],[Nb trous]]*0.007 + (Tableau1[[#This Row],[Dimention X (mm)]]+Tableau1[[#This Row],[Dimention Y (mm)]]) * 0.0005)*Taux_horaire/100)","v":0}]
[null,null,null,null,null,null,null,{"$f":"SUBSTITUTE(TRIM(CONCATENATE(Tableau1[[#This Row],[Niveau 0]],\" \",Tableau1[[#This Row],[Niveau 1]],\" \",Tableau1[[#This Row],[Niveau 2]],\" \",Tableau1[[#This Row],[Niveau 3]],\" \",Tableau1[[#This Row],[Niveau 4]],\" \",Tableau1[[#This Row],[Niveau 5]])),\" \",\".\")","v":""},{"$f":"IFERROR(IF(COUNTBLANK(Tableau1[[#This Row],[Niveau 0]:[Niveau 5]])=5,\"0\",LEFT(Tableau1[[#This Row],[Niveau]],(LEN(Tableau1[[#This Row],[Niveau]])-LEN(OFFSET(Tableau1[[#This Row],[Niveau 5]],0,(-COUNTBLANK(Tableau1[[#This Row],[Niveau 0]:[Niveau 5]]))))-1))),\"\")","v":""},null,null,null,null,{"$f":"IF(Tableau1[[#This Row],[Catégorie pièce]]=\" Opérations\",VLOOKUP(Tableau1[[#This Row],[Article produit/\nPoste de charge]],'PDC+emplacement'!A:C,2,FALSE),IF(Tableau1[[#This Row],[Catégorie pièce]]=\" Nouveau\",\"***RENSEIGNER NOM***\",IFERROR(VLOOKUP(CONCATENATE(Tableau1[[#This Row],[Article produit/\nPoste de charge]]),[1]ARTRDCL!$A$1:$U$25000,2,FALSE),\"\")))","v":""},null,null,null,null,null,{"$f":"IF(Tableau1[[#This Row],[Type plan]]=\"SP\",\"SP\",IF(AND(Tableau1[[#This Row],[Catégorie pièce]]=\" Nouveau\",Tableau1[[#This Row],[Type de pièce]]<>\" Panoplie\"),MID(Tableau1[[#This Row],[Article produit/\nPoste de charge]],2,15),IF(AND(Tableau1[[#This Row],[Catégorie pièce]]=\" Nouveau\",Tableau1[[#This Row],[Type de pièce]]=\" Panoplie\"),Tableau1[[#This Row],[Article produit/\nPoste de charge]],\"\")))","v":""},null,null,{"$f":"ROUNDUP((Tableau1[[#This Row],[Qté / an]]/52)*2,0)","v":{"$error":"#VALUE!"}},null,null,{"$f":"IF(AND(Tableau1[[#This Row],[Catégorie pièce]]=\" Opérations\",Tableau1[[#This Row],[Type de pièce]]=\" Temps\"),Taux_horaire/100,IF(AND(Tableau1[[#This Row],[Catégorie pièce]]=\" Nouveau\",Tableau1[[#This Row],[Type de pièce]]=\" Fabriquée\"),BOM!$AO65,IF(OR(AND(Tableau1[[#This Row],[Catégorie pièce]]=\" Nouveau\",Tableau1[[#This Row],[Type de pièce]]=\" Assemblage\"),BOM!$Y65=\" Produit fini\",Tableau1[[#This Row],[Type de pièce]]=\" Opé pièce primaire\",Tableau1[[#This Row],[Type de pièce]]=\" Pièce/Opé Panoplie\"),\"/\",IF(Tableau1[[#This Row],[Catégorie pièce]]=\" Existant\",VLOOKUP(CONCATENATE(Tableau1[[#This Row],[Article produit/\nPoste de charge]]),[1]ARTRDCL!$A$1:$U$65536,15,FALSE),\"\"))))","v":""},{"$f":"IF(OR(Tableau1[[#This Row],[Catégorie pièce]]=\" Opérations\",Tableau1[[#This Row],[Catégorie pièce]]=\" Matière 1ère\",ISBLANK(Tableau1[[#This Row],[Catégorie pièce]])),\"/\",SUMPRODUCT($AY$6:$BB$6,Tableau1[[#This Row],[Modèle A]:[Modèle D]]))","v":"/"},{"$f":"IFERROR(ROUNDDOWN(Tableau1[[#This Row],[surface\ntôle (m²)]]/Tableau1[[#This Row],[Surface\npièce (m²)]],0),0)","v":0},{"$f":"IF(AND(Tableau1[[#This Row],[Catégorie pièce]]=\" Nouveau\",Tableau1[[#This Row],[Type de pièce]]=\" Fabriquée\"),ROUNDUP(Tableau1[[#This Row],[Qté / an]]*2/52,0),0)","v":0},null,null,null,null,null,null,null,null,null,null,null,{"$f":"SUM(Tableau1[[#This Row],[VCOGS\ntôle]:[VCOGS\npliage]])","v":0},{"$f":"IFERROR((VLOOKUP(Tableau1[[#This Row],[Format\ntôle]],Tableau2[],11,FALSE)/Tableau1[[#This Row],[Série \néconomique ]])*Tableau1[[#This Row],[surface\ntôle (m²)]],0)","v":0},{"$f":"IF(Tableau1[[#This Row],[Laser (O/N)]]= \"Oui\",Tableau1[[#This Row],[Coût\ndécoupe laser]],Tableau1[[#This Row],[Coût\npoinçonnage]])","v":0},{"$f":"IF(Tableau1[[#This Row],[Nb plis]]>0, (IF(Tableau1[[#This Row],[Nb plis]]<5,0.25,IF(Tableau1[[#This Row],[Nb plis]]<7,0.33,0.45))/Tableau1[[#This Row],[Série \néconomique ]] +0.004*Tableau1[[#This Row],[Nb plis]])*$N$5,0)","v":0},{"$f":"IFERROR(VLOOKUP(Tableau1[[#This Row],[Format\ntôle]],Tôles!B:P,9,FALSE),0)","v":0},{"$f":"Tableau1[[#This Row],[Dimention X (mm)]]/1000*Tableau1[[#This Row],[Dimention Y (mm)]]/1000","v":0},{"$f":"IFERROR(ROUNDUP(Tableau1[[#This Row],[Surface\npièce (m²)]]/Tableau1[[#This Row],[surface\ntôle (m²)]],4),0)","v":0},{"$f":"IF(Tableau1[[#This Row],[Forcer série Economique ]]>0,Tableau1[[#This Row],[Forcer série Economique ]],Tableau1[[#This Row],[Série Economique proposée]])","v":0},{"$f":"IF(OR(ISERROR((5/Tableau1[[#This Row],[Série \néconomique ]]+Tableau1[[#This Row],[Nb trous]]*0.08*VLOOKUP(Tableau1[[#This Row],[Format\ntôle]],Tôles!B:O,5,FALSE)+ (Tableau1[[#This Row],[Dimention X (mm)]]+Tableau1[[#This Row],[Dimention Y (mm)]]) * 0.001)*Taux_horaire/100),Tableau1[[#This Row],[VCOGS\ntôle]] = \"\"),0,(5/Tableau1[[#This Row],[Série \néconomique ]]+Tableau1[[#This Row],[Nb trous]]*0.08*VLOOKUP(Tableau1[[#This Row],[Format\ntôle]],Tôles!B:O,5,FALSE)+ (Tableau1[[#This Row],[Dimention X (mm)]]+Tableau1[[#This Row],[Dimention Y (mm)]]) * 0.001)*Taux_horaire/100)","v":0},{"$f":"IF(OR(ISERROR((10/Tableau1[[#This Row],[Série \néconomique ]]+Tableau1[[#This Row],[Nb trous]]*0.007 + (Tableau1[[#This Row],[Dimention X (mm)]]+Tableau1[[#This Row],[Dimention Y (mm)]]) * 0.0005)*Taux_horaire/100),Tableau1[[#This Row],[VCOGS\ntôle]]= \"\"),0,(10/Tableau1[[#This Row],[Série \néconomique ]]+Tableau1[[#This Row],[Nb trous]]*0.007 + (Tableau1[[#This Row],[Dimention X (mm)]]+Tableau1[[#This Row],[Dimention Y (mm)]]) * 0.0005)*Taux_horaire/100)","v":0}]
["P/C",null,null,null,null,null,null,{"$f":"SUBSTITUTE(TRIM(CONCATENATE(Tableau1[[#This Row],[Niveau 0]],\" \",Tableau1[[#This Row],[Niveau 1]],\" \",Tableau1[[#This Row],[Niveau 2]],\" \",Tableau1[[#This Row],[Niveau 3]],\" \",Tableau1[[#This Row],[Niveau 4]],\" \",Tableau1[[#This Row],[Niveau 5]])),\" \",\".\")","v":""},{"$f":"IFERROR(IF(COUNTBLANK(Tableau1[[#This Row],[Niveau 0]:[Niveau 5]])=5,\"0\",LEFT(Tableau1[[#This Row],[Niveau]],(LEN(Tableau1[[#This Row],[Niveau]])-LEN(OFFSET(Tableau1[[#This Row],[Niveau 5]],0,(-COUNTBLANK(Tableau1[[#This Row],[Niveau 0]:[Niveau 5]]))))-1))),\"\")","v":""},null,null,null,null,{"$f":"IF(Tableau1[[#This Row],[Catégorie pièce]]=\" Opérations\",VLOOKUP(Tableau1[[#This Row],[Article produit/\nPoste de charge]],'PDC+emplacement'!A:C,2,FALSE),IF(Tableau1[[#This Row],[Catégorie pièce]]=\" Nouveau\",\"***RENSEIGNER NOM***\",IFERROR(VLOOKUP(CONCATENATE(Tableau1[[#This Row],[Article produit/\nPoste de charge]]),[1]ARTRDCL!$A$1:$U$25000,2,FALSE),\"\")))","v":""},null,null,null,null,null,{"$f":"IF(Tableau1[[#This Row],[Type plan]]=\"SP\",\"SP\",IF(AND(Tableau1[[#This Row],[Catégorie pièce]]=\" Nouveau\",Tableau1[[#This Row],[Type de pièce]]<>\" Panoplie\"),MID(Tableau1[[#This Row],[Article produit/\nPoste de charge]],2,15),IF(AND(Tableau1[[#This Row],[Catégorie pièce]]=\" Nouveau\",Tableau1[[#This Row],[Type de pièce]]=\" Panoplie\"),Tableau1[[#This Row],[Article produit/\nPoste de charge]],\"\")))","v":""},null,null,{"$f":"ROUNDUP((Tableau1[[#This Row],[Qté / an]]/52)*2,0)","v":{"$error":"#VALUE!"}},null,null,{"$f":"IF(AND(Tableau1[[#This Row],[Catégorie pièce]]=\" Opérations\",Tableau1[[#This Row],[Type de pièce]]=\" Temps\"),Taux_horaire/100,IF(AND(Tableau1[[#This Row],[Catégorie pièce]]=\" Nouveau\",Tableau1[[#This Row],[Type de pièce]]=\" Fabriquée\"),BOM!$AO66,IF(OR(AND(Tableau1[[#This Row],[Catégorie pièce]]=\" Nouveau\",Tableau1[[#This Row],[Type de pièce]]=\" Assemblage\"),BOM!$Y66=\" Produit fini\",Tableau1[[#This Row],[Type de pièce]]=\" Opé pièce primaire\",Tableau1[[#This Row],[Type de pièce]]=\" Pièce/Opé Panoplie\"),\"/\",IF(Tableau1[[#This Row],[Catégorie pièce]]=\" Existant\",VLOOKUP(CONCATENATE(Tableau1[[#This Row],[Article produit/\nPoste de charge]]),[1]ARTRDCL!$A$1:$U$65536,15,FALSE),\"\"))))","v":""},{"$f":"IF(OR(Tableau1[[#This Row],[Catégorie pièce]]=\" Opérations\",Tableau1[[#This Row],[Catégorie pièce]]=\" Matière 1ère\",ISBLANK(Tableau1[[#This Row],[Catégorie pièce]])),\"/\",SUMPRODUCT($AY$6:$BB$6,Tableau1[[#This Row],[Modèle A]:[Modèle D]]))","v":"/"},{"$f":"IFERROR(ROUNDDOWN(Tableau1[[#This Row],[surface\ntôle (m²)]]/Tableau1[[#This Row],[Surface\npièce (m²)]],0),0)","v":0},{"$f":"IF(AND(Tableau1[[#This Row],[Catégorie pièce]]=\" Nouveau\",Tableau1[[#This Row],[Type de pièce]]=\" Fabriquée\"),ROUNDUP(Tableau1[[#This Row],[Qté / an]]*2/52,0),0)","v":0},null,null,null,null,null,null,null,null,null,null,null,{"$f":"SUM(Tableau1[[#This Row],[VCOGS\ntôle]:[VCOGS\npliage]])","v":0},{"$f":"IFERROR((VLOOKUP(Tableau1[[#This Row],[Format\ntôle]],Tableau2[],11,FALSE)/Tableau1[[#This Row],[Série \néconomique ]])*Tableau1[[#This Row],[surface\ntôle (m²)]],0)","v":0},{"$f":"IF(Tableau1[[#This Row],[Laser (O/N)]]= \"Oui\",Tableau1[[#This Row],[Coût\ndécoupe laser]],Tableau1[[#This Row],[Coût\npoinçonnage]])","v":0},{"$f":"IF(Tableau1[[#This Row],[Nb plis]]>0, (IF(Tableau1[[#This Row],[Nb plis]]<5,0.25,IF(Tableau1[[#This Row],[Nb plis]]<7,0.33,0.45))/Tableau1[[#This Row],[Série \néconomique ]] +0.004*Tableau1[[#This Row],[Nb plis]])*$N$5,0)","v":0},{"$f":"IFERROR(VLOOKUP(Tableau1[[#This Row],[Format\ntôle]],Tôles!B:P,9,FALSE),0)","v":0},{"$f":"Tableau1[[#This Row],[Dimention X (mm)]]/1000*Tableau1[[#This Row],[Dimention Y (mm)]]/1000","v":0},{"$f":"IFERROR(ROUNDUP(Tableau1[[#This Row],[Surface\npièce (m²)]]/Tableau1[[#This Row],[surface\ntôle (m²)]],4),0)","v":0},{"$f":"IF(Tableau1[[#This Row],[Forcer série Economique ]]>0,Tableau1[[#This Row],[Forcer série Economique ]],Tableau1[[#This Row],[Série Economique proposée]])","v":0},{"$f":"IF(OR(ISERROR((5/Tableau1[[#This Row],[Série \néconomique ]]+Tableau1[[#This Row],[Nb trous]]*0.08*VLOOKUP(Tableau1[[#This Row],[Format\ntôle]],Tôles!B:O,5,FALSE)+ (Tableau1[[#This Row],[Dimention X (mm)]]+Tableau1[[#This Row],[Dimention Y (mm)]]) * 0.001)*Taux_horaire/100),Tableau1[[#This Row],[VCOGS\ntôle]] = \"\"),0,(5/Tableau1[[#This Row],[Série \néconomique ]]+Tableau1[[#This Row],[Nb trous]]*0.08*VLOOKUP(Tableau1[[#This Row],[Format\ntôle]],Tôles!B:O,5,FALSE)+ (Tableau1[[#This Row],[Dimention X (mm)]]+Tableau1[[#This Row],[Dimention Y (mm)]]) * 0.001)*Taux_horaire/100)","v":0},{"$f":"IF(OR(ISERROR((10/Tableau1[[#This Row],[Série \néconomique ]]+Tableau1[[#This Row],[Nb trous]]*0.007 + (Tableau1[[#This Row],[Dimention X (mm)]]+Tableau1[[#This Row],[Dimention Y (mm)]]) * 0.0005)*Taux_horaire/100),Tableau1[[#This Row],[VCOGS\ntôle]]= \"\"),0,(10/Tableau1[[#This Row],[Série \néconomique ]]+Tableau1[[#This Row],[Nb trous]]*0.007 + (Tableau1[[#This Row],[Dimention X (mm)]]+Tableau1[[#This Row],[Dimention Y (mm)]]) * 0.0005)*Taux_horaire/100)","v":0}]
[null,null,null,null,null,null,null,{"$f":"SUBSTITUTE(TRIM(CONCATENATE(Tableau1[[#This Row],[Niveau 0]],\" \",Tableau1[[#This Row],[Niveau 1]],\" \",Tableau1[[#This Row],[Niveau 2]],\" \",Tableau1[[#This Row],[Niveau 3]],\" \",Tableau1[[#This Row],[Niveau 4]],\" \",Tableau1[[#This Row],[Niveau 5]])),\" \",\".\")","v":""},{"$f":"IFERROR(IF(COUNTBLANK(Tableau1[[#This Row],[Niveau 0]:[Niveau 5]])=5,\"0\",LEFT(Tableau1[[#This Row],[Niveau]],(LEN(Tableau1[[#This Row],[Niveau]])-LEN(OFFSET(Tableau1[[#This Row],[Niveau 5]],0,(-COUNTBLANK(Tableau1[[#This Row],[Niveau 0]:[Niveau 5]]))))-1))),\"\")","v":""},null,null,null,null,{"$f":"IF(Tableau1[[#This Row],[Catégorie pièce]]=\" Opérations\",VLOOKUP(Tableau1[[#This Row],[Article produit/\nPoste de charge]],'PDC+emplacement'!A:C,2,FALSE),IF(Tableau1[[#This Row],[Catégorie pièce]]=\" Nouveau\",\"***RENSEIGNER NOM***\",IFERROR(VLOOKUP(CONCATENATE(Tableau1[[#This Row],[Article produit/\nPoste de charge]]),[1]ARTRDCL!$A$1:$U$25000,2,FALSE),\"\")))","v":""},null,null,null,null,null,{"$f":"IF(Tableau1[[#This Row],[Type plan]]=\"SP\",\"SP\",IF(AND(Tableau1[[#This Row],[Catégorie pièce]]=\" Nouveau\",Tableau1[[#This Row],[Type de pièce]]<>\" Panoplie\"),MID(Tableau1[[#This Row],[Article produit/\nPoste de charge]],2,15),IF(AND(Tableau1[[#This Row],[Catégorie pièce]]=\" Nouveau\",Tableau1[[#This Row],[Type de pièce]]=\" Panoplie\"),Tableau1[[#This Row],[Article produit/\nPoste de charge]],\"\")))","v":""},null,null,{"$f":"ROUNDUP((Tableau1[[#This Row],[Qté / an]]/52)*2,0)","v":{"$error":"#VALUE!"}},null,null,{"$f":"IF(AND(Tableau1[[#This Row],[Catégorie pièce]]=\" Opérations\",Tableau1[[#This Row],[Type de pièce]]=\" Temps\"),Taux_horaire/100,IF(AND(Tableau1[[#This Row],[Catégorie pièce]]=\" Nouveau\",Tableau1[[#This Row],[Type de pièce]]=\" Fabriquée\"),BOM!$AO67,IF(OR(AND(Tableau1[[#This Row],[Catégorie pièce]]=\" Nouveau\",Tableau1[[#This Row],[Type de pièce]]=\" Assemblage\"),BOM!$Y67=\" Produit fini\",Tableau1[[#This Row],[Type de pièce]]=\" Opé pièce primaire\",Tableau1[[#This Row],[Type de pièce]]=\" Pièce/Opé Panoplie\"),\"/\",IF(Tableau1[[#This Row],[Catégorie pièce]]=\" Existant\",VLOOKUP(CONCATENATE(Tableau1[[#This Row],[Article produit/\nPoste de charge]]),[1]ARTRDCL!$A$1:$U$65536,15,FALSE),\"\"))))","v":""},{"$f":"IF(OR(Tableau1[[#This Row],[Catégorie pièce]]=\" Opérations\",Tableau1[[#This Row],[Catégorie pièce]]=\" Matière 1ère\",ISBLANK(Tableau1[[#This Row],[Catégorie pièce]])),\"/\",SUMPRODUCT($AY$6:$BB$6,Tableau1[[#This Row],[Modèle A]:[Modèle D]]))","v":"/"},{"$f":"IFERROR(ROUNDDOWN(Tableau1[[#This Row],[surface\ntôle (m²)]]/Tableau1[[#This Row],[Surface\npièce (m²)]],0),0)","v":0},{"$f":"IF(AND(Tableau1[[#This Row],[Catégorie pièce]]=\" Nouveau\",Tableau1[[#This Row],[Type de pièce]]=\" Fabriquée\"),ROUNDUP(Tableau1[[#This Row],[Qté / an]]*2/52,0),0)","v":0},null,null,null,null,null,null,null,null,null,null,null,{"$f":"SUM(Tableau1[[#This Row],[VCOGS\ntôle]:[VCOGS\npliage]])","v":0},{"$f":"IFERROR((VLOOKUP(Tableau1[[#This Row],[Format\ntôle]],Tableau2[],11,FALSE)/Tableau1[[#This Row],[Série \néconomique ]])*Tableau1[[#This Row],[surface\ntôle (m²)]],0)","v":0},{"$f":"IF(Tableau1[[#This Row],[Laser (O/N)]]= \"Oui\",Tableau1[[#This Row],[Coût\ndécoupe laser]],Tableau1[[#This Row],[Coût\npoinçonnage]])","v":0},{"$f":"IF(Tableau1[[#This Row],[Nb plis]]>0, (IF(Tableau1[[#This Row],[Nb plis]]<5,0.25,IF(Tableau1[[#This Row],[Nb plis]]<7,0.33,0.45))/Tableau1[[#This Row],[Série \néconomique ]] +0.004*Tableau1[[#This Row],[Nb plis]])*$N$5,0)","v":0},{"$f":"IFERROR(VLOOKUP(Tableau1[[#This Row],[Format\ntôle]],Tôles!B:P,9,FALSE),0)","v":0},{"$f":"Tableau1[[#This Row],[Dimention X (mm)]]/1000*Tableau1[[#This Row],[Dimention Y (mm)]]/1000","v":0},{"$f":"IFERROR(ROUNDUP(Tableau1[[#This Row],[Surface\npièce (m²)]]/Tableau1[[#This Row],[surface\ntôle (m²)]],4),0)","v":0},{"$f":"IF(Tableau1[[#This Row],[Forcer série Economique ]]>0,Tableau1[[#This Row],[Forcer série Economique ]],Tableau1[[#This Row],[Série Economique proposée]])","v":0},{"$f":"IF(OR(ISERROR((5/Tableau1[[#This Row],[Série \néconomique ]]+Tableau1[[#This Row],[Nb trous]]*0.08*VLOOKUP(Tableau1[[#This Row],[Format\ntôle]],Tôles!B:O,5,FALSE)+ (Tableau1[[#This Row],[Dimention X (mm)]]+Tableau1[[#This Row],[Dimention Y (mm)]]) * 0.001)*Taux_horaire/100),Tableau1[[#This Row],[VCOGS\ntôle]] = \"\"),0,(5/Tableau1[[#This Row],[Série \néconomique ]]+Tableau1[[#This Row],[Nb trous]]*0.08*VLOOKUP(Tableau1[[#This Row],[Format\ntôle]],Tôles!B:O,5,FALSE)+ (Tableau1[[#This Row],[Dimention X (mm)]]+Tableau1[[#This Row],[Dimention Y (mm)]]) * 0.001)*Taux_horaire/100)","v":0},{"$f":"IF(OR(ISERROR((10/Tableau1[[#This Row],[Série \néconomique ]]+Tableau1[[#This Row],[Nb trous]]*0.007 + (Tableau1[[#This Row],[Dimention X (mm)]]+Tableau1[[#This Row],[Dimention Y (mm)]]) * 0.0005)*Taux_horaire/100),Tableau1[[#This Row],[VCOGS\ntôle]]= \"\"),0,(10/Tableau1[[#This Row],[Série \néconomique ]]+Tableau1[[#This Row],[Nb trous]]*0.007 + (Tableau1[[#This Row],[Dimention X (mm)]]+Tableau1[[#This Row],[Dimention Y (mm)]]) * 0.0005)*Taux_horaire/100)","v":0}]
[null,null,null,null,null,null,null,{"$f":"SUBSTITUTE(TRIM(CONCATENATE(Tableau1[[#This Row],[Niveau 0]],\" \",Tableau1[[#This Row],[Niveau 1]],\" \",Tableau1[[#This Row],[Niveau 2]],\" \",Tableau1[[#This Row],[Niveau 3]],\" \",Tableau1[[#This Row],[Niveau 4]],\" \",Tableau1[[#This Row],[Niveau 5]])),\" \",\".\")","v":""},{"$f":"IFERROR(IF(COUNTBLANK(Tableau1[[#This Row],[Niveau 0]:[Niveau 5]])=5,\"0\",LEFT(Tableau1[[#This Row],[Niveau]],(LEN(Tableau1[[#This Row],[Niveau]])-LEN(OFFSET(Tableau1[[#This Row],[Niveau 5]],0,(-COUNTBLANK(Tableau1[[#This Row],[Niveau 0]:[Niveau 5]]))))-1))),\"\")","v":""},null,null,null,null,{"$f":"IF(Tableau1[[#This Row],[Catégorie pièce]]=\" Opérations\",VLOOKUP(Tableau1[[#This Row],[Article produit/\nPoste de charge]],'PDC+emplacement'!A:C,2,FALSE),IF(Tableau1[[#This Row],[Catégorie pièce]]=\" Nouveau\",\"***RENSEIGNER NOM***\",IFERROR(VLOOKUP(CONCATENATE(Tableau1[[#This Row],[Article produit/\nPoste de charge]]),[1]ARTRDCL!$A$1:$U$25000,2,FALSE),\"\")))","v":""},null,null,null,null,null,{"$f":"IF(Tableau1[[#This Row],[Type plan]]=\"SP\",\"SP\",IF(AND(Tableau1[[#This Row],[Catégorie pièce]]=\" Nouveau\",Tableau1[[#This Row],[Type de pièce]]<>\" Panoplie\"),MID(Tableau1[[#This Row],[Article produit/\nPoste de charge]],2,15),IF(AND(Tableau1[[#This Row],[Catégorie pièce]]=\" Nouveau\",Tableau1[[#This Row],[Type de pièce]]=\" Panoplie\"),Tableau1[[#This Row],[Article produit/\nPoste de charge]],\"\")))","v":""},null,null,{"$f":"ROUNDUP((Tableau1[[#This Row],[Qté / an]]/52)*2,0)","v":{"$error":"#VALUE!"}},null,null,{"$f":"IF(AND(Tableau1[[#This Row],[Catégorie pièce]]=\" Opérations\",Tableau1[[#This Row],[Type de pièce]]=\" Temps\"),Taux_horaire/100,IF(AND(Tableau1[[#This Row],[Catégorie pièce]]=\" Nouveau\",Tableau1[[#This Row],[Type de pièce]]=\" Fabriquée\"),BOM!$AO68,IF(OR(AND(Tableau1[[#This Row],[Catégorie pièce]]=\" Nouveau\",Tableau1[[#This Row],[Type de pièce]]=\" Assemblage\"),BOM!$Y68=\" Produit fini\",Tableau1[[#This Row],[Type de pièce]]=\" Opé pièce primaire\",Tableau1[[#This Row],[Type de pièce]]=\" Pièce/Opé Panoplie\"),\"/\",IF(Tableau1[[#This Row],[Catégorie pièce]]=\" Existant\",VLOOKUP(CONCATENATE(Tableau1[[#This Row],[Article produit/\nPoste de charge]]),[1]ARTRDCL!$A$1:$U$65536,15,FALSE),\"\"))))","v":""},{"$f":"IF(OR(Tableau1[[#This Row],[Catégorie pièce]]=\" Opérations\",Tableau1[[#This Row],[Catégorie pièce]]=\" Matière 1ère\",ISBLANK(Tableau1[[#This Row],[Catégorie pièce]])),\"/\",SUMPRODUCT($AY$6:$BB$6,Tableau1[[#This Row],[Modèle A]:[Modèle D]]))","v":"/"},{"$f":"IFERROR(ROUNDDOWN(Tableau1[[#This Row],[surface\ntôle (m²)]]/Tableau1[[#This Row],[Surface\npièce (m²)]],0),0)","v":0},{"$f":"IF(AND(Tableau1[[#This Row],[Catégorie pièce]]=\" Nouveau\",Tableau1[[#This Row],[Type de pièce]]=\" Fabriquée\"),ROUNDUP(Tableau1[[#This Row],[Qté / an]]*2/52,0),0)","v":0},null,null,null,null,null,null,null,null,null,null,null,{"$f":"SUM(Tableau1[[#This Row],[VCOGS\ntôle]:[VCOGS\npliage]])","v":0},{"$f":"IFERROR((VLOOKUP(Tableau1[[#This Row],[Format\ntôle]],Tableau2[],11,FALSE)/Tableau1[[#This Row],[Série \néconomique ]])*Tableau1[[#This Row],[surface\ntôle (m²)]],0)","v":0},{"$f":"IF(Tableau1[[#This Row],[Laser (O/N)]]= \"Oui\",Tableau1[[#This Row],[Coût\ndécoupe laser]],Tableau1[[#This Row],[Coût\npoinçonnage]])","v":0},{"$f":"IF(Tableau1[[#This Row],[Nb plis]]>0, (IF(Tableau1[[#This Row],[Nb plis]]<5,0.25,IF(Tableau1[[#This Row],[Nb plis]]<7,0.33,0.45))/Tableau1[[#This Row],[Série \néconomique ]] +0.004*Tableau1[[#This Row],[Nb plis]])*$N$5,0)","v":0},{"$f":"IFERROR(VLOOKUP(Tableau1[[#This Row],[Format\ntôle]],Tôles!B:P,9,FALSE),0)","v":0},{"$f":"Tableau1[[#This Row],[Dimention X (mm)]]/1000*Tableau1[[#This Row],[Dimention Y (mm)]]/1000","v":0},{"$f":"IFERROR(ROUNDUP(Tableau1[[#This Row],[Surface\npièce (m²)]]/Tableau1[[#This Row],[surface\ntôle (m²)]],4),0)","v":0},{"$f":"IF(Tableau1[[#This Row],[Forcer série Economique ]]>0,Tableau1[[#This Row],[Forcer série Economique ]],Tableau1[[#This Row],[Série Economique proposée]])","v":0},{"$f":"IF(OR(ISERROR((5/Tableau1[[#This Row],[Série \néconomique ]]+Tableau1[[#This Row],[Nb trous]]*0.08*VLOOKUP(Tableau1[[#This Row],[Format\ntôle]],Tôles!B:O,5,FALSE)+ (Tableau1[[#This Row],[Dimention X (mm)]]+Tableau1[[#This Row],[Dimention Y (mm)]]) * 0.001)*Taux_horaire/100),Tableau1[[#This Row],[VCOGS\ntôle]] = \"\"),0,(5/Tableau1[[#This Row],[Série \néconomique ]]+Tableau1[[#This Row],[Nb trous]]*0.08*VLOOKUP(Tableau1[[#This Row],[Format\ntôle]],Tôles!B:O,5,FALSE)+ (Tableau1[[#This Row],[Dimention X (mm)]]+Tableau1[[#This Row],[Dimention Y (mm)]]) * 0.001)*Taux_horaire/100)","v":0},{"$f":"IF(OR(ISERROR((10/Tableau1[[#This Row],[Série \néconomique ]]+Tableau1[[#This Row],[Nb trous]]*0.007 + (Tableau1[[#This Row],[Dimention X (mm)]]+Tableau1[[#This Row],[Dimention Y (mm)]]) * 0.0005)*Taux_horaire/100),Tableau1[[#This Row],[VCOGS\ntôle]]= \"\"),0,(10/Tableau1[[#This Row],[Série \néconomique ]]+Tableau1[[#This Row],[Nb trous]]*0.007 + (Tableau1[[#This Row],[Dimention X (mm)]]+Tableau1[[#This Row],[Dimention Y (mm)]]) * 0.0005)*Taux_horaire/100)","v":0}]
[null,null,null,null,null,null,null,{"$f":"SUBSTITUTE(TRIM(CONCATENATE(Tableau1[[#This Row],[Niveau 0]],\" \",Tableau1[[#This Row],[Niveau 1]],\" \",Tableau1[[#This Row],[Niveau 2]],\" \",Tableau1[[#This Row],[Niveau 3]],\" \",Tableau1[[#This Row],[Niveau 4]],\" \",Tableau1[[#This Row],[Niveau 5]])),\" \",\".\")","v":""},{"$f":"IFERROR(IF(COUNTBLANK(Tableau1[[#This Row],[Niveau 0]:[Niveau 5]])=5,\"0\",LEFT(Tableau1[[#This Row],[Niveau]],(LEN(Tableau1[[#This Row],[Niveau]])-LEN(OFFSET(Tableau1[[#This Row],[Niveau 5]],0,(-COUNTBLANK(Tableau1[[#This Row],[Niveau 0]:[Niveau 5]]))))-1))),\"\")","v":""},null,null,null,null,{"$f":"IF(Tableau1[[#This Row],[Catégorie pièce]]=\" Opérations\",VLOOKUP(Tableau1[[#This Row],[Article produit/\nPoste de charge]],'PDC+emplacement'!A:C,2,FALSE),IF(Tableau1[[#This Row],[Catégorie pièce]]=\" Nouveau\",\"***RENSEIGNER NOM***\",IFERROR(VLOOKUP(CONCATENATE(Tableau1[[#This Row],[Article produit/\nPoste de charge]]),[1]ARTRDCL!$A$1:$U$25000,2,FALSE),\"\")))","v":""},null,null,null,null,null,{"$f":"IF(Tableau1[[#This Row],[Type plan]]=\"SP\",\"SP\",IF(AND(Tableau1[[#This Row],[Catégorie pièce]]=\" Nouveau\",Tableau1[[#This Row],[Type de pièce]]<>\" Panoplie\"),MID(Tableau1[[#This Row],[Article produit/\nPoste de charge]],2,15),IF(AND(Tableau1[[#This Row],[Catégorie pièce]]=\" Nouveau\",Tableau1[[#This Row],[Type de pièce]]=\" Panoplie\"),Tableau1[[#This Row],[Article produit/\nPoste de charge]],\"\")))","v":""},null,null,{"$f":"ROUNDUP((Tableau1[[#This Row],[Qté / an]]/52)*2,0)","v":{"$error":"#VALUE!"}},null,null,{"$f":"IF(AND(Tableau1[[#This Row],[Catégorie pièce]]=\" Opérations\",Tableau1[[#This Row],[Type de pièce]]=\" Temps\"),Taux_horaire/100,IF(AND(Tableau1[[#This Row],[Catégorie pièce]]=\" Nouveau\",Tableau1[[#This Row],[Type de pièce]]=\" Fabriquée\"),BOM!$AO69,IF(OR(AND(Tableau1[[#This Row],[Catégorie pièce]]=\" Nouveau\",Tableau1[[#This Row],[Type de pièce]]=\" Assemblage\"),BOM!$Y69=\" Produit fini\",Tableau1[[#This Row],[Type de pièce]]=\" Opé pièce primaire\",Tableau1[[#This Row],[Type de pièce]]=\" Pièce/Opé Panoplie\"),\"/\",IF(Tableau1[[#This Row],[Catégorie pièce]]=\" Existant\",VLOOKUP(CONCATENATE(Tableau1[[#This Row],[Article produit/\nPoste de charge]]),[1]ARTRDCL!$A$1:$U$65536,15,FALSE),\"\"))))","v":""},{"$f":"IF(OR(Tableau1[[#This Row],[Catégorie pièce]]=\" Opérations\",Tableau1[[#This Row],[Catégorie pièce]]=\" Matière 1ère\",ISBLANK(Tableau1[[#This Row],[Catégorie pièce]])),\"/\",SUMPRODUCT($AY$6:$BB$6,Tableau1[[#This Row],[Modèle A]:[Modèle D]]))","v":"/"},{"$f":"IFERROR(ROUNDDOWN(Tableau1[[#This Row],[surface\ntôle (m²)]]/Tableau1[[#This Row],[Surface\npièce (m²)]],0),0)","v":0},{"$f":"IF(AND(Tableau1[[#This Row],[Catégorie pièce]]=\" Nouveau\",Tableau1[[#This Row],[Type de pièce]]=\" Fabriquée\"),ROUNDUP(Tableau1[[#This Row],[Qté / an]]*2/52,0),0)","v":0},null,null,null,null,null,null,null,null,null,null,null,{"$f":"SUM(Tableau1[[#This Row],[VCOGS\ntôle]:[VCOGS\npliage]])","v":0},{"$f":"IFERROR((VLOOKUP(Tableau1[[#This Row],[Format\ntôle]],Tableau2[],11,FALSE)/Tableau1[[#This Row],[Série \néconomique ]])*Tableau1[[#This Row],[surface\ntôle (m²)]],0)","v":0},{"$f":"IF(Tableau1[[#This Row],[Laser (O/N)]]= \"Oui\",Tableau1[[#This Row],[Coût\ndécoupe laser]],Tableau1[[#This Row],[Coût\npoinçonnage]])","v":0},{"$f":"IF(Tableau1[[#This Row],[Nb plis]]>0, (IF(Tableau1[[#This Row],[Nb plis]]<5,0.25,IF(Tableau1[[#This Row],[Nb plis]]<7,0.33,0.45))/Tableau1[[#This Row],[Série \néconomique ]] +0.004*Tableau1[[#This Row],[Nb plis]])*$N$5,0)","v":0},{"$f":"IFERROR(VLOOKUP(Tableau1[[#This Row],[Format\ntôle]],Tôles!B:P,9,FALSE),0)","v":0},{"$f":"Tableau1[[#This Row],[Dimention X (mm)]]/1000*Tableau1[[#This Row],[Dimention Y (mm)]]/1000","v":0},{"$f":"IFERROR(ROUNDUP(Tableau1[[#This Row],[Surface\npièce (m²)]]/Tableau1[[#This Row],[surface\ntôle (m²)]],4),0)","v":0},{"$f":"IF(Tableau1[[#This Row],[Forcer série Economique ]]>0,Tableau1[[#This Row],[Forcer série Economique ]],Tableau1[[#This Row],[Série Economique proposée]])","v":0},{"$f":"IF(OR(ISERROR((5/Tableau1[[#This Row],[Série \néconomique ]]+Tableau1[[#This Row],[Nb trous]]*0.08*VLOOKUP(Tableau1[[#This Row],[Format\ntôle]],Tôles!B:O,5,FALSE)+ (Tableau1[[#This Row],[Dimention X (mm)]]+Tableau1[[#This Row],[Dimention Y (mm)]]) * 0.001)*Taux_horaire/100),Tableau1[[#This Row],[VCOGS\ntôle]] = \"\"),0,(5/Tableau1[[#This Row],[Série \néconomique ]]+Tableau1[[#This Row],[Nb trous]]*0.08*VLOOKUP(Tableau1[[#This Row],[Format\ntôle]],Tôles!B:O,5,FALSE)+ (Tableau1[[#This Row],[Dimention X (mm)]]+Tableau1[[#This Row],[Dimention Y (mm)]]) * 0.001)*Taux_horaire/100)","v":0},{"$f":"IF(OR(ISERROR((10/Tableau1[[#This Row],[Série \néconomique ]]+Tableau1[[#This Row],[Nb trous]]*0.007 + (Tableau1[[#This Row],[Dimention X (mm)]]+Tableau1[[#This Row],[Dimention Y (mm)]]) * 0.0005)*Taux_horaire/100),Tableau1[[#This Row],[VCOGS\ntôle]]= \"\"),0,(10/Tableau1[[#This Row],[Série \néconomique ]]+Tableau1[[#This Row],[Nb trous]]*0.007 + (Tableau1[[#This Row],[Dimention X (mm)]]+Tableau1[[#This Row],[Dimention Y (mm)]]) * 0.0005)*Taux_horaire/100)","v":0}]
[null,null,null,null,null,null,null,{"$f":"SUBSTITUTE(TRIM(CONCATENATE(Tableau1[[#This Row],[Niveau 0]],\" \",Tableau1[[#This Row],[Niveau 1]],\" \",Tableau1[[#This Row],[Niveau 2]],\" \",Tableau1[[#This Row],[Niveau 3]],\" \",Tableau1[[#This Row],[Niveau 4]],\" \",Tableau1[[#This Row],[Niveau 5]])),\" \",\".\")","v":""},{"$f":"IFERROR(IF(COUNTBLANK(Tableau1[[#This Row],[Niveau 0]:[Niveau 5]])=5,\"0\",LEFT(Tableau1[[#This Row],[Niveau]],(LEN(Tableau1[[#This Row],[Niveau]])-LEN(OFFSET(Tableau1[[#This Row],[Niveau 5]],0,(-COUNTBLANK(Tableau1[[#This Row],[Niveau 0]:[Niveau 5]]))))-1))),\"\")","v":""},null,null,null,null,{"$f":"IF(Tableau1[[#This Row],[Catégorie pièce]]=\" Opérations\",VLOOKUP(Tableau1[[#This Row],[Article produit/\nPoste de charge]],'PDC+emplacement'!A:C,2,FALSE),IF(Tableau1[[#This Row],[Catégorie pièce]]=\" Nouveau\",\"***RENSEIGNER NOM***\",IFERROR(VLOOKUP(CONCATENATE(Tableau1[[#This Row],[Article produit/\nPoste de charge]]),[1]ARTRDCL!$A$1:$U$25000,2,FALSE),\"\")))","v":""},null,null,null,null,null,{"$f":"IF(Tableau1[[#This Row],[Type plan]]=\"SP\",\"SP\",IF(AND(Tableau1[[#This Row],[Catégorie pièce]]=\" Nouveau\",Tableau1[[#This Row],[Type de pièce]]<>\" Panoplie\"),MID(Tableau1[[#This Row],[Article produit/\nPoste de charge]],2,15),IF(AND(Tableau1[[#This Row],[Catégorie pièce]]=\" Nouveau\",Tableau1[[#This Row],[Type de pièce]]=\" Panoplie\"),Tableau1[[#This Row],[Article produit/\nPoste de charge]],\"\")))","v":""},null,null,{"$f":"ROUNDUP((Tableau1[[#This Row],[Qté / an]]/52)*2,0)","v":{"$error":"#VALUE!"}},null,null,{"$f":"IF(AND(Tableau1[[#This Row],[Catégorie pièce]]=\" Opérations\",Tableau1[[#This Row],[Type de pièce]]=\" Temps\"),Taux_horaire/100,IF(AND(Tableau1[[#This Row],[Catégorie pièce]]=\" Nouveau\",Tableau1[[#This Row],[Type de pièce]]=\" Fabriquée\"),BOM!$AO70,IF(OR(AND(Tableau1[[#This Row],[Catégorie pièce]]=\" Nouveau\",Tableau1[[#This Row],[Type de pièce]]=\" Assemblage\"),BOM!$Y70=\" Produit fini\",Tableau1[[#This Row],[Type de pièce]]=\" Opé pièce primaire\",Tableau1[[#This Row],[Type de pièce]]=\" Pièce/Opé Panoplie\"),\"/\",IF(Tableau1[[#This Row],[Catégorie pièce]]=\" Existant\",VLOOKUP(CONCATENATE(Tableau1[[#This Row],[Article produit/\nPoste de charge]]),[1]ARTRDCL!$A$1:$U$65536,15,FALSE),\"\"))))","v":""},{"$f":"IF(OR(Tableau1[[#This Row],[Catégorie pièce]]=\" Opérations\",Tableau1[[#This Row],[Catégorie pièce]]=\" Matière 1ère\",ISBLANK(Tableau1[[#This Row],[Catégorie pièce]])),\"/\",SUMPRODUCT($AY$6:$BB$6,Tableau1[[#This Row],[Modèle A]:[Modèle D]]))","v":"/"},{"$f":"IFERROR(ROUNDDOWN(Tableau1[[#This Row],[surface\ntôle (m²)]]/Tableau1[[#This Row],[Surface\npièce (m²)]],0),0)","v":0},{"$f":"IF(AND(Tableau1[[#This Row],[Catégorie pièce]]=\" Nouveau\",Tableau1[[#This Row],[Type de pièce]]=\" Fabriquée\"),ROUNDUP(Tableau1[[#This Row],[Qté / an]]*2/52,0),0)","v":0},null,null,null,null,null,null,null,null,null,null,null,{"$f":"SUM(Tableau1[[#This Row],[VCOGS\ntôle]:[VCOGS\npliage]])","v":0},{"$f":"IFERROR((VLOOKUP(Tableau1[[#This Row],[Format\ntôle]],Tableau2[],11,FALSE)/Tableau1[[#This Row],[Série \néconomique ]])*Tableau1[[#This Row],[surface\ntôle (m²)]],0)","v":0},{"$f":"IF(Tableau1[[#This Row],[Laser (O/N)]]= \"Oui\",Tableau1[[#This Row],[Coût\ndécoupe laser]],Tableau1[[#This Row],[Coût\npoinçonnage]])","v":0},{"$f":"IF(Tableau1[[#This Row],[Nb plis]]>0, (IF(Tableau1[[#This Row],[Nb plis]]<5,0.25,IF(Tableau1[[#This Row],[Nb plis]]<7,0.33,0.45))/Tableau1[[#This Row],[Série \néconomique ]] +0.004*Tableau1[[#This Row],[Nb plis]])*$N$5,0)","v":0},{"$f":"IFERROR(VLOOKUP(Tableau1[[#This Row],[Format\ntôle]],Tôles!B:P,9,FALSE),0)","v":0},{"$f":"Tableau1[[#This Row],[Dimention X (mm)]]/1000*Tableau1[[#This Row],[Dimention Y (mm)]]/1000","v":0},{"$f":"IFERROR(ROUNDUP(Tableau1[[#This Row],[Surface\npièce (m²)]]/Tableau1[[#This Row],[surface\ntôle (m²)]],4),0)","v":0},{"$f":"IF(Tableau1[[#This Row],[Forcer série Economique ]]>0,Tableau1[[#This Row],[Forcer série Economique ]],Tableau1[[#This Row],[Série Economique proposée]])","v":0},{"$f":"IF(OR(ISERROR((5/Tableau1[[#This Row],[Série \néconomique ]]+Tableau1[[#This Row],[Nb trous]]*0.08*VLOOKUP(Tableau1[[#This Row],[Format\ntôle]],Tôles!B:O,5,FALSE)+ (Tableau1[[#This Row],[Dimention X (mm)]]+Tableau1[[#This Row],[Dimention Y (mm)]]) * 0.001)*Taux_horaire/100),Tableau1[[#This Row],[VCOGS\ntôle]] = \"\"),0,(5/Tableau1[[#This Row],[Série \néconomique ]]+Tableau1[[#This Row],[Nb trous]]*0.08*VLOOKUP(Tableau1[[#This Row],[Format\ntôle]],Tôles!B:O,5,FALSE)+ (Tableau1[[#This Row],[Dimention X (mm)]]+Tableau1[[#This Row],[Dimention Y (mm)]]) * 0.001)*Taux_horaire/100)","v":0},{"$f":"IF(OR(ISERROR((10/Tableau1[[#This Row],[Série \néconomique ]]+Tableau1[[#This Row],[Nb trous]]*0.007 + (Tableau1[[#This Row],[Dimention X (mm)]]+Tableau1[[#This Row],[Dimention Y (mm)]]) * 0.0005)*Taux_horaire/100),Tableau1[[#This Row],[VCOGS\ntôle]]= \"\"),0,(10/Tableau1[[#This Row],[Série \néconomique ]]+Tableau1[[#This Row],[Nb trous]]*0.007 + (Tableau1[[#This Row],[Dimention X (mm)]]+Tableau1[[#This Row],[Dimention Y (mm)]]) * 0.0005)*Taux_horaire/100)","v":0}]
[null,null,null,null,null,null,null,{"$f":"SUBSTITUTE(TRIM(CONCATENATE(Tableau1[[#This Row],[Niveau 0]],\" \",Tableau1[[#This Row],[Niveau 1]],\" \",Tableau1[[#This Row],[Niveau 2]],\" \",Tableau1[[#This Row],[Niveau 3]],\" \",Tableau1[[#This Row],[Niveau 4]],\" \",Tableau1[[#This Row],[Niveau 5]])),\" \",\".\")","v":""},{"$f":"IFERROR(IF(COUNTBLANK(Tableau1[[#This Row],[Niveau 0]:[Niveau 5]])=5,\"0\",LEFT(Tableau1[[#This Row],[Niveau]],(LEN(Tableau1[[#This Row],[Niveau]])-LEN(OFFSET(Tableau1[[#This Row],[Niveau 5]],0,(-COUNTBLANK(Tableau1[[#This Row],[Niveau 0]:[Niveau 5]]))))-1))),\"\")","v":""},null,null,null,null,{"$f":"IF(Tableau1[[#This Row],[Catégorie pièce]]=\" Opérations\",VLOOKUP(Tableau1[[#This Row],[Article produit/\nPoste de charge]],'PDC+emplacement'!A:C,2,FALSE),IF(Tableau1[[#This Row],[Catégorie pièce]]=\" Nouveau\",\"***RENSEIGNER NOM***\",IFERROR(VLOOKUP(CONCATENATE(Tableau1[[#This Row],[Article produit/\nPoste de charge]]),[1]ARTRDCL!$A$1:$U$25000,2,FALSE),\"\")))","v":""},null,null,null,null,null,{"$f":"IF(Tableau1[[#This Row],[Type plan]]=\"SP\",\"SP\",IF(AND(Tableau1[[#This Row],[Catégorie pièce]]=\" Nouveau\",Tableau1[[#This Row],[Type de pièce]]<>\" Panoplie\"),MID(Tableau1[[#This Row],[Article produit/\nPoste de charge]],2,15),IF(AND(Tableau1[[#This Row],[Catégorie pièce]]=\" Nouveau\",Tableau1[[#This Row],[Type de pièce]]=\" Panoplie\"),Tableau1[[#This Row],[Article produit/\nPoste de charge]],\"\")))","v":""},null,null,{"$f":"ROUNDUP((Tableau1[[#This Row],[Qté / an]]/52)*2,0)","v":{"$error":"#VALUE!"}},null,null,{"$f":"IF(AND(Tableau1[[#This Row],[Catégorie pièce]]=\" Opérations\",Tableau1[[#This Row],[Type de pièce]]=\" Temps\"),Taux_horaire/100,IF(AND(Tableau1[[#This Row],[Catégorie pièce]]=\" Nouveau\",Tableau1[[#This Row],[Type de pièce]]=\" Fabriquée\"),BOM!$AO71,IF(OR(AND(Tableau1[[#This Row],[Catégorie pièce]]=\" Nouveau\",Tableau1[[#This Row],[Type de pièce]]=\" Assemblage\"),BOM!$Y71=\" Produit fini\",Tableau1[[#This Row],[Type de pièce]]=\" Opé pièce primaire\",Tableau1[[#This Row],[Type de pièce]]=\" Pièce/Opé Panoplie\"),\"/\",IF(Tableau1[[#This Row],[Catégorie pièce]]=\" Existant\",VLOOKUP(CONCATENATE(Tableau1[[#This Row],[Article produit/\nPoste de charge]]),[1]ARTRDCL!$A$1:$U$65536,15,FALSE),\"\"))))","v":""},{"$f":"IF(OR(Tableau1[[#This Row],[Catégorie pièce]]=\" Opérations\",Tableau1[[#This Row],[Catégorie pièce]]=\" Matière 1ère\",ISBLANK(Tableau1[[#This Row],[Catégorie pièce]])),\"/\",SUMPRODUCT($AY$6:$BB$6,Tableau1[[#This Row],[Modèle A]:[Modèle D]]))","v":"/"},{"$f":"IFERROR(ROUNDDOWN(Tableau1[[#This Row],[surface\ntôle (m²)]]/Tableau1[[#This Row],[Surface\npièce (m²)]],0),0)","v":0},{"$f":"IF(AND(Tableau1[[#This Row],[Catégorie pièce]]=\" Nouveau\",Tableau1[[#This Row],[Type de pièce]]=\" Fabriquée\"),ROUNDUP(Tableau1[[#This Row],[Qté / an]]*2/52,0),0)","v":0},null,null,null,null,null,null,null,null,null,null,null,{"$f":"SUM(Tableau1[[#This Row],[VCOGS\ntôle]:[VCOGS\npliage]])","v":0},{"$f":"IFERROR((VLOOKUP(Tableau1[[#This Row],[Format\ntôle]],Tableau2[],11,FALSE)/Tableau1[[#This Row],[Série \néconomique ]])*Tableau1[[#This Row],[surface\ntôle (m²)]],0)","v":0},{"$f":"IF(Tableau1[[#This Row],[Laser (O/N)]]= \"Oui\",Tableau1[[#This Row],[Coût\ndécoupe laser]],Tableau1[[#This Row],[Coût\npoinçonnage]])","v":0},{"$f":"IF(Tableau1[[#This Row],[Nb plis]]>0, (IF(Tableau1[[#This Row],[Nb plis]]<5,0.25,IF(Tableau1[[#This Row],[Nb plis]]<7,0.33,0.45))/Tableau1[[#This Row],[Série \néconomique ]] +0.004*Tableau1[[#This Row],[Nb plis]])*$N$5,0)","v":0},{"$f":"IFERROR(VLOOKUP(Tableau1[[#This Row],[Format\ntôle]],Tôles!B:P,9,FALSE),0)","v":0},{"$f":"Tableau1[[#This Row],[Dimention X (mm)]]/1000*Tableau1[[#This Row],[Dimention Y (mm)]]/1000","v":0},{"$f":"IFERROR(ROUNDUP(Tableau1[[#This Row],[Surface\npièce (m²)]]/Tableau1[[#This Row],[surface\ntôle (m²)]],4),0)","v":0},{"$f":"IF(Tableau1[[#This Row],[Forcer série Economique ]]>0,Tableau1[[#This Row],[Forcer série Economique ]],Tableau1[[#This Row],[Série Economique proposée]])","v":0},{"$f":"IF(OR(ISERROR((5/Tableau1[[#This Row],[Série \néconomique ]]+Tableau1[[#This Row],[Nb trous]]*0.08*VLOOKUP(Tableau1[[#This Row],[Format\ntôle]],Tôles!B:O,5,FALSE)+ (Tableau1[[#This Row],[Dimention X (mm)]]+Tableau1[[#This Row],[Dimention Y (mm)]]) * 0.001)*Taux_horaire/100),Tableau1[[#This Row],[VCOGS\ntôle]] = \"\"),0,(5/Tableau1[[#This Row],[Série \néconomique ]]+Tableau1[[#This Row],[Nb trous]]*0.08*VLOOKUP(Tableau1[[#This Row],[Format\ntôle]],Tôles!B:O,5,FALSE)+ (Tableau1[[#This Row],[Dimention X (mm)]]+Tableau1[[#This Row],[Dimention Y (mm)]]) * 0.001)*Taux_horaire/100)","v":0},{"$f":"IF(OR(ISERROR((10/Tableau1[[#This Row],[Série \néconomique ]]+Tableau1[[#This Row],[Nb trous]]*0.007 + (Tableau1[[#This Row],[Dimention X (mm)]]+Tableau1[[#This Row],[Dimention Y (mm)]]) * 0.0005)*Taux_horaire/100),Tableau1[[#This Row],[VCOGS\ntôle]]= \"\"),0,(10/Tableau1[[#This Row],[Série \néconomique ]]+Tableau1[[#This Row],[Nb trous]]*0.007 + (Tableau1[[#This Row],[Dimention X (mm)]]+Tableau1[[#This Row],[Dimention Y (mm)]]) * 0.0005)*Taux_horaire/100)","v":0}]
[null,null,null,null,null,null,null,{"$f":"SUBSTITUTE(TRIM(CONCATENATE(Tableau1[[#This Row],[Niveau 0]],\" \",Tableau1[[#This Row],[Niveau 1]],\" \",Tableau1[[#This Row],[Niveau 2]],\" \",Tableau1[[#This Row],[Niveau 3]],\" \",Tableau1[[#This Row],[Niveau 4]],\" \",Tableau1[[#This Row],[Niveau 5]])),\" \",\".\")","v":""},{"$f":"IFERROR(IF(COUNTBLANK(Tableau1[[#This Row],[Niveau 0]:[Niveau 5]])=5,\"0\",LEFT(Tableau1[[#This Row],[Niveau]],(LEN(Tableau1[[#This Row],[Niveau]])-LEN(OFFSET(Tableau1[[#This Row],[Niveau 5]],0,(-COUNTBLANK(Tableau1[[#This Row],[Niveau 0]:[Niveau 5]]))))-1))),\"\")","v":""},null,null,null,null,{"$f":"IF(Tableau1[[#This Row],[Catégorie pièce]]=\" Opérations\",VLOOKUP(Tableau1[[#This Row],[Article produit/\nPoste de charge]],'PDC+emplacement'!A:C,2,FALSE),IF(Tableau1[[#This Row],[Catégorie pièce]]=\" Nouveau\",\"***RENSEIGNER NOM***\",IFERROR(VLOOKUP(CONCATENATE(Tableau1[[#This Row],[Article produit/\nPoste de charge]]),[1]ARTRDCL!$A$1:$U$25000,2,FALSE),\"\")))","v":""},null,null,null,null,null,{"$f":"IF(Tableau1[[#This Row],[Type plan]]=\"SP\",\"SP\",IF(AND(Tableau1[[#This Row],[Catégorie pièce]]=\" Nouveau\",Tableau1[[#This Row],[Type de pièce]]<>\" Panoplie\"),MID(Tableau1[[#This Row],[Article produit/\nPoste de charge]],2,15),IF(AND(Tableau1[[#This Row],[Catégorie pièce]]=\" Nouveau\",Tableau1[[#This Row],[Type de pièce]]=\" Panoplie\"),Tableau1[[#This Row],[Article produit/\nPoste de charge]],\"\")))","v":""},null,null,{"$f":"ROUNDUP((Tableau1[[#This Row],[Qté / an]]/52)*2,0)","v":{"$error":"#VALUE!"}},null,null,{"$f":"IF(AND(Tableau1[[#This Row],[Catégorie pièce]]=\" Opérations\",Tableau1[[#This Row],[Type de pièce]]=\" Temps\"),Taux_horaire/100,IF(AND(Tableau1[[#This Row],[Catégorie pièce]]=\" Nouveau\",Tableau1[[#This Row],[Type de pièce]]=\" Fabriquée\"),BOM!$AO72,IF(OR(AND(Tableau1[[#This Row],[Catégorie pièce]]=\" Nouveau\",Tableau1[[#This Row],[Type de pièce]]=\" Assemblage\"),BOM!$Y72=\" Produit fini\",Tableau1[[#This Row],[Type de pièce]]=\" Opé pièce primaire\",Tableau1[[#This Row],[Type de pièce]]=\" Pièce/Opé Panoplie\"),\"/\",IF(Tableau1[[#This Row],[Catégorie pièce]]=\" Existant\",VLOOKUP(CONCATENATE(Tableau1[[#This Row],[Article produit/\nPoste de charge]]),[1]ARTRDCL!$A$1:$U$65536,15,FALSE),\"\"))))","v":""},{"$f":"IF(OR(Tableau1[[#This Row],[Catégorie pièce]]=\" Opérations\",Tableau1[[#This Row],[Catégorie pièce]]=\" Matière 1ère\",ISBLANK(Tableau1[[#This Row],[Catégorie pièce]])),\"/\",SUMPRODUCT($AY$6:$BB$6,Tableau1[[#This Row],[Modèle A]:[Modèle D]]))","v":"/"},{"$f":"IFERROR(ROUNDDOWN(Tableau1[[#This Row],[surface\ntôle (m²)]]/Tableau1[[#This Row],[Surface\npièce (m²)]],0),0)","v":0},{"$f":"IF(AND(Tableau1[[#This Row],[Catégorie pièce]]=\" Nouveau\",Tableau1[[#This Row],[Type de pièce]]=\" Fabriquée\"),ROUNDUP(Tableau1[[#This Row],[Qté / an]]*2/52,0),0)","v":0},null,null,null,null,null,null,null,null,null,null,null,{"$f":"SUM(Tableau1[[#This Row],[VCOGS\ntôle]:[VCOGS\npliage]])","v":0},{"$f":"IFERROR((VLOOKUP(Tableau1[[#This Row],[Format\ntôle]],Tableau2[],11,FALSE)/Tableau1[[#This Row],[Série \néconomique ]])*Tableau1[[#This Row],[surface\ntôle (m²)]],0)","v":0},{"$f":"IF(Tableau1[[#This Row],[Laser (O/N)]]= \"Oui\",Tableau1[[#This Row],[Coût\ndécoupe laser]],Tableau1[[#This Row],[Coût\npoinçonnage]])","v":0},{"$f":"IF(Tableau1[[#This Row],[Nb plis]]>0, (IF(Tableau1[[#This Row],[Nb plis]]<5,0.25,IF(Tableau1[[#This Row],[Nb plis]]<7,0.33,0.45))/Tableau1[[#This Row],[Série \néconomique ]] +0.004*Tableau1[[#This Row],[Nb plis]])*$N$5,0)","v":0},{"$f":"IFERROR(VLOOKUP(Tableau1[[#This Row],[Format\ntôle]],Tôles!B:P,9,FALSE),0)","v":0},{"$f":"Tableau1[[#This Row],[Dimention X (mm)]]/1000*Tableau1[[#This Row],[Dimention Y (mm)]]/1000","v":0},{"$f":"IFERROR(ROUNDUP(Tableau1[[#This Row],[Surface\npièce (m²)]]/Tableau1[[#This Row],[surface\ntôle (m²)]],4),0)","v":0},{"$f":"IF(Tableau1[[#This Row],[Forcer série Economique ]]>0,Tableau1[[#This Row],[Forcer série Economique ]],Tableau1[[#This Row],[Série Economique proposée]])","v":0},{"$f":"IF(OR(ISERROR((5/Tableau1[[#This Row],[Série \néconomique ]]+Tableau1[[#This Row],[Nb trous]]*0.08*VLOOKUP(Tableau1[[#This Row],[Format\ntôle]],Tôles!B:O,5,FALSE)+ (Tableau1[[#This Row],[Dimention X (mm)]]+Tableau1[[#This Row],[Dimention Y (mm)]]) * 0.001)*Taux_horaire/100),Tableau1[[#This Row],[VCOGS\ntôle]] = \"\"),0,(5/Tableau1[[#This Row],[Série \néconomique ]]+Tableau1[[#This Row],[Nb trous]]*0.08*VLOOKUP(Tableau1[[#This Row],[Format\ntôle]],Tôles!B:O,5,FALSE)+ (Tableau1[[#This Row],[Dimention X (mm)]]+Tableau1[[#This Row],[Dimention Y (mm)]]) * 0.001)*Taux_horaire/100)","v":0},{"$f":"IF(OR(ISERROR((10/Tableau1[[#This Row],[Série \néconomique ]]+Tableau1[[#This Row],[Nb trous]]*0.007 + (Tableau1[[#This Row],[Dimention X (mm)]]+Tableau1[[#This Row],[Dimention Y (mm)]]) * 0.0005)*Taux_horaire/100),Tableau1[[#This Row],[VCOGS\ntôle]]= \"\"),0,(10/Tableau1[[#This Row],[Série \néconomique ]]+Tableau1[[#This Row],[Nb trous]]*0.007 + (Tableau1[[#This Row],[Dimention X (mm)]]+Tableau1[[#This Row],[Dimention Y (mm)]]) * 0.0005)*Taux_horaire/100)","v":0}]
[null,null,null,null,null,null,null,{"$f":"SUBSTITUTE(TRIM(CONCATENATE(Tableau1[[#This Row],[Niveau 0]],\" \",Tableau1[[#This Row],[Niveau 1]],\" \",Tableau1[[#This Row],[Niveau 2]],\" \",Tableau1[[#This Row],[Niveau 3]],\" \",Tableau1[[#This Row],[Niveau 4]],\" \",Tableau1[[#This Row],[Niveau 5]])),\" \",\".\")","v":""},{"$f":"IFERROR(IF(COUNTBLANK(Tableau1[[#This Row],[Niveau 0]:[Niveau 5]])=5,\"0\",LEFT(Tableau1[[#This Row],[Niveau]],(LEN(Tableau1[[#This Row],[Niveau]])-LEN(OFFSET(Tableau1[[#This Row],[Niveau 5]],0,(-COUNTBLANK(Tableau1[[#This Row],[Niveau 0]:[Niveau 5]]))))-1))),\"\")","v":""},null,null,null,null,{"$f":"IF(Tableau1[[#This Row],[Catégorie pièce]]=\" Opérations\",VLOOKUP(Tableau1[[#This Row],[Article produit/\nPoste de charge]],'PDC+emplacement'!A:C,2,FALSE),IF(Tableau1[[#This Row],[Catégorie pièce]]=\" Nouveau\",\"***RENSEIGNER NOM***\",IFERROR(VLOOKUP(CONCATENATE(Tableau1[[#This Row],[Article produit/\nPoste de charge]]),[1]ARTRDCL!$A$1:$U$25000,2,FALSE),\"\")))","v":""},null,null,null,null,null,{"$f":"IF(Tableau1[[#This Row],[Type plan]]=\"SP\",\"SP\",IF(AND(Tableau1[[#This Row],[Catégorie pièce]]=\" Nouveau\",Tableau1[[#This Row],[Type de pièce]]<>\" Panoplie\"),MID(Tableau1[[#This Row],[Article produit/\nPoste de charge]],2,15),IF(AND(Tableau1[[#This Row],[Catégorie pièce]]=\" Nouveau\",Tableau1[[#This Row],[Type de pièce]]=\" Panoplie\"),Tableau1[[#This Row],[Article produit/\nPoste de charge]],\"\")))","v":""},null,null,{"$f":"ROUNDUP((Tableau1[[#This Row],[Qté / an]]/52)*2,0)","v":{"$error":"#VALUE!"}},null,null,{"$f":"IF(AND(Tableau1[[#This Row],[Catégorie pièce]]=\" Opérations\",Tableau1[[#This Row],[Type de pièce]]=\" Temps\"),Taux_horaire/100,IF(AND(Tableau1[[#This Row],[Catégorie pièce]]=\" Nouveau\",Tableau1[[#This Row],[Type de pièce]]=\" Fabriquée\"),BOM!$AO73,IF(OR(AND(Tableau1[[#This Row],[Catégorie pièce]]=\" Nouveau\",Tableau1[[#This Row],[Type de pièce]]=\" Assemblage\"),BOM!$Y73=\" Produit fini\",Tableau1[[#This Row],[Type de pièce]]=\" Opé pièce primaire\",Tableau1[[#This Row],[Type de pièce]]=\" Pièce/Opé Panoplie\"),\"/\",IF(Tableau1[[#This Row],[Catégorie pièce]]=\" Existant\",VLOOKUP(CONCATENATE(Tableau1[[#This Row],[Article produit/\nPoste de charge]]),[1]ARTRDCL!$A$1:$U$65536,15,FALSE),\"\"))))","v":""},{"$f":"IF(OR(Tableau1[[#This Row],[Catégorie pièce]]=\" Opérations\",Tableau1[[#This Row],[Catégorie pièce]]=\" Matière 1ère\",ISBLANK(Tableau1[[#This Row],[Catégorie pièce]])),\"/\",SUMPRODUCT($AY$6:$BB$6,Tableau1[[#This Row],[Modèle A]:[Modèle D]]))","v":"/"},{"$f":"IFERROR(ROUNDDOWN(Tableau1[[#This Row],[surface\ntôle (m²)]]/Tableau1[[#This Row],[Surface\npièce (m²)]],0),0)","v":0},{"$f":"IF(AND(Tableau1[[#This Row],[Catégorie pièce]]=\" Nouveau\",Tableau1[[#This Row],[Type de pièce]]=\" Fabriquée\"),ROUNDUP(Tableau1[[#This Row],[Qté / an]]*2/52,0),0)","v":0},null,null,null,null,null,null,null,null,null,null,null,{"$f":"SUM(Tableau1[[#This Row],[VCOGS\ntôle]:[VCOGS\npliage]])","v":0},{"$f":"IFERROR((VLOOKUP(Tableau1[[#This Row],[Format\ntôle]],Tableau2[],11,FALSE)/Tableau1[[#This Row],[Série \néconomique ]])*Tableau1[[#This Row],[surface\ntôle (m²)]],0)","v":0},{"$f":"IF(Tableau1[[#This Row],[Laser (O/N)]]= \"Oui\",Tableau1[[#This Row],[Coût\ndécoupe laser]],Tableau1[[#This Row],[Coût\npoinçonnage]])","v":0},{"$f":"IF(Tableau1[[#This Row],[Nb plis]]>0, (IF(Tableau1[[#This Row],[Nb plis]]<5,0.25,IF(Tableau1[[#This Row],[Nb plis]]<7,0.33,0.45))/Tableau1[[#This Row],[Série \néconomique ]] +0.004*Tableau1[[#This Row],[Nb plis]])*$N$5,0)","v":0},{"$f":"IFERROR(VLOOKUP(Tableau1[[#This Row],[Format\ntôle]],Tôles!B:P,9,FALSE),0)","v":0},{"$f":"Tableau1[[#This Row],[Dimention X (mm)]]/1000*Tableau1[[#This Row],[Dimention Y (mm)]]/1000","v":0},{"$f":"IFERROR(ROUNDUP(Tableau1[[#This Row],[Surface\npièce (m²)]]/Tableau1[[#This Row],[surface\ntôle (m²)]],4),0)","v":0},{"$f":"IF(Tableau1[[#This Row],[Forcer série Economique ]]>0,Tableau1[[#This Row],[Forcer série Economique ]],Tableau1[[#This Row],[Série Economique proposée]])","v":0},{"$f":"IF(OR(ISERROR((5/Tableau1[[#This Row],[Série \néconomique ]]+Tableau1[[#This Row],[Nb trous]]*0.08*VLOOKUP(Tableau1[[#This Row],[Format\ntôle]],Tôles!B:O,5,FALSE)+ (Tableau1[[#This Row],[Dimention X (mm)]]+Tableau1[[#This Row],[Dimention Y (mm)]]) * 0.001)*Taux_horaire/100),Tableau1[[#This Row],[VCOGS\ntôle]] = \"\"),0,(5/Tableau1[[#This Row],[Série \néconomique ]]+Tableau1[[#This Row],[Nb trous]]*0.08*VLOOKUP(Tableau1[[#This Row],[Format\ntôle]],Tôles!B:O,5,FALSE)+ (Tableau1[[#This Row],[Dimention X (mm)]]+Tableau1[[#This Row],[Dimention Y (mm)]]) * 0.001)*Taux_horaire/100)","v":0},{"$f":"IF(OR(ISERROR((10/Tableau1[[#This Row],[Série \néconomique ]]+Tableau1[[#This Row],[Nb trous]]*0.007 + (Tableau1[[#This Row],[Dimention X (mm)]]+Tableau1[[#This Row],[Dimention Y (mm)]]) * 0.0005)*Taux_horaire/100),Tableau1[[#This Row],[VCOGS\ntôle]]= \"\"),0,(10/Tableau1[[#This Row],[Série \néconomique ]]+Tableau1[[#This Row],[Nb trous]]*0.007 + (Tableau1[[#This Row],[Dimention X (mm)]]+Tableau1[[#This Row],[Dimention Y (mm)]]) * 0.0005)*Taux_horaire/100)","v":0}]
[null,null,null,null,null,null,null,{"$f":"SUBSTITUTE(TRIM(CONCATENATE(Tableau1[[#This Row],[Niveau 0]],\" \",Tableau1[[#This Row],[Niveau 1]],\" \",Tableau1[[#This Row],[Niveau 2]],\" \",Tableau1[[#This Row],[Niveau 3]],\" \",Tableau1[[#This Row],[Niveau 4]],\" \",Tableau1[[#This Row],[Niveau 5]])),\" \",\".\")","v":""},{"$f":"IFERROR(IF(COUNTBLANK(Tableau1[[#This Row],[Niveau 0]:[Niveau 5]])=5,\"0\",LEFT(Tableau1[[#This Row],[Niveau]],(LEN(Tableau1[[#This Row],[Niveau]])-LEN(OFFSET(Tableau1[[#This Row],[Niveau 5]],0,(-COUNTBLANK(Tableau1[[#This Row],[Niveau 0]:[Niveau 5]]))))-1))),\"\")","v":""},null,null,null,null,{"$f":"IF(Tableau1[[#This Row],[Catégorie pièce]]=\" Opérations\",VLOOKUP(Tableau1[[#This Row],[Article produit/\nPoste de charge]],'PDC+emplacement'!A:C,2,FALSE),IF(Tableau1[[#This Row],[Catégorie pièce]]=\" Nouveau\",\"***RENSEIGNER NOM***\",IFERROR(VLOOKUP(CONCATENATE(Tableau1[[#This Row],[Article produit/\nPoste de charge]]),[1]ARTRDCL!$A$1:$U$25000,2,FALSE),\"\")))","v":""},null,null,null,null,null,{"$f":"IF(Tableau1[[#This Row],[Type plan]]=\"SP\",\"SP\",IF(AND(Tableau1[[#This Row],[Catégorie pièce]]=\" Nouveau\",Tableau1[[#This Row],[Type de pièce]]<>\" Panoplie\"),MID(Tableau1[[#This Row],[Article produit/\nPoste de charge]],2,15),IF(AND(Tableau1[[#This Row],[Catégorie pièce]]=\" Nouveau\",Tableau1[[#This Row],[Type de pièce]]=\" Panoplie\"),Tableau1[[#This Row],[Article produit/\nPoste de charge]],\"\")))","v":""},null,null,{"$f":"ROUNDUP((Tableau1[[#This Row],[Qté / an]]/52)*2,0)","v":{"$error":"#VALUE!"}},null,null,{"$f":"IF(AND(Tableau1[[#This Row],[Catégorie pièce]]=\" Opérations\",Tableau1[[#This Row],[Type de pièce]]=\" Temps\"),Taux_horaire/100,IF(AND(Tableau1[[#This Row],[Catégorie pièce]]=\" Nouveau\",Tableau1[[#This Row],[Type de pièce]]=\" Fabriquée\"),BOM!$AO74,IF(OR(AND(Tableau1[[#This Row],[Catégorie pièce]]=\" Nouveau\",Tableau1[[#This Row],[Type de pièce]]=\" Assemblage\"),BOM!$Y74=\" Produit fini\",Tableau1[[#This Row],[Type de pièce]]=\" Opé pièce primaire\",Tableau1[[#This Row],[Type de pièce]]=\" Pièce/Opé Panoplie\"),\"/\",IF(Tableau1[[#This Row],[Catégorie pièce]]=\" Existant\",VLOOKUP(CONCATENATE(Tableau1[[#This Row],[Article produit/\nPoste de charge]]),[1]ARTRDCL!$A$1:$U$65536,15,FALSE),\"\"))))","v":""},{"$f":"IF(OR(Tableau1[[#This Row],[Catégorie pièce]]=\" Opérations\",Tableau1[[#This Row],[Catégorie pièce]]=\" Matière 1ère\",ISBLANK(Tableau1[[#This Row],[Catégorie pièce]])),\"/\",SUMPRODUCT($AY$6:$BB$6,Tableau1[[#This Row],[Modèle A]:[Modèle D]]))","v":"/"},{"$f":"IFERROR(ROUNDDOWN(Tableau1[[#This Row],[surface\ntôle (m²)]]/Tableau1[[#This Row],[Surface\npièce (m²)]],0),0)","v":0},{"$f":"IF(AND(Tableau1[[#This Row],[Catégorie pièce]]=\" Nouveau\",Tableau1[[#This Row],[Type de pièce]]=\" Fabriquée\"),ROUNDUP(Tableau1[[#This Row],[Qté / an]]*2/52,0),0)","v":0},null,null,null,null,null,null,null,null,null,null,null,{"$f":"SUM(Tableau1[[#This Row],[VCOGS\ntôle]:[VCOGS\npliage]])","v":0},{"$f":"IFERROR((VLOOKUP(Tableau1[[#This Row],[Format\ntôle]],Tableau2[],11,FALSE)/Tableau1[[#This Row],[Série \néconomique ]])*Tableau1[[#This Row],[surface\ntôle (m²)]],0)","v":0},{"$f":"IF(Tableau1[[#This Row],[Laser (O/N)]]= \"Oui\",Tableau1[[#This Row],[Coût\ndécoupe laser]],Tableau1[[#This Row],[Coût\npoinçonnage]])","v":0},{"$f":"IF(Tableau1[[#This Row],[Nb plis]]>0, (IF(Tableau1[[#This Row],[Nb plis]]<5,0.25,IF(Tableau1[[#This Row],[Nb plis]]<7,0.33,0.45))/Tableau1[[#This Row],[Série \néconomique ]] +0.004*Tableau1[[#This Row],[Nb plis]])*$N$5,0)","v":0},{"$f":"IFERROR(VLOOKUP(Tableau1[[#This Row],[Format\ntôle]],Tôles!B:P,9,FALSE),0)","v":0},{"$f":"Tableau1[[#This Row],[Dimention X (mm)]]/1000*Tableau1[[#This Row],[Dimention Y (mm)]]/1000","v":0},{"$f":"IFERROR(ROUNDUP(Tableau1[[#This Row],[Surface\npièce (m²)]]/Tableau1[[#This Row],[surface\ntôle (m²)]],4),0)","v":0},{"$f":"IF(Tableau1[[#This Row],[Forcer série Economique ]]>0,Tableau1[[#This Row],[Forcer série Economique ]],Tableau1[[#This Row],[Série Economique proposée]])","v":0},{"$f":"IF(OR(ISERROR((5/Tableau1[[#This Row],[Série \néconomique ]]+Tableau1[[#This Row],[Nb trous]]*0.08*VLOOKUP(Tableau1[[#This Row],[Format\ntôle]],Tôles!B:O,5,FALSE)+ (Tableau1[[#This Row],[Dimention X (mm)]]+Tableau1[[#This Row],[Dimention Y (mm)]]) * 0.001)*Taux_horaire/100),Tableau1[[#This Row],[VCOGS\ntôle]] = \"\"),0,(5/Tableau1[[#This Row],[Série \néconomique ]]+Tableau1[[#This Row],[Nb trous]]*0.08*VLOOKUP(Tableau1[[#This Row],[Format\ntôle]],Tôles!B:O,5,FALSE)+ (Tableau1[[#This Row],[Dimention X (mm)]]+Tableau1[[#This Row],[Dimention Y (mm)]]) * 0.001)*Taux_horaire/100)","v":0},{"$f":"IF(OR(ISERROR((10/Tableau1[[#This Row],[Série \néconomique ]]+Tableau1[[#This Row],[Nb trous]]*0.007 + (Tableau1[[#This Row],[Dimention X (mm)]]+Tableau1[[#This Row],[Dimention Y (mm)]]) * 0.0005)*Taux_horaire/100),Tableau1[[#This Row],[VCOGS\ntôle]]= \"\"),0,(10/Tableau1[[#This Row],[Série \néconomique ]]+Tableau1[[#This Row],[Nb trous]]*0.007 + (Tableau1[[#This Row],[Dimention X (mm)]]+Tableau1[[#This Row],[Dimention Y (mm)]]) * 0.0005)*Taux_horaire/100)","v":0}]
[null,null,null,null,null,null,null,{"$f":"SUBSTITUTE(TRIM(CONCATENATE(Tableau1[[#This Row],[Niveau 0]],\" \",Tableau1[[#This Row],[Niveau 1]],\" \",Tableau1[[#This Row],[Niveau 2]],\" \",Tableau1[[#This Row],[Niveau 3]],\" \",Tableau1[[#This Row],[Niveau 4]],\" \",Tableau1[[#This Row],[Niveau 5]])),\" \",\".\")","v":""},{"$f":"IFERROR(IF(COUNTBLANK(Tableau1[[#This Row],[Niveau 0]:[Niveau 5]])=5,\"0\",LEFT(Tableau1[[#This Row],[Niveau]],(LEN(Tableau1[[#This Row],[Niveau]])-LEN(OFFSET(Tableau1[[#This Row],[Niveau 5]],0,(-COUNTBLANK(Tableau1[[#This Row],[Niveau 0]:[Niveau 5]]))))-1))),\"\")","v":""},null,null,null,null,{"$f":"IF(Tableau1[[#This Row],[Catégorie pièce]]=\" Opérations\",VLOOKUP(Tableau1[[#This Row],[Article produit/\nPoste de charge]],'PDC+emplacement'!A:C,2,FALSE),IF(Tableau1[[#This Row],[Catégorie pièce]]=\" Nouveau\",\"***RENSEIGNER NOM***\",IFERROR(VLOOKUP(CONCATENATE(Tableau1[[#This Row],[Article produit/\nPoste de charge]]),[1]ARTRDCL!$A$1:$U$25000,2,FALSE),\"\")))","v":""},null,null,null,null,null,{"$f":"IF(Tableau1[[#This Row],[Type plan]]=\"SP\",\"SP\",IF(AND(Tableau1[[#This Row],[Catégorie pièce]]=\" Nouveau\",Tableau1[[#This Row],[Type de pièce]]<>\" Panoplie\"),MID(Tableau1[[#This Row],[Article produit/\nPoste de charge]],2,15),IF(AND(Tableau1[[#This Row],[Catégorie pièce]]=\" Nouveau\",Tableau1[[#This Row],[Type de pièce]]=\" Panoplie\"),Tableau1[[#This Row],[Article produit/\nPoste de charge]],\"\")))","v":""},null,null,{"$f":"ROUNDUP((Tableau1[[#This Row],[Qté / an]]/52)*2,0)","v":{"$error":"#VALUE!"}},null,null,{"$f":"IF(AND(Tableau1[[#This Row],[Catégorie pièce]]=\" Opérations\",Tableau1[[#This Row],[Type de pièce]]=\" Temps\"),Taux_horaire/100,IF(AND(Tableau1[[#This Row],[Catégorie pièce]]=\" Nouveau\",Tableau1[[#This Row],[Type de pièce]]=\" Fabriquée\"),BOM!$AO75,IF(OR(AND(Tableau1[[#This Row],[Catégorie pièce]]=\" Nouveau\",Tableau1[[#This Row],[Type de pièce]]=\" Assemblage\"),BOM!$Y75=\" Produit fini\",Tableau1[[#This Row],[Type de pièce]]=\" Opé pièce primaire\",Tableau1[[#This Row],[Type de pièce]]=\" Pièce/Opé Panoplie\"),\"/\",IF(Tableau1[[#This Row],[Catégorie pièce]]=\" Existant\",VLOOKUP(CONCATENATE(Tableau1[[#This Row],[Article produit/\nPoste de charge]]),[1]ARTRDCL!$A$1:$U$65536,15,FALSE),\"\"))))","v":""},{"$f":"IF(OR(Tableau1[[#This Row],[Catégorie pièce]]=\" Opérations\",Tableau1[[#This Row],[Catégorie pièce]]=\" Matière 1ère\",ISBLANK(Tableau1[[#This Row],[Catégorie pièce]])),\"/\",SUMPRODUCT($AY$6:$BB$6,Tableau1[[#This Row],[Modèle A]:[Modèle D]]))","v":"/"},{"$f":"IFERROR(ROUNDDOWN(Tableau1[[#This Row],[surface\ntôle (m²)]]/Tableau1[[#This Row],[Surface\npièce (m²)]],0),0)","v":0},{"$f":"IF(AND(Tableau1[[#This Row],[Catégorie pièce]]=\" Nouveau\",Tableau1[[#This Row],[Type de pièce]]=\" Fabriquée\"),ROUNDUP(Tableau1[[#This Row],[Qté / an]]*2/52,0),0)","v":0},null,null,null,null,null,null,null,null,null,null,null,{"$f":"SUM(Tableau1[[#This Row],[VCOGS\ntôle]:[VCOGS\npliage]])","v":0},{"$f":"IFERROR((VLOOKUP(Tableau1[[#This Row],[Format\ntôle]],Tableau2[],11,FALSE)/Tableau1[[#This Row],[Série \néconomique ]])*Tableau1[[#This Row],[surface\ntôle (m²)]],0)","v":0},{"$f":"IF(Tableau1[[#This Row],[Laser (O/N)]]= \"Oui\",Tableau1[[#This Row],[Coût\ndécoupe laser]],Tableau1[[#This Row],[Coût\npoinçonnage]])","v":0},{"$f":"IF(Tableau1[[#This Row],[Nb plis]]>0, (IF(Tableau1[[#This Row],[Nb plis]]<5,0.25,IF(Tableau1[[#This Row],[Nb plis]]<7,0.33,0.45))/Tableau1[[#This Row],[Série \néconomique ]] +0.004*Tableau1[[#This Row],[Nb plis]])*$N$5,0)","v":0},{"$f":"IFERROR(VLOOKUP(Tableau1[[#This Row],[Format\ntôle]],Tôles!B:P,9,FALSE),0)","v":0},{"$f":"Tableau1[[#This Row],[Dimention X (mm)]]/1000*Tableau1[[#This Row],[Dimention Y (mm)]]/1000","v":0},{"$f":"IFERROR(ROUNDUP(Tableau1[[#This Row],[Surface\npièce (m²)]]/Tableau1[[#This Row],[surface\ntôle (m²)]],4),0)","v":0},{"$f":"IF(Tableau1[[#This Row],[Forcer série Economique ]]>0,Tableau1[[#This Row],[Forcer série Economique ]],Tableau1[[#This Row],[Série Economique proposée]])","v":0},{"$f":"IF(OR(ISERROR((5/Tableau1[[#This Row],[Série \néconomique ]]+Tableau1[[#This Row],[Nb trous]]*0.08*VLOOKUP(Tableau1[[#This Row],[Format\ntôle]],Tôles!B:O,5,FALSE)+ (Tableau1[[#This Row],[Dimention X (mm)]]+Tableau1[[#This Row],[Dimention Y (mm)]]) * 0.001)*Taux_horaire/100),Tableau1[[#This Row],[VCOGS\ntôle]] = \"\"),0,(5/Tableau1[[#This Row],[Série \néconomique ]]+Tableau1[[#This Row],[Nb trous]]*0.08*VLOOKUP(Tableau1[[#This Row],[Format\ntôle]],Tôles!B:O,5,FALSE)+ (Tableau1[[#This Row],[Dimention X (mm)]]+Tableau1[[#This Row],[Dimention Y (mm)]]) * 0.001)*Taux_horaire/100)","v":0},{"$f":"IF(OR(ISERROR((10/Tableau1[[#This Row],[Série \néconomique ]]+Tableau1[[#This Row],[Nb trous]]*0.007 + (Tableau1[[#This Row],[Dimention X (mm)]]+Tableau1[[#This Row],[Dimention Y (mm)]]) * 0.0005)*Taux_horaire/100),Tableau1[[#This Row],[VCOGS\ntôle]]= \"\"),0,(10/Tableau1[[#This Row],[Série \néconomique ]]+Tableau1[[#This Row],[Nb trous]]*0.007 + (Tableau1[[#This Row],[Dimention X (mm)]]+Tableau1[[#This Row],[Dimention Y (mm)]]) * 0.0005)*Taux_horaire/100)","v":0}]
["PEINTURE",null,null,null,null,null,null,{"$f":"SUBSTITUTE(TRIM(CONCATENATE(Tableau1[[#This Row],[Niveau 0]],\" \",Tableau1[[#This Row],[Niveau 1]],\" \",Tableau1[[#This Row],[Niveau 2]],\" \",Tableau1[[#This Row],[Niveau 3]],\" \",Tableau1[[#This Row],[Niveau 4]],\" \",Tableau1[[#This Row],[Niveau 5]])),\" \",\".\")","v":""},{"$f":"IFERROR(IF(COUNTBLANK(Tableau1[[#This Row],[Niveau 0]:[Niveau 5]])=5,\"0\",LEFT(Tableau1[[#This Row],[Niveau]],(LEN(Tableau1[[#This Row],[Niveau]])-LEN(OFFSET(Tableau1[[#This Row],[Niveau 5]],0,(-COUNTBLANK(Tableau1[[#This Row],[Niveau 0]:[Niveau 5]]))))-1))),\"\")","v":""},null,null,null,null,{"$f":"IF(Tableau1[[#This Row],[Catégorie pièce]]=\" Opérations\",VLOOKUP(Tableau1[[#This Row],[Article produit/\nPoste de charge]],'PDC+emplacement'!A:C,2,FALSE),IF(Tableau1[[#This Row],[Catégorie pièce]]=\" Nouveau\",\"***RENSEIGNER NOM***\",IFERROR(VLOOKUP(CONCATENATE(Tableau1[[#This Row],[Article produit/\nPoste de charge]]),[1]ARTRDCL!$A$1:$U$25000,2,FALSE),\"\")))","v":""},null,null,null,null,null,{"$f":"IF(Tableau1[[#This Row],[Type plan]]=\"SP\",\"SP\",IF(AND(Tableau1[[#This Row],[Catégorie pièce]]=\" Nouveau\",Tableau1[[#This Row],[Type de pièce]]<>\" Panoplie\"),MID(Tableau1[[#This Row],[Article produit/\nPoste de charge]],2,15),IF(AND(Tableau1[[#This Row],[Catégorie pièce]]=\" Nouveau\",Tableau1[[#This Row],[Type de pièce]]=\" Panoplie\"),Tableau1[[#This Row],[Article produit/\nPoste de charge]],\"\")))","v":""},null,null,{"$f":"ROUNDUP((Tableau1[[#This Row],[Qté / an]]/52)*2,0)","v":{"$error":"#VALUE!"}},null,null,{"$f":"IF(AND(Tableau1[[#This Row],[Catégorie pièce]]=\" Opérations\",Tableau1[[#This Row],[Type de pièce]]=\" Temps\"),Taux_horaire/100,IF(AND(Tableau1[[#This Row],[Catégorie pièce]]=\" Nouveau\",Tableau1[[#This Row],[Type de pièce]]=\" Fabriquée\"),BOM!$AO76,IF(OR(AND(Tableau1[[#This Row],[Catégorie pièce]]=\" Nouveau\",Tableau1[[#This Row],[Type de pièce]]=\" Assemblage\"),BOM!$Y76=\" Produit fini\",Tableau1[[#This Row],[Type de pièce]]=\" Opé pièce primaire\",Tableau1[[#This Row],[Type de pièce]]=\" Pièce/Opé Panoplie\"),\"/\",IF(Tableau1[[#This Row],[Catégorie pièce]]=\" Existant\",VLOOKUP(CONCATENATE(Tableau1[[#This Row],[Article produit/\nPoste de charge]]),[1]ARTRDCL!$A$1:$U$65536,15,FALSE),\"\"))))","v":""},{"$f":"IF(OR(Tableau1[[#This Row],[Catégorie pièce]]=\" Opérations\",Tableau1[[#This Row],[Catégorie pièce]]=\" Matière 1ère\",ISBLANK(Tableau1[[#This Row],[Catégorie pièce]])),\"/\",SUMPRODUCT($AY$6:$BB$6,Tableau1[[#This Row],[Modèle A]:[Modèle D]]))","v":"/"},{"$f":"IFERROR(ROUNDDOWN(Tableau1[[#This Row],[surface\ntôle (m²)]]/Tableau1[[#This Row],[Surface\npièce (m²)]],0),0)","v":0},{"$f":"IF(AND(Tableau1[[#This Row],[Catégorie pièce]]=\" Nouveau\",Tableau1[[#This Row],[Type de pièce]]=\" Fabriquée\"),ROUNDUP(Tableau1[[#This Row],[Qté / an]]*2/52,0),0)","v":0},null,null,null,null,null,null,null,null,null,null,null,{"$f":"SUM(Tableau1[[#This Row],[VCOGS\ntôle]:[VCOGS\npliage]])","v":0},{"$f":"IFERROR((VLOOKUP(Tableau1[[#This Row],[Format\ntôle]],Tableau2[],11,FALSE)/Tableau1[[#This Row],[Série \néconomique ]])*Tableau1[[#This Row],[surface\ntôle (m²)]],0)","v":0},{"$f":"IF(Tableau1[[#This Row],[Laser (O/N)]]= \"Oui\",Tableau1[[#This Row],[Coût\ndécoupe laser]],Tableau1[[#This Row],[Coût\npoinçonnage]])","v":0},{"$f":"IF(Tableau1[[#This Row],[Nb plis]]>0, (IF(Tableau1[[#This Row],[Nb plis]]<5,0.25,IF(Tableau1[[#This Row],[Nb plis]]<7,0.33,0.45))/Tableau1[[#This Row],[Série \néconomique ]] +0.004*Tableau1[[#This Row],[Nb plis]])*$N$5,0)","v":0},{"$f":"IFERROR(VLOOKUP(Tableau1[[#This Row],[Format\ntôle]],Tôles!B:P,9,FALSE),0)","v":0},{"$f":"Tableau1[[#This Row],[Dimention X (mm)]]/1000*Tableau1[[#This Row],[Dimention Y (mm)]]/1000","v":0},{"$f":"IFERROR(ROUNDUP(Tableau1[[#This Row],[Surface\npièce (m²)]]/Tableau1[[#This Row],[surface\ntôle (m²)]],4),0)","v":0},{"$f":"IF(Tableau1[[#This Row],[Forcer série Economique ]]>0,Tableau1[[#This Row],[Forcer série Economique ]],Tableau1[[#This Row],[Série Economique proposée]])","v":0},{"$f":"IF(OR(ISERROR((5/Tableau1[[#This Row],[Série \néconomique ]]+Tableau1[[#This Row],[Nb trous]]*0.08*VLOOKUP(Tableau1[[#This Row],[Format\ntôle]],Tôles!B:O,5,FALSE)+ (Tableau1[[#This Row],[Dimention X (mm)]]+Tableau1[[#This Row],[Dimention Y (mm)]]) * 0.001)*Taux_horaire/100),Tableau1[[#This Row],[VCOGS\ntôle]] = \"\"),0,(5/Tableau1[[#This Row],[Série \néconomique ]]+Tableau1[[#This Row],[Nb trous]]*0.08*VLOOKUP(Tableau1[[#This Row],[Format\ntôle]],Tôles!B:O,5,FALSE)+ (Tableau1[[#This Row],[Dimention X (mm)]]+Tableau1[[#This Row],[Dimention Y (mm)]]) * 0.001)*Taux_horaire/100)","v":0},{"$f":"IF(OR(ISERROR((10/Tableau1[[#This Row],[Série \néconomique ]]+Tableau1[[#This Row],[Nb trous]]*0.007 + (Tableau1[[#This Row],[Dimention X (mm)]]+Tableau1[[#This Row],[Dimention Y (mm)]]) * 0.0005)*Taux_horaire/100),Tableau1[[#This Row],[VCOGS\ntôle]]= \"\"),0,(10/Tableau1[[#This Row],[Série \néconomique ]]+Tableau1[[#This Row],[Nb trous]]*0.007 + (Tableau1[[#This Row],[Dimention X (mm)]]+Tableau1[[#This Row],[Dimention Y (mm)]]) * 0.0005)*Taux_horaire/100)","v":0}]
[null,null,null,null,null,null,null,{"$f":"SUBSTITUTE(TRIM(CONCATENATE(Tableau1[[#This Row],[Niveau 0]],\" \",Tableau1[[#This Row],[Niveau 1]],\" \",Tableau1[[#This Row],[Niveau 2]],\" \",Tableau1[[#This Row],[Niveau 3]],\" \",Tableau1[[#This Row],[Niveau 4]],\" \",Tableau1[[#This Row],[Niveau 5]])),\" \",\".\")","v":""},{"$f":"IFERROR(IF(COUNTBLANK(Tableau1[[#This Row],[Niveau 0]:[Niveau 5]])=5,\"0\",LEFT(Tableau1[[#This Row],[Niveau]],(LEN(Tableau1[[#This Row],[Niveau]])-LEN(OFFSET(Tableau1[[#This Row],[Niveau 5]],0,(-COUNTBLANK(Tableau1[[#This Row],[Niveau 0]:[Niveau 5]]))))-1))),\"\")","v":""},null,null,null,null,{"$f":"IF(Tableau1[[#This Row],[Catégorie pièce]]=\" Opérations\",VLOOKUP(Tableau1[[#This Row],[Article produit/\nPoste de charge]],'PDC+emplacement'!A:C,2,FALSE),IF(Tableau1[[#This Row],[Catégorie pièce]]=\" Nouveau\",\"***RENSEIGNER NOM***\",IFERROR(VLOOKUP(CONCATENATE(Tableau1[[#This Row],[Article produit/\nPoste de charge]]),[1]ARTRDCL!$A$1:$U$25000,2,FALSE),\"\")))","v":""},null,null,null,null,null,{"$f":"IF(Tableau1[[#This Row],[Type plan]]=\"SP\",\"SP\",IF(AND(Tableau1[[#This Row],[Catégorie pièce]]=\" Nouveau\",Tableau1[[#This Row],[Type de pièce]]<>\" Panoplie\"),MID(Tableau1[[#This Row],[Article produit/\nPoste de charge]],2,15),IF(AND(Tableau1[[#This Row],[Catégorie pièce]]=\" Nouveau\",Tableau1[[#This Row],[Type de pièce]]=\" Panoplie\"),Tableau1[[#This Row],[Article produit/\nPoste de charge]],\"\")))","v":""},null,null,{"$f":"ROUNDUP((Tableau1[[#This Row],[Qté / an]]/52)*2,0)","v":{"$error":"#VALUE!"}},null,null,{"$f":"IF(AND(Tableau1[[#This Row],[Catégorie pièce]]=\" Opérations\",Tableau1[[#This Row],[Type de pièce]]=\" Temps\"),Taux_horaire/100,IF(AND(Tableau1[[#This Row],[Catégorie pièce]]=\" Nouveau\",Tableau1[[#This Row],[Type de pièce]]=\" Fabriquée\"),BOM!$AO77,IF(OR(AND(Tableau1[[#This Row],[Catégorie pièce]]=\" Nouveau\",Tableau1[[#This Row],[Type de pièce]]=\" Assemblage\"),BOM!$Y77=\" Produit fini\",Tableau1[[#This Row],[Type de pièce]]=\" Opé pièce primaire\",Tableau1[[#This Row],[Type de pièce]]=\" Pièce/Opé Panoplie\"),\"/\",IF(Tableau1[[#This Row],[Catégorie pièce]]=\" Existant\",VLOOKUP(CONCATENATE(Tableau1[[#This Row],[Article produit/\nPoste de charge]]),[1]ARTRDCL!$A$1:$U$65536,15,FALSE),\"\"))))","v":""},{"$f":"IF(OR(Tableau1[[#This Row],[Catégorie pièce]]=\" Opérations\",Tableau1[[#This Row],[Catégorie pièce]]=\" Matière 1ère\",ISBLANK(Tableau1[[#This Row],[Catégorie pièce]])),\"/\",SUMPRODUCT($AY$6:$BB$6,Tableau1[[#This Row],[Modèle A]:[Modèle D]]))","v":"/"},{"$f":"IFERROR(ROUNDDOWN(Tableau1[[#This Row],[surface\ntôle (m²)]]/Tableau1[[#This Row],[Surface\npièce (m²)]],0),0)","v":0},{"$f":"IF(AND(Tableau1[[#This Row],[Catégorie pièce]]=\" Nouveau\",Tableau1[[#This Row],[Type de pièce]]=\" Fabriquée\"),ROUNDUP(Tableau1[[#This Row],[Qté / an]]*2/52,0),0)","v":0},null,null,null,null,null,null,null,null,null,null,null,{"$f":"SUM(Tableau1[[#This Row],[VCOGS\ntôle]:[VCOGS\npliage]])","v":0},{"$f":"IFERROR((VLOOKUP(Tableau1[[#This Row],[Format\ntôle]],Tableau2[],11,FALSE)/Tableau1[[#This Row],[Série \néconomique ]])*Tableau1[[#This Row],[surface\ntôle (m²)]],0)","v":0},{"$f":"IF(Tableau1[[#This Row],[Laser (O/N)]]= \"Oui\",Tableau1[[#This Row],[Coût\ndécoupe laser]],Tableau1[[#This Row],[Coût\npoinçonnage]])","v":0},{"$f":"IF(Tableau1[[#This Row],[Nb plis]]>0, (IF(Tableau1[[#This Row],[Nb plis]]<5,0.25,IF(Tableau1[[#This Row],[Nb plis]]<7,0.33,0.45))/Tableau1[[#This Row],[Série \néconomique ]] +0.004*Tableau1[[#This Row],[Nb plis]])*$N$5,0)","v":0},{"$f":"IFERROR(VLOOKUP(Tableau1[[#This Row],[Format\ntôle]],Tôles!B:P,9,FALSE),0)","v":0},{"$f":"Tableau1[[#This Row],[Dimention X (mm)]]/1000*Tableau1[[#This Row],[Dimention Y (mm)]]/1000","v":0},{"$f":"IFERROR(ROUNDUP(Tableau1[[#This Row],[Surface\npièce (m²)]]/Tableau1[[#This Row],[surface\ntôle (m²)]],4),0)","v":0},{"$f":"IF(Tableau1[[#This Row],[Forcer série Economique ]]>0,Tableau1[[#This Row],[Forcer série Economique ]],Tableau1[[#This Row],[Série Economique proposée]])","v":0},{"$f":"IF(OR(ISERROR((5/Tableau1[[#This Row],[Série \néconomique ]]+Tableau1[[#This Row],[Nb trous]]*0.08*VLOOKUP(Tableau1[[#This Row],[Format\ntôle]],Tôles!B:O,5,FALSE)+ (Tableau1[[#This Row],[Dimention X (mm)]]+Tableau1[[#This Row],[Dimention Y (mm)]]) * 0.001)*Taux_horaire/100),Tableau1[[#This Row],[VCOGS\ntôle]] = \"\"),0,(5/Tableau1[[#This Row],[Série \néconomique ]]+Tableau1[[#This Row],[Nb trous]]*0.08*VLOOKUP(Tableau1[[#This Row],[Format\ntôle]],Tôles!B:O,5,FALSE)+ (Tableau1[[#This Row],[Dimention X (mm)]]+Tableau1[[#This Row],[Dimention Y (mm)]]) * 0.001)*Taux_horaire/100)","v":0},{"$f":"IF(OR(ISERROR((10/Tableau1[[#This Row],[Série \néconomique ]]+Tableau1[[#This Row],[Nb trous]]*0.007 + (Tableau1[[#This Row],[Dimention X (mm)]]+Tableau1[[#This Row],[Dimention Y (mm)]]) * 0.0005)*Taux_horaire/100),Tableau1[[#This Row],[VCOGS\ntôle]]= \"\"),0,(10/Tableau1[[#This Row],[Série \néconomique ]]+Tableau1[[#This Row],[Nb trous]]*0.007 + (Tableau1[[#This Row],[Dimention X (mm)]]+Tableau1[[#This Row],[Dimention Y (mm)]]) * 0.0005)*Taux_horaire/100)","v":0}]
[null,null,null,null,null,null,null,{"$f":"SUBSTITUTE(TRIM(CONCATENATE(Tableau1[[#This Row],[Niveau 0]],\" \",Tableau1[[#This Row],[Niveau 1]],\" \",Tableau1[[#This Row],[Niveau 2]],\" \",Tableau1[[#This Row],[Niveau 3]],\" \",Tableau1[[#This Row],[Niveau 4]],\" \",Tableau1[[#This Row],[Niveau 5]])),\" \",\".\")","v":""},{"$f":"IFERROR(IF(COUNTBLANK(Tableau1[[#This Row],[Niveau 0]:[Niveau 5]])=5,\"0\",LEFT(Tableau1[[#This Row],[Niveau]],(LEN(Tableau1[[#This Row],[Niveau]])-LEN(OFFSET(Tableau1[[#This Row],[Niveau 5]],0,(-COUNTBLANK(Tableau1[[#This Row],[Niveau 0]:[Niveau 5]]))))-1))),\"\")","v":""},null,null,null,null,{"$f":"IF(Tableau1[[#This Row],[Catégorie pièce]]=\" Opérations\",VLOOKUP(Tableau1[[#This Row],[Article produit/\nPoste de charge]],'PDC+emplacement'!A:C,2,FALSE),IF(Tableau1[[#This Row],[Catégorie pièce]]=\" Nouveau\",\"***RENSEIGNER NOM***\",IFERROR(VLOOKUP(CONCATENATE(Tableau1[[#This Row],[Article produit/\nPoste de charge]]),[1]ARTRDCL!$A$1:$U$25000,2,FALSE),\"\")))","v":""},null,null,null,null,null,{"$f":"IF(Tableau1[[#This Row],[Type plan]]=\"SP\",\"SP\",IF(AND(Tableau1[[#This Row],[Catégorie pièce]]=\" Nouveau\",Tableau1[[#This Row],[Type de pièce]]<>\" Panoplie\"),MID(Tableau1[[#This Row],[Article produit/\nPoste de charge]],2,15),IF(AND(Tableau1[[#This Row],[Catégorie pièce]]=\" Nouveau\",Tableau1[[#This Row],[Type de pièce]]=\" Panoplie\"),Tableau1[[#This Row],[Article produit/\nPoste de charge]],\"\")))","v":""},null,null,{"$f":"ROUNDUP((Tableau1[[#This Row],[Qté / an]]/52)*2,0)","v":{"$error":"#VALUE!"}},null,null,{"$f":"IF(AND(Tableau1[[#This Row],[Catégorie pièce]]=\" Opérations\",Tableau1[[#This Row],[Type de pièce]]=\" Temps\"),Taux_horaire/100,IF(AND(Tableau1[[#This Row],[Catégorie pièce]]=\" Nouveau\",Tableau1[[#This Row],[Type de pièce]]=\" Fabriquée\"),BOM!$AO78,IF(OR(AND(Tableau1[[#This Row],[Catégorie pièce]]=\" Nouveau\",Tableau1[[#This Row],[Type de pièce]]=\" Assemblage\"),BOM!$Y78=\" Produit fini\",Tableau1[[#This Row],[Type de pièce]]=\" Opé pièce primaire\",Tableau1[[#This Row],[Type de pièce]]=\" Pièce/Opé Panoplie\"),\"/\",IF(Tableau1[[#This Row],[Catégorie pièce]]=\" Existant\",VLOOKUP(CONCATENATE(Tableau1[[#This Row],[Article produit/\nPoste de charge]]),[1]ARTRDCL!$A$1:$U$65536,15,FALSE),\"\"))))","v":""},{"$f":"IF(OR(Tableau1[[#This Row],[Catégorie pièce]]=\" Opérations\",Tableau1[[#This Row],[Catégorie pièce]]=\" Matière 1ère\",ISBLANK(Tableau1[[#This Row],[Catégorie pièce]])),\"/\",SUMPRODUCT($AY$6:$BB$6,Tableau1[[#This Row],[Modèle A]:[Modèle D]]))","v":"/"},{"$f":"IFERROR(ROUNDDOWN(Tableau1[[#This Row],[surface\ntôle (m²)]]/Tableau1[[#This Row],[Surface\npièce (m²)]],0),0)","v":0},{"$f":"IF(AND(Tableau1[[#This Row],[Catégorie pièce]]=\" Nouveau\",Tableau1[[#This Row],[Type de pièce]]=\" Fabriquée\"),ROUNDUP(Tableau1[[#This Row],[Qté / an]]*2/52,0),0)","v":0},null,null,null,null,null,null,null,null,null,null,null,{"$f":"SUM(Tableau1[[#This Row],[VCOGS\ntôle]:[VCOGS\npliage]])","v":0},{"$f":"IFERROR((VLOOKUP(Tableau1[[#This Row],[Format\ntôle]],Tableau2[],11,FALSE)/Tableau1[[#This Row],[Série \néconomique ]])*Tableau1[[#This Row],[surface\ntôle (m²)]],0)","v":0},{"$f":"IF(Tableau1[[#This Row],[Laser (O/N)]]= \"Oui\",Tableau1[[#This Row],[Coût\ndécoupe laser]],Tableau1[[#This Row],[Coût\npoinçonnage]])","v":0},{"$f":"IF(Tableau1[[#This Row],[Nb plis]]>0, (IF(Tableau1[[#This Row],[Nb plis]]<5,0.25,IF(Tableau1[[#This Row],[Nb plis]]<7,0.33,0.45))/Tableau1[[#This Row],[Série \néconomique ]] +0.004*Tableau1[[#This Row],[Nb plis]])*$N$5,0)","v":0},{"$f":"IFERROR(VLOOKUP(Tableau1[[#This Row],[Format\ntôle]],Tôles!B:P,9,FALSE),0)","v":0},{"$f":"Tableau1[[#This Row],[Dimention X (mm)]]/1000*Tableau1[[#This Row],[Dimention Y (mm)]]/1000","v":0},{"$f":"IFERROR(ROUNDUP(Tableau1[[#This Row],[Surface\npièce (m²)]]/Tableau1[[#This Row],[surface\ntôle (m²)]],4),0)","v":0},{"$f":"IF(Tableau1[[#This Row],[Forcer série Economique ]]>0,Tableau1[[#This Row],[Forcer série Economique ]],Tableau1[[#This Row],[Série Economique proposée]])","v":0},{"$f":"IF(OR(ISERROR((5/Tableau1[[#This Row],[Série \néconomique ]]+Tableau1[[#This Row],[Nb trous]]*0.08*VLOOKUP(Tableau1[[#This Row],[Format\ntôle]],Tôles!B:O,5,FALSE)+ (Tableau1[[#This Row],[Dimention X (mm)]]+Tableau1[[#This Row],[Dimention Y (mm)]]) * 0.001)*Taux_horaire/100),Tableau1[[#This Row],[VCOGS\ntôle]] = \"\"),0,(5/Tableau1[[#This Row],[Série \néconomique ]]+Tableau1[[#This Row],[Nb trous]]*0.08*VLOOKUP(Tableau1[[#This Row],[Format\ntôle]],Tôles!B:O,5,FALSE)+ (Tableau1[[#This Row],[Dimention X (mm)]]+Tableau1[[#This Row],[Dimention Y (mm)]]) * 0.001)*Taux_horaire/100)","v":0},{"$f":"IF(OR(ISERROR((10/Tableau1[[#This Row],[Série \néconomique ]]+Tableau1[[#This Row],[Nb trous]]*0.007 + (Tableau1[[#This Row],[Dimention X (mm)]]+Tableau1[[#This Row],[Dimention Y (mm)]]) * 0.0005)*Taux_horaire/100),Tableau1[[#This Row],[VCOGS\ntôle]]= \"\"),0,(10/Tableau1[[#This Row],[Série \néconomique ]]+Tableau1[[#This Row],[Nb trous]]*0.007 + (Tableau1[[#This Row],[Dimention X (mm)]]+Tableau1[[#This Row],[Dimention Y (mm)]]) * 0.0005)*Taux_horaire/100)","v":0}]
[null,null,null,null,null,null,null,{"$f":"SUBSTITUTE(TRIM(CONCATENATE(Tableau1[[#This Row],[Niveau 0]],\" \",Tableau1[[#This Row],[Niveau 1]],\" \",Tableau1[[#This Row],[Niveau 2]],\" \",Tableau1[[#This Row],[Niveau 3]],\" \",Tableau1[[#This Row],[Niveau 4]],\" \",Tableau1[[#This Row],[Niveau 5]])),\" \",\".\")","v":""},{"$f":"IFERROR(IF(COUNTBLANK(Tableau1[[#This Row],[Niveau 0]:[Niveau 5]])=5,\"0\",LEFT(Tableau1[[#This Row],[Niveau]],(LEN(Tableau1[[#This Row],[Niveau]])-LEN(OFFSET(Tableau1[[#This Row],[Niveau 5]],0,(-COUNTBLANK(Tableau1[[#This Row],[Niveau 0]:[Niveau 5]]))))-1))),\"\")","v":""},null,null,null,null,{"$f":"IF(Tableau1[[#This Row],[Catégorie pièce]]=\" Opérations\",VLOOKUP(Tableau1[[#This Row],[Article produit/\nPoste de charge]],'PDC+emplacement'!A:C,2,FALSE),IF(Tableau1[[#This Row],[Catégorie pièce]]=\" Nouveau\",\"***RENSEIGNER NOM***\",IFERROR(VLOOKUP(CONCATENATE(Tableau1[[#This Row],[Article produit/\nPoste de charge]]),[1]ARTRDCL!$A$1:$U$25000,2,FALSE),\"\")))","v":""},null,null,null,null,null,{"$f":"IF(Tableau1[[#This Row],[Type plan]]=\"SP\",\"SP\",IF(AND(Tableau1[[#This Row],[Catégorie pièce]]=\" Nouveau\",Tableau1[[#This Row],[Type de pièce]]<>\" Panoplie\"),MID(Tableau1[[#This Row],[Article produit/\nPoste de charge]],2,15),IF(AND(Tableau1[[#This Row],[Catégorie pièce]]=\" Nouveau\",Tableau1[[#This Row],[Type de pièce]]=\" Panoplie\"),Tableau1[[#This Row],[Article produit/\nPoste de charge]],\"\")))","v":""},null,null,{"$f":"ROUNDUP((Tableau1[[#This Row],[Qté / an]]/52)*2,0)","v":{"$error":"#VALUE!"}},null,null,{"$f":"IF(AND(Tableau1[[#This Row],[Catégorie pièce]]=\" Opérations\",Tableau1[[#This Row],[Type de pièce]]=\" Temps\"),Taux_horaire/100,IF(AND(Tableau1[[#This Row],[Catégorie pièce]]=\" Nouveau\",Tableau1[[#This Row],[Type de pièce]]=\" Fabriquée\"),BOM!$AO79,IF(OR(AND(Tableau1[[#This Row],[Catégorie pièce]]=\" Nouveau\",Tableau1[[#This Row],[Type de pièce]]=\" Assemblage\"),BOM!$Y79=\" Produit fini\",Tableau1[[#This Row],[Type de pièce]]=\" Opé pièce primaire\",Tableau1[[#This Row],[Type de pièce]]=\" Pièce/Opé Panoplie\"),\"/\",IF(Tableau1[[#This Row],[Catégorie pièce]]=\" Existant\",VLOOKUP(CONCATENATE(Tableau1[[#This Row],[Article produit/\nPoste de charge]]),[1]ARTRDCL!$A$1:$U$65536,15,FALSE),\"\"))))","v":""},{"$f":"IF(OR(Tableau1[[#This Row],[Catégorie pièce]]=\" Opérations\",Tableau1[[#This Row],[Catégorie pièce]]=\" Matière 1ère\",ISBLANK(Tableau1[[#This Row],[Catégorie pièce]])),\"/\",SUMPRODUCT($AY$6:$BB$6,Tableau1[[#This Row],[Modèle A]:[Modèle D]]))","v":"/"},{"$f":"IFERROR(ROUNDDOWN(Tableau1[[#This Row],[surface\ntôle (m²)]]/Tableau1[[#This Row],[Surface\npièce (m²)]],0),0)","v":0},{"$f":"IF(AND(Tableau1[[#This Row],[Catégorie pièce]]=\" Nouveau\",Tableau1[[#This Row],[Type de pièce]]=\" Fabriquée\"),ROUNDUP(Tableau1[[#This Row],[Qté / an]]*2/52,0),0)","v":0},null,null,null,null,null,null,null,null,null,null,null,{"$f":"SUM(Tableau1[[#This Row],[VCOGS\ntôle]:[VCOGS\npliage]])","v":0},{"$f":"IFERROR((VLOOKUP(Tableau1[[#This Row],[Format\ntôle]],Tableau2[],11,FALSE)/Tableau1[[#This Row],[Série \néconomique ]])*Tableau1[[#This Row],[surface\ntôle (m²)]],0)","v":0},{"$f":"IF(Tableau1[[#This Row],[Laser (O/N)]]= \"Oui\",Tableau1[[#This Row],[Coût\ndécoupe laser]],Tableau1[[#This Row],[Coût\npoinçonnage]])","v":0},{"$f":"IF(Tableau1[[#This Row],[Nb plis]]>0, (IF(Tableau1[[#This Row],[Nb plis]]<5,0.25,IF(Tableau1[[#This Row],[Nb plis]]<7,0.33,0.45))/Tableau1[[#This Row],[Série \néconomique ]] +0.004*Tableau1[[#This Row],[Nb plis]])*$N$5,0)","v":0},{"$f":"IFERROR(VLOOKUP(Tableau1[[#This Row],[Format\ntôle]],Tôles!B:P,9,FALSE),0)","v":0},{"$f":"Tableau1[[#This Row],[Dimention X (mm)]]/1000*Tableau1[[#This Row],[Dimention Y (mm)]]/1000","v":0},{"$f":"IFERROR(ROUNDUP(Tableau1[[#This Row],[Surface\npièce (m²)]]/Tableau1[[#This Row],[surface\ntôle (m²)]],4),0)","v":0},{"$f":"IF(Tableau1[[#This Row],[Forcer série Economique ]]>0,Tableau1[[#This Row],[Forcer série Economique ]],Tableau1[[#This Row],[Série Economique proposée]])","v":0},{"$f":"IF(OR(ISERROR((5/Tableau1[[#This Row],[Série \néconomique ]]+Tableau1[[#This Row],[Nb trous]]*0.08*VLOOKUP(Tableau1[[#This Row],[Format\ntôle]],Tôles!B:O,5,FALSE)+ (Tableau1[[#This Row],[Dimention X (mm)]]+Tableau1[[#This Row],[Dimention Y (mm)]]) * 0.001)*Taux_horaire/100),Tableau1[[#This Row],[VCOGS\ntôle]] = \"\"),0,(5/Tableau1[[#This Row],[Série \néconomique ]]+Tableau1[[#This Row],[Nb trous]]*0.08*VLOOKUP(Tableau1[[#This Row],[Format\ntôle]],Tôles!B:O,5,FALSE)+ (Tableau1[[#This Row],[Dimention X (mm)]]+Tableau1[[#This Row],[Dimention Y (mm)]]) * 0.001)*Taux_horaire/100)","v":0},{"$f":"IF(OR(ISERROR((10/Tableau1[[#This Row],[Série \néconomique ]]+Tableau1[[#This Row],[Nb trous]]*0.007 + (Tableau1[[#This Row],[Dimention X (mm)]]+Tableau1[[#This Row],[Dimention Y (mm)]]) * 0.0005)*Taux_horaire/100),Tableau1[[#This Row],[VCOGS\ntôle]]= \"\"),0,(10/Tableau1[[#This Row],[Série \néconomique ]]+Tableau1[[#This Row],[Nb trous]]*0.007 + (Tableau1[[#This Row],[Dimention X (mm)]]+Tableau1[[#This Row],[Dimention Y (mm)]]) * 0.0005)*Taux_horaire/100)","v":0}]
[null,null,null,null,null,null,null,{"$f":"SUBSTITUTE(TRIM(CONCATENATE(Tableau1[[#This Row],[Niveau 0]],\" \",Tableau1[[#This Row],[Niveau 1]],\" \",Tableau1[[#This Row],[Niveau 2]],\" \",Tableau1[[#This Row],[Niveau 3]],\" \",Tableau1[[#This Row],[Niveau 4]],\" \",Tableau1[[#This Row],[Niveau 5]])),\" \",\".\")","v":""},{"$f":"IFERROR(IF(COUNTBLANK(Tableau1[[#This Row],[Niveau 0]:[Niveau 5]])=5,\"0\",LEFT(Tableau1[[#This Row],[Niveau]],(LEN(Tableau1[[#This Row],[Niveau]])-LEN(OFFSET(Tableau1[[#This Row],[Niveau 5]],0,(-COUNTBLANK(Tableau1[[#This Row],[Niveau 0]:[Niveau 5]]))))-1))),\"\")","v":""},null,null,null,null,{"$f":"IF(Tableau1[[#This Row],[Catégorie pièce]]=\" Opérations\",VLOOKUP(Tableau1[[#This Row],[Article produit/\nPoste de charge]],'PDC+emplacement'!A:C,2,FALSE),IF(Tableau1[[#This Row],[Catégorie pièce]]=\" Nouveau\",\"***RENSEIGNER NOM***\",IFERROR(VLOOKUP(CONCATENATE(Tableau1[[#This Row],[Article produit/\nPoste de charge]]),[1]ARTRDCL!$A$1:$U$25000,2,FALSE),\"\")))","v":""},null,null,null,null,null,{"$f":"IF(Tableau1[[#This Row],[Type plan]]=\"SP\",\"SP\",IF(AND(Tableau1[[#This Row],[Catégorie pièce]]=\" Nouveau\",Tableau1[[#This Row],[Type de pièce]]<>\" Panoplie\"),MID(Tableau1[[#This Row],[Article produit/\nPoste de charge]],2,15),IF(AND(Tableau1[[#This Row],[Catégorie pièce]]=\" Nouveau\",Tableau1[[#This Row],[Type de pièce]]=\" Panoplie\"),Tableau1[[#This Row],[Article produit/\nPoste de charge]],\"\")))","v":""},null,null,{"$f":"ROUNDUP((Tableau1[[#This Row],[Qté / an]]/52)*2,0)","v":{"$error":"#VALUE!"}},null,null,{"$f":"IF(AND(Tableau1[[#This Row],[Catégorie pièce]]=\" Opérations\",Tableau1[[#This Row],[Type de pièce]]=\" Temps\"),Taux_horaire/100,IF(AND(Tableau1[[#This Row],[Catégorie pièce]]=\" Nouveau\",Tableau1[[#This Row],[Type de pièce]]=\" Fabriquée\"),BOM!$AO80,IF(OR(AND(Tableau1[[#This Row],[Catégorie pièce]]=\" Nouveau\",Tableau1[[#This Row],[Type de pièce]]=\" Assemblage\"),BOM!$Y80=\" Produit fini\",Tableau1[[#This Row],[Type de pièce]]=\" Opé pièce primaire\",Tableau1[[#This Row],[Type de pièce]]=\" Pièce/Opé Panoplie\"),\"/\",IF(Tableau1[[#This Row],[Catégorie pièce]]=\" Existant\",VLOOKUP(CONCATENATE(Tableau1[[#This Row],[Article produit/\nPoste de charge]]),[1]ARTRDCL!$A$1:$U$65536,15,FALSE),\"\"))))","v":""},{"$f":"IF(OR(Tableau1[[#This Row],[Catégorie pièce]]=\" Opérations\",Tableau1[[#This Row],[Catégorie pièce]]=\" Matière 1ère\",ISBLANK(Tableau1[[#This Row],[Catégorie pièce]])),\"/\",SUMPRODUCT($AY$6:$BB$6,Tableau1[[#This Row],[Modèle A]:[Modèle D]]))","v":"/"},{"$f":"IFERROR(ROUNDDOWN(Tableau1[[#This Row],[surface\ntôle (m²)]]/Tableau1[[#This Row],[Surface\npièce (m²)]],0),0)","v":0},{"$f":"IF(AND(Tableau1[[#This Row],[Catégorie pièce]]=\" Nouveau\",Tableau1[[#This Row],[Type de pièce]]=\" Fabriquée\"),ROUNDUP(Tableau1[[#This Row],[Qté / an]]*2/52,0),0)","v":0},null,null,null,null,null,null,null,null,null,null,null,{"$f":"SUM(Tableau1[[#This Row],[VCOGS\ntôle]:[VCOGS\npliage]])","v":0},{"$f":"IFERROR((VLOOKUP(Tableau1[[#This Row],[Format\ntôle]],Tableau2[],11,FALSE)/Tableau1[[#This Row],[Série \néconomique ]])*Tableau1[[#This Row],[surface\ntôle (m²)]],0)","v":0},{"$f":"IF(Tableau1[[#This Row],[Laser (O/N)]]= \"Oui\",Tableau1[[#This Row],[Coût\ndécoupe laser]],Tableau1[[#This Row],[Coût\npoinçonnage]])","v":0},{"$f":"IF(Tableau1[[#This Row],[Nb plis]]>0, (IF(Tableau1[[#This Row],[Nb plis]]<5,0.25,IF(Tableau1[[#This Row],[Nb plis]]<7,0.33,0.45))/Tableau1[[#This Row],[Série \néconomique ]] +0.004*Tableau1[[#This Row],[Nb plis]])*$N$5,0)","v":0},{"$f":"IFERROR(VLOOKUP(Tableau1[[#This Row],[Format\ntôle]],Tôles!B:P,9,FALSE),0)","v":0},{"$f":"Tableau1[[#This Row],[Dimention X (mm)]]/1000*Tableau1[[#This Row],[Dimention Y (mm)]]/1000","v":0},{"$f":"IFERROR(ROUNDUP(Tableau1[[#This Row],[Surface\npièce (m²)]]/Tableau1[[#This Row],[surface\ntôle (m²)]],4),0)","v":0},{"$f":"IF(Tableau1[[#This Row],[Forcer série Economique ]]>0,Tableau1[[#This Row],[Forcer série Economique ]],Tableau1[[#This Row],[Série Economique proposée]])","v":0},{"$f":"IF(OR(ISERROR((5/Tableau1[[#This Row],[Série \néconomique ]]+Tableau1[[#This Row],[Nb trous]]*0.08*VLOOKUP(Tableau1[[#This Row],[Format\ntôle]],Tôles!B:O,5,FALSE)+ (Tableau1[[#This Row],[Dimention X (mm)]]+Tableau1[[#This Row],[Dimention Y (mm)]]) * 0.001)*Taux_horaire/100),Tableau1[[#This Row],[VCOGS\ntôle]] = \"\"),0,(5/Tableau1[[#This Row],[Série \néconomique ]]+Tableau1[[#This Row],[Nb trous]]*0.08*VLOOKUP(Tableau1[[#This Row],[Format\ntôle]],Tôles!B:O,5,FALSE)+ (Tableau1[[#This Row],[Dimention X (mm)]]+Tableau1[[#This Row],[Dimention Y (mm)]]) * 0.001)*Taux_horaire/100)","v":0},{"$f":"IF(OR(ISERROR((10/Tableau1[[#This Row],[Série \néconomique ]]+Tableau1[[#This Row],[Nb trous]]*0.007 + (Tableau1[[#This Row],[Dimention X (mm)]]+Tableau1[[#This Row],[Dimention Y (mm)]]) * 0.0005)*Taux_horaire/100),Tableau1[[#This Row],[VCOGS\ntôle]]= \"\"),0,(10/Tableau1[[#This Row],[Série \néconomique ]]+Tableau1[[#This Row],[Nb trous]]*0.007 + (Tableau1[[#This Row],[Dimention X (mm)]]+Tableau1[[#This Row],[Dimention Y (mm)]]) * 0.0005)*Taux_horaire/100)","v":0}]
[null,null,null,null,null,null,null,{"$f":"SUBSTITUTE(TRIM(CONCATENATE(Tableau1[[#This Row],[Niveau 0]],\" \",Tableau1[[#This Row],[Niveau 1]],\" \",Tableau1[[#This Row],[Niveau 2]],\" \",Tableau1[[#This Row],[Niveau 3]],\" \",Tableau1[[#This Row],[Niveau 4]],\" \",Tableau1[[#This Row],[Niveau 5]])),\" \",\".\")","v":""},{"$f":"IFERROR(IF(COUNTBLANK(Tableau1[[#This Row],[Niveau 0]:[Niveau 5]])=5,\"0\",LEFT(Tableau1[[#This Row],[Niveau]],(LEN(Tableau1[[#This Row],[Niveau]])-LEN(OFFSET(Tableau1[[#This Row],[Niveau 5]],0,(-COUNTBLANK(Tableau1[[#This Row],[Niveau 0]:[Niveau 5]]))))-1))),\"\")","v":""},null,null,null,null,{"$f":"IF(Tableau1[[#This Row],[Catégorie pièce]]=\" Opérations\",VLOOKUP(Tableau1[[#This Row],[Article produit/\nPoste de charge]],'PDC+emplacement'!A:C,2,FALSE),IF(Tableau1[[#This Row],[Catégorie pièce]]=\" Nouveau\",\"***RENSEIGNER NOM***\",IFERROR(VLOOKUP(CONCATENATE(Tableau1[[#This Row],[Article produit/\nPoste de charge]]),[1]ARTRDCL!$A$1:$U$25000,2,FALSE),\"\")))","v":""},null,null,null,null,null,{"$f":"IF(Tableau1[[#This Row],[Type plan]]=\"SP\",\"SP\",IF(AND(Tableau1[[#This Row],[Catégorie pièce]]=\" Nouveau\",Tableau1[[#This Row],[Type de pièce]]<>\" Panoplie\"),MID(Tableau1[[#This Row],[Article produit/\nPoste de charge]],2,15),IF(AND(Tableau1[[#This Row],[Catégorie pièce]]=\" Nouveau\",Tableau1[[#This Row],[Type de pièce]]=\" Panoplie\"),Tableau1[[#This Row],[Article produit/\nPoste de charge]],\"\")))","v":""},null,null,{"$f":"ROUNDUP((Tableau1[[#This Row],[Qté / an]]/52)*2,0)","v":{"$error":"#VALUE!"}},null,null,{"$f":"IF(AND(Tableau1[[#This Row],[Catégorie pièce]]=\" Opérations\",Tableau1[[#This Row],[Type de pièce]]=\" Temps\"),Taux_horaire/100,IF(AND(Tableau1[[#This Row],[Catégorie pièce]]=\" Nouveau\",Tableau1[[#This Row],[Type de pièce]]=\" Fabriquée\"),BOM!$AO81,IF(OR(AND(Tableau1[[#This Row],[Catégorie pièce]]=\" Nouveau\",Tableau1[[#This Row],[Type de pièce]]=\" Assemblage\"),BOM!$Y81=\" Produit fini\",Tableau1[[#This Row],[Type de pièce]]=\" Opé pièce primaire\",Tableau1[[#This Row],[Type de pièce]]=\" Pièce/Opé Panoplie\"),\"/\",IF(Tableau1[[#This Row],[Catégorie pièce]]=\" Existant\",VLOOKUP(CONCATENATE(Tableau1[[#This Row],[Article produit/\nPoste de charge]]),[1]ARTRDCL!$A$1:$U$65536,15,FALSE),\"\"))))","v":""},{"$f":"IF(OR(Tableau1[[#This Row],[Catégorie pièce]]=\" Opérations\",Tableau1[[#This Row],[Catégorie pièce]]=\" Matière 1ère\",ISBLANK(Tableau1[[#This Row],[Catégorie pièce]])),\"/\",SUMPRODUCT($AY$6:$BB$6,Tableau1[[#This Row],[Modèle A]:[Modèle D]]))","v":"/"},{"$f":"IFERROR(ROUNDDOWN(Tableau1[[#This Row],[surface\ntôle (m²)]]/Tableau1[[#This Row],[Surface\npièce (m²)]],0),0)","v":0},{"$f":"IF(AND(Tableau1[[#This Row],[Catégorie pièce]]=\" Nouveau\",Tableau1[[#This Row],[Type de pièce]]=\" Fabriquée\"),ROUNDUP(Tableau1[[#This Row],[Qté / an]]*2/52,0),0)","v":0},null,null,null,null,null,null,null,null,null,null,null,{"$f":"SUM(Tableau1[[#This Row],[VCOGS\ntôle]:[VCOGS\npliage]])","v":0},{"$f":"IFERROR((VLOOKUP(Tableau1[[#This Row],[Format\ntôle]],Tableau2[],11,FALSE)/Tableau1[[#This Row],[Série \néconomique ]])*Tableau1[[#This Row],[surface\ntôle (m²)]],0)","v":0},{"$f":"IF(Tableau1[[#This Row],[Laser (O/N)]]= \"Oui\",Tableau1[[#This Row],[Coût\ndécoupe laser]],Tableau1[[#This Row],[Coût\npoinçonnage]])","v":0},{"$f":"IF(Tableau1[[#This Row],[Nb plis]]>0, (IF(Tableau1[[#This Row],[Nb plis]]<5,0.25,IF(Tableau1[[#This Row],[Nb plis]]<7,0.33,0.45))/Tableau1[[#This Row],[Série \néconomique ]] +0.004*Tableau1[[#This Row],[Nb plis]])*$N$5,0)","v":0},{"$f":"IFERROR(VLOOKUP(Tableau1[[#This Row],[Format\ntôle]],Tôles!B:P,9,FALSE),0)","v":0},{"$f":"Tableau1[[#This Row],[Dimention X (mm)]]/1000*Tableau1[[#This Row],[Dimention Y (mm)]]/1000","v":0},{"$f":"IFERROR(ROUNDUP(Tableau1[[#This Row],[Surface\npièce (m²)]]/Tableau1[[#This Row],[surface\ntôle (m²)]],4),0)","v":0},{"$f":"IF(Tableau1[[#This Row],[Forcer série Economique ]]>0,Tableau1[[#This Row],[Forcer série Economique ]],Tableau1[[#This Row],[Série Economique proposée]])","v":0},{"$f":"IF(OR(ISERROR((5/Tableau1[[#This Row],[Série \néconomique ]]+Tableau1[[#This Row],[Nb trous]]*0.08*VLOOKUP(Tableau1[[#This Row],[Format\ntôle]],Tôles!B:O,5,FALSE)+ (Tableau1[[#This Row],[Dimention X (mm)]]+Tableau1[[#This Row],[Dimention Y (mm)]]) * 0.001)*Taux_horaire/100),Tableau1[[#This Row],[VCOGS\ntôle]] = \"\"),0,(5/Tableau1[[#This Row],[Série \néconomique ]]+Tableau1[[#This Row],[Nb trous]]*0.08*VLOOKUP(Tableau1[[#This Row],[Format\ntôle]],Tôles!B:O,5,FALSE)+ (Tableau1[[#This Row],[Dimention X (mm)]]+Tableau1[[#This Row],[Dimention Y (mm)]]) * 0.001)*Taux_horaire/100)","v":0},{"$f":"IF(OR(ISERROR((10/Tableau1[[#This Row],[Série \néconomique ]]+Tableau1[[#This Row],[Nb trous]]*0.007 + (Tableau1[[#This Row],[Dimention X (mm)]]+Tableau1[[#This Row],[Dimention Y (mm)]]) * 0.0005)*Taux_horaire/100),Tableau1[[#This Row],[VCOGS\ntôle]]= \"\"),0,(10/Tableau1[[#This Row],[Série \néconomique ]]+Tableau1[[#This Row],[Nb trous]]*0.007 + (Tableau1[[#This Row],[Dimention X (mm)]]+Tableau1[[#This Row],[Dimention Y (mm)]]) * 0.0005)*Taux_horaire/100)","v":0}]
[null,null,null,null,null,null,null,{"$f":"SUBSTITUTE(TRIM(CONCATENATE(Tableau1[[#This Row],[Niveau 0]],\" \",Tableau1[[#This Row],[Niveau 1]],\" \",Tableau1[[#This Row],[Niveau 2]],\" \",Tableau1[[#This Row],[Niveau 3]],\" \",Tableau1[[#This Row],[Niveau 4]],\" \",Tableau1[[#This Row],[Niveau 5]])),\" \",\".\")","v":""},{"$f":"IFERROR(IF(COUNTBLANK(Tableau1[[#This Row],[Niveau 0]:[Niveau 5]])=5,\"0\",LEFT(Tableau1[[#This Row],[Niveau]],(LEN(Tableau1[[#This Row],[Niveau]])-LEN(OFFSET(Tableau1[[#This Row],[Niveau 5]],0,(-COUNTBLANK(Tableau1[[#This Row],[Niveau 0]:[Niveau 5]]))))-1))),\"\")","v":""},null,null,null,null,{"$f":"IF(Tableau1[[#This Row],[Catégorie pièce]]=\" Opérations\",VLOOKUP(Tableau1[[#This Row],[Article produit/\nPoste de charge]],'PDC+emplacement'!A:C,2,FALSE),IF(Tableau1[[#This Row],[Catégorie pièce]]=\" Nouveau\",\"***RENSEIGNER NOM***\",IFERROR(VLOOKUP(CONCATENATE(Tableau1[[#This Row],[Article produit/\nPoste de charge]]),[1]ARTRDCL!$A$1:$U$25000,2,FALSE),\"\")))","v":""},null,null,null,null,null,{"$f":"IF(Tableau1[[#This Row],[Type plan]]=\"SP\",\"SP\",IF(AND(Tableau1[[#This Row],[Catégorie pièce]]=\" Nouveau\",Tableau1[[#This Row],[Type de pièce]]<>\" Panoplie\"),MID(Tableau1[[#This Row],[Article produit/\nPoste de charge]],2,15),IF(AND(Tableau1[[#This Row],[Catégorie pièce]]=\" Nouveau\",Tableau1[[#This Row],[Type de pièce]]=\" Panoplie\"),Tableau1[[#This Row],[Article produit/\nPoste de charge]],\"\")))","v":""},null,null,{"$f":"ROUNDUP((Tableau1[[#This Row],[Qté / an]]/52)*2,0)","v":{"$error":"#VALUE!"}},null,null,{"$f":"IF(AND(Tableau1[[#This Row],[Catégorie pièce]]=\" Opérations\",Tableau1[[#This Row],[Type de pièce]]=\" Temps\"),Taux_horaire/100,IF(AND(Tableau1[[#This Row],[Catégorie pièce]]=\" Nouveau\",Tableau1[[#This Row],[Type de pièce]]=\" Fabriquée\"),BOM!$AO82,IF(OR(AND(Tableau1[[#This Row],[Catégorie pièce]]=\" Nouveau\",Tableau1[[#This Row],[Type de pièce]]=\" Assemblage\"),BOM!$Y82=\" Produit fini\",Tableau1[[#This Row],[Type de pièce]]=\" Opé pièce primaire\",Tableau1[[#This Row],[Type de pièce]]=\" Pièce/Opé Panoplie\"),\"/\",IF(Tableau1[[#This Row],[Catégorie pièce]]=\" Existant\",VLOOKUP(CONCATENATE(Tableau1[[#This Row],[Article produit/\nPoste de charge]]),[1]ARTRDCL!$A$1:$U$65536,15,FALSE),\"\"))))","v":""},{"$f":"IF(OR(Tableau1[[#This Row],[Catégorie pièce]]=\" Opérations\",Tableau1[[#This Row],[Catégorie pièce]]=\" Matière 1ère\",ISBLANK(Tableau1[[#This Row],[Catégorie pièce]])),\"/\",SUMPRODUCT($AY$6:$BB$6,Tableau1[[#This Row],[Modèle A]:[Modèle D]]))","v":"/"},{"$f":"IFERROR(ROUNDDOWN(Tableau1[[#This Row],[surface\ntôle (m²)]]/Tableau1[[#This Row],[Surface\npièce (m²)]],0),0)","v":0},{"$f":"IF(AND(Tableau1[[#This Row],[Catégorie pièce]]=\" Nouveau\",Tableau1[[#This Row],[Type de pièce]]=\" Fabriquée\"),ROUNDUP(Tableau1[[#This Row],[Qté / an]]*2/52,0),0)","v":0},null,null,null,null,null,null,null,null,null,null,null,{"$f":"SUM(Tableau1[[#This Row],[VCOGS\ntôle]:[VCOGS\npliage]])","v":0},{"$f":"IFERROR((VLOOKUP(Tableau1[[#This Row],[Format\ntôle]],Tableau2[],11,FALSE)/Tableau1[[#This Row],[Série \néconomique ]])*Tableau1[[#This Row],[surface\ntôle (m²)]],0)","v":0},{"$f":"IF(Tableau1[[#This Row],[Laser (O/N)]]= \"Oui\",Tableau1[[#This Row],[Coût\ndécoupe laser]],Tableau1[[#This Row],[Coût\npoinçonnage]])","v":0},{"$f":"IF(Tableau1[[#This Row],[Nb plis]]>0, (IF(Tableau1[[#This Row],[Nb plis]]<5,0.25,IF(Tableau1[[#This Row],[Nb plis]]<7,0.33,0.45))/Tableau1[[#This Row],[Série \néconomique ]] +0.004*Tableau1[[#This Row],[Nb plis]])*$N$5,0)","v":0},{"$f":"IFERROR(VLOOKUP(Tableau1[[#This Row],[Format\ntôle]],Tôles!B:P,9,FALSE),0)","v":0},{"$f":"Tableau1[[#This Row],[Dimention X (mm)]]/1000*Tableau1[[#This Row],[Dimention Y (mm)]]/1000","v":0},{"$f":"IFERROR(ROUNDUP(Tableau1[[#This Row],[Surface\npièce (m²)]]/Tableau1[[#This Row],[surface\ntôle (m²)]],4),0)","v":0},{"$f":"IF(Tableau1[[#This Row],[Forcer série Economique ]]>0,Tableau1[[#This Row],[Forcer série Economique ]],Tableau1[[#This Row],[Série Economique proposée]])","v":0},{"$f":"IF(OR(ISERROR((5/Tableau1[[#This Row],[Série \néconomique ]]+Tableau1[[#This Row],[Nb trous]]*0.08*VLOOKUP(Tableau1[[#This Row],[Format\ntôle]],Tôles!B:O,5,FALSE)+ (Tableau1[[#This Row],[Dimention X (mm)]]+Tableau1[[#This Row],[Dimention Y (mm)]]) * 0.001)*Taux_horaire/100),Tableau1[[#This Row],[VCOGS\ntôle]] = \"\"),0,(5/Tableau1[[#This Row],[Série \néconomique ]]+Tableau1[[#This Row],[Nb trous]]*0.08*VLOOKUP(Tableau1[[#This Row],[Format\ntôle]],Tôles!B:O,5,FALSE)+ (Tableau1[[#This Row],[Dimention X (mm)]]+Tableau1[[#This Row],[Dimention Y (mm)]]) * 0.001)*Taux_horaire/100)","v":0},{"$f":"IF(OR(ISERROR((10/Tableau1[[#This Row],[Série \néconomique ]]+Tableau1[[#This Row],[Nb trous]]*0.007 + (Tableau1[[#This Row],[Dimention X (mm)]]+Tableau1[[#This Row],[Dimention Y (mm)]]) * 0.0005)*Taux_horaire/100),Tableau1[[#This Row],[VCOGS\ntôle]]= \"\"),0,(10/Tableau1[[#This Row],[Série \néconomique ]]+Tableau1[[#This Row],[Nb trous]]*0.007 + (Tableau1[[#This Row],[Dimention X (mm)]]+Tableau1[[#This Row],[Dimention Y (mm)]]) * 0.0005)*Taux_horaire/100)","v":0}]
[null,null,null,null,null,null,null,{"$f":"SUBSTITUTE(TRIM(CONCATENATE(Tableau1[[#This Row],[Niveau 0]],\" \",Tableau1[[#This Row],[Niveau 1]],\" \",Tableau1[[#This Row],[Niveau 2]],\" \",Tableau1[[#This Row],[Niveau 3]],\" \",Tableau1[[#This Row],[Niveau 4]],\" \",Tableau1[[#This Row],[Niveau 5]])),\" \",\".\")","v":""},{"$f":"IFERROR(IF(COUNTBLANK(Tableau1[[#This Row],[Niveau 0]:[Niveau 5]])=5,\"0\",LEFT(Tableau1[[#This Row],[Niveau]],(LEN(Tableau1[[#This Row],[Niveau]])-LEN(OFFSET(Tableau1[[#This Row],[Niveau 5]],0,(-COUNTBLANK(Tableau1[[#This Row],[Niveau 0]:[Niveau 5]]))))-1))),\"\")","v":""},null,null,null,null,{"$f":"IF(Tableau1[[#This Row],[Catégorie pièce]]=\" Opérations\",VLOOKUP(Tableau1[[#This Row],[Article produit/\nPoste de charge]],'PDC+emplacement'!A:C,2,FALSE),IF(Tableau1[[#This Row],[Catégorie pièce]]=\" Nouveau\",\"***RENSEIGNER NOM***\",IFERROR(VLOOKUP(CONCATENATE(Tableau1[[#This Row],[Article produit/\nPoste de charge]]),[1]ARTRDCL!$A$1:$U$25000,2,FALSE),\"\")))","v":""},null,null,null,null,null,{"$f":"IF(Tableau1[[#This Row],[Type plan]]=\"SP\",\"SP\",IF(AND(Tableau1[[#This Row],[Catégorie pièce]]=\" Nouveau\",Tableau1[[#This Row],[Type de pièce]]<>\" Panoplie\"),MID(Tableau1[[#This Row],[Article produit/\nPoste de charge]],2,15),IF(AND(Tableau1[[#This Row],[Catégorie pièce]]=\" Nouveau\",Tableau1[[#This Row],[Type de pièce]]=\" Panoplie\"),Tableau1[[#This Row],[Article produit/\nPoste de charge]],\"\")))","v":""},null,null,{"$f":"ROUNDUP((Tableau1[[#This Row],[Qté / an]]/52)*2,0)","v":{"$error":"#VALUE!"}},null,null,{"$f":"IF(AND(Tableau1[[#This Row],[Catégorie pièce]]=\" Opérations\",Tableau1[[#This Row],[Type de pièce]]=\" Temps\"),Taux_horaire/100,IF(AND(Tableau1[[#This Row],[Catégorie pièce]]=\" Nouveau\",Tableau1[[#This Row],[Type de pièce]]=\" Fabriquée\"),BOM!$AO83,IF(OR(AND(Tableau1[[#This Row],[Catégorie pièce]]=\" Nouveau\",Tableau1[[#This Row],[Type de pièce]]=\" Assemblage\"),BOM!$Y83=\" Produit fini\",Tableau1[[#This Row],[Type de pièce]]=\" Opé pièce primaire\",Tableau1[[#This Row],[Type de pièce]]=\" Pièce/Opé Panoplie\"),\"/\",IF(Tableau1[[#This Row],[Catégorie pièce]]=\" Existant\",VLOOKUP(CONCATENATE(Tableau1[[#This Row],[Article produit/\nPoste de charge]]),[1]ARTRDCL!$A$1:$U$65536,15,FALSE),\"\"))))","v":""},{"$f":"IF(OR(Tableau1[[#This Row],[Catégorie pièce]]=\" Opérations\",Tableau1[[#This Row],[Catégorie pièce]]=\" Matière 1ère\",ISBLANK(Tableau1[[#This Row],[Catégorie pièce]])),\"/\",SUMPRODUCT($AY$6:$BB$6,Tableau1[[#This Row],[Modèle A]:[Modèle D]]))","v":"/"},{"$f":"IFERROR(ROUNDDOWN(Tableau1[[#This Row],[surface\ntôle (m²)]]/Tableau1[[#This Row],[Surface\npièce (m²)]],0),0)","v":0},{"$f":"IF(AND(Tableau1[[#This Row],[Catégorie pièce]]=\" Nouveau\",Tableau1[[#This Row],[Type de pièce]]=\" Fabriquée\"),ROUNDUP(Tableau1[[#This Row],[Qté / an]]*2/52,0),0)","v":0},null,null,null,null,null,null,null,null,null,null,null,{"$f":"SUM(Tableau1[[#This Row],[VCOGS\ntôle]:[VCOGS\npliage]])","v":0},{"$f":"IFERROR((VLOOKUP(Tableau1[[#This Row],[Format\ntôle]],Tableau2[],11,FALSE)/Tableau1[[#This Row],[Série \néconomique ]])*Tableau1[[#This Row],[surface\ntôle (m²)]],0)","v":0},{"$f":"IF(Tableau1[[#This Row],[Laser (O/N)]]= \"Oui\",Tableau1[[#This Row],[Coût\ndécoupe laser]],Tableau1[[#This Row],[Coût\npoinçonnage]])","v":0},{"$f":"IF(Tableau1[[#This Row],[Nb plis]]>0, (IF(Tableau1[[#This Row],[Nb plis]]<5,0.25,IF(Tableau1[[#This Row],[Nb plis]]<7,0.33,0.45))/Tableau1[[#This Row],[Série \néconomique ]] +0.004*Tableau1[[#This Row],[Nb plis]])*$N$5,0)","v":0},{"$f":"IFERROR(VLOOKUP(Tableau1[[#This Row],[Format\ntôle]],Tôles!B:P,9,FALSE),0)","v":0},{"$f":"Tableau1[[#This Row],[Dimention X (mm)]]/1000*Tableau1[[#This Row],[Dimention Y (mm)]]/1000","v":0},{"$f":"IFERROR(ROUNDUP(Tableau1[[#This Row],[Surface\npièce (m²)]]/Tableau1[[#This Row],[surface\ntôle (m²)]],4),0)","v":0},{"$f":"IF(Tableau1[[#This Row],[Forcer série Economique ]]>0,Tableau1[[#This Row],[Forcer série Economique ]],Tableau1[[#This Row],[Série Economique proposée]])","v":0},{"$f":"IF(OR(ISERROR((5/Tableau1[[#This Row],[Série \néconomique ]]+Tableau1[[#This Row],[Nb trous]]*0.08*VLOOKUP(Tableau1[[#This Row],[Format\ntôle]],Tôles!B:O,5,FALSE)+ (Tableau1[[#This Row],[Dimention X (mm)]]+Tableau1[[#This Row],[Dimention Y (mm)]]) * 0.001)*Taux_horaire/100),Tableau1[[#This Row],[VCOGS\ntôle]] = \"\"),0,(5/Tableau1[[#This Row],[Série \néconomique ]]+Tableau1[[#This Row],[Nb trous]]*0.08*VLOOKUP(Tableau1[[#This Row],[Format\ntôle]],Tôles!B:O,5,FALSE)+ (Tableau1[[#This Row],[Dimention X (mm)]]+Tableau1[[#This Row],[Dimention Y (mm)]]) * 0.001)*Taux_horaire/100)","v":0},{"$f":"IF(OR(ISERROR((10/Tableau1[[#This Row],[Série \néconomique ]]+Tableau1[[#This Row],[Nb trous]]*0.007 + (Tableau1[[#This Row],[Dimention X (mm)]]+Tableau1[[#This Row],[Dimention Y (mm)]]) * 0.0005)*Taux_horaire/100),Tableau1[[#This Row],[VCOGS\ntôle]]= \"\"),0,(10/Tableau1[[#This Row],[Série \néconomique ]]+Tableau1[[#This Row],[Nb trous]]*0.007 + (Tableau1[[#This Row],[Dimention X (mm)]]+Tableau1[[#This Row],[Dimention Y (mm)]]) * 0.0005)*Taux_horaire/100)","v":0}]
[null,null,null,null,null,null,null,{"$f":"SUBSTITUTE(TRIM(CONCATENATE(Tableau1[[#This Row],[Niveau 0]],\" \",Tableau1[[#This Row],[Niveau 1]],\" \",Tableau1[[#This Row],[Niveau 2]],\" \",Tableau1[[#This Row],[Niveau 3]],\" \",Tableau1[[#This Row],[Niveau 4]],\" \",Tableau1[[#This Row],[Niveau 5]])),\" \",\".\")","v":""},{"$f":"IFERROR(IF(COUNTBLANK(Tableau1[[#This Row],[Niveau 0]:[Niveau 5]])=5,\"0\",LEFT(Tableau1[[#This Row],[Niveau]],(LEN(Tableau1[[#This Row],[Niveau]])-LEN(OFFSET(Tableau1[[#This Row],[Niveau 5]],0,(-COUNTBLANK(Tableau1[[#This Row],[Niveau 0]:[Niveau 5]]))))-1))),\"\")","v":""},null,null,null,null,{"$f":"IF(Tableau1[[#This Row],[Catégorie pièce]]=\" Opérations\",VLOOKUP(Tableau1[[#This Row],[Article produit/\nPoste de charge]],'PDC+emplacement'!A:C,2,FALSE),IF(Tableau1[[#This Row],[Catégorie pièce]]=\" Nouveau\",\"***RENSEIGNER NOM***\",IFERROR(VLOOKUP(CONCATENATE(Tableau1[[#This Row],[Article produit/\nPoste de charge]]),[1]ARTRDCL!$A$1:$U$25000,2,FALSE),\"\")))","v":""},null,null,null,null,null,{"$f":"IF(Tableau1[[#This Row],[Type plan]]=\"SP\",\"SP\",IF(AND(Tableau1[[#This Row],[Catégorie pièce]]=\" Nouveau\",Tableau1[[#This Row],[Type de pièce]]<>\" Panoplie\"),MID(Tableau1[[#This Row],[Article produit/\nPoste de charge]],2,15),IF(AND(Tableau1[[#This Row],[Catégorie pièce]]=\" Nouveau\",Tableau1[[#This Row],[Type de pièce]]=\" Panoplie\"),Tableau1[[#This Row],[Article produit/\nPoste de charge]],\"\")))","v":""},null,null,{"$f":"ROUNDUP((Tableau1[[#This Row],[Qté / an]]/52)*2,0)","v":{"$error":"#VALUE!"}},null,null,{"$f":"IF(AND(Tableau1[[#This Row],[Catégorie pièce]]=\" Opérations\",Tableau1[[#This Row],[Type de pièce]]=\" Temps\"),Taux_horaire/100,IF(AND(Tableau1[[#This Row],[Catégorie pièce]]=\" Nouveau\",Tableau1[[#This Row],[Type de pièce]]=\" Fabriquée\"),BOM!$AO84,IF(OR(AND(Tableau1[[#This Row],[Catégorie pièce]]=\" Nouveau\",Tableau1[[#This Row],[Type de pièce]]=\" Assemblage\"),BOM!$Y84=\" Produit fini\",Tableau1[[#This Row],[Type de pièce]]=\" Opé pièce primaire\",Tableau1[[#This Row],[Type de pièce]]=\" Pièce/Opé Panoplie\"),\"/\",IF(Tableau1[[#This Row],[Catégorie pièce]]=\" Existant\",VLOOKUP(CONCATENATE(Tableau1[[#This Row],[Article produit/\nPoste de charge]]),[1]ARTRDCL!$A$1:$U$65536,15,FALSE),\"\"))))","v":""},{"$f":"IF(OR(Tableau1[[#This Row],[Catégorie pièce]]=\" Opérations\",Tableau1[[#This Row],[Catégorie pièce]]=\" Matière 1ère\",ISBLANK(Tableau1[[#This Row],[Catégorie pièce]])),\"/\",SUMPRODUCT($AY$6:$BB$6,Tableau1[[#This Row],[Modèle A]:[Modèle D]]))","v":"/"},{"$f":"IFERROR(ROUNDDOWN(Tableau1[[#This Row],[surface\ntôle (m²)]]/Tableau1[[#This Row],[Surface\npièce (m²)]],0),0)","v":0},{"$f":"IF(AND(Tableau1[[#This Row],[Catégorie pièce]]=\" Nouveau\",Tableau1[[#This Row],[Type de pièce]]=\" Fabriquée\"),ROUNDUP(Tableau1[[#This Row],[Qté / an]]*2/52,0),0)","v":0},null,null,null,null,null,null,null,null,null,null,null,{"$f":"SUM(Tableau1[[#This Row],[VCOGS\ntôle]:[VCOGS\npliage]])","v":0},{"$f":"IFERROR((VLOOKUP(Tableau1[[#This Row],[Format\ntôle]],Tableau2[],11,FALSE)/Tableau1[[#This Row],[Série \néconomique ]])*Tableau1[[#This Row],[surface\ntôle (m²)]],0)","v":0},{"$f":"IF(Tableau1[[#This Row],[Laser (O/N)]]= \"Oui\",Tableau1[[#This Row],[Coût\ndécoupe laser]],Tableau1[[#This Row],[Coût\npoinçonnage]])","v":0},{"$f":"IF(Tableau1[[#This Row],[Nb plis]]>0, (IF(Tableau1[[#This Row],[Nb plis]]<5,0.25,IF(Tableau1[[#This Row],[Nb plis]]<7,0.33,0.45))/Tableau1[[#This Row],[Série \néconomique ]] +0.004*Tableau1[[#This Row],[Nb plis]])*$N$5,0)","v":0},{"$f":"IFERROR(VLOOKUP(Tableau1[[#This Row],[Format\ntôle]],Tôles!B:P,9,FALSE),0)","v":0},{"$f":"Tableau1[[#This Row],[Dimention X (mm)]]/1000*Tableau1[[#This Row],[Dimention Y (mm)]]/1000","v":0},{"$f":"IFERROR(ROUNDUP(Tableau1[[#This Row],[Surface\npièce (m²)]]/Tableau1[[#This Row],[surface\ntôle (m²)]],4),0)","v":0},{"$f":"IF(Tableau1[[#This Row],[Forcer série Economique ]]>0,Tableau1[[#This Row],[Forcer série Economique ]],Tableau1[[#This Row],[Série Economique proposée]])","v":0},{"$f":"IF(OR(ISERROR((5/Tableau1[[#This Row],[Série \néconomique ]]+Tableau1[[#This Row],[Nb trous]]*0.08*VLOOKUP(Tableau1[[#This Row],[Format\ntôle]],Tôles!B:O,5,FALSE)+ (Tableau1[[#This Row],[Dimention X (mm)]]+Tableau1[[#This Row],[Dimention Y (mm)]]) * 0.001)*Taux_horaire/100),Tableau1[[#This Row],[VCOGS\ntôle]] = \"\"),0,(5/Tableau1[[#This Row],[Série \néconomique ]]+Tableau1[[#This Row],[Nb trous]]*0.08*VLOOKUP(Tableau1[[#This Row],[Format\ntôle]],Tôles!B:O,5,FALSE)+ (Tableau1[[#This Row],[Dimention X (mm)]]+Tableau1[[#This Row],[Dimention Y (mm)]]) * 0.001)*Taux_horaire/100)","v":0},{"$f":"IF(OR(ISERROR((10/Tableau1[[#This Row],[Série \néconomique ]]+Tableau1[[#This Row],[Nb trous]]*0.007 + (Tableau1[[#This Row],[Dimention X (mm)]]+Tableau1[[#This Row],[Dimention Y (mm)]]) * 0.0005)*Taux_horaire/100),Tableau1[[#This Row],[VCOGS\ntôle]]= \"\"),0,(10/Tableau1[[#This Row],[Série \néconomique ]]+Tableau1[[#This Row],[Nb trous]]*0.007 + (Tableau1[[#This Row],[Dimention X (mm)]]+Tableau1[[#This Row],[Dimention Y (mm)]]) * 0.0005)*Taux_horaire/100)","v":0}]
[null,null,null,null,null,null,null,{"$f":"SUBSTITUTE(TRIM(CONCATENATE(Tableau1[[#This Row],[Niveau 0]],\" \",Tableau1[[#This Row],[Niveau 1]],\" \",Tableau1[[#This Row],[Niveau 2]],\" \",Tableau1[[#This Row],[Niveau 3]],\" \",Tableau1[[#This Row],[Niveau 4]],\" \",Tableau1[[#This Row],[Niveau 5]])),\" \",\".\")","v":""},{"$f":"IFERROR(IF(COUNTBLANK(Tableau1[[#This Row],[Niveau 0]:[Niveau 5]])=5,\"0\",LEFT(Tableau1[[#This Row],[Niveau]],(LEN(Tableau1[[#This Row],[Niveau]])-LEN(OFFSET(Tableau1[[#This Row],[Niveau 5]],0,(-COUNTBLANK(Tableau1[[#This Row],[Niveau 0]:[Niveau 5]]))))-1))),\"\")","v":""},null,null,null,null,{"$f":"IF(Tableau1[[#This Row],[Catégorie pièce]]=\" Opérations\",VLOOKUP(Tableau1[[#This Row],[Article produit/\nPoste de charge]],'PDC+emplacement'!A:C,2,FALSE),IF(Tableau1[[#This Row],[Catégorie pièce]]=\" Nouveau\",\"***RENSEIGNER NOM***\",IFERROR(VLOOKUP(CONCATENATE(Tableau1[[#This Row],[Article produit/\nPoste de charge]]),[1]ARTRDCL!$A$1:$U$25000,2,FALSE),\"\")))","v":""},null,null,null,null,null,{"$f":"IF(Tableau1[[#This Row],[Type plan]]=\"SP\",\"SP\",IF(AND(Tableau1[[#This Row],[Catégorie pièce]]=\" Nouveau\",Tableau1[[#This Row],[Type de pièce]]<>\" Panoplie\"),MID(Tableau1[[#This Row],[Article produit/\nPoste de charge]],2,15),IF(AND(Tableau1[[#This Row],[Catégorie pièce]]=\" Nouveau\",Tableau1[[#This Row],[Type de pièce]]=\" Panoplie\"),Tableau1[[#This Row],[Article produit/\nPoste de charge]],\"\")))","v":""},null,null,{"$f":"ROUNDUP((Tableau1[[#This Row],[Qté / an]]/52)*2,0)","v":{"$error":"#VALUE!"}},null,null,{"$f":"IF(AND(Tableau1[[#This Row],[Catégorie pièce]]=\" Opérations\",Tableau1[[#This Row],[Type de pièce]]=\" Temps\"),Taux_horaire/100,IF(AND(Tableau1[[#This Row],[Catégorie pièce]]=\" Nouveau\",Tableau1[[#This Row],[Type de pièce]]=\" Fabriquée\"),BOM!$AO85,IF(OR(AND(Tableau1[[#This Row],[Catégorie pièce]]=\" Nouveau\",Tableau1[[#This Row],[Type de pièce]]=\" Assemblage\"),BOM!$Y85=\" Produit fini\",Tableau1[[#This Row],[Type de pièce]]=\" Opé pièce primaire\",Tableau1[[#This Row],[Type de pièce]]=\" Pièce/Opé Panoplie\"),\"/\",IF(Tableau1[[#This Row],[Catégorie pièce]]=\" Existant\",VLOOKUP(CONCATENATE(Tableau1[[#This Row],[Article produit/\nPoste de charge]]),[1]ARTRDCL!$A$1:$U$65536,15,FALSE),\"\"))))","v":""},{"$f":"IF(OR(Tableau1[[#This Row],[Catégorie pièce]]=\" Opérations\",Tableau1[[#This Row],[Catégorie pièce]]=\" Matière 1ère\",ISBLANK(Tableau1[[#This Row],[Catégorie pièce]])),\"/\",SUMPRODUCT($AY$6:$BB$6,Tableau1[[#This Row],[Modèle A]:[Modèle D]]))","v":"/"},{"$f":"IFERROR(ROUNDDOWN(Tableau1[[#This Row],[surface\ntôle (m²)]]/Tableau1[[#This Row],[Surface\npièce (m²)]],0),0)","v":0},{"$f":"IF(AND(Tableau1[[#This Row],[Catégorie pièce]]=\" Nouveau\",Tableau1[[#This Row],[Type de pièce]]=\" Fabriquée\"),ROUNDUP(Tableau1[[#This Row],[Qté / an]]*2/52,0),0)","v":0},null,null,null,null,null,null,null,null,null,null,null,{"$f":"SUM(Tableau1[[#This Row],[VCOGS\ntôle]:[VCOGS\npliage]])","v":0},{"$f":"IFERROR((VLOOKUP(Tableau1[[#This Row],[Format\ntôle]],Tableau2[],11,FALSE)/Tableau1[[#This Row],[Série \néconomique ]])*Tableau1[[#This Row],[surface\ntôle (m²)]],0)","v":0},{"$f":"IF(Tableau1[[#This Row],[Laser (O/N)]]= \"Oui\",Tableau1[[#This Row],[Coût\ndécoupe laser]],Tableau1[[#This Row],[Coût\npoinçonnage]])","v":0},{"$f":"IF(Tableau1[[#This Row],[Nb plis]]>0, (IF(Tableau1[[#This Row],[Nb plis]]<5,0.25,IF(Tableau1[[#This Row],[Nb plis]]<7,0.33,0.45))/Tableau1[[#This Row],[Série \néconomique ]] +0.004*Tableau1[[#This Row],[Nb plis]])*$N$5,0)","v":0},{"$f":"IFERROR(VLOOKUP(Tableau1[[#This Row],[Format\ntôle]],Tôles!B:P,9,FALSE),0)","v":0},{"$f":"Tableau1[[#This Row],[Dimention X (mm)]]/1000*Tableau1[[#This Row],[Dimention Y (mm)]]/1000","v":0},{"$f":"IFERROR(ROUNDUP(Tableau1[[#This Row],[Surface\npièce (m²)]]/Tableau1[[#This Row],[surface\ntôle (m²)]],4),0)","v":0},{"$f":"IF(Tableau1[[#This Row],[Forcer série Economique ]]>0,Tableau1[[#This Row],[Forcer série Economique ]],Tableau1[[#This Row],[Série Economique proposée]])","v":0},{"$f":"IF(OR(ISERROR((5/Tableau1[[#This Row],[Série \néconomique ]]+Tableau1[[#This Row],[Nb trous]]*0.08*VLOOKUP(Tableau1[[#This Row],[Format\ntôle]],Tôles!B:O,5,FALSE)+ (Tableau1[[#This Row],[Dimention X (mm)]]+Tableau1[[#This Row],[Dimention Y (mm)]]) * 0.001)*Taux_horaire/100),Tableau1[[#This Row],[VCOGS\ntôle]] = \"\"),0,(5/Tableau1[[#This Row],[Série \néconomique ]]+Tableau1[[#This Row],[Nb trous]]*0.08*VLOOKUP(Tableau1[[#This Row],[Format\ntôle]],Tôles!B:O,5,FALSE)+ (Tableau1[[#This Row],[Dimention X (mm)]]+Tableau1[[#This Row],[Dimention Y (mm)]]) * 0.001)*Taux_horaire/100)","v":0},{"$f":"IF(OR(ISERROR((10/Tableau1[[#This Row],[Série \néconomique ]]+Tableau1[[#This Row],[Nb trous]]*0.007 + (Tableau1[[#This Row],[Dimention X (mm)]]+Tableau1[[#This Row],[Dimention Y (mm)]]) * 0.0005)*Taux_horaire/100),Tableau1[[#This Row],[VCOGS\ntôle]]= \"\"),0,(10/Tableau1[[#This Row],[Série \néconomique ]]+Tableau1[[#This Row],[Nb trous]]*0.007 + (Tableau1[[#This Row],[Dimention X (mm)]]+Tableau1[[#This Row],[Dimention Y (mm)]]) * 0.0005)*Taux_horaire/100)","v":0}]
["TRINGLERIE",null,null,null,null,null,null,{"$f":"SUBSTITUTE(TRIM(CONCATENATE(Tableau1[[#This Row],[Niveau 0]],\" \",Tableau1[[#This Row],[Niveau 1]],\" \",Tableau1[[#This Row],[Niveau 2]],\" \",Tableau1[[#This Row],[Niveau 3]],\" \",Tableau1[[#This Row],[Niveau 4]],\" \",Tableau1[[#This Row],[Niveau 5]])),\" \",\".\")","v":""},{"$f":"IFERROR(IF(COUNTBLANK(Tableau1[[#This Row],[Niveau 0]:[Niveau 5]])=5,\"0\",LEFT(Tableau1[[#This Row],[Niveau]],(LEN(Tableau1[[#This Row],[Niveau]])-LEN(OFFSET(Tableau1[[#This Row],[Niveau 5]],0,(-COUNTBLANK(Tableau1[[#This Row],[Niveau 0]:[Niveau 5]]))))-1))),\"\")","v":""},null,null,null,null,{"$f":"IF(Tableau1[[#This Row],[Catégorie pièce]]=\" Opérations\",VLOOKUP(Tableau1[[#This Row],[Article produit/\nPoste de charge]],'PDC+emplacement'!A:C,2,FALSE),IF(Tableau1[[#This Row],[Catégorie pièce]]=\" Nouveau\",\"***RENSEIGNER NOM***\",IFERROR(VLOOKUP(CONCATENATE(Tableau1[[#This Row],[Article produit/\nPoste de charge]]),[1]ARTRDCL!$A$1:$U$25000,2,FALSE),\"\")))","v":""},null,null,null,null,null,{"$f":"IF(Tableau1[[#This Row],[Type plan]]=\"SP\",\"SP\",IF(AND(Tableau1[[#This Row],[Catégorie pièce]]=\" Nouveau\",Tableau1[[#This Row],[Type de pièce]]<>\" Panoplie\"),MID(Tableau1[[#This Row],[Article produit/\nPoste de charge]],2,15),IF(AND(Tableau1[[#This Row],[Catégorie pièce]]=\" Nouveau\",Tableau1[[#This Row],[Type de pièce]]=\" Panoplie\"),Tableau1[[#This Row],[Article produit/\nPoste de charge]],\"\")))","v":""},null,null,{"$f":"ROUNDUP((Tableau1[[#This Row],[Qté / an]]/52)*2,0)","v":{"$error":"#VALUE!"}},null,null,{"$f":"IF(AND(Tableau1[[#This Row],[Catégorie pièce]]=\" Opérations\",Tableau1[[#This Row],[Type de pièce]]=\" Temps\"),Taux_horaire/100,IF(AND(Tableau1[[#This Row],[Catégorie pièce]]=\" Nouveau\",Tableau1[[#This Row],[Type de pièce]]=\" Fabriquée\"),BOM!$AO86,IF(OR(AND(Tableau1[[#This Row],[Catégorie pièce]]=\" Nouveau\",Tableau1[[#This Row],[Type de pièce]]=\" Assemblage\"),BOM!$Y86=\" Produit fini\",Tableau1[[#This Row],[Type de pièce]]=\" Opé pièce primaire\",Tableau1[[#This Row],[Type de pièce]]=\" Pièce/Opé Panoplie\"),\"/\",IF(Tableau1[[#This Row],[Catégorie pièce]]=\" Existant\",VLOOKUP(CONCATENATE(Tableau1[[#This Row],[Article produit/\nPoste de charge]]),[1]ARTRDCL!$A$1:$U$65536,15,FALSE),\"\"))))","v":""},{"$f":"IF(OR(Tableau1[[#This Row],[Catégorie pièce]]=\" Opérations\",Tableau1[[#This Row],[Catégorie pièce]]=\" Matière 1ère\",ISBLANK(Tableau1[[#This Row],[Catégorie pièce]])),\"/\",SUMPRODUCT($AY$6:$BB$6,Tableau1[[#This Row],[Modèle A]:[Modèle D]]))","v":"/"},{"$f":"IFERROR(ROUNDDOWN(Tableau1[[#This Row],[surface\ntôle (m²)]]/Tableau1[[#This Row],[Surface\npièce (m²)]],0),0)","v":0},{"$f":"IF(AND(Tableau1[[#This Row],[Catégorie pièce]]=\" Nouveau\",Tableau1[[#This Row],[Type de pièce]]=\" Fabriquée\"),ROUNDUP(Tableau1[[#This Row],[Qté / an]]*2/52,0),0)","v":0},null,null,null,null,null,null,null,null,null,null,null,{"$f":"SUM(Tableau1[[#This Row],[VCOGS\ntôle]:[VCOGS\npliage]])","v":0},{"$f":"IFERROR((VLOOKUP(Tableau1[[#This Row],[Format\ntôle]],Tableau2[],11,FALSE)/Tableau1[[#This Row],[Série \néconomique ]])*Tableau1[[#This Row],[surface\ntôle (m²)]],0)","v":0},{"$f":"IF(Tableau1[[#This Row],[Laser (O/N)]]= \"Oui\",Tableau1[[#This Row],[Coût\ndécoupe laser]],Tableau1[[#This Row],[Coût\npoinçonnage]])","v":0},{"$f":"IF(Tableau1[[#This Row],[Nb plis]]>0, (IF(Tableau1[[#This Row],[Nb plis]]<5,0.25,IF(Tableau1[[#This Row],[Nb plis]]<7,0.33,0.45))/Tableau1[[#This Row],[Série \néconomique ]] +0.004*Tableau1[[#This Row],[Nb plis]])*$N$5,0)","v":0},{"$f":"IFERROR(VLOOKUP(Tableau1[[#This Row],[Format\ntôle]],Tôles!B:P,9,FALSE),0)","v":0},{"$f":"Tableau1[[#This Row],[Dimention X (mm)]]/1000*Tableau1[[#This Row],[Dimention Y (mm)]]/1000","v":0},{"$f":"IFERROR(ROUNDUP(Tableau1[[#This Row],[Surface\npièce (m²)]]/Tableau1[[#This Row],[surface\ntôle (m²)]],4),0)","v":0},{"$f":"IF(Tableau1[[#This Row],[Forcer série Economique ]]>0,Tableau1[[#This Row],[Forcer série Economique ]],Tableau1[[#This Row],[Série Economique proposée]])","v":0},{"$f":"IF(OR(ISERROR((5/Tableau1[[#This Row],[Série \néconomique ]]+Tableau1[[#This Row],[Nb trous]]*0.08*VLOOKUP(Tableau1[[#This Row],[Format\ntôle]],Tôles!B:O,5,FALSE)+ (Tableau1[[#This Row],[Dimention X (mm)]]+Tableau1[[#This Row],[Dimention Y (mm)]]) * 0.001)*Taux_horaire/100),Tableau1[[#This Row],[VCOGS\ntôle]] = \"\"),0,(5/Tableau1[[#This Row],[Série \néconomique ]]+Tableau1[[#This Row],[Nb trous]]*0.08*VLOOKUP(Tableau1[[#This Row],[Format\ntôle]],Tôles!B:O,5,FALSE)+ (Tableau1[[#This Row],[Dimention X (mm)]]+Tableau1[[#This Row],[Dimention Y (mm)]]) * 0.001)*Taux_horaire/100)","v":0},{"$f":"IF(OR(ISERROR((10/Tableau1[[#This Row],[Série \néconomique ]]+Tableau1[[#This Row],[Nb trous]]*0.007 + (Tableau1[[#This Row],[Dimention X (mm)]]+Tableau1[[#This Row],[Dimention Y (mm)]]) * 0.0005)*Taux_horaire/100),Tableau1[[#This Row],[VCOGS\ntôle]]= \"\"),0,(10/Tableau1[[#This Row],[Série \néconomique ]]+Tableau1[[#This Row],[Nb trous]]*0.007 + (Tableau1[[#This Row],[Dimention X (mm)]]+Tableau1[[#This Row],[Dimention Y (mm)]]) * 0.0005)*Taux_horaire/100)","v":0}]
[null,null,null,null,null,null,null,{"$f":"SUBSTITUTE(TRIM(CONCATENATE(Tableau1[[#This Row],[Niveau 0]],\" \",Tableau1[[#This Row],[Niveau 1]],\" \",Tableau1[[#This Row],[Niveau 2]],\" \",Tableau1[[#This Row],[Niveau 3]],\" \",Tableau1[[#This Row],[Niveau 4]],\" \",Tableau1[[#This Row],[Niveau 5]])),\" \",\".\")","v":""},{"$f":"IFERROR(IF(COUNTBLANK(Tableau1[[#This Row],[Niveau 0]:[Niveau 5]])=5,\"0\",LEFT(Tableau1[[#This Row],[Niveau]],(LEN(Tableau1[[#This Row],[Niveau]])-LEN(OFFSET(Tableau1[[#This Row],[Niveau 5]],0,(-COUNTBLANK(Tableau1[[#This Row],[Niveau 0]:[Niveau 5]]))))-1))),\"\")","v":""},null,null,null,null,{"$f":"IF(Tableau1[[#This Row],[Catégorie pièce]]=\" Opérations\",VLOOKUP(Tableau1[[#This Row],[Article produit/\nPoste de charge]],'PDC+emplacement'!A:C,2,FALSE),IF(Tableau1[[#This Row],[Catégorie pièce]]=\" Nouveau\",\"***RENSEIGNER NOM***\",IFERROR(VLOOKUP(CONCATENATE(Tableau1[[#This Row],[Article produit/\nPoste de charge]]),[1]ARTRDCL!$A$1:$U$25000,2,FALSE),\"\")))","v":""},null,null,null,null,null,{"$f":"IF(Tableau1[[#This Row],[Type plan]]=\"SP\",\"SP\",IF(AND(Tableau1[[#This Row],[Catégorie pièce]]=\" Nouveau\",Tableau1[[#This Row],[Type de pièce]]<>\" Panoplie\"),MID(Tableau1[[#This Row],[Article produit/\nPoste de charge]],2,15),IF(AND(Tableau1[[#This Row],[Catégorie pièce]]=\" Nouveau\",Tableau1[[#This Row],[Type de pièce]]=\" Panoplie\"),Tableau1[[#This Row],[Article produit/\nPoste de charge]],\"\")))","v":""},null,null,{"$f":"ROUNDUP((Tableau1[[#This Row],[Qté / an]]/52)*2,0)","v":{"$error":"#VALUE!"}},null,null,{"$f":"IF(AND(Tableau1[[#This Row],[Catégorie pièce]]=\" Opérations\",Tableau1[[#This Row],[Type de pièce]]=\" Temps\"),Taux_horaire/100,IF(AND(Tableau1[[#This Row],[Catégorie pièce]]=\" Nouveau\",Tableau1[[#This Row],[Type de pièce]]=\" Fabriquée\"),BOM!$AO87,IF(OR(AND(Tableau1[[#This Row],[Catégorie pièce]]=\" Nouveau\",Tableau1[[#This Row],[Type de pièce]]=\" Assemblage\"),BOM!$Y87=\" Produit fini\",Tableau1[[#This Row],[Type de pièce]]=\" Opé pièce primaire\",Tableau1[[#This Row],[Type de pièce]]=\" Pièce/Opé Panoplie\"),\"/\",IF(Tableau1[[#This Row],[Catégorie pièce]]=\" Existant\",VLOOKUP(CONCATENATE(Tableau1[[#This Row],[Article produit/\nPoste de charge]]),[1]ARTRDCL!$A$1:$U$65536,15,FALSE),\"\"))))","v":""},{"$f":"IF(OR(Tableau1[[#This Row],[Catégorie pièce]]=\" Opérations\",Tableau1[[#This Row],[Catégorie pièce]]=\" Matière 1ère\",ISBLANK(Tableau1[[#This Row],[Catégorie pièce]])),\"/\",SUMPRODUCT($AY$6:$BB$6,Tableau1[[#This Row],[Modèle A]:[Modèle D]]))","v":"/"},{"$f":"IFERROR(ROUNDDOWN(Tableau1[[#This Row],[surface\ntôle (m²)]]/Tableau1[[#This Row],[Surface\npièce (m²)]],0),0)","v":0},{"$f":"IF(AND(Tableau1[[#This Row],[Catégorie pièce]]=\" Nouveau\",Tableau1[[#This Row],[Type de pièce]]=\" Fabriquée\"),ROUNDUP(Tableau1[[#This Row],[Qté / an]]*2/52,0),0)","v":0},null,null,null,null,null,null,null,null,null,null,null,{"$f":"SUM(Tableau1[[#This Row],[VCOGS\ntôle]:[VCOGS\npliage]])","v":0},{"$f":"IFERROR((VLOOKUP(Tableau1[[#This Row],[Format\ntôle]],Tableau2[],11,FALSE)/Tableau1[[#This Row],[Série \néconomique ]])*Tableau1[[#This Row],[surface\ntôle (m²)]],0)","v":0},{"$f":"IF(Tableau1[[#This Row],[Laser (O/N)]]= \"Oui\",Tableau1[[#This Row],[Coût\ndécoupe laser]],Tableau1[[#This Row],[Coût\npoinçonnage]])","v":0},{"$f":"IF(Tableau1[[#This Row],[Nb plis]]>0, (IF(Tableau1[[#This Row],[Nb plis]]<5,0.25,IF(Tableau1[[#This Row],[Nb plis]]<7,0.33,0.45))/Tableau1[[#This Row],[Série \néconomique ]] +0.004*Tableau1[[#This Row],[Nb plis]])*$N$5,0)","v":0},{"$f":"IFERROR(VLOOKUP(Tableau1[[#This Row],[Format\ntôle]],Tôles!B:P,9,FALSE),0)","v":0},{"$f":"Tableau1[[#This Row],[Dimention X (mm)]]/1000*Tableau1[[#This Row],[Dimention Y (mm)]]/1000","v":0},{"$f":"IFERROR(ROUNDUP(Tableau1[[#This Row],[Surface\npièce (m²)]]/Tableau1[[#This Row],[surface\ntôle (m²)]],4),0)","v":0},{"$f":"IF(Tableau1[[#This Row],[Forcer série Economique ]]>0,Tableau1[[#This Row],[Forcer série Economique ]],Tableau1[[#This Row],[Série Economique proposée]])","v":0},{"$f":"IF(OR(ISERROR((5/Tableau1[[#This Row],[Série \néconomique ]]+Tableau1[[#This Row],[Nb trous]]*0.08*VLOOKUP(Tableau1[[#This Row],[Format\ntôle]],Tôles!B:O,5,FALSE)+ (Tableau1[[#This Row],[Dimention X (mm)]]+Tableau1[[#This Row],[Dimention Y (mm)]]) * 0.001)*Taux_horaire/100),Tableau1[[#This Row],[VCOGS\ntôle]] = \"\"),0,(5/Tableau1[[#This Row],[Série \néconomique ]]+Tableau1[[#This Row],[Nb trous]]*0.08*VLOOKUP(Tableau1[[#This Row],[Format\ntôle]],Tôles!B:O,5,FALSE)+ (Tableau1[[#This Row],[Dimention X (mm)]]+Tableau1[[#This Row],[Dimention Y (mm)]]) * 0.001)*Taux_horaire/100)","v":0},{"$f":"IF(OR(ISERROR((10/Tableau1[[#This Row],[Série \néconomique ]]+Tableau1[[#This Row],[Nb trous]]*0.007 + (Tableau1[[#This Row],[Dimention X (mm)]]+Tableau1[[#This Row],[Dimention Y (mm)]]) * 0.0005)*Taux_horaire/100),Tableau1[[#This Row],[VCOGS\ntôle]]= \"\"),0,(10/Tableau1[[#This Row],[Série \néconomique ]]+Tableau1[[#This Row],[Nb trous]]*0.007 + (Tableau1[[#This Row],[Dimention X (mm)]]+Tableau1[[#This Row],[Dimention Y (mm)]]) * 0.0005)*Taux_horaire/100)","v":0}]
[null,null,null,null,null,null,null,{"$f":"SUBSTITUTE(TRIM(CONCATENATE(Tableau1[[#This Row],[Niveau 0]],\" \",Tableau1[[#This Row],[Niveau 1]],\" \",Tableau1[[#This Row],[Niveau 2]],\" \",Tableau1[[#This Row],[Niveau 3]],\" \",Tableau1[[#This Row],[Niveau 4]],\" \",Tableau1[[#This Row],[Niveau 5]])),\" \",\".\")","v":""},{"$f":"IFERROR(IF(COUNTBLANK(Tableau1[[#This Row],[Niveau 0]:[Niveau 5]])=5,\"0\",LEFT(Tableau1[[#This Row],[Niveau]],(LEN(Tableau1[[#This Row],[Niveau]])-LEN(OFFSET(Tableau1[[#This Row],[Niveau 5]],0,(-COUNTBLANK(Tableau1[[#This Row],[Niveau 0]:[Niveau 5]]))))-1))),\"\")","v":""},null,null,null,null,{"$f":"IF(Tableau1[[#This Row],[Catégorie pièce]]=\" Opérations\",VLOOKUP(Tableau1[[#This Row],[Article produit/\nPoste de charge]],'PDC+emplacement'!A:C,2,FALSE),IF(Tableau1[[#This Row],[Catégorie pièce]]=\" Nouveau\",\"***RENSEIGNER NOM***\",IFERROR(VLOOKUP(CONCATENATE(Tableau1[[#This Row],[Article produit/\nPoste de charge]]),[1]ARTRDCL!$A$1:$U$25000,2,FALSE),\"\")))","v":""},null,null,null,null,null,{"$f":"IF(Tableau1[[#This Row],[Type plan]]=\"SP\",\"SP\",IF(AND(Tableau1[[#This Row],[Catégorie pièce]]=\" Nouveau\",Tableau1[[#This Row],[Type de pièce]]<>\" Panoplie\"),MID(Tableau1[[#This Row],[Article produit/\nPoste de charge]],2,15),IF(AND(Tableau1[[#This Row],[Catégorie pièce]]=\" Nouveau\",Tableau1[[#This Row],[Type de pièce]]=\" Panoplie\"),Tableau1[[#This Row],[Article produit/\nPoste de charge]],\"\")))","v":""},null,null,{"$f":"ROUNDUP((Tableau1[[#This Row],[Qté / an]]/52)*2,0)","v":{"$error":"#VALUE!"}},null,null,{"$f":"IF(AND(Tableau1[[#This Row],[Catégorie pièce]]=\" Opérations\",Tableau1[[#This Row],[Type de pièce]]=\" Temps\"),Taux_horaire/100,IF(AND(Tableau1[[#This Row],[Catégorie pièce]]=\" Nouveau\",Tableau1[[#This Row],[Type de pièce]]=\" Fabriquée\"),BOM!$AO88,IF(OR(AND(Tableau1[[#This Row],[Catégorie pièce]]=\" Nouveau\",Tableau1[[#This Row],[Type de pièce]]=\" Assemblage\"),BOM!$Y88=\" Produit fini\",Tableau1[[#This Row],[Type de pièce]]=\" Opé pièce primaire\",Tableau1[[#This Row],[Type de pièce]]=\" Pièce/Opé Panoplie\"),\"/\",IF(Tableau1[[#This Row],[Catégorie pièce]]=\" Existant\",VLOOKUP(CONCATENATE(Tableau1[[#This Row],[Article produit/\nPoste de charge]]),[1]ARTRDCL!$A$1:$U$65536,15,FALSE),\"\"))))","v":""},{"$f":"IF(OR(Tableau1[[#This Row],[Catégorie pièce]]=\" Opérations\",Tableau1[[#This Row],[Catégorie pièce]]=\" Matière 1ère\",ISBLANK(Tableau1[[#This Row],[Catégorie pièce]])),\"/\",SUMPRODUCT($AY$6:$BB$6,Tableau1[[#This Row],[Modèle A]:[Modèle D]]))","v":"/"},{"$f":"IFERROR(ROUNDDOWN(Tableau1[[#This Row],[surface\ntôle (m²)]]/Tableau1[[#This Row],[Surface\npièce (m²)]],0),0)","v":0},{"$f":"IF(AND(Tableau1[[#This Row],[Catégorie pièce]]=\" Nouveau\",Tableau1[[#This Row],[Type de pièce]]=\" Fabriquée\"),ROUNDUP(Tableau1[[#This Row],[Qté / an]]*2/52,0),0)","v":0},null,null,null,null,null,null,null,null,null,null,null,{"$f":"SUM(Tableau1[[#This Row],[VCOGS\ntôle]:[VCOGS\npliage]])","v":0},{"$f":"IFERROR((VLOOKUP(Tableau1[[#This Row],[Format\ntôle]],Tableau2[],11,FALSE)/Tableau1[[#This Row],[Série \néconomique ]])*Tableau1[[#This Row],[surface\ntôle (m²)]],0)","v":0},{"$f":"IF(Tableau1[[#This Row],[Laser (O/N)]]= \"Oui\",Tableau1[[#This Row],[Coût\ndécoupe laser]],Tableau1[[#This Row],[Coût\npoinçonnage]])","v":0},{"$f":"IF(Tableau1[[#This Row],[Nb plis]]>0, (IF(Tableau1[[#This Row],[Nb plis]]<5,0.25,IF(Tableau1[[#This Row],[Nb plis]]<7,0.33,0.45))/Tableau1[[#This Row],[Série \néconomique ]] +0.004*Tableau1[[#This Row],[Nb plis]])*$N$5,0)","v":0},{"$f":"IFERROR(VLOOKUP(Tableau1[[#This Row],[Format\ntôle]],Tôles!B:P,9,FALSE),0)","v":0},{"$f":"Tableau1[[#This Row],[Dimention X (mm)]]/1000*Tableau1[[#This Row],[Dimention Y (mm)]]/1000","v":0},{"$f":"IFERROR(ROUNDUP(Tableau1[[#This Row],[Surface\npièce (m²)]]/Tableau1[[#This Row],[surface\ntôle (m²)]],4),0)","v":0},{"$f":"IF(Tableau1[[#This Row],[Forcer série Economique ]]>0,Tableau1[[#This Row],[Forcer série Economique ]],Tableau1[[#This Row],[Série Economique proposée]])","v":0},{"$f":"IF(OR(ISERROR((5/Tableau1[[#This Row],[Série \néconomique ]]+Tableau1[[#This Row],[Nb trous]]*0.08*VLOOKUP(Tableau1[[#This Row],[Format\ntôle]],Tôles!B:O,5,FALSE)+ (Tableau1[[#This Row],[Dimention X (mm)]]+Tableau1[[#This Row],[Dimention Y (mm)]]) * 0.001)*Taux_horaire/100),Tableau1[[#This Row],[VCOGS\ntôle]] = \"\"),0,(5/Tableau1[[#This Row],[Série \néconomique ]]+Tableau1[[#This Row],[Nb trous]]*0.08*VLOOKUP(Tableau1[[#This Row],[Format\ntôle]],Tôles!B:O,5,FALSE)+ (Tableau1[[#This Row],[Dimention X (mm)]]+Tableau1[[#This Row],[Dimention Y (mm)]]) * 0.001)*Taux_horaire/100)","v":0},{"$f":"IF(OR(ISERROR((10/Tableau1[[#This Row],[Série \néconomique ]]+Tableau1[[#This Row],[Nb trous]]*0.007 + (Tableau1[[#This Row],[Dimention X (mm)]]+Tableau1[[#This Row],[Dimention Y (mm)]]) * 0.0005)*Taux_horaire/100),Tableau1[[#This Row],[VCOGS\ntôle]]= \"\"),0,(10/Tableau1[[#This Row],[Série \néconomique ]]+Tableau1[[#This Row],[Nb trous]]*0.007 + (Tableau1[[#This Row],[Dimention X (mm)]]+Tableau1[[#This Row],[Dimention Y (mm)]]) * 0.0005)*Taux_horaire/100)","v":0}]
[null,null,null,null,null,null,null,{"$f":"SUBSTITUTE(TRIM(CONCATENATE(Tableau1[[#This Row],[Niveau 0]],\" \",Tableau1[[#This Row],[Niveau 1]],\" \",Tableau1[[#This Row],[Niveau 2]],\" \",Tableau1[[#This Row],[Niveau 3]],\" \",Tableau1[[#This Row],[Niveau 4]],\" \",Tableau1[[#This Row],[Niveau 5]])),\" \",\".\")","v":""},{"$f":"IFERROR(IF(COUNTBLANK(Tableau1[[#This Row],[Niveau 0]:[Niveau 5]])=5,\"0\",LEFT(Tableau1[[#This Row],[Niveau]],(LEN(Tableau1[[#This Row],[Niveau]])-LEN(OFFSET(Tableau1[[#This Row],[Niveau 5]],0,(-COUNTBLANK(Tableau1[[#This Row],[Niveau 0]:[Niveau 5]]))))-1))),\"\")","v":""},null,null,null,null,{"$f":"IF(Tableau1[[#This Row],[Catégorie pièce]]=\" Opérations\",VLOOKUP(Tableau1[[#This Row],[Article produit/\nPoste de charge]],'PDC+emplacement'!A:C,2,FALSE),IF(Tableau1[[#This Row],[Catégorie pièce]]=\" Nouveau\",\"***RENSEIGNER NOM***\",IFERROR(VLOOKUP(CONCATENATE(Tableau1[[#This Row],[Article produit/\nPoste de charge]]),[1]ARTRDCL!$A$1:$U$25000,2,FALSE),\"\")))","v":""},null,null,null,null,null,{"$f":"IF(Tableau1[[#This Row],[Type plan]]=\"SP\",\"SP\",IF(AND(Tableau1[[#This Row],[Catégorie pièce]]=\" Nouveau\",Tableau1[[#This Row],[Type de pièce]]<>\" Panoplie\"),MID(Tableau1[[#This Row],[Article produit/\nPoste de charge]],2,15),IF(AND(Tableau1[[#This Row],[Catégorie pièce]]=\" Nouveau\",Tableau1[[#This Row],[Type de pièce]]=\" Panoplie\"),Tableau1[[#This Row],[Article produit/\nPoste de charge]],\"\")))","v":""},null,null,{"$f":"ROUNDUP((Tableau1[[#This Row],[Qté / an]]/52)*2,0)","v":{"$error":"#VALUE!"}},null,null,{"$f":"IF(AND(Tableau1[[#This Row],[Catégorie pièce]]=\" Opérations\",Tableau1[[#This Row],[Type de pièce]]=\" Temps\"),Taux_horaire/100,IF(AND(Tableau1[[#This Row],[Catégorie pièce]]=\" Nouveau\",Tableau1[[#This Row],[Type de pièce]]=\" Fabriquée\"),BOM!$AO89,IF(OR(AND(Tableau1[[#This Row],[Catégorie pièce]]=\" Nouveau\",Tableau1[[#This Row],[Type de pièce]]=\" Assemblage\"),BOM!$Y89=\" Produit fini\",Tableau1[[#This Row],[Type de pièce]]=\" Opé pièce primaire\",Tableau1[[#This Row],[Type de pièce]]=\" Pièce/Opé Panoplie\"),\"/\",IF(Tableau1[[#This Row],[Catégorie pièce]]=\" Existant\",VLOOKUP(CONCATENATE(Tableau1[[#This Row],[Article produit/\nPoste de charge]]),[1]ARTRDCL!$A$1:$U$65536,15,FALSE),\"\"))))","v":""},{"$f":"IF(OR(Tableau1[[#This Row],[Catégorie pièce]]=\" Opérations\",Tableau1[[#This Row],[Catégorie pièce]]=\" Matière 1ère\",ISBLANK(Tableau1[[#This Row],[Catégorie pièce]])),\"/\",SUMPRODUCT($AY$6:$BB$6,Tableau1[[#This Row],[Modèle A]:[Modèle D]]))","v":"/"},{"$f":"IFERROR(ROUNDDOWN(Tableau1[[#This Row],[surface\ntôle (m²)]]/Tableau1[[#This Row],[Surface\npièce (m²)]],0),0)","v":0},{"$f":"IF(AND(Tableau1[[#This Row],[Catégorie pièce]]=\" Nouveau\",Tableau1[[#This Row],[Type de pièce]]=\" Fabriquée\"),ROUNDUP(Tableau1[[#This Row],[Qté / an]]*2/52,0),0)","v":0},null,null,null,null,null,null,null,null,null,null,null,{"$f":"SUM(Tableau1[[#This Row],[VCOGS\ntôle]:[VCOGS\npliage]])","v":0},{"$f":"IFERROR((VLOOKUP(Tableau1[[#This Row],[Format\ntôle]],Tableau2[],11,FALSE)/Tableau1[[#This Row],[Série \néconomique ]])*Tableau1[[#This Row],[surface\ntôle (m²)]],0)","v":0},{"$f":"IF(Tableau1[[#This Row],[Laser (O/N)]]= \"Oui\",Tableau1[[#This Row],[Coût\ndécoupe laser]],Tableau1[[#This Row],[Coût\npoinçonnage]])","v":0},{"$f":"IF(Tableau1[[#This Row],[Nb plis]]>0, (IF(Tableau1[[#This Row],[Nb plis]]<5,0.25,IF(Tableau1[[#This Row],[Nb plis]]<7,0.33,0.45))/Tableau1[[#This Row],[Série \néconomique ]] +0.004*Tableau1[[#This Row],[Nb plis]])*$N$5,0)","v":0},{"$f":"IFERROR(VLOOKUP(Tableau1[[#This Row],[Format\ntôle]],Tôles!B:P,9,FALSE),0)","v":0},{"$f":"Tableau1[[#This Row],[Dimention X (mm)]]/1000*Tableau1[[#This Row],[Dimention Y (mm)]]/1000","v":0},{"$f":"IFERROR(ROUNDUP(Tableau1[[#This Row],[Surface\npièce (m²)]]/Tableau1[[#This Row],[surface\ntôle (m²)]],4),0)","v":0},{"$f":"IF(Tableau1[[#This Row],[Forcer série Economique ]]>0,Tableau1[[#This Row],[Forcer série Economique ]],Tableau1[[#This Row],[Série Economique proposée]])","v":0},{"$f":"IF(OR(ISERROR((5/Tableau1[[#This Row],[Série \néconomique ]]+Tableau1[[#This Row],[Nb trous]]*0.08*VLOOKUP(Tableau1[[#This Row],[Format\ntôle]],Tôles!B:O,5,FALSE)+ (Tableau1[[#This Row],[Dimention X (mm)]]+Tableau1[[#This Row],[Dimention Y (mm)]]) * 0.001)*Taux_horaire/100),Tableau1[[#This Row],[VCOGS\ntôle]] = \"\"),0,(5/Tableau1[[#This Row],[Série \néconomique ]]+Tableau1[[#This Row],[Nb trous]]*0.08*VLOOKUP(Tableau1[[#This Row],[Format\ntôle]],Tôles!B:O,5,FALSE)+ (Tableau1[[#This Row],[Dimention X (mm)]]+Tableau1[[#This Row],[Dimention Y (mm)]]) * 0.001)*Taux_horaire/100)","v":0},{"$f":"IF(OR(ISERROR((10/Tableau1[[#This Row],[Série \néconomique ]]+Tableau1[[#This Row],[Nb trous]]*0.007 + (Tableau1[[#This Row],[Dimention X (mm)]]+Tableau1[[#This Row],[Dimention Y (mm)]]) * 0.0005)*Taux_horaire/100),Tableau1[[#This Row],[VCOGS\ntôle]]= \"\"),0,(10/Tableau1[[#This Row],[Série \néconomique ]]+Tableau1[[#This Row],[Nb trous]]*0.007 + (Tableau1[[#This Row],[Dimention X (mm)]]+Tableau1[[#This Row],[Dimention Y (mm)]]) * 0.0005)*Taux_horaire/100)","v":0}]
[null,null,null,null,null,null,null,{"$f":"SUBSTITUTE(TRIM(CONCATENATE(Tableau1[[#This Row],[Niveau 0]],\" \",Tableau1[[#This Row],[Niveau 1]],\" \",Tableau1[[#This Row],[Niveau 2]],\" \",Tableau1[[#This Row],[Niveau 3]],\" \",Tableau1[[#This Row],[Niveau 4]],\" \",Tableau1[[#This Row],[Niveau 5]])),\" \",\".\")","v":""},{"$f":"IFERROR(IF(COUNTBLANK(Tableau1[[#This Row],[Niveau 0]:[Niveau 5]])=5,\"0\",LEFT(Tableau1[[#This Row],[Niveau]],(LEN(Tableau1[[#This Row],[Niveau]])-LEN(OFFSET(Tableau1[[#This Row],[Niveau 5]],0,(-COUNTBLANK(Tableau1[[#This Row],[Niveau 0]:[Niveau 5]]))))-1))),\"\")","v":""},null,null,null,null,{"$f":"IF(Tableau1[[#This Row],[Catégorie pièce]]=\" Opérations\",VLOOKUP(Tableau1[[#This Row],[Article produit/\nPoste de charge]],'PDC+emplacement'!A:C,2,FALSE),IF(Tableau1[[#This Row],[Catégorie pièce]]=\" Nouveau\",\"***RENSEIGNER NOM***\",IFERROR(VLOOKUP(CONCATENATE(Tableau1[[#This Row],[Article produit/\nPoste de charge]]),[1]ARTRDCL!$A$1:$U$25000,2,FALSE),\"\")))","v":""},null,null,null,null,null,{"$f":"IF(Tableau1[[#This Row],[Type plan]]=\"SP\",\"SP\",IF(AND(Tableau1[[#This Row],[Catégorie pièce]]=\" Nouveau\",Tableau1[[#This Row],[Type de pièce]]<>\" Panoplie\"),MID(Tableau1[[#This Row],[Article produit/\nPoste de charge]],2,15),IF(AND(Tableau1[[#This Row],[Catégorie pièce]]=\" Nouveau\",Tableau1[[#This Row],[Type de pièce]]=\" Panoplie\"),Tableau1[[#This Row],[Article produit/\nPoste de charge]],\"\")))","v":""},null,null,{"$f":"ROUNDUP((Tableau1[[#This Row],[Qté / an]]/52)*2,0)","v":{"$error":"#VALUE!"}},null,null,{"$f":"IF(AND(Tableau1[[#This Row],[Catégorie pièce]]=\" Opérations\",Tableau1[[#This Row],[Type de pièce]]=\" Temps\"),Taux_horaire/100,IF(AND(Tableau1[[#This Row],[Catégorie pièce]]=\" Nouveau\",Tableau1[[#This Row],[Type de pièce]]=\" Fabriquée\"),BOM!$AO90,IF(OR(AND(Tableau1[[#This Row],[Catégorie pièce]]=\" Nouveau\",Tableau1[[#This Row],[Type de pièce]]=\" Assemblage\"),BOM!$Y90=\" Produit fini\",Tableau1[[#This Row],[Type de pièce]]=\" Opé pièce primaire\",Tableau1[[#This Row],[Type de pièce]]=\" Pièce/Opé Panoplie\"),\"/\",IF(Tableau1[[#This Row],[Catégorie pièce]]=\" Existant\",VLOOKUP(CONCATENATE(Tableau1[[#This Row],[Article produit/\nPoste de charge]]),[1]ARTRDCL!$A$1:$U$65536,15,FALSE),\"\"))))","v":""},{"$f":"IF(OR(Tableau1[[#This Row],[Catégorie pièce]]=\" Opérations\",Tableau1[[#This Row],[Catégorie pièce]]=\" Matière 1ère\",ISBLANK(Tableau1[[#This Row],[Catégorie pièce]])),\"/\",SUMPRODUCT($AY$6:$BB$6,Tableau1[[#This Row],[Modèle A]:[Modèle D]]))","v":"/"},{"$f":"IFERROR(ROUNDDOWN(Tableau1[[#This Row],[surface\ntôle (m²)]]/Tableau1[[#This Row],[Surface\npièce (m²)]],0),0)","v":0},{"$f":"IF(AND(Tableau1[[#This Row],[Catégorie pièce]]=\" Nouveau\",Tableau1[[#This Row],[Type de pièce]]=\" Fabriquée\"),ROUNDUP(Tableau1[[#This Row],[Qté / an]]*2/52,0),0)","v":0},null,null,null,null,null,null,null,null,null,null,null,{"$f":"SUM(Tableau1[[#This Row],[VCOGS\ntôle]:[VCOGS\npliage]])","v":0},{"$f":"IFERROR((VLOOKUP(Tableau1[[#This Row],[Format\ntôle]],Tableau2[],11,FALSE)/Tableau1[[#This Row],[Série \néconomique ]])*Tableau1[[#This Row],[surface\ntôle (m²)]],0)","v":0},{"$f":"IF(Tableau1[[#This Row],[Laser (O/N)]]= \"Oui\",Tableau1[[#This Row],[Coût\ndécoupe laser]],Tableau1[[#This Row],[Coût\npoinçonnage]])","v":0},{"$f":"IF(Tableau1[[#This Row],[Nb plis]]>0, (IF(Tableau1[[#This Row],[Nb plis]]<5,0.25,IF(Tableau1[[#This Row],[Nb plis]]<7,0.33,0.45))/Tableau1[[#This Row],[Série \néconomique ]] +0.004*Tableau1[[#This Row],[Nb plis]])*$N$5,0)","v":0},{"$f":"IFERROR(VLOOKUP(Tableau1[[#This Row],[Format\ntôle]],Tôles!B:P,9,FALSE),0)","v":0},{"$f":"Tableau1[[#This Row],[Dimention X (mm)]]/1000*Tableau1[[#This Row],[Dimention Y (mm)]]/1000","v":0},{"$f":"IFERROR(ROUNDUP(Tableau1[[#This Row],[Surface\npièce (m²)]]/Tableau1[[#This Row],[surface\ntôle (m²)]],4),0)","v":0},{"$f":"IF(Tableau1[[#This Row],[Forcer série Economique ]]>0,Tableau1[[#This Row],[Forcer série Economique ]],Tableau1[[#This Row],[Série Economique proposée]])","v":0},{"$f":"IF(OR(ISERROR((5/Tableau1[[#This Row],[Série \néconomique ]]+Tableau1[[#This Row],[Nb trous]]*0.08*VLOOKUP(Tableau1[[#This Row],[Format\ntôle]],Tôles!B:O,5,FALSE)+ (Tableau1[[#This Row],[Dimention X (mm)]]+Tableau1[[#This Row],[Dimention Y (mm)]]) * 0.001)*Taux_horaire/100),Tableau1[[#This Row],[VCOGS\ntôle]] = \"\"),0,(5/Tableau1[[#This Row],[Série \néconomique ]]+Tableau1[[#This Row],[Nb trous]]*0.08*VLOOKUP(Tableau1[[#This Row],[Format\ntôle]],Tôles!B:O,5,FALSE)+ (Tableau1[[#This Row],[Dimention X (mm)]]+Tableau1[[#This Row],[Dimention Y (mm)]]) * 0.001)*Taux_horaire/100)","v":0},{"$f":"IF(OR(ISERROR((10/Tableau1[[#This Row],[Série \néconomique ]]+Tableau1[[#This Row],[Nb trous]]*0.007 + (Tableau1[[#This Row],[Dimention X (mm)]]+Tableau1[[#This Row],[Dimention Y (mm)]]) * 0.0005)*Taux_horaire/100),Tableau1[[#This Row],[VCOGS\ntôle]]= \"\"),0,(10/Tableau1[[#This Row],[Série \néconomique ]]+Tableau1[[#This Row],[Nb trous]]*0.007 + (Tableau1[[#This Row],[Dimention X (mm)]]+Tableau1[[#This Row],[Dimention Y (mm)]]) * 0.0005)*Taux_horaire/100)","v":0}]
[null,null,null,null,null,null,null,{"$f":"SUBSTITUTE(TRIM(CONCATENATE(Tableau1[[#This Row],[Niveau 0]],\" \",Tableau1[[#This Row],[Niveau 1]],\" \",Tableau1[[#This Row],[Niveau 2]],\" \",Tableau1[[#This Row],[Niveau 3]],\" \",Tableau1[[#This Row],[Niveau 4]],\" \",Tableau1[[#This Row],[Niveau 5]])),\" \",\".\")","v":""},{"$f":"IFERROR(IF(COUNTBLANK(Tableau1[[#This Row],[Niveau 0]:[Niveau 5]])=5,\"0\",LEFT(Tableau1[[#This Row],[Niveau]],(LEN(Tableau1[[#This Row],[Niveau]])-LEN(OFFSET(Tableau1[[#This Row],[Niveau 5]],0,(-COUNTBLANK(Tableau1[[#This Row],[Niveau 0]:[Niveau 5]]))))-1))),\"\")","v":""},null,null,null,null,{"$f":"IF(Tableau1[[#This Row],[Catégorie pièce]]=\" Opérations\",VLOOKUP(Tableau1[[#This Row],[Article produit/\nPoste de charge]],'PDC+emplacement'!A:C,2,FALSE),IF(Tableau1[[#This Row],[Catégorie pièce]]=\" Nouveau\",\"***RENSEIGNER NOM***\",IFERROR(VLOOKUP(CONCATENATE(Tableau1[[#This Row],[Article produit/\nPoste de charge]]),[1]ARTRDCL!$A$1:$U$25000,2,FALSE),\"\")))","v":""},null,null,null,null,null,{"$f":"IF(Tableau1[[#This Row],[Type plan]]=\"SP\",\"SP\",IF(AND(Tableau1[[#This Row],[Catégorie pièce]]=\" Nouveau\",Tableau1[[#This Row],[Type de pièce]]<>\" Panoplie\"),MID(Tableau1[[#This Row],[Article produit/\nPoste de charge]],2,15),IF(AND(Tableau1[[#This Row],[Catégorie pièce]]=\" Nouveau\",Tableau1[[#This Row],[Type de pièce]]=\" Panoplie\"),Tableau1[[#This Row],[Article produit/\nPoste de charge]],\"\")))","v":""},null,null,{"$f":"ROUNDUP((Tableau1[[#This Row],[Qté / an]]/52)*2,0)","v":{"$error":"#VALUE!"}},null,null,{"$f":"IF(AND(Tableau1[[#This Row],[Catégorie pièce]]=\" Opérations\",Tableau1[[#This Row],[Type de pièce]]=\" Temps\"),Taux_horaire/100,IF(AND(Tableau1[[#This Row],[Catégorie pièce]]=\" Nouveau\",Tableau1[[#This Row],[Type de pièce]]=\" Fabriquée\"),BOM!$AO91,IF(OR(AND(Tableau1[[#This Row],[Catégorie pièce]]=\" Nouveau\",Tableau1[[#This Row],[Type de pièce]]=\" Assemblage\"),BOM!$Y91=\" Produit fini\",Tableau1[[#This Row],[Type de pièce]]=\" Opé pièce primaire\",Tableau1[[#This Row],[Type de pièce]]=\" Pièce/Opé Panoplie\"),\"/\",IF(Tableau1[[#This Row],[Catégorie pièce]]=\" Existant\",VLOOKUP(CONCATENATE(Tableau1[[#This Row],[Article produit/\nPoste de charge]]),[1]ARTRDCL!$A$1:$U$65536,15,FALSE),\"\"))))","v":""},{"$f":"IF(OR(Tableau1[[#This Row],[Catégorie pièce]]=\" Opérations\",Tableau1[[#This Row],[Catégorie pièce]]=\" Matière 1ère\",ISBLANK(Tableau1[[#This Row],[Catégorie pièce]])),\"/\",SUMPRODUCT($AY$6:$BB$6,Tableau1[[#This Row],[Modèle A]:[Modèle D]]))","v":"/"},{"$f":"IFERROR(ROUNDDOWN(Tableau1[[#This Row],[surface\ntôle (m²)]]/Tableau1[[#This Row],[Surface\npièce (m²)]],0),0)","v":0},{"$f":"IF(AND(Tableau1[[#This Row],[Catégorie pièce]]=\" Nouveau\",Tableau1[[#This Row],[Type de pièce]]=\" Fabriquée\"),ROUNDUP(Tableau1[[#This Row],[Qté / an]]*2/52,0),0)","v":0},null,null,null,null,null,null,null,null,null,null,null,{"$f":"SUM(Tableau1[[#This Row],[VCOGS\ntôle]:[VCOGS\npliage]])","v":0},{"$f":"IFERROR((VLOOKUP(Tableau1[[#This Row],[Format\ntôle]],Tableau2[],11,FALSE)/Tableau1[[#This Row],[Série \néconomique ]])*Tableau1[[#This Row],[surface\ntôle (m²)]],0)","v":0},{"$f":"IF(Tableau1[[#This Row],[Laser (O/N)]]= \"Oui\",Tableau1[[#This Row],[Coût\ndécoupe laser]],Tableau1[[#This Row],[Coût\npoinçonnage]])","v":0},{"$f":"IF(Tableau1[[#This Row],[Nb plis]]>0, (IF(Tableau1[[#This Row],[Nb plis]]<5,0.25,IF(Tableau1[[#This Row],[Nb plis]]<7,0.33,0.45))/Tableau1[[#This Row],[Série \néconomique ]] +0.004*Tableau1[[#This Row],[Nb plis]])*$N$5,0)","v":0},{"$f":"IFERROR(VLOOKUP(Tableau1[[#This Row],[Format\ntôle]],Tôles!B:P,9,FALSE),0)","v":0},{"$f":"Tableau1[[#This Row],[Dimention X (mm)]]/1000*Tableau1[[#This Row],[Dimention Y (mm)]]/1000","v":0},{"$f":"IFERROR(ROUNDUP(Tableau1[[#This Row],[Surface\npièce (m²)]]/Tableau1[[#This Row],[surface\ntôle (m²)]],4),0)","v":0},{"$f":"IF(Tableau1[[#This Row],[Forcer série Economique ]]>0,Tableau1[[#This Row],[Forcer série Economique ]],Tableau1[[#This Row],[Série Economique proposée]])","v":0},{"$f":"IF(OR(ISERROR((5/Tableau1[[#This Row],[Série \néconomique ]]+Tableau1[[#This Row],[Nb trous]]*0.08*VLOOKUP(Tableau1[[#This Row],[Format\ntôle]],Tôles!B:O,5,FALSE)+ (Tableau1[[#This Row],[Dimention X (mm)]]+Tableau1[[#This Row],[Dimention Y (mm)]]) * 0.001)*Taux_horaire/100),Tableau1[[#This Row],[VCOGS\ntôle]] = \"\"),0,(5/Tableau1[[#This Row],[Série \néconomique ]]+Tableau1[[#This Row],[Nb trous]]*0.08*VLOOKUP(Tableau1[[#This Row],[Format\ntôle]],Tôles!B:O,5,FALSE)+ (Tableau1[[#This Row],[Dimention X (mm)]]+Tableau1[[#This Row],[Dimention Y (mm)]]) * 0.001)*Taux_horaire/100)","v":0},{"$f":"IF(OR(ISERROR((10/Tableau1[[#This Row],[Série \néconomique ]]+Tableau1[[#This Row],[Nb trous]]*0.007 + (Tableau1[[#This Row],[Dimention X (mm)]]+Tableau1[[#This Row],[Dimention Y (mm)]]) * 0.0005)*Taux_horaire/100),Tableau1[[#This Row],[VCOGS\ntôle]]= \"\"),0,(10/Tableau1[[#This Row],[Série \néconomique ]]+Tableau1[[#This Row],[Nb trous]]*0.007 + (Tableau1[[#This Row],[Dimention X (mm)]]+Tableau1[[#This Row],[Dimention Y (mm)]]) * 0.0005)*Taux_horaire/100)","v":0}]
[null,null,null,null,null,null,null,{"$f":"SUBSTITUTE(TRIM(CONCATENATE(Tableau1[[#This Row],[Niveau 0]],\" \",Tableau1[[#This Row],[Niveau 1]],\" \",Tableau1[[#This Row],[Niveau 2]],\" \",Tableau1[[#This Row],[Niveau 3]],\" \",Tableau1[[#This Row],[Niveau 4]],\" \",Tableau1[[#This Row],[Niveau 5]])),\" \",\".\")","v":""},{"$f":"IFERROR(IF(COUNTBLANK(Tableau1[[#This Row],[Niveau 0]:[Niveau 5]])=5,\"0\",LEFT(Tableau1[[#This Row],[Niveau]],(LEN(Tableau1[[#This Row],[Niveau]])-LEN(OFFSET(Tableau1[[#This Row],[Niveau 5]],0,(-COUNTBLANK(Tableau1[[#This Row],[Niveau 0]:[Niveau 5]]))))-1))),\"\")","v":""},null,null,null,null,{"$f":"IF(Tableau1[[#This Row],[Catégorie pièce]]=\" Opérations\",VLOOKUP(Tableau1[[#This Row],[Article produit/\nPoste de charge]],'PDC+emplacement'!A:C,2,FALSE),IF(Tableau1[[#This Row],[Catégorie pièce]]=\" Nouveau\",\"***RENSEIGNER NOM***\",IFERROR(VLOOKUP(CONCATENATE(Tableau1[[#This Row],[Article produit/\nPoste de charge]]),[1]ARTRDCL!$A$1:$U$25000,2,FALSE),\"\")))","v":""},null,null,null,null,null,{"$f":"IF(Tableau1[[#This Row],[Type plan]]=\"SP\",\"SP\",IF(AND(Tableau1[[#This Row],[Catégorie pièce]]=\" Nouveau\",Tableau1[[#This Row],[Type de pièce]]<>\" Panoplie\"),MID(Tableau1[[#This Row],[Article produit/\nPoste de charge]],2,15),IF(AND(Tableau1[[#This Row],[Catégorie pièce]]=\" Nouveau\",Tableau1[[#This Row],[Type de pièce]]=\" Panoplie\"),Tableau1[[#This Row],[Article produit/\nPoste de charge]],\"\")))","v":""},null,null,{"$f":"ROUNDUP((Tableau1[[#This Row],[Qté / an]]/52)*2,0)","v":{"$error":"#VALUE!"}},null,null,{"$f":"IF(AND(Tableau1[[#This Row],[Catégorie pièce]]=\" Opérations\",Tableau1[[#This Row],[Type de pièce]]=\" Temps\"),Taux_horaire/100,IF(AND(Tableau1[[#This Row],[Catégorie pièce]]=\" Nouveau\",Tableau1[[#This Row],[Type de pièce]]=\" Fabriquée\"),BOM!$AO92,IF(OR(AND(Tableau1[[#This Row],[Catégorie pièce]]=\" Nouveau\",Tableau1[[#This Row],[Type de pièce]]=\" Assemblage\"),BOM!$Y92=\" Produit fini\",Tableau1[[#This Row],[Type de pièce]]=\" Opé pièce primaire\",Tableau1[[#This Row],[Type de pièce]]=\" Pièce/Opé Panoplie\"),\"/\",IF(Tableau1[[#This Row],[Catégorie pièce]]=\" Existant\",VLOOKUP(CONCATENATE(Tableau1[[#This Row],[Article produit/\nPoste de charge]]),[1]ARTRDCL!$A$1:$U$65536,15,FALSE),\"\"))))","v":""},{"$f":"IF(OR(Tableau1[[#This Row],[Catégorie pièce]]=\" Opérations\",Tableau1[[#This Row],[Catégorie pièce]]=\" Matière 1ère\",ISBLANK(Tableau1[[#This Row],[Catégorie pièce]])),\"/\",SUMPRODUCT($AY$6:$BB$6,Tableau1[[#This Row],[Modèle A]:[Modèle D]]))","v":"/"},{"$f":"IFERROR(ROUNDDOWN(Tableau1[[#This Row],[surface\ntôle (m²)]]/Tableau1[[#This Row],[Surface\npièce (m²)]],0),0)","v":0},{"$f":"IF(AND(Tableau1[[#This Row],[Catégorie pièce]]=\" Nouveau\",Tableau1[[#This Row],[Type de pièce]]=\" Fabriquée\"),ROUNDUP(Tableau1[[#This Row],[Qté / an]]*2/52,0),0)","v":0},null,null,null,null,null,null,null,null,null,null,null,{"$f":"SUM(Tableau1[[#This Row],[VCOGS\ntôle]:[VCOGS\npliage]])","v":0},{"$f":"IFERROR((VLOOKUP(Tableau1[[#This Row],[Format\ntôle]],Tableau2[],11,FALSE)/Tableau1[[#This Row],[Série \néconomique ]])*Tableau1[[#This Row],[surface\ntôle (m²)]],0)","v":0},{"$f":"IF(Tableau1[[#This Row],[Laser (O/N)]]= \"Oui\",Tableau1[[#This Row],[Coût\ndécoupe laser]],Tableau1[[#This Row],[Coût\npoinçonnage]])","v":0},{"$f":"IF(Tableau1[[#This Row],[Nb plis]]>0, (IF(Tableau1[[#This Row],[Nb plis]]<5,0.25,IF(Tableau1[[#This Row],[Nb plis]]<7,0.33,0.45))/Tableau1[[#This Row],[Série \néconomique ]] +0.004*Tableau1[[#This Row],[Nb plis]])*$N$5,0)","v":0},{"$f":"IFERROR(VLOOKUP(Tableau1[[#This Row],[Format\ntôle]],Tôles!B:P,9,FALSE),0)","v":0},{"$f":"Tableau1[[#This Row],[Dimention X (mm)]]/1000*Tableau1[[#This Row],[Dimention Y (mm)]]/1000","v":0},{"$f":"IFERROR(ROUNDUP(Tableau1[[#This Row],[Surface\npièce (m²)]]/Tableau1[[#This Row],[surface\ntôle (m²)]],4),0)","v":0},{"$f":"IF(Tableau1[[#This Row],[Forcer série Economique ]]>0,Tableau1[[#This Row],[Forcer série Economique ]],Tableau1[[#This Row],[Série Economique proposée]])","v":0},{"$f":"IF(OR(ISERROR((5/Tableau1[[#This Row],[Série \néconomique ]]+Tableau1[[#This Row],[Nb trous]]*0.08*VLOOKUP(Tableau1[[#This Row],[Format\ntôle]],Tôles!B:O,5,FALSE)+ (Tableau1[[#This Row],[Dimention X (mm)]]+Tableau1[[#This Row],[Dimention Y (mm)]]) * 0.001)*Taux_horaire/100),Tableau1[[#This Row],[VCOGS\ntôle]] = \"\"),0,(5/Tableau1[[#This Row],[Série \néconomique ]]+Tableau1[[#This Row],[Nb trous]]*0.08*VLOOKUP(Tableau1[[#This Row],[Format\ntôle]],Tôles!B:O,5,FALSE)+ (Tableau1[[#This Row],[Dimention X (mm)]]+Tableau1[[#This Row],[Dimention Y (mm)]]) * 0.001)*Taux_horaire/100)","v":0},{"$f":"IF(OR(ISERROR((10/Tableau1[[#This Row],[Série \néconomique ]]+Tableau1[[#This Row],[Nb trous]]*0.007 + (Tableau1[[#This Row],[Dimention X (mm)]]+Tableau1[[#This Row],[Dimention Y (mm)]]) * 0.0005)*Taux_horaire/100),Tableau1[[#This Row],[VCOGS\ntôle]]= \"\"),0,(10/Tableau1[[#This Row],[Série \néconomique ]]+Tableau1[[#This Row],[Nb trous]]*0.007 + (Tableau1[[#This Row],[Dimention X (mm)]]+Tableau1[[#This Row],[Dimention Y (mm)]]) * 0.0005)*Taux_horaire/100)","v":0}]
[null,null,null,null,null,null,null,{"$f":"SUBSTITUTE(TRIM(CONCATENATE(Tableau1[[#This Row],[Niveau 0]],\" \",Tableau1[[#This Row],[Niveau 1]],\" \",Tableau1[[#This Row],[Niveau 2]],\" \",Tableau1[[#This Row],[Niveau 3]],\" \",Tableau1[[#This Row],[Niveau 4]],\" \",Tableau1[[#This Row],[Niveau 5]])),\" \",\".\")","v":""},{"$f":"IFERROR(IF(COUNTBLANK(Tableau1[[#This Row],[Niveau 0]:[Niveau 5]])=5,\"0\",LEFT(Tableau1[[#This Row],[Niveau]],(LEN(Tableau1[[#This Row],[Niveau]])-LEN(OFFSET(Tableau1[[#This Row],[Niveau 5]],0,(-COUNTBLANK(Tableau1[[#This Row],[Niveau 0]:[Niveau 5]]))))-1))),\"\")","v":""},null,null,null,null,{"$f":"IF(Tableau1[[#This Row],[Catégorie pièce]]=\" Opérations\",VLOOKUP(Tableau1[[#This Row],[Article produit/\nPoste de charge]],'PDC+emplacement'!A:C,2,FALSE),IF(Tableau1[[#This Row],[Catégorie pièce]]=\" Nouveau\",\"***RENSEIGNER NOM***\",IFERROR(VLOOKUP(CONCATENATE(Tableau1[[#This Row],[Article produit/\nPoste de charge]]),[1]ARTRDCL!$A$1:$U$25000,2,FALSE),\"\")))","v":""},null,null,null,null,null,{"$f":"IF(Tableau1[[#This Row],[Type plan]]=\"SP\",\"SP\",IF(AND(Tableau1[[#This Row],[Catégorie pièce]]=\" Nouveau\",Tableau1[[#This Row],[Type de pièce]]<>\" Panoplie\"),MID(Tableau1[[#This Row],[Article produit/\nPoste de charge]],2,15),IF(AND(Tableau1[[#This Row],[Catégorie pièce]]=\" Nouveau\",Tableau1[[#This Row],[Type de pièce]]=\" Panoplie\"),Tableau1[[#This Row],[Article produit/\nPoste de charge]],\"\")))","v":""},null,null,{"$f":"ROUNDUP((Tableau1[[#This Row],[Qté / an]]/52)*2,0)","v":{"$error":"#VALUE!"}},null,null,{"$f":"IF(AND(Tableau1[[#This Row],[Catégorie pièce]]=\" Opérations\",Tableau1[[#This Row],[Type de pièce]]=\" Temps\"),Taux_horaire/100,IF(AND(Tableau1[[#This Row],[Catégorie pièce]]=\" Nouveau\",Tableau1[[#This Row],[Type de pièce]]=\" Fabriquée\"),BOM!$AO93,IF(OR(AND(Tableau1[[#This Row],[Catégorie pièce]]=\" Nouveau\",Tableau1[[#This Row],[Type de pièce]]=\" Assemblage\"),BOM!$Y93=\" Produit fini\",Tableau1[[#This Row],[Type de pièce]]=\" Opé pièce primaire\",Tableau1[[#This Row],[Type de pièce]]=\" Pièce/Opé Panoplie\"),\"/\",IF(Tableau1[[#This Row],[Catégorie pièce]]=\" Existant\",VLOOKUP(CONCATENATE(Tableau1[[#This Row],[Article produit/\nPoste de charge]]),[1]ARTRDCL!$A$1:$U$65536,15,FALSE),\"\"))))","v":""},{"$f":"IF(OR(Tableau1[[#This Row],[Catégorie pièce]]=\" Opérations\",Tableau1[[#This Row],[Catégorie pièce]]=\" Matière 1ère\",ISBLANK(Tableau1[[#This Row],[Catégorie pièce]])),\"/\",SUMPRODUCT($AY$6:$BB$6,Tableau1[[#This Row],[Modèle A]:[Modèle D]]))","v":"/"},{"$f":"IFERROR(ROUNDDOWN(Tableau1[[#This Row],[surface\ntôle (m²)]]/Tableau1[[#This Row],[Surface\npièce (m²)]],0),0)","v":0},{"$f":"IF(AND(Tableau1[[#This Row],[Catégorie pièce]]=\" Nouveau\",Tableau1[[#This Row],[Type de pièce]]=\" Fabriquée\"),ROUNDUP(Tableau1[[#This Row],[Qté / an]]*2/52,0),0)","v":0},null,null,null,null,null,null,null,null,null,null,null,{"$f":"SUM(Tableau1[[#This Row],[VCOGS\ntôle]:[VCOGS\npliage]])","v":0},{"$f":"IFERROR((VLOOKUP(Tableau1[[#This Row],[Format\ntôle]],Tableau2[],11,FALSE)/Tableau1[[#This Row],[Série \néconomique ]])*Tableau1[[#This Row],[surface\ntôle (m²)]],0)","v":0},{"$f":"IF(Tableau1[[#This Row],[Laser (O/N)]]= \"Oui\",Tableau1[[#This Row],[Coût\ndécoupe laser]],Tableau1[[#This Row],[Coût\npoinçonnage]])","v":0},{"$f":"IF(Tableau1[[#This Row],[Nb plis]]>0, (IF(Tableau1[[#This Row],[Nb plis]]<5,0.25,IF(Tableau1[[#This Row],[Nb plis]]<7,0.33,0.45))/Tableau1[[#This Row],[Série \néconomique ]] +0.004*Tableau1[[#This Row],[Nb plis]])*$N$5,0)","v":0},{"$f":"IFERROR(VLOOKUP(Tableau1[[#This Row],[Format\ntôle]],Tôles!B:P,9,FALSE),0)","v":0},{"$f":"Tableau1[[#This Row],[Dimention X (mm)]]/1000*Tableau1[[#This Row],[Dimention Y (mm)]]/1000","v":0},{"$f":"IFERROR(ROUNDUP(Tableau1[[#This Row],[Surface\npièce (m²)]]/Tableau1[[#This Row],[surface\ntôle (m²)]],4),0)","v":0},{"$f":"IF(Tableau1[[#This Row],[Forcer série Economique ]]>0,Tableau1[[#This Row],[Forcer série Economique ]],Tableau1[[#This Row],[Série Economique proposée]])","v":0},{"$f":"IF(OR(ISERROR((5/Tableau1[[#This Row],[Série \néconomique ]]+Tableau1[[#This Row],[Nb trous]]*0.08*VLOOKUP(Tableau1[[#This Row],[Format\ntôle]],Tôles!B:O,5,FALSE)+ (Tableau1[[#This Row],[Dimention X (mm)]]+Tableau1[[#This Row],[Dimention Y (mm)]]) * 0.001)*Taux_horaire/100),Tableau1[[#This Row],[VCOGS\ntôle]] = \"\"),0,(5/Tableau1[[#This Row],[Série \néconomique ]]+Tableau1[[#This Row],[Nb trous]]*0.08*VLOOKUP(Tableau1[[#This Row],[Format\ntôle]],Tôles!B:O,5,FALSE)+ (Tableau1[[#This Row],[Dimention X (mm)]]+Tableau1[[#This Row],[Dimention Y (mm)]]) * 0.001)*Taux_horaire/100)","v":0},{"$f":"IF(OR(ISERROR((10/Tableau1[[#This Row],[Série \néconomique ]]+Tableau1[[#This Row],[Nb trous]]*0.007 + (Tableau1[[#This Row],[Dimention X (mm)]]+Tableau1[[#This Row],[Dimention Y (mm)]]) * 0.0005)*Taux_horaire/100),Tableau1[[#This Row],[VCOGS\ntôle]]= \"\"),0,(10/Tableau1[[#This Row],[Série \néconomique ]]+Tableau1[[#This Row],[Nb trous]]*0.007 + (Tableau1[[#This Row],[Dimention X (mm)]]+Tableau1[[#This Row],[Dimention Y (mm)]]) * 0.0005)*Taux_horaire/100)","v":0}]
[null,null,null,null,null,null,null,{"$f":"SUBSTITUTE(TRIM(CONCATENATE(Tableau1[[#This Row],[Niveau 0]],\" \",Tableau1[[#This Row],[Niveau 1]],\" \",Tableau1[[#This Row],[Niveau 2]],\" \",Tableau1[[#This Row],[Niveau 3]],\" \",Tableau1[[#This Row],[Niveau 4]],\" \",Tableau1[[#This Row],[Niveau 5]])),\" \",\".\")","v":""},{"$f":"IFERROR(IF(COUNTBLANK(Tableau1[[#This Row],[Niveau 0]:[Niveau 5]])=5,\"0\",LEFT(Tableau1[[#This Row],[Niveau]],(LEN(Tableau1[[#This Row],[Niveau]])-LEN(OFFSET(Tableau1[[#This Row],[Niveau 5]],0,(-COUNTBLANK(Tableau1[[#This Row],[Niveau 0]:[Niveau 5]]))))-1))),\"\")","v":""},null,null,null,null,{"$f":"IF(Tableau1[[#This Row],[Catégorie pièce]]=\" Opérations\",VLOOKUP(Tableau1[[#This Row],[Article produit/\nPoste de charge]],'PDC+emplacement'!A:C,2,FALSE),IF(Tableau1[[#This Row],[Catégorie pièce]]=\" Nouveau\",\"***RENSEIGNER NOM***\",IFERROR(VLOOKUP(CONCATENATE(Tableau1[[#This Row],[Article produit/\nPoste de charge]]),[1]ARTRDCL!$A$1:$U$25000,2,FALSE),\"\")))","v":""},null,null,null,null,null,{"$f":"IF(Tableau1[[#This Row],[Type plan]]=\"SP\",\"SP\",IF(AND(Tableau1[[#This Row],[Catégorie pièce]]=\" Nouveau\",Tableau1[[#This Row],[Type de pièce]]<>\" Panoplie\"),MID(Tableau1[[#This Row],[Article produit/\nPoste de charge]],2,15),IF(AND(Tableau1[[#This Row],[Catégorie pièce]]=\" Nouveau\",Tableau1[[#This Row],[Type de pièce]]=\" Panoplie\"),Tableau1[[#This Row],[Article produit/\nPoste de charge]],\"\")))","v":""},null,null,{"$f":"ROUNDUP((Tableau1[[#This Row],[Qté / an]]/52)*2,0)","v":{"$error":"#VALUE!"}},null,null,{"$f":"IF(AND(Tableau1[[#This Row],[Catégorie pièce]]=\" Opérations\",Tableau1[[#This Row],[Type de pièce]]=\" Temps\"),Taux_horaire/100,IF(AND(Tableau1[[#This Row],[Catégorie pièce]]=\" Nouveau\",Tableau1[[#This Row],[Type de pièce]]=\" Fabriquée\"),BOM!$AO94,IF(OR(AND(Tableau1[[#This Row],[Catégorie pièce]]=\" Nouveau\",Tableau1[[#This Row],[Type de pièce]]=\" Assemblage\"),BOM!$Y94=\" Produit fini\",Tableau1[[#This Row],[Type de pièce]]=\" Opé pièce primaire\",Tableau1[[#This Row],[Type de pièce]]=\" Pièce/Opé Panoplie\"),\"/\",IF(Tableau1[[#This Row],[Catégorie pièce]]=\" Existant\",VLOOKUP(CONCATENATE(Tableau1[[#This Row],[Article produit/\nPoste de charge]]),[1]ARTRDCL!$A$1:$U$65536,15,FALSE),\"\"))))","v":""},{"$f":"IF(OR(Tableau1[[#This Row],[Catégorie pièce]]=\" Opérations\",Tableau1[[#This Row],[Catégorie pièce]]=\" Matière 1ère\",ISBLANK(Tableau1[[#This Row],[Catégorie pièce]])),\"/\",SUMPRODUCT($AY$6:$BB$6,Tableau1[[#This Row],[Modèle A]:[Modèle D]]))","v":"/"},{"$f":"IFERROR(ROUNDDOWN(Tableau1[[#This Row],[surface\ntôle (m²)]]/Tableau1[[#This Row],[Surface\npièce (m²)]],0),0)","v":0},{"$f":"IF(AND(Tableau1[[#This Row],[Catégorie pièce]]=\" Nouveau\",Tableau1[[#This Row],[Type de pièce]]=\" Fabriquée\"),ROUNDUP(Tableau1[[#This Row],[Qté / an]]*2/52,0),0)","v":0},null,null,null,null,null,null,null,null,null,null,null,{"$f":"SUM(Tableau1[[#This Row],[VCOGS\ntôle]:[VCOGS\npliage]])","v":0},{"$f":"IFERROR((VLOOKUP(Tableau1[[#This Row],[Format\ntôle]],Tableau2[],11,FALSE)/Tableau1[[#This Row],[Série \néconomique ]])*Tableau1[[#This Row],[surface\ntôle (m²)]],0)","v":0},{"$f":"IF(Tableau1[[#This Row],[Laser (O/N)]]= \"Oui\",Tableau1[[#This Row],[Coût\ndécoupe laser]],Tableau1[[#This Row],[Coût\npoinçonnage]])","v":0},{"$f":"IF(Tableau1[[#This Row],[Nb plis]]>0, (IF(Tableau1[[#This Row],[Nb plis]]<5,0.25,IF(Tableau1[[#This Row],[Nb plis]]<7,0.33,0.45))/Tableau1[[#This Row],[Série \néconomique ]] +0.004*Tableau1[[#This Row],[Nb plis]])*$N$5,0)","v":0},{"$f":"IFERROR(VLOOKUP(Tableau1[[#This Row],[Format\ntôle]],Tôles!B:P,9,FALSE),0)","v":0},{"$f":"Tableau1[[#This Row],[Dimention X (mm)]]/1000*Tableau1[[#This Row],[Dimention Y (mm)]]/1000","v":0},{"$f":"IFERROR(ROUNDUP(Tableau1[[#This Row],[Surface\npièce (m²)]]/Tableau1[[#This Row],[surface\ntôle (m²)]],4),0)","v":0},{"$f":"IF(Tableau1[[#This Row],[Forcer série Economique ]]>0,Tableau1[[#This Row],[Forcer série Economique ]],Tableau1[[#This Row],[Série Economique proposée]])","v":0},{"$f":"IF(OR(ISERROR((5/Tableau1[[#This Row],[Série \néconomique ]]+Tableau1[[#This Row],[Nb trous]]*0.08*VLOOKUP(Tableau1[[#This Row],[Format\ntôle]],Tôles!B:O,5,FALSE)+ (Tableau1[[#This Row],[Dimention X (mm)]]+Tableau1[[#This Row],[Dimention Y (mm)]]) * 0.001)*Taux_horaire/100),Tableau1[[#This Row],[VCOGS\ntôle]] = \"\"),0,(5/Tableau1[[#This Row],[Série \néconomique ]]+Tableau1[[#This Row],[Nb trous]]*0.08*VLOOKUP(Tableau1[[#This Row],[Format\ntôle]],Tôles!B:O,5,FALSE)+ (Tableau1[[#This Row],[Dimention X (mm)]]+Tableau1[[#This Row],[Dimention Y (mm)]]) * 0.001)*Taux_horaire/100)","v":0},{"$f":"IF(OR(ISERROR((10/Tableau1[[#This Row],[Série \néconomique ]]+Tableau1[[#This Row],[Nb trous]]*0.007 + (Tableau1[[#This Row],[Dimention X (mm)]]+Tableau1[[#This Row],[Dimention Y (mm)]]) * 0.0005)*Taux_horaire/100),Tableau1[[#This Row],[VCOGS\ntôle]]= \"\"),0,(10/Tableau1[[#This Row],[Série \néconomique ]]+Tableau1[[#This Row],[Nb trous]]*0.007 + (Tableau1[[#This Row],[Dimention X (mm)]]+Tableau1[[#This Row],[Dimention Y (mm)]]) * 0.0005)*Taux_horaire/100)","v":0}]
[null,null,null,null,null,null,null,{"$f":"SUBSTITUTE(TRIM(CONCATENATE(Tableau1[[#This Row],[Niveau 0]],\" \",Tableau1[[#This Row],[Niveau 1]],\" \",Tableau1[[#This Row],[Niveau 2]],\" \",Tableau1[[#This Row],[Niveau 3]],\" \",Tableau1[[#This Row],[Niveau 4]],\" \",Tableau1[[#This Row],[Niveau 5]])),\" \",\".\")","v":""},{"$f":"IFERROR(IF(COUNTBLANK(Tableau1[[#This Row],[Niveau 0]:[Niveau 5]])=5,\"0\",LEFT(Tableau1[[#This Row],[Niveau]],(LEN(Tableau1[[#This Row],[Niveau]])-LEN(OFFSET(Tableau1[[#This Row],[Niveau 5]],0,(-COUNTBLANK(Tableau1[[#This Row],[Niveau 0]:[Niveau 5]]))))-1))),\"\")","v":""},null,null,null,null,{"$f":"IF(Tableau1[[#This Row],[Catégorie pièce]]=\" Opérations\",VLOOKUP(Tableau1[[#This Row],[Article produit/\nPoste de charge]],'PDC+emplacement'!A:C,2,FALSE),IF(Tableau1[[#This Row],[Catégorie pièce]]=\" Nouveau\",\"***RENSEIGNER NOM***\",IFERROR(VLOOKUP(CONCATENATE(Tableau1[[#This Row],[Article produit/\nPoste de charge]]),[1]ARTRDCL!$A$1:$U$25000,2,FALSE),\"\")))","v":""},null,null,null,null,null,{"$f":"IF(Tableau1[[#This Row],[Type plan]]=\"SP\",\"SP\",IF(AND(Tableau1[[#This Row],[Catégorie pièce]]=\" Nouveau\",Tableau1[[#This Row],[Type de pièce]]<>\" Panoplie\"),MID(Tableau1[[#This Row],[Article produit/\nPoste de charge]],2,15),IF(AND(Tableau1[[#This Row],[Catégorie pièce]]=\" Nouveau\",Tableau1[[#This Row],[Type de pièce]]=\" Panoplie\"),Tableau1[[#This Row],[Article produit/\nPoste de charge]],\"\")))","v":""},null,null,{"$f":"ROUNDUP((Tableau1[[#This Row],[Qté / an]]/52)*2,0)","v":{"$error":"#VALUE!"}},null,null,{"$f":"IF(AND(Tableau1[[#This Row],[Catégorie pièce]]=\" Opérations\",Tableau1[[#This Row],[Type de pièce]]=\" Temps\"),Taux_horaire/100,IF(AND(Tableau1[[#This Row],[Catégorie pièce]]=\" Nouveau\",Tableau1[[#This Row],[Type de pièce]]=\" Fabriquée\"),BOM!$AO95,IF(OR(AND(Tableau1[[#This Row],[Catégorie pièce]]=\" Nouveau\",Tableau1[[#This Row],[Type de pièce]]=\" Assemblage\"),BOM!$Y95=\" Produit fini\",Tableau1[[#This Row],[Type de pièce]]=\" Opé pièce primaire\",Tableau1[[#This Row],[Type de pièce]]=\" Pièce/Opé Panoplie\"),\"/\",IF(Tableau1[[#This Row],[Catégorie pièce]]=\" Existant\",VLOOKUP(CONCATENATE(Tableau1[[#This Row],[Article produit/\nPoste de charge]]),[1]ARTRDCL!$A$1:$U$65536,15,FALSE),\"\"))))","v":""},{"$f":"IF(OR(Tableau1[[#This Row],[Catégorie pièce]]=\" Opérations\",Tableau1[[#This Row],[Catégorie pièce]]=\" Matière 1ère\",ISBLANK(Tableau1[[#This Row],[Catégorie pièce]])),\"/\",SUMPRODUCT($AY$6:$BB$6,Tableau1[[#This Row],[Modèle A]:[Modèle D]]))","v":"/"},{"$f":"IFERROR(ROUNDDOWN(Tableau1[[#This Row],[surface\ntôle (m²)]]/Tableau1[[#This Row],[Surface\npièce (m²)]],0),0)","v":0},{"$f":"IF(AND(Tableau1[[#This Row],[Catégorie pièce]]=\" Nouveau\",Tableau1[[#This Row],[Type de pièce]]=\" Fabriquée\"),ROUNDUP(Tableau1[[#This Row],[Qté / an]]*2/52,0),0)","v":0},null,null,null,null,null,null,null,null,null,null,null,{"$f":"SUM(Tableau1[[#This Row],[VCOGS\ntôle]:[VCOGS\npliage]])","v":0},{"$f":"IFERROR((VLOOKUP(Tableau1[[#This Row],[Format\ntôle]],Tableau2[],11,FALSE)/Tableau1[[#This Row],[Série \néconomique ]])*Tableau1[[#This Row],[surface\ntôle (m²)]],0)","v":0},{"$f":"IF(Tableau1[[#This Row],[Laser (O/N)]]= \"Oui\",Tableau1[[#This Row],[Coût\ndécoupe laser]],Tableau1[[#This Row],[Coût\npoinçonnage]])","v":0},{"$f":"IF(Tableau1[[#This Row],[Nb plis]]>0, (IF(Tableau1[[#This Row],[Nb plis]]<5,0.25,IF(Tableau1[[#This Row],[Nb plis]]<7,0.33,0.45))/Tableau1[[#This Row],[Série \néconomique ]] +0.004*Tableau1[[#This Row],[Nb plis]])*$N$5,0)","v":0},{"$f":"IFERROR(VLOOKUP(Tableau1[[#This Row],[Format\ntôle]],Tôles!B:P,9,FALSE),0)","v":0},{"$f":"Tableau1[[#This Row],[Dimention X (mm)]]/1000*Tableau1[[#This Row],[Dimention Y (mm)]]/1000","v":0},{"$f":"IFERROR(ROUNDUP(Tableau1[[#This Row],[Surface\npièce (m²)]]/Tableau1[[#This Row],[surface\ntôle (m²)]],4),0)","v":0},{"$f":"IF(Tableau1[[#This Row],[Forcer série Economique ]]>0,Tableau1[[#This Row],[Forcer série Economique ]],Tableau1[[#This Row],[Série Economique proposée]])","v":0},{"$f":"IF(OR(ISERROR((5/Tableau1[[#This Row],[Série \néconomique ]]+Tableau1[[#This Row],[Nb trous]]*0.08*VLOOKUP(Tableau1[[#This Row],[Format\ntôle]],Tôles!B:O,5,FALSE)+ (Tableau1[[#This Row],[Dimention X (mm)]]+Tableau1[[#This Row],[Dimention Y (mm)]]) * 0.001)*Taux_horaire/100),Tableau1[[#This Row],[VCOGS\ntôle]] = \"\"),0,(5/Tableau1[[#This Row],[Série \néconomique ]]+Tableau1[[#This Row],[Nb trous]]*0.08*VLOOKUP(Tableau1[[#This Row],[Format\ntôle]],Tôles!B:O,5,FALSE)+ (Tableau1[[#This Row],[Dimention X (mm)]]+Tableau1[[#This Row],[Dimention Y (mm)]]) * 0.001)*Taux_horaire/100)","v":0},{"$f":"IF(OR(ISERROR((10/Tableau1[[#This Row],[Série \néconomique ]]+Tableau1[[#This Row],[Nb trous]]*0.007 + (Tableau1[[#This Row],[Dimention X (mm)]]+Tableau1[[#This Row],[Dimention Y (mm)]]) * 0.0005)*Taux_horaire/100),Tableau1[[#This Row],[VCOGS\ntôle]]= \"\"),0,(10/Tableau1[[#This Row],[Série \néconomique ]]+Tableau1[[#This Row],[Nb trous]]*0.007 + (Tableau1[[#This Row],[Dimention X (mm)]]+Tableau1[[#This Row],[Dimention Y (mm)]]) * 0.0005)*Taux_horaire/100)","v":0}]
["IMMATRICULATION",null,null,null,null,null,null,{"$f":"SUBSTITUTE(TRIM(CONCATENATE(Tableau1[[#This Row],[Niveau 0]],\" \",Tableau1[[#This Row],[Niveau 1]],\" \",Tableau1[[#This Row],[Niveau 2]],\" \",Tableau1[[#This Row],[Niveau 3]],\" \",Tableau1[[#This Row],[Niveau 4]],\" \",Tableau1[[#This Row],[Niveau 5]])),\" \",\".\")","v":""},{"$f":"IFERROR(IF(COUNTBLANK(Tableau1[[#This Row],[Niveau 0]:[Niveau 5]])=5,\"0\",LEFT(Tableau1[[#This Row],[Niveau]],(LEN(Tableau1[[#This Row],[Niveau]])-LEN(OFFSET(Tableau1[[#This Row],[Niveau 5]],0,(-COUNTBLANK(Tableau1[[#This Row],[Niveau 0]:[Niveau 5]]))))-1))),\"\")","v":""},null,null,null,null,{"$f":"IF(Tableau1[[#This Row],[Catégorie pièce]]=\" Opérations\",VLOOKUP(Tableau1[[#This Row],[Article produit/\nPoste de charge]],'PDC+emplacement'!A:C,2,FALSE),IF(Tableau1[[#This Row],[Catégorie pièce]]=\" Nouveau\",\"***RENSEIGNER NOM***\",IFERROR(VLOOKUP(CONCATENATE(Tableau1[[#This Row],[Article produit/\nPoste de charge]]),[1]ARTRDCL!$A$1:$U$25000,2,FALSE),\"\")))","v":""},null,null,null,null,null,{"$f":"IF(Tableau1[[#This Row],[Type plan]]=\"SP\",\"SP\",IF(AND(Tableau1[[#This Row],[Catégorie pièce]]=\" Nouveau\",Tableau1[[#This Row],[Type de pièce]]<>\" Panoplie\"),MID(Tableau1[[#This Row],[Article produit/\nPoste de charge]],2,15),IF(AND(Tableau1[[#This Row],[Catégorie pièce]]=\" Nouveau\",Tableau1[[#This Row],[Type de pièce]]=\" Panoplie\"),Tableau1[[#This Row],[Article produit/\nPoste de charge]],\"\")))","v":""},null,null,{"$f":"ROUNDUP((Tableau1[[#This Row],[Qté / an]]/52)*2,0)","v":{"$error":"#VALUE!"}},null,null,{"$f":"IF(AND(Tableau1[[#This Row],[Catégorie pièce]]=\" Opérations\",Tableau1[[#This Row],[Type de pièce]]=\" Temps\"),Taux_horaire/100,IF(AND(Tableau1[[#This Row],[Catégorie pièce]]=\" Nouveau\",Tableau1[[#This Row],[Type de pièce]]=\" Fabriquée\"),BOM!$AO96,IF(OR(AND(Tableau1[[#This Row],[Catégorie pièce]]=\" Nouveau\",Tableau1[[#This Row],[Type de pièce]]=\" Assemblage\"),BOM!$Y96=\" Produit fini\",Tableau1[[#This Row],[Type de pièce]]=\" Opé pièce primaire\",Tableau1[[#This Row],[Type de pièce]]=\" Pièce/Opé Panoplie\"),\"/\",IF(Tableau1[[#This Row],[Catégorie pièce]]=\" Existant\",VLOOKUP(CONCATENATE(Tableau1[[#This Row],[Article produit/\nPoste de charge]]),[1]ARTRDCL!$A$1:$U$65536,15,FALSE),\"\"))))","v":""},{"$f":"IF(OR(Tableau1[[#This Row],[Catégorie pièce]]=\" Opérations\",Tableau1[[#This Row],[Catégorie pièce]]=\" Matière 1ère\",ISBLANK(Tableau1[[#This Row],[Catégorie pièce]])),\"/\",SUMPRODUCT($AY$6:$BB$6,Tableau1[[#This Row],[Modèle A]:[Modèle D]]))","v":"/"},{"$f":"IFERROR(ROUNDDOWN(Tableau1[[#This Row],[surface\ntôle (m²)]]/Tableau1[[#This Row],[Surface\npièce (m²)]],0),0)","v":0},{"$f":"IF(AND(Tableau1[[#This Row],[Catégorie pièce]]=\" Nouveau\",Tableau1[[#This Row],[Type de pièce]]=\" Fabriquée\"),ROUNDUP(Tableau1[[#This Row],[Qté / an]]*2/52,0),0)","v":0},null,null,null,null,null,null,null,null,null,null,null,{"$f":"SUM(Tableau1[[#This Row],[VCOGS\ntôle]:[VCOGS\npliage]])","v":0},{"$f":"IFERROR((VLOOKUP(Tableau1[[#This Row],[Format\ntôle]],Tableau2[],11,FALSE)/Tableau1[[#This Row],[Série \néconomique ]])*Tableau1[[#This Row],[surface\ntôle (m²)]],0)","v":0},{"$f":"IF(Tableau1[[#This Row],[Laser (O/N)]]= \"Oui\",Tableau1[[#This Row],[Coût\ndécoupe laser]],Tableau1[[#This Row],[Coût\npoinçonnage]])","v":0},{"$f":"IF(Tableau1[[#This Row],[Nb plis]]>0, (IF(Tableau1[[#This Row],[Nb plis]]<5,0.25,IF(Tableau1[[#This Row],[Nb plis]]<7,0.33,0.45))/Tableau1[[#This Row],[Série \néconomique ]] +0.004*Tableau1[[#This Row],[Nb plis]])*$N$5,0)","v":0},{"$f":"IFERROR(VLOOKUP(Tableau1[[#This Row],[Format\ntôle]],Tôles!B:P,9,FALSE),0)","v":0},{"$f":"Tableau1[[#This Row],[Dimention X (mm)]]/1000*Tableau1[[#This Row],[Dimention Y (mm)]]/1000","v":0},{"$f":"IFERROR(ROUNDUP(Tableau1[[#This Row],[Surface\npièce (m²)]]/Tableau1[[#This Row],[surface\ntôle (m²)]],4),0)","v":0},{"$f":"IF(Tableau1[[#This Row],[Forcer série Economique ]]>0,Tableau1[[#This Row],[Forcer série Economique ]],Tableau1[[#This Row],[Série Economique proposée]])","v":0},{"$f":"IF(OR(ISERROR((5/Tableau1[[#This Row],[Série \néconomique ]]+Tableau1[[#This Row],[Nb trous]]*0.08*VLOOKUP(Tableau1[[#This Row],[Format\ntôle]],Tôles!B:O,5,FALSE)+ (Tableau1[[#This Row],[Dimention X (mm)]]+Tableau1[[#This Row],[Dimention Y (mm)]]) * 0.001)*Taux_horaire/100),Tableau1[[#This Row],[VCOGS\ntôle]] = \"\"),0,(5/Tableau1[[#This Row],[Série \néconomique ]]+Tableau1[[#This Row],[Nb trous]]*0.08*VLOOKUP(Tableau1[[#This Row],[Format\ntôle]],Tôles!B:O,5,FALSE)+ (Tableau1[[#This Row],[Dimention X (mm)]]+Tableau1[[#This Row],[Dimention Y (mm)]]) * 0.001)*Taux_horaire/100)","v":0},{"$f":"IF(OR(ISERROR((10/Tableau1[[#This Row],[Série \néconomique ]]+Tableau1[[#This Row],[Nb trous]]*0.007 + (Tableau1[[#This Row],[Dimention X (mm)]]+Tableau1[[#This Row],[Dimention Y (mm)]]) * 0.0005)*Taux_horaire/100),Tableau1[[#This Row],[VCOGS\ntôle]]= \"\"),0,(10/Tableau1[[#This Row],[Série \néconomique ]]+Tableau1[[#This Row],[Nb trous]]*0.007 + (Tableau1[[#This Row],[Dimention X (mm)]]+Tableau1[[#This Row],[Dimention Y (mm)]]) * 0.0005)*Taux_horaire/100)","v":0}]
[null,null,null,null,null,null,null,{"$f":"SUBSTITUTE(TRIM(CONCATENATE(Tableau1[[#This Row],[Niveau 0]],\" \",Tableau1[[#This Row],[Niveau 1]],\" \",Tableau1[[#This Row],[Niveau 2]],\" \",Tableau1[[#This Row],[Niveau 3]],\" \",Tableau1[[#This Row],[Niveau 4]],\" \",Tableau1[[#This Row],[Niveau 5]])),\" \",\".\")","v":""},{"$f":"IFERROR(IF(COUNTBLANK(Tableau1[[#This Row],[Niveau 0]:[Niveau 5]])=5,\"0\",LEFT(Tableau1[[#This Row],[Niveau]],(LEN(Tableau1[[#This Row],[Niveau]])-LEN(OFFSET(Tableau1[[#This Row],[Niveau 5]],0,(-COUNTBLANK(Tableau1[[#This Row],[Niveau 0]:[Niveau 5]]))))-1))),\"\")","v":""},null,null,null,null,{"$f":"IF(Tableau1[[#This Row],[Catégorie pièce]]=\" Opérations\",VLOOKUP(Tableau1[[#This Row],[Article produit/\nPoste de charge]],'PDC+emplacement'!A:C,2,FALSE),IF(Tableau1[[#This Row],[Catégorie pièce]]=\" Nouveau\",\"***RENSEIGNER NOM***\",IFERROR(VLOOKUP(CONCATENATE(Tableau1[[#This Row],[Article produit/\nPoste de charge]]),[1]ARTRDCL!$A$1:$U$25000,2,FALSE),\"\")))","v":""},null,null,null,null,null,{"$f":"IF(Tableau1[[#This Row],[Type plan]]=\"SP\",\"SP\",IF(AND(Tableau1[[#This Row],[Catégorie pièce]]=\" Nouveau\",Tableau1[[#This Row],[Type de pièce]]<>\" Panoplie\"),MID(Tableau1[[#This Row],[Article produit/\nPoste de charge]],2,15),IF(AND(Tableau1[[#This Row],[Catégorie pièce]]=\" Nouveau\",Tableau1[[#This Row],[Type de pièce]]=\" Panoplie\"),Tableau1[[#This Row],[Article produit/\nPoste de charge]],\"\")))","v":""},null,null,{"$f":"ROUNDUP((Tableau1[[#This Row],[Qté / an]]/52)*2,0)","v":{"$error":"#VALUE!"}},null,null,{"$f":"IF(AND(Tableau1[[#This Row],[Catégorie pièce]]=\" Opérations\",Tableau1[[#This Row],[Type de pièce]]=\" Temps\"),Taux_horaire/100,IF(AND(Tableau1[[#This Row],[Catégorie pièce]]=\" Nouveau\",Tableau1[[#This Row],[Type de pièce]]=\" Fabriquée\"),BOM!$AO97,IF(OR(AND(Tableau1[[#This Row],[Catégorie pièce]]=\" Nouveau\",Tableau1[[#This Row],[Type de pièce]]=\" Assemblage\"),BOM!$Y97=\" Produit fini\",Tableau1[[#This Row],[Type de pièce]]=\" Opé pièce primaire\",Tableau1[[#This Row],[Type de pièce]]=\" Pièce/Opé Panoplie\"),\"/\",IF(Tableau1[[#This Row],[Catégorie pièce]]=\" Existant\",VLOOKUP(CONCATENATE(Tableau1[[#This Row],[Article produit/\nPoste de charge]]),[1]ARTRDCL!$A$1:$U$65536,15,FALSE),\"\"))))","v":""},{"$f":"IF(OR(Tableau1[[#This Row],[Catégorie pièce]]=\" Opérations\",Tableau1[[#This Row],[Catégorie pièce]]=\" Matière 1ère\",ISBLANK(Tableau1[[#This Row],[Catégorie pièce]])),\"/\",SUMPRODUCT($AY$6:$BB$6,Tableau1[[#This Row],[Modèle A]:[Modèle D]]))","v":"/"},{"$f":"IFERROR(ROUNDDOWN(Tableau1[[#This Row],[surface\ntôle (m²)]]/Tableau1[[#This Row],[Surface\npièce (m²)]],0),0)","v":0},{"$f":"IF(AND(Tableau1[[#This Row],[Catégorie pièce]]=\" Nouveau\",Tableau1[[#This Row],[Type de pièce]]=\" Fabriquée\"),ROUNDUP(Tableau1[[#This Row],[Qté / an]]*2/52,0),0)","v":0},null,null,null,null,null,null,null,null,null,null,null,{"$f":"SUM(Tableau1[[#This Row],[VCOGS\ntôle]:[VCOGS\npliage]])","v":0},{"$f":"IFERROR((VLOOKUP(Tableau1[[#This Row],[Format\ntôle]],Tableau2[],11,FALSE)/Tableau1[[#This Row],[Série \néconomique ]])*Tableau1[[#This Row],[surface\ntôle (m²)]],0)","v":0},{"$f":"IF(Tableau1[[#This Row],[Laser (O/N)]]= \"Oui\",Tableau1[[#This Row],[Coût\ndécoupe laser]],Tableau1[[#This Row],[Coût\npoinçonnage]])","v":0},{"$f":"IF(Tableau1[[#This Row],[Nb plis]]>0, (IF(Tableau1[[#This Row],[Nb plis]]<5,0.25,IF(Tableau1[[#This Row],[Nb plis]]<7,0.33,0.45))/Tableau1[[#This Row],[Série \néconomique ]] +0.004*Tableau1[[#This Row],[Nb plis]])*$N$5,0)","v":0},{"$f":"IFERROR(VLOOKUP(Tableau1[[#This Row],[Format\ntôle]],Tôles!B:P,9,FALSE),0)","v":0},{"$f":"Tableau1[[#This Row],[Dimention X (mm)]]/1000*Tableau1[[#This Row],[Dimention Y (mm)]]/1000","v":0},{"$f":"IFERROR(ROUNDUP(Tableau1[[#This Row],[Surface\npièce (m²)]]/Tableau1[[#This Row],[surface\ntôle (m²)]],4),0)","v":0},{"$f":"IF(Tableau1[[#This Row],[Forcer série Economique ]]>0,Tableau1[[#This Row],[Forcer série Economique ]],Tableau1[[#This Row],[Série Economique proposée]])","v":0},{"$f":"IF(OR(ISERROR((5/Tableau1[[#This Row],[Série \néconomique ]]+Tableau1[[#This Row],[Nb trous]]*0.08*VLOOKUP(Tableau1[[#This Row],[Format\ntôle]],Tôles!B:O,5,FALSE)+ (Tableau1[[#This Row],[Dimention X (mm)]]+Tableau1[[#This Row],[Dimention Y (mm)]]) * 0.001)*Taux_horaire/100),Tableau1[[#This Row],[VCOGS\ntôle]] = \"\"),0,(5/Tableau1[[#This Row],[Série \néconomique ]]+Tableau1[[#This Row],[Nb trous]]*0.08*VLOOKUP(Tableau1[[#This Row],[Format\ntôle]],Tôles!B:O,5,FALSE)+ (Tableau1[[#This Row],[Dimention X (mm)]]+Tableau1[[#This Row],[Dimention Y (mm)]]) * 0.001)*Taux_horaire/100)","v":0},{"$f":"IF(OR(ISERROR((10/Tableau1[[#This Row],[Série \néconomique ]]+Tableau1[[#This Row],[Nb trous]]*0.007 + (Tableau1[[#This Row],[Dimention X (mm)]]+Tableau1[[#This Row],[Dimention Y (mm)]]) * 0.0005)*Taux_horaire/100),Tableau1[[#This Row],[VCOGS\ntôle]]= \"\"),0,(10/Tableau1[[#This Row],[Série \néconomique ]]+Tableau1[[#This Row],[Nb trous]]*0.007 + (Tableau1[[#This Row],[Dimention X (mm)]]+Tableau1[[#This Row],[Dimention Y (mm)]]) * 0.0005)*Taux_horaire/100)","v":0}]
[null,null,null,null,null,null,null,{"$f":"SUBSTITUTE(TRIM(CONCATENATE(Tableau1[[#This Row],[Niveau 0]],\" \",Tableau1[[#This Row],[Niveau 1]],\" \",Tableau1[[#This Row],[Niveau 2]],\" \",Tableau1[[#This Row],[Niveau 3]],\" \",Tableau1[[#This Row],[Niveau 4]],\" \",Tableau1[[#This Row],[Niveau 5]])),\" \",\".\")","v":""},{"$f":"IFERROR(IF(COUNTBLANK(Tableau1[[#This Row],[Niveau 0]:[Niveau 5]])=5,\"0\",LEFT(Tableau1[[#This Row],[Niveau]],(LEN(Tableau1[[#This Row],[Niveau]])-LEN(OFFSET(Tableau1[[#This Row],[Niveau 5]],0,(-COUNTBLANK(Tableau1[[#This Row],[Niveau 0]:[Niveau 5]]))))-1))),\"\")","v":""},null,null,null,null,{"$f":"IF(Tableau1[[#This Row],[Catégorie pièce]]=\" Opérations\",VLOOKUP(Tableau1[[#This Row],[Article produit/\nPoste de charge]],'PDC+emplacement'!A:C,2,FALSE),IF(Tableau1[[#This Row],[Catégorie pièce]]=\" Nouveau\",\"***RENSEIGNER NOM***\",IFERROR(VLOOKUP(CONCATENATE(Tableau1[[#This Row],[Article produit/\nPoste de charge]]),[1]ARTRDCL!$A$1:$U$25000,2,FALSE),\"\")))","v":""},null,null,null,null,null,{"$f":"IF(Tableau1[[#This Row],[Type plan]]=\"SP\",\"SP\",IF(AND(Tableau1[[#This Row],[Catégorie pièce]]=\" Nouveau\",Tableau1[[#This Row],[Type de pièce]]<>\" Panoplie\"),MID(Tableau1[[#This Row],[Article produit/\nPoste de charge]],2,15),IF(AND(Tableau1[[#This Row],[Catégorie pièce]]=\" Nouveau\",Tableau1[[#This Row],[Type de pièce]]=\" Panoplie\"),Tableau1[[#This Row],[Article produit/\nPoste de charge]],\"\")))","v":""},null,null,{"$f":"ROUNDUP((Tableau1[[#This Row],[Qté / an]]/52)*2,0)","v":{"$error":"#VALUE!"}},null,null,{"$f":"IF(AND(Tableau1[[#This Row],[Catégorie pièce]]=\" Opérations\",Tableau1[[#This Row],[Type de pièce]]=\" Temps\"),Taux_horaire/100,IF(AND(Tableau1[[#This Row],[Catégorie pièce]]=\" Nouveau\",Tableau1[[#This Row],[Type de pièce]]=\" Fabriquée\"),BOM!$AO98,IF(OR(AND(Tableau1[[#This Row],[Catégorie pièce]]=\" Nouveau\",Tableau1[[#This Row],[Type de pièce]]=\" Assemblage\"),BOM!$Y98=\" Produit fini\",Tableau1[[#This Row],[Type de pièce]]=\" Opé pièce primaire\",Tableau1[[#This Row],[Type de pièce]]=\" Pièce/Opé Panoplie\"),\"/\",IF(Tableau1[[#This Row],[Catégorie pièce]]=\" Existant\",VLOOKUP(CONCATENATE(Tableau1[[#This Row],[Article produit/\nPoste de charge]]),[1]ARTRDCL!$A$1:$U$65536,15,FALSE),\"\"))))","v":""},{"$f":"IF(OR(Tableau1[[#This Row],[Catégorie pièce]]=\" Opérations\",Tableau1[[#This Row],[Catégorie pièce]]=\" Matière 1ère\",ISBLANK(Tableau1[[#This Row],[Catégorie pièce]])),\"/\",SUMPRODUCT($AY$6:$BB$6,Tableau1[[#This Row],[Modèle A]:[Modèle D]]))","v":"/"},{"$f":"IFERROR(ROUNDDOWN(Tableau1[[#This Row],[surface\ntôle (m²)]]/Tableau1[[#This Row],[Surface\npièce (m²)]],0),0)","v":0},{"$f":"IF(AND(Tableau1[[#This Row],[Catégorie pièce]]=\" Nouveau\",Tableau1[[#This Row],[Type de pièce]]=\" Fabriquée\"),ROUNDUP(Tableau1[[#This Row],[Qté / an]]*2/52,0),0)","v":0},null,null,null,null,null,null,null,null,null,null,null,{"$f":"SUM(Tableau1[[#This Row],[VCOGS\ntôle]:[VCOGS\npliage]])","v":0},{"$f":"IFERROR((VLOOKUP(Tableau1[[#This Row],[Format\ntôle]],Tableau2[],11,FALSE)/Tableau1[[#This Row],[Série \néconomique ]])*Tableau1[[#This Row],[surface\ntôle (m²)]],0)","v":0},{"$f":"IF(Tableau1[[#This Row],[Laser (O/N)]]= \"Oui\",Tableau1[[#This Row],[Coût\ndécoupe laser]],Tableau1[[#This Row],[Coût\npoinçonnage]])","v":0},{"$f":"IF(Tableau1[[#This Row],[Nb plis]]>0, (IF(Tableau1[[#This Row],[Nb plis]]<5,0.25,IF(Tableau1[[#This Row],[Nb plis]]<7,0.33,0.45))/Tableau1[[#This Row],[Série \néconomique ]] +0.004*Tableau1[[#This Row],[Nb plis]])*$N$5,0)","v":0},{"$f":"IFERROR(VLOOKUP(Tableau1[[#This Row],[Format\ntôle]],Tôles!B:P,9,FALSE),0)","v":0},{"$f":"Tableau1[[#This Row],[Dimention X (mm)]]/1000*Tableau1[[#This Row],[Dimention Y (mm)]]/1000","v":0},{"$f":"IFERROR(ROUNDUP(Tableau1[[#This Row],[Surface\npièce (m²)]]/Tableau1[[#This Row],[surface\ntôle (m²)]],4),0)","v":0},{"$f":"IF(Tableau1[[#This Row],[Forcer série Economique ]]>0,Tableau1[[#This Row],[Forcer série Economique ]],Tableau1[[#This Row],[Série Economique proposée]])","v":0},{"$f":"IF(OR(ISERROR((5/Tableau1[[#This Row],[Série \néconomique ]]+Tableau1[[#This Row],[Nb trous]]*0.08*VLOOKUP(Tableau1[[#This Row],[Format\ntôle]],Tôles!B:O,5,FALSE)+ (Tableau1[[#This Row],[Dimention X (mm)]]+Tableau1[[#This Row],[Dimention Y (mm)]]) * 0.001)*Taux_horaire/100),Tableau1[[#This Row],[VCOGS\ntôle]] = \"\"),0,(5/Tableau1[[#This Row],[Série \néconomique ]]+Tableau1[[#This Row],[Nb trous]]*0.08*VLOOKUP(Tableau1[[#This Row],[Format\ntôle]],Tôles!B:O,5,FALSE)+ (Tableau1[[#This Row],[Dimention X (mm)]]+Tableau1[[#This Row],[Dimention Y (mm)]]) * 0.001)*Taux_horaire/100)","v":0},{"$f":"IF(OR(ISERROR((10/Tableau1[[#This Row],[Série \néconomique ]]+Tableau1[[#This Row],[Nb trous]]*0.007 + (Tableau1[[#This Row],[Dimention X (mm)]]+Tableau1[[#This Row],[Dimention Y (mm)]]) * 0.0005)*Taux_horaire/100),Tableau1[[#This Row],[VCOGS\ntôle]]= \"\"),0,(10/Tableau1[[#This Row],[Série \néconomique ]]+Tableau1[[#This Row],[Nb trous]]*0.007 + (Tableau1[[#This Row],[Dimention X (mm)]]+Tableau1[[#This Row],[Dimention Y (mm)]]) * 0.0005)*Taux_horaire/100)","v":0}]
[null,null,null,null,null,null,null,{"$f":"SUBSTITUTE(TRIM(CONCATENATE(Tableau1[[#This Row],[Niveau 0]],\" \",Tableau1[[#This Row],[Niveau 1]],\" \",Tableau1[[#This Row],[Niveau 2]],\" \",Tableau1[[#This Row],[Niveau 3]],\" \",Tableau1[[#This Row],[Niveau 4]],\" \",Tableau1[[#This Row],[Niveau 5]])),\" \",\".\")","v":""},{"$f":"IFERROR(IF(COUNTBLANK(Tableau1[[#This Row],[Niveau 0]:[Niveau 5]])=5,\"0\",LEFT(Tableau1[[#This Row],[Niveau]],(LEN(Tableau1[[#This Row],[Niveau]])-LEN(OFFSET(Tableau1[[#This Row],[Niveau 5]],0,(-COUNTBLANK(Tableau1[[#This Row],[Niveau 0]:[Niveau 5]]))))-1))),\"\")","v":""},null,null,null,null,{"$f":"IF(Tableau1[[#This Row],[Catégorie pièce]]=\" Opérations\",VLOOKUP(Tableau1[[#This Row],[Article produit/\nPoste de charge]],'PDC+emplacement'!A:C,2,FALSE),IF(Tableau1[[#This Row],[Catégorie pièce]]=\" Nouveau\",\"***RENSEIGNER NOM***\",IFERROR(VLOOKUP(CONCATENATE(Tableau1[[#This Row],[Article produit/\nPoste de charge]]),[1]ARTRDCL!$A$1:$U$25000,2,FALSE),\"\")))","v":""},null,null,null,null,null,{"$f":"IF(Tableau1[[#This Row],[Type plan]]=\"SP\",\"SP\",IF(AND(Tableau1[[#This Row],[Catégorie pièce]]=\" Nouveau\",Tableau1[[#This Row],[Type de pièce]]<>\" Panoplie\"),MID(Tableau1[[#This Row],[Article produit/\nPoste de charge]],2,15),IF(AND(Tableau1[[#This Row],[Catégorie pièce]]=\" Nouveau\",Tableau1[[#This Row],[Type de pièce]]=\" Panoplie\"),Tableau1[[#This Row],[Article produit/\nPoste de charge]],\"\")))","v":""},null,null,{"$f":"ROUNDUP((Tableau1[[#This Row],[Qté / an]]/52)*2,0)","v":{"$error":"#VALUE!"}},null,null,{"$f":"IF(AND(Tableau1[[#This Row],[Catégorie pièce]]=\" Opérations\",Tableau1[[#This Row],[Type de pièce]]=\" Temps\"),Taux_horaire/100,IF(AND(Tableau1[[#This Row],[Catégorie pièce]]=\" Nouveau\",Tableau1[[#This Row],[Type de pièce]]=\" Fabriquée\"),BOM!$AO99,IF(OR(AND(Tableau1[[#This Row],[Catégorie pièce]]=\" Nouveau\",Tableau1[[#This Row],[Type de pièce]]=\" Assemblage\"),BOM!$Y99=\" Produit fini\",Tableau1[[#This Row],[Type de pièce]]=\" Opé pièce primaire\",Tableau1[[#This Row],[Type de pièce]]=\" Pièce/Opé Panoplie\"),\"/\",IF(Tableau1[[#This Row],[Catégorie pièce]]=\" Existant\",VLOOKUP(CONCATENATE(Tableau1[[#This Row],[Article produit/\nPoste de charge]]),[1]ARTRDCL!$A$1:$U$65536,15,FALSE),\"\"))))","v":""},{"$f":"IF(OR(Tableau1[[#This Row],[Catégorie pièce]]=\" Opérations\",Tableau1[[#This Row],[Catégorie pièce]]=\" Matière 1ère\",ISBLANK(Tableau1[[#This Row],[Catégorie pièce]])),\"/\",SUMPRODUCT($AY$6:$BB$6,Tableau1[[#This Row],[Modèle A]:[Modèle D]]))","v":"/"},{"$f":"IFERROR(ROUNDDOWN(Tableau1[[#This Row],[surface\ntôle (m²)]]/Tableau1[[#This Row],[Surface\npièce (m²)]],0),0)","v":0},{"$f":"IF(AND(Tableau1[[#This Row],[Catégorie pièce]]=\" Nouveau\",Tableau1[[#This Row],[Type de pièce]]=\" Fabriquée\"),ROUNDUP(Tableau1[[#This Row],[Qté / an]]*2/52,0),0)","v":0},null,null,null,null,null,null,null,null,null,null,null,{"$f":"SUM(Tableau1[[#This Row],[VCOGS\ntôle]:[VCOGS\npliage]])","v":0},{"$f":"IFERROR((VLOOKUP(Tableau1[[#This Row],[Format\ntôle]],Tableau2[],11,FALSE)/Tableau1[[#This Row],[Série \néconomique ]])*Tableau1[[#This Row],[surface\ntôle (m²)]],0)","v":0},{"$f":"IF(Tableau1[[#This Row],[Laser (O/N)]]= \"Oui\",Tableau1[[#This Row],[Coût\ndécoupe laser]],Tableau1[[#This Row],[Coût\npoinçonnage]])","v":0},{"$f":"IF(Tableau1[[#This Row],[Nb plis]]>0, (IF(Tableau1[[#This Row],[Nb plis]]<5,0.25,IF(Tableau1[[#This Row],[Nb plis]]<7,0.33,0.45))/Tableau1[[#This Row],[Série \néconomique ]] +0.004*Tableau1[[#This Row],[Nb plis]])*$N$5,0)","v":0},{"$f":"IFERROR(VLOOKUP(Tableau1[[#This Row],[Format\ntôle]],Tôles!B:P,9,FALSE),0)","v":0},{"$f":"Tableau1[[#This Row],[Dimention X (mm)]]/1000*Tableau1[[#This Row],[Dimention Y (mm)]]/1000","v":0},{"$f":"IFERROR(ROUNDUP(Tableau1[[#This Row],[Surface\npièce (m²)]]/Tableau1[[#This Row],[surface\ntôle (m²)]],4),0)","v":0},{"$f":"IF(Tableau1[[#This Row],[Forcer série Economique ]]>0,Tableau1[[#This Row],[Forcer série Economique ]],Tableau1[[#This Row],[Série Economique proposée]])","v":0},{"$f":"IF(OR(ISERROR((5/Tableau1[[#This Row],[Série \néconomique ]]+Tableau1[[#This Row],[Nb trous]]*0.08*VLOOKUP(Tableau1[[#This Row],[Format\ntôle]],Tôles!B:O,5,FALSE)+ (Tableau1[[#This Row],[Dimention X (mm)]]+Tableau1[[#This Row],[Dimention Y (mm)]]) * 0.001)*Taux_horaire/100),Tableau1[[#This Row],[VCOGS\ntôle]] = \"\"),0,(5/Tableau1[[#This Row],[Série \néconomique ]]+Tableau1[[#This Row],[Nb trous]]*0.08*VLOOKUP(Tableau1[[#This Row],[Format\ntôle]],Tôles!B:O,5,FALSE)+ (Tableau1[[#This Row],[Dimention X (mm)]]+Tableau1[[#This Row],[Dimention Y (mm)]]) * 0.001)*Taux_horaire/100)","v":0},{"$f":"IF(OR(ISERROR((10/Tableau1[[#This Row],[Série \néconomique ]]+Tableau1[[#This Row],[Nb trous]]*0.007 + (Tableau1[[#This Row],[Dimention X (mm)]]+Tableau1[[#This Row],[Dimention Y (mm)]]) * 0.0005)*Taux_horaire/100),Tableau1[[#This Row],[VCOGS\ntôle]]= \"\"),0,(10/Tableau1[[#This Row],[Série \néconomique ]]+Tableau1[[#This Row],[Nb trous]]*0.007 + (Tableau1[[#This Row],[Dimention X (mm)]]+Tableau1[[#This Row],[Dimention Y (mm)]]) * 0.0005)*Taux_horaire/100)","v":0}]
[null,null,null,null,null,null,null,{"$f":"SUBSTITUTE(TRIM(CONCATENATE(Tableau1[[#This Row],[Niveau 0]],\" \",Tableau1[[#This Row],[Niveau 1]],\" \",Tableau1[[#This Row],[Niveau 2]],\" \",Tableau1[[#This Row],[Niveau 3]],\" \",Tableau1[[#This Row],[Niveau 4]],\" \",Tableau1[[#This Row],[Niveau 5]])),\" \",\".\")","v":""},{"$f":"IFERROR(IF(COUNTBLANK(Tableau1[[#This Row],[Niveau 0]:[Niveau 5]])=5,\"0\",LEFT(Tableau1[[#This Row],[Niveau]],(LEN(Tableau1[[#This Row],[Niveau]])-LEN(OFFSET(Tableau1[[#This Row],[Niveau 5]],0,(-COUNTBLANK(Tableau1[[#This Row],[Niveau 0]:[Niveau 5]]))))-1))),\"\")","v":""},null,null,null,null,{"$f":"IF(Tableau1[[#This Row],[Catégorie pièce]]=\" Opérations\",VLOOKUP(Tableau1[[#This Row],[Article produit/\nPoste de charge]],'PDC+emplacement'!A:C,2,FALSE),IF(Tableau1[[#This Row],[Catégorie pièce]]=\" Nouveau\",\"***RENSEIGNER NOM***\",IFERROR(VLOOKUP(CONCATENATE(Tableau1[[#This Row],[Article produit/\nPoste de charge]]),[1]ARTRDCL!$A$1:$U$25000,2,FALSE),\"\")))","v":""},null,null,null,null,null,{"$f":"IF(Tableau1[[#This Row],[Type plan]]=\"SP\",\"SP\",IF(AND(Tableau1[[#This Row],[Catégorie pièce]]=\" Nouveau\",Tableau1[[#This Row],[Type de pièce]]<>\" Panoplie\"),MID(Tableau1[[#This Row],[Article produit/\nPoste de charge]],2,15),IF(AND(Tableau1[[#This Row],[Catégorie pièce]]=\" Nouveau\",Tableau1[[#This Row],[Type de pièce]]=\" Panoplie\"),Tableau1[[#This Row],[Article produit/\nPoste de charge]],\"\")))","v":""},null,null,{"$f":"ROUNDUP((Tableau1[[#This Row],[Qté / an]]/52)*2,0)","v":{"$error":"#VALUE!"}},null,null,{"$f":"IF(AND(Tableau1[[#This Row],[Catégorie pièce]]=\" Opérations\",Tableau1[[#This Row],[Type de pièce]]=\" Temps\"),Taux_horaire/100,IF(AND(Tableau1[[#This Row],[Catégorie pièce]]=\" Nouveau\",Tableau1[[#This Row],[Type de pièce]]=\" Fabriquée\"),BOM!$AO100,IF(OR(AND(Tableau1[[#This Row],[Catégorie pièce]]=\" Nouveau\",Tableau1[[#This Row],[Type de pièce]]=\" Assemblage\"),BOM!$Y100=\" Produit fini\",Tableau1[[#This Row],[Type de pièce]]=\" Opé pièce primaire\",Tableau1[[#This Row],[Type de pièce]]=\" Pièce/Opé Panoplie\"),\"/\",IF(Tableau1[[#This Row],[Catégorie pièce]]=\" Existant\",VLOOKUP(CONCATENATE(Tableau1[[#This Row],[Article produit/\nPoste de charge]]),[1]ARTRDCL!$A$1:$U$65536,15,FALSE),\"\"))))","v":""},{"$f":"IF(OR(Tableau1[[#This Row],[Catégorie pièce]]=\" Opérations\",Tableau1[[#This Row],[Catégorie pièce]]=\" Matière 1ère\",ISBLANK(Tableau1[[#This Row],[Catégorie pièce]])),\"/\",SUMPRODUCT($AY$6:$BB$6,Tableau1[[#This Row],[Modèle A]:[Modèle D]]))","v":"/"},{"$f":"IFERROR(ROUNDDOWN(Tableau1[[#This Row],[surface\ntôle (m²)]]/Tableau1[[#This Row],[Surface\npièce (m²)]],0),0)","v":0},{"$f":"IF(AND(Tableau1[[#This Row],[Catégorie pièce]]=\" Nouveau\",Tableau1[[#This Row],[Type de pièce]]=\" Fabriquée\"),ROUNDUP(Tableau1[[#This Row],[Qté / an]]*2/52,0),0)","v":0},null,null,null,null,null,null,null,null,null,null,null,{"$f":"SUM(Tableau1[[#This Row],[VCOGS\ntôle]:[VCOGS\npliage]])","v":0},{"$f":"IFERROR((VLOOKUP(Tableau1[[#This Row],[Format\ntôle]],Tableau2[],11,FALSE)/Tableau1[[#This Row],[Série \néconomique ]])*Tableau1[[#This Row],[surface\ntôle (m²)]],0)","v":0},{"$f":"IF(Tableau1[[#This Row],[Laser (O/N)]]= \"Oui\",Tableau1[[#This Row],[Coût\ndécoupe laser]],Tableau1[[#This Row],[Coût\npoinçonnage]])","v":0},{"$f":"IF(Tableau1[[#This Row],[Nb plis]]>0, (IF(Tableau1[[#This Row],[Nb plis]]<5,0.25,IF(Tableau1[[#This Row],[Nb plis]]<7,0.33,0.45))/Tableau1[[#This Row],[Série \néconomique ]] +0.004*Tableau1[[#This Row],[Nb plis]])*$N$5,0)","v":0},{"$f":"IFERROR(VLOOKUP(Tableau1[[#This Row],[Format\ntôle]],Tôles!B:P,9,FALSE),0)","v":0},{"$f":"Tableau1[[#This Row],[Dimention X (mm)]]/1000*Tableau1[[#This Row],[Dimention Y (mm)]]/1000","v":0},{"$f":"IFERROR(ROUNDUP(Tableau1[[#This Row],[Surface\npièce (m²)]]/Tableau1[[#This Row],[surface\ntôle (m²)]],4),0)","v":0},{"$f":"IF(Tableau1[[#This Row],[Forcer série Economique ]]>0,Tableau1[[#This Row],[Forcer série Economique ]],Tableau1[[#This Row],[Série Economique proposée]])","v":0},{"$f":"IF(OR(ISERROR((5/Tableau1[[#This Row],[Série \néconomique ]]+Tableau1[[#This Row],[Nb trous]]*0.08*VLOOKUP(Tableau1[[#This Row],[Format\ntôle]],Tôles!B:O,5,FALSE)+ (Tableau1[[#This Row],[Dimention X (mm)]]+Tableau1[[#This Row],[Dimention Y (mm)]]) * 0.001)*Taux_horaire/100),Tableau1[[#This Row],[VCOGS\ntôle]] = \"\"),0,(5/Tableau1[[#This Row],[Série \néconomique ]]+Tableau1[[#This Row],[Nb trous]]*0.08*VLOOKUP(Tableau1[[#This Row],[Format\ntôle]],Tôles!B:O,5,FALSE)+ (Tableau1[[#This Row],[Dimention X (mm)]]+Tableau1[[#This Row],[Dimention Y (mm)]]) * 0.001)*Taux_horaire/100)","v":0},{"$f":"IF(OR(ISERROR((10/Tableau1[[#This Row],[Série \néconomique ]]+Tableau1[[#This Row],[Nb trous]]*0.007 + (Tableau1[[#This Row],[Dimention X (mm)]]+Tableau1[[#This Row],[Dimention Y (mm)]]) * 0.0005)*Taux_horaire/100),Tableau1[[#This Row],[VCOGS\ntôle]]= \"\"),0,(10/Tableau1[[#This Row],[Série \néconomique ]]+Tableau1[[#This Row],[Nb trous]]*0.007 + (Tableau1[[#This Row],[Dimention X (mm)]]+Tableau1[[#This Row],[Dimention Y (mm)]]) * 0.0005)*Taux_horaire/100)","v":0}]
[null,null,null,null,null,null,null,{"$f":"SUBSTITUTE(TRIM(CONCATENATE(Tableau1[[#This Row],[Niveau 0]],\" \",Tableau1[[#This Row],[Niveau 1]],\" \",Tableau1[[#This Row],[Niveau 2]],\" \",Tableau1[[#This Row],[Niveau 3]],\" \",Tableau1[[#This Row],[Niveau 4]],\" \",Tableau1[[#This Row],[Niveau 5]])),\" \",\".\")","v":""},{"$f":"IFERROR(IF(COUNTBLANK(Tableau1[[#This Row],[Niveau 0]:[Niveau 5]])=5,\"0\",LEFT(Tableau1[[#This Row],[Niveau]],(LEN(Tableau1[[#This Row],[Niveau]])-LEN(OFFSET(Tableau1[[#This Row],[Niveau 5]],0,(-COUNTBLANK(Tableau1[[#This Row],[Niveau 0]:[Niveau 5]]))))-1))),\"\")","v":""},null,null,null,null,{"$f":"IF(Tableau1[[#This Row],[Catégorie pièce]]=\" Opérations\",VLOOKUP(Tableau1[[#This Row],[Article produit/\nPoste de charge]],'PDC+emplacement'!A:C,2,FALSE),IF(Tableau1[[#This Row],[Catégorie pièce]]=\" Nouveau\",\"***RENSEIGNER NOM***\",IFERROR(VLOOKUP(CONCATENATE(Tableau1[[#This Row],[Article produit/\nPoste de charge]]),[1]ARTRDCL!$A$1:$U$25000,2,FALSE),\"\")))","v":""},null,null,null,null,null,{"$f":"IF(Tableau1[[#This Row],[Type plan]]=\"SP\",\"SP\",IF(AND(Tableau1[[#This Row],[Catégorie pièce]]=\" Nouveau\",Tableau1[[#This Row],[Type de pièce]]<>\" Panoplie\"),MID(Tableau1[[#This Row],[Article produit/\nPoste de charge]],2,15),IF(AND(Tableau1[[#This Row],[Catégorie pièce]]=\" Nouveau\",Tableau1[[#This Row],[Type de pièce]]=\" Panoplie\"),Tableau1[[#This Row],[Article produit/\nPoste de charge]],\"\")))","v":""},null,null,{"$f":"ROUNDUP((Tableau1[[#This Row],[Qté / an]]/52)*2,0)","v":{"$error":"#VALUE!"}},null,null,{"$f":"IF(AND(Tableau1[[#This Row],[Catégorie pièce]]=\" Opérations\",Tableau1[[#This Row],[Type de pièce]]=\" Temps\"),Taux_horaire/100,IF(AND(Tableau1[[#This Row],[Catégorie pièce]]=\" Nouveau\",Tableau1[[#This Row],[Type de pièce]]=\" Fabriquée\"),BOM!$AO101,IF(OR(AND(Tableau1[[#This Row],[Catégorie pièce]]=\" Nouveau\",Tableau1[[#This Row],[Type de pièce]]=\" Assemblage\"),BOM!$Y101=\" Produit fini\",Tableau1[[#This Row],[Type de pièce]]=\" Opé pièce primaire\",Tableau1[[#This Row],[Type de pièce]]=\" Pièce/Opé Panoplie\"),\"/\",IF(Tableau1[[#This Row],[Catégorie pièce]]=\" Existant\",VLOOKUP(CONCATENATE(Tableau1[[#This Row],[Article produit/\nPoste de charge]]),[1]ARTRDCL!$A$1:$U$65536,15,FALSE),\"\"))))","v":""},{"$f":"IF(OR(Tableau1[[#This Row],[Catégorie pièce]]=\" Opérations\",Tableau1[[#This Row],[Catégorie pièce]]=\" Matière 1ère\",ISBLANK(Tableau1[[#This Row],[Catégorie pièce]])),\"/\",SUMPRODUCT($AY$6:$BB$6,Tableau1[[#This Row],[Modèle A]:[Modèle D]]))","v":"/"},{"$f":"IFERROR(ROUNDDOWN(Tableau1[[#This Row],[surface\ntôle (m²)]]/Tableau1[[#This Row],[Surface\npièce (m²)]],0),0)","v":0},{"$f":"IF(AND(Tableau1[[#This Row],[Catégorie pièce]]=\" Nouveau\",Tableau1[[#This Row],[Type de pièce]]=\" Fabriquée\"),ROUNDUP(Tableau1[[#This Row],[Qté / an]]*2/52,0),0)","v":0},null,null,null,null,null,null,null,null,null,null,null,{"$f":"SUM(Tableau1[[#This Row],[VCOGS\ntôle]:[VCOGS\npliage]])","v":0},{"$f":"IFERROR((VLOOKUP(Tableau1[[#This Row],[Format\ntôle]],Tableau2[],11,FALSE)/Tableau1[[#This Row],[Série \néconomique ]])*Tableau1[[#This Row],[surface\ntôle (m²)]],0)","v":0},{"$f":"IF(Tableau1[[#This Row],[Laser (O/N)]]= \"Oui\",Tableau1[[#This Row],[Coût\ndécoupe laser]],Tableau1[[#This Row],[Coût\npoinçonnage]])","v":0},{"$f":"IF(Tableau1[[#This Row],[Nb plis]]>0, (IF(Tableau1[[#This Row],[Nb plis]]<5,0.25,IF(Tableau1[[#This Row],[Nb plis]]<7,0.33,0.45))/Tableau1[[#This Row],[Série \néconomique ]] +0.004*Tableau1[[#This Row],[Nb plis]])*$N$5,0)","v":0},{"$f":"IFERROR(VLOOKUP(Tableau1[[#This Row],[Format\ntôle]],Tôles!B:P,9,FALSE),0)","v":0},{"$f":"Tableau1[[#This Row],[Dimention X (mm)]]/1000*Tableau1[[#This Row],[Dimention Y (mm)]]/1000","v":0},{"$f":"IFERROR(ROUNDUP(Tableau1[[#This Row],[Surface\npièce (m²)]]/Tableau1[[#This Row],[surface\ntôle (m²)]],4),0)","v":0},{"$f":"IF(Tableau1[[#This Row],[Forcer série Economique ]]>0,Tableau1[[#This Row],[Forcer série Economique ]],Tableau1[[#This Row],[Série Economique proposée]])","v":0},{"$f":"IF(OR(ISERROR((5/Tableau1[[#This Row],[Série \néconomique ]]+Tableau1[[#This Row],[Nb trous]]*0.08*VLOOKUP(Tableau1[[#This Row],[Format\ntôle]],Tôles!B:O,5,FALSE)+ (Tableau1[[#This Row],[Dimention X (mm)]]+Tableau1[[#This Row],[Dimention Y (mm)]]) * 0.001)*Taux_horaire/100),Tableau1[[#This Row],[VCOGS\ntôle]] = \"\"),0,(5/Tableau1[[#This Row],[Série \néconomique ]]+Tableau1[[#This Row],[Nb trous]]*0.08*VLOOKUP(Tableau1[[#This Row],[Format\ntôle]],Tôles!B:O,5,FALSE)+ (Tableau1[[#This Row],[Dimention X (mm)]]+Tableau1[[#This Row],[Dimention Y (mm)]]) * 0.001)*Taux_horaire/100)","v":0},{"$f":"IF(OR(ISERROR((10/Tableau1[[#This Row],[Série \néconomique ]]+Tableau1[[#This Row],[Nb trous]]*0.007 + (Tableau1[[#This Row],[Dimention X (mm)]]+Tableau1[[#This Row],[Dimention Y (mm)]]) * 0.0005)*Taux_horaire/100),Tableau1[[#This Row],[VCOGS\ntôle]]= \"\"),0,(10/Tableau1[[#This Row],[Série \néconomique ]]+Tableau1[[#This Row],[Nb trous]]*0.007 + (Tableau1[[#This Row],[Dimention X (mm)]]+Tableau1[[#This Row],[Dimention Y (mm)]]) * 0.0005)*Taux_horaire/100)","v":0}]
[null,null,null,null,null,null,null,{"$f":"SUBSTITUTE(TRIM(CONCATENATE(Tableau1[[#This Row],[Niveau 0]],\" \",Tableau1[[#This Row],[Niveau 1]],\" \",Tableau1[[#This Row],[Niveau 2]],\" \",Tableau1[[#This Row],[Niveau 3]],\" \",Tableau1[[#This Row],[Niveau 4]],\" \",Tableau1[[#This Row],[Niveau 5]])),\" \",\".\")","v":""},{"$f":"IFERROR(IF(COUNTBLANK(Tableau1[[#This Row],[Niveau 0]:[Niveau 5]])=5,\"0\",LEFT(Tableau1[[#This Row],[Niveau]],(LEN(Tableau1[[#This Row],[Niveau]])-LEN(OFFSET(Tableau1[[#This Row],[Niveau 5]],0,(-COUNTBLANK(Tableau1[[#This Row],[Niveau 0]:[Niveau 5]]))))-1))),\"\")","v":""},null,null,null,null,{"$f":"IF(Tableau1[[#This Row],[Catégorie pièce]]=\" Opérations\",VLOOKUP(Tableau1[[#This Row],[Article produit/\nPoste de charge]],'PDC+emplacement'!A:C,2,FALSE),IF(Tableau1[[#This Row],[Catégorie pièce]]=\" Nouveau\",\"***RENSEIGNER NOM***\",IFERROR(VLOOKUP(CONCATENATE(Tableau1[[#This Row],[Article produit/\nPoste de charge]]),[1]ARTRDCL!$A$1:$U$25000,2,FALSE),\"\")))","v":""},null,null,null,null,null,{"$f":"IF(Tableau1[[#This Row],[Type plan]]=\"SP\",\"SP\",IF(AND(Tableau1[[#This Row],[Catégorie pièce]]=\" Nouveau\",Tableau1[[#This Row],[Type de pièce]]<>\" Panoplie\"),MID(Tableau1[[#This Row],[Article produit/\nPoste de charge]],2,15),IF(AND(Tableau1[[#This Row],[Catégorie pièce]]=\" Nouveau\",Tableau1[[#This Row],[Type de pièce]]=\" Panoplie\"),Tableau1[[#This Row],[Article produit/\nPoste de charge]],\"\")))","v":""},null,null,{"$f":"ROUNDUP((Tableau1[[#This Row],[Qté / an]]/52)*2,0)","v":{"$error":"#VALUE!"}},null,null,{"$f":"IF(AND(Tableau1[[#This Row],[Catégorie pièce]]=\" Opérations\",Tableau1[[#This Row],[Type de pièce]]=\" Temps\"),Taux_horaire/100,IF(AND(Tableau1[[#This Row],[Catégorie pièce]]=\" Nouveau\",Tableau1[[#This Row],[Type de pièce]]=\" Fabriquée\"),BOM!$AO102,IF(OR(AND(Tableau1[[#This Row],[Catégorie pièce]]=\" Nouveau\",Tableau1[[#This Row],[Type de pièce]]=\" Assemblage\"),BOM!$Y102=\" Produit fini\",Tableau1[[#This Row],[Type de pièce]]=\" Opé pièce primaire\",Tableau1[[#This Row],[Type de pièce]]=\" Pièce/Opé Panoplie\"),\"/\",IF(Tableau1[[#This Row],[Catégorie pièce]]=\" Existant\",VLOOKUP(CONCATENATE(Tableau1[[#This Row],[Article produit/\nPoste de charge]]),[1]ARTRDCL!$A$1:$U$65536,15,FALSE),\"\"))))","v":""},{"$f":"IF(OR(Tableau1[[#This Row],[Catégorie pièce]]=\" Opérations\",Tableau1[[#This Row],[Catégorie pièce]]=\" Matière 1ère\",ISBLANK(Tableau1[[#This Row],[Catégorie pièce]])),\"/\",SUMPRODUCT($AY$6:$BB$6,Tableau1[[#This Row],[Modèle A]:[Modèle D]]))","v":"/"},{"$f":"IFERROR(ROUNDDOWN(Tableau1[[#This Row],[surface\ntôle (m²)]]/Tableau1[[#This Row],[Surface\npièce (m²)]],0),0)","v":0},{"$f":"IF(AND(Tableau1[[#This Row],[Catégorie pièce]]=\" Nouveau\",Tableau1[[#This Row],[Type de pièce]]=\" Fabriquée\"),ROUNDUP(Tableau1[[#This Row],[Qté / an]]*2/52,0),0)","v":0},null,null,null,null,null,null,null,null,null,null,null,{"$f":"SUM(Tableau1[[#This Row],[VCOGS\ntôle]:[VCOGS\npliage]])","v":0},{"$f":"IFERROR((VLOOKUP(Tableau1[[#This Row],[Format\ntôle]],Tableau2[],11,FALSE)/Tableau1[[#This Row],[Série \néconomique ]])*Tableau1[[#This Row],[surface\ntôle (m²)]],0)","v":0},{"$f":"IF(Tableau1[[#This Row],[Laser (O/N)]]= \"Oui\",Tableau1[[#This Row],[Coût\ndécoupe laser]],Tableau1[[#This Row],[Coût\npoinçonnage]])","v":0},{"$f":"IF(Tableau1[[#This Row],[Nb plis]]>0, (IF(Tableau1[[#This Row],[Nb plis]]<5,0.25,IF(Tableau1[[#This Row],[Nb plis]]<7,0.33,0.45))/Tableau1[[#This Row],[Série \néconomique ]] +0.004*Tableau1[[#This Row],[Nb plis]])*$N$5,0)","v":0},{"$f":"IFERROR(VLOOKUP(Tableau1[[#This Row],[Format\ntôle]],Tôles!B:P,9,FALSE),0)","v":0},{"$f":"Tableau1[[#This Row],[Dimention X (mm)]]/1000*Tableau1[[#This Row],[Dimention Y (mm)]]/1000","v":0},{"$f":"IFERROR(ROUNDUP(Tableau1[[#This Row],[Surface\npièce (m²)]]/Tableau1[[#This Row],[surface\ntôle (m²)]],4),0)","v":0},{"$f":"IF(Tableau1[[#This Row],[Forcer série Economique ]]>0,Tableau1[[#This Row],[Forcer série Economique ]],Tableau1[[#This Row],[Série Economique proposée]])","v":0},{"$f":"IF(OR(ISERROR((5/Tableau1[[#This Row],[Série \néconomique ]]+Tableau1[[#This Row],[Nb trous]]*0.08*VLOOKUP(Tableau1[[#This Row],[Format\ntôle]],Tôles!B:O,5,FALSE)+ (Tableau1[[#This Row],[Dimention X (mm)]]+Tableau1[[#This Row],[Dimention Y (mm)]]) * 0.001)*Taux_horaire/100),Tableau1[[#This Row],[VCOGS\ntôle]] = \"\"),0,(5/Tableau1[[#This Row],[Série \néconomique ]]+Tableau1[[#This Row],[Nb trous]]*0.08*VLOOKUP(Tableau1[[#This Row],[Format\ntôle]],Tôles!B:O,5,FALSE)+ (Tableau1[[#This Row],[Dimention X (mm)]]+Tableau1[[#This Row],[Dimention Y (mm)]]) * 0.001)*Taux_horaire/100)","v":0},{"$f":"IF(OR(ISERROR((10/Tableau1[[#This Row],[Série \néconomique ]]+Tableau1[[#This Row],[Nb trous]]*0.007 + (Tableau1[[#This Row],[Dimention X (mm)]]+Tableau1[[#This Row],[Dimention Y (mm)]]) * 0.0005)*Taux_horaire/100),Tableau1[[#This Row],[VCOGS\ntôle]]= \"\"),0,(10/Tableau1[[#This Row],[Série \néconomique ]]+Tableau1[[#This Row],[Nb trous]]*0.007 + (Tableau1[[#This Row],[Dimention X (mm)]]+Tableau1[[#This Row],[Dimention Y (mm)]]) * 0.0005)*Taux_horaire/100)","v":0}]
[null,null,null,null,null,null,null,{"$f":"SUBSTITUTE(TRIM(CONCATENATE(Tableau1[[#This Row],[Niveau 0]],\" \",Tableau1[[#This Row],[Niveau 1]],\" \",Tableau1[[#This Row],[Niveau 2]],\" \",Tableau1[[#This Row],[Niveau 3]],\" \",Tableau1[[#This Row],[Niveau 4]],\" \",Tableau1[[#This Row],[Niveau 5]])),\" \",\".\")","v":""},{"$f":"IFERROR(IF(COUNTBLANK(Tableau1[[#This Row],[Niveau 0]:[Niveau 5]])=5,\"0\",LEFT(Tableau1[[#This Row],[Niveau]],(LEN(Tableau1[[#This Row],[Niveau]])-LEN(OFFSET(Tableau1[[#This Row],[Niveau 5]],0,(-COUNTBLANK(Tableau1[[#This Row],[Niveau 0]:[Niveau 5]]))))-1))),\"\")","v":""},null,null,null,null,{"$f":"IF(Tableau1[[#This Row],[Catégorie pièce]]=\" Opérations\",VLOOKUP(Tableau1[[#This Row],[Article produit/\nPoste de charge]],'PDC+emplacement'!A:C,2,FALSE),IF(Tableau1[[#This Row],[Catégorie pièce]]=\" Nouveau\",\"***RENSEIGNER NOM***\",IFERROR(VLOOKUP(CONCATENATE(Tableau1[[#This Row],[Article produit/\nPoste de charge]]),[1]ARTRDCL!$A$1:$U$25000,2,FALSE),\"\")))","v":""},null,null,null,null,null,{"$f":"IF(Tableau1[[#This Row],[Type plan]]=\"SP\",\"SP\",IF(AND(Tableau1[[#This Row],[Catégorie pièce]]=\" Nouveau\",Tableau1[[#This Row],[Type de pièce]]<>\" Panoplie\"),MID(Tableau1[[#This Row],[Article produit/\nPoste de charge]],2,15),IF(AND(Tableau1[[#This Row],[Catégorie pièce]]=\" Nouveau\",Tableau1[[#This Row],[Type de pièce]]=\" Panoplie\"),Tableau1[[#This Row],[Article produit/\nPoste de charge]],\"\")))","v":""},null,null,{"$f":"ROUNDUP((Tableau1[[#This Row],[Qté / an]]/52)*2,0)","v":{"$error":"#VALUE!"}},null,null,{"$f":"IF(AND(Tableau1[[#This Row],[Catégorie pièce]]=\" Opérations\",Tableau1[[#This Row],[Type de pièce]]=\" Temps\"),Taux_horaire/100,IF(AND(Tableau1[[#This Row],[Catégorie pièce]]=\" Nouveau\",Tableau1[[#This Row],[Type de pièce]]=\" Fabriquée\"),BOM!$AO103,IF(OR(AND(Tableau1[[#This Row],[Catégorie pièce]]=\" Nouveau\",Tableau1[[#This Row],[Type de pièce]]=\" Assemblage\"),BOM!$Y103=\" Produit fini\",Tableau1[[#This Row],[Type de pièce]]=\" Opé pièce primaire\",Tableau1[[#This Row],[Type de pièce]]=\" Pièce/Opé Panoplie\"),\"/\",IF(Tableau1[[#This Row],[Catégorie pièce]]=\" Existant\",VLOOKUP(CONCATENATE(Tableau1[[#This Row],[Article produit/\nPoste de charge]]),[1]ARTRDCL!$A$1:$U$65536,15,FALSE),\"\"))))","v":""},{"$f":"IF(OR(Tableau1[[#This Row],[Catégorie pièce]]=\" Opérations\",Tableau1[[#This Row],[Catégorie pièce]]=\" Matière 1ère\",ISBLANK(Tableau1[[#This Row],[Catégorie pièce]])),\"/\",SUMPRODUCT($AY$6:$BB$6,Tableau1[[#This Row],[Modèle A]:[Modèle D]]))","v":"/"},{"$f":"IFERROR(ROUNDDOWN(Tableau1[[#This Row],[surface\ntôle (m²)]]/Tableau1[[#This Row],[Surface\npièce (m²)]],0),0)","v":0},{"$f":"IF(AND(Tableau1[[#This Row],[Catégorie pièce]]=\" Nouveau\",Tableau1[[#This Row],[Type de pièce]]=\" Fabriquée\"),ROUNDUP(Tableau1[[#This Row],[Qté / an]]*2/52,0),0)","v":0},null,null,null,null,null,null,null,null,null,null,null,{"$f":"SUM(Tableau1[[#This Row],[VCOGS\ntôle]:[VCOGS\npliage]])","v":0},{"$f":"IFERROR((VLOOKUP(Tableau1[[#This Row],[Format\ntôle]],Tableau2[],11,FALSE)/Tableau1[[#This Row],[Série \néconomique ]])*Tableau1[[#This Row],[surface\ntôle (m²)]],0)","v":0},{"$f":"IF(Tableau1[[#This Row],[Laser (O/N)]]= \"Oui\",Tableau1[[#This Row],[Coût\ndécoupe laser]],Tableau1[[#This Row],[Coût\npoinçonnage]])","v":0},{"$f":"IF(Tableau1[[#This Row],[Nb plis]]>0, (IF(Tableau1[[#This Row],[Nb plis]]<5,0.25,IF(Tableau1[[#This Row],[Nb plis]]<7,0.33,0.45))/Tableau1[[#This Row],[Série \néconomique ]] +0.004*Tableau1[[#This Row],[Nb plis]])*$N$5,0)","v":0},{"$f":"IFERROR(VLOOKUP(Tableau1[[#This Row],[Format\ntôle]],Tôles!B:P,9,FALSE),0)","v":0},{"$f":"Tableau1[[#This Row],[Dimention X (mm)]]/1000*Tableau1[[#This Row],[Dimention Y (mm)]]/1000","v":0},{"$f":"IFERROR(ROUNDUP(Tableau1[[#This Row],[Surface\npièce (m²)]]/Tableau1[[#This Row],[surface\ntôle (m²)]],4),0)","v":0},{"$f":"IF(Tableau1[[#This Row],[Forcer série Economique ]]>0,Tableau1[[#This Row],[Forcer série Economique ]],Tableau1[[#This Row],[Série Economique proposée]])","v":0},{"$f":"IF(OR(ISERROR((5/Tableau1[[#This Row],[Série \néconomique ]]+Tableau1[[#This Row],[Nb trous]]*0.08*VLOOKUP(Tableau1[[#This Row],[Format\ntôle]],Tôles!B:O,5,FALSE)+ (Tableau1[[#This Row],[Dimention X (mm)]]+Tableau1[[#This Row],[Dimention Y (mm)]]) * 0.001)*Taux_horaire/100),Tableau1[[#This Row],[VCOGS\ntôle]] = \"\"),0,(5/Tableau1[[#This Row],[Série \néconomique ]]+Tableau1[[#This Row],[Nb trous]]*0.08*VLOOKUP(Tableau1[[#This Row],[Format\ntôle]],Tôles!B:O,5,FALSE)+ (Tableau1[[#This Row],[Dimention X (mm)]]+Tableau1[[#This Row],[Dimention Y (mm)]]) * 0.001)*Taux_horaire/100)","v":0},{"$f":"IF(OR(ISERROR((10/Tableau1[[#This Row],[Série \néconomique ]]+Tableau1[[#This Row],[Nb trous]]*0.007 + (Tableau1[[#This Row],[Dimention X (mm)]]+Tableau1[[#This Row],[Dimention Y (mm)]]) * 0.0005)*Taux_horaire/100),Tableau1[[#This Row],[VCOGS\ntôle]]= \"\"),0,(10/Tableau1[[#This Row],[Série \néconomique ]]+Tableau1[[#This Row],[Nb trous]]*0.007 + (Tableau1[[#This Row],[Dimention X (mm)]]+Tableau1[[#This Row],[Dimention Y (mm)]]) * 0.0005)*Taux_horaire/100)","v":0}]
[null,null,null,null,null,null,null,{"$f":"SUBSTITUTE(TRIM(CONCATENATE(Tableau1[[#This Row],[Niveau 0]],\" \",Tableau1[[#This Row],[Niveau 1]],\" \",Tableau1[[#This Row],[Niveau 2]],\" \",Tableau1[[#This Row],[Niveau 3]],\" \",Tableau1[[#This Row],[Niveau 4]],\" \",Tableau1[[#This Row],[Niveau 5]])),\" \",\".\")","v":""},{"$f":"IFERROR(IF(COUNTBLANK(Tableau1[[#This Row],[Niveau 0]:[Niveau 5]])=5,\"0\",LEFT(Tableau1[[#This Row],[Niveau]],(LEN(Tableau1[[#This Row],[Niveau]])-LEN(OFFSET(Tableau1[[#This Row],[Niveau 5]],0,(-COUNTBLANK(Tableau1[[#This Row],[Niveau 0]:[Niveau 5]]))))-1))),\"\")","v":""},null,null,null,null,{"$f":"IF(Tableau1[[#This Row],[Catégorie pièce]]=\" Opérations\",VLOOKUP(Tableau1[[#This Row],[Article produit/\nPoste de charge]],'PDC+emplacement'!A:C,2,FALSE),IF(Tableau1[[#This Row],[Catégorie pièce]]=\" Nouveau\",\"***RENSEIGNER NOM***\",IFERROR(VLOOKUP(CONCATENATE(Tableau1[[#This Row],[Article produit/\nPoste de charge]]),[1]ARTRDCL!$A$1:$U$25000,2,FALSE),\"\")))","v":""},null,null,null,null,null,{"$f":"IF(Tableau1[[#This Row],[Type plan]]=\"SP\",\"SP\",IF(AND(Tableau1[[#This Row],[Catégorie pièce]]=\" Nouveau\",Tableau1[[#This Row],[Type de pièce]]<>\" Panoplie\"),MID(Tableau1[[#This Row],[Article produit/\nPoste de charge]],2,15),IF(AND(Tableau1[[#This Row],[Catégorie pièce]]=\" Nouveau\",Tableau1[[#This Row],[Type de pièce]]=\" Panoplie\"),Tableau1[[#This Row],[Article produit/\nPoste de charge]],\"\")))","v":""},null,null,{"$f":"ROUNDUP((Tableau1[[#This Row],[Qté / an]]/52)*2,0)","v":{"$error":"#VALUE!"}},null,null,{"$f":"IF(AND(Tableau1[[#This Row],[Catégorie pièce]]=\" Opérations\",Tableau1[[#This Row],[Type de pièce]]=\" Temps\"),Taux_horaire/100,IF(AND(Tableau1[[#This Row],[Catégorie pièce]]=\" Nouveau\",Tableau1[[#This Row],[Type de pièce]]=\" Fabriquée\"),BOM!$AO104,IF(OR(AND(Tableau1[[#This Row],[Catégorie pièce]]=\" Nouveau\",Tableau1[[#This Row],[Type de pièce]]=\" Assemblage\"),BOM!$Y104=\" Produit fini\",Tableau1[[#This Row],[Type de pièce]]=\" Opé pièce primaire\",Tableau1[[#This Row],[Type de pièce]]=\" Pièce/Opé Panoplie\"),\"/\",IF(Tableau1[[#This Row],[Catégorie pièce]]=\" Existant\",VLOOKUP(CONCATENATE(Tableau1[[#This Row],[Article produit/\nPoste de charge]]),[1]ARTRDCL!$A$1:$U$65536,15,FALSE),\"\"))))","v":""},{"$f":"IF(OR(Tableau1[[#This Row],[Catégorie pièce]]=\" Opérations\",Tableau1[[#This Row],[Catégorie pièce]]=\" Matière 1ère\",ISBLANK(Tableau1[[#This Row],[Catégorie pièce]])),\"/\",SUMPRODUCT($AY$6:$BB$6,Tableau1[[#This Row],[Modèle A]:[Modèle D]]))","v":"/"},{"$f":"IFERROR(ROUNDDOWN(Tableau1[[#This Row],[surface\ntôle (m²)]]/Tableau1[[#This Row],[Surface\npièce (m²)]],0),0)","v":0},{"$f":"IF(AND(Tableau1[[#This Row],[Catégorie pièce]]=\" Nouveau\",Tableau1[[#This Row],[Type de pièce]]=\" Fabriquée\"),ROUNDUP(Tableau1[[#This Row],[Qté / an]]*2/52,0),0)","v":0},null,null,null,null,null,null,null,null,null,null,null,{"$f":"SUM(Tableau1[[#This Row],[VCOGS\ntôle]:[VCOGS\npliage]])","v":0},{"$f":"IFERROR((VLOOKUP(Tableau1[[#This Row],[Format\ntôle]],Tableau2[],11,FALSE)/Tableau1[[#This Row],[Série \néconomique ]])*Tableau1[[#This Row],[surface\ntôle (m²)]],0)","v":0},{"$f":"IF(Tableau1[[#This Row],[Laser (O/N)]]= \"Oui\",Tableau1[[#This Row],[Coût\ndécoupe laser]],Tableau1[[#This Row],[Coût\npoinçonnage]])","v":0},{"$f":"IF(Tableau1[[#This Row],[Nb plis]]>0, (IF(Tableau1[[#This Row],[Nb plis]]<5,0.25,IF(Tableau1[[#This Row],[Nb plis]]<7,0.33,0.45))/Tableau1[[#This Row],[Série \néconomique ]] +0.004*Tableau1[[#This Row],[Nb plis]])*$N$5,0)","v":0},{"$f":"IFERROR(VLOOKUP(Tableau1[[#This Row],[Format\ntôle]],Tôles!B:P,9,FALSE),0)","v":0},{"$f":"Tableau1[[#This Row],[Dimention X (mm)]]/1000*Tableau1[[#This Row],[Dimention Y (mm)]]/1000","v":0},{"$f":"IFERROR(ROUNDUP(Tableau1[[#This Row],[Surface\npièce (m²)]]/Tableau1[[#This Row],[surface\ntôle (m²)]],4),0)","v":0},{"$f":"IF(Tableau1[[#This Row],[Forcer série Economique ]]>0,Tableau1[[#This Row],[Forcer série Economique ]],Tableau1[[#This Row],[Série Economique proposée]])","v":0},{"$f":"IF(OR(ISERROR((5/Tableau1[[#This Row],[Série \néconomique ]]+Tableau1[[#This Row],[Nb trous]]*0.08*VLOOKUP(Tableau1[[#This Row],[Format\ntôle]],Tôles!B:O,5,FALSE)+ (Tableau1[[#This Row],[Dimention X (mm)]]+Tableau1[[#This Row],[Dimention Y (mm)]]) * 0.001)*Taux_horaire/100),Tableau1[[#This Row],[VCOGS\ntôle]] = \"\"),0,(5/Tableau1[[#This Row],[Série \néconomique ]]+Tableau1[[#This Row],[Nb trous]]*0.08*VLOOKUP(Tableau1[[#This Row],[Format\ntôle]],Tôles!B:O,5,FALSE)+ (Tableau1[[#This Row],[Dimention X (mm)]]+Tableau1[[#This Row],[Dimention Y (mm)]]) * 0.001)*Taux_horaire/100)","v":0},{"$f":"IF(OR(ISERROR((10/Tableau1[[#This Row],[Série \néconomique ]]+Tableau1[[#This Row],[Nb trous]]*0.007 + (Tableau1[[#This Row],[Dimention X (mm)]]+Tableau1[[#This Row],[Dimention Y (mm)]]) * 0.0005)*Taux_horaire/100),Tableau1[[#This Row],[VCOGS\ntôle]]= \"\"),0,(10/Tableau1[[#This Row],[Série \néconomique ]]+Tableau1[[#This Row],[Nb trous]]*0.007 + (Tableau1[[#This Row],[Dimention X (mm)]]+Tableau1[[#This Row],[Dimention Y (mm)]]) * 0.0005)*Taux_horaire/100)","v":0}]
[null,null,null,null,null,null,null,{"$f":"SUBSTITUTE(TRIM(CONCATENATE(Tableau1[[#This Row],[Niveau 0]],\" \",Tableau1[[#This Row],[Niveau 1]],\" \",Tableau1[[#This Row],[Niveau 2]],\" \",Tableau1[[#This Row],[Niveau 3]],\" \",Tableau1[[#This Row],[Niveau 4]],\" \",Tableau1[[#This Row],[Niveau 5]])),\" \",\".\")","v":""},{"$f":"IFERROR(IF(COUNTBLANK(Tableau1[[#This Row],[Niveau 0]:[Niveau 5]])=5,\"0\",LEFT(Tableau1[[#This Row],[Niveau]],(LEN(Tableau1[[#This Row],[Niveau]])-LEN(OFFSET(Tableau1[[#This Row],[Niveau 5]],0,(-COUNTBLANK(Tableau1[[#This Row],[Niveau 0]:[Niveau 5]]))))-1))),\"\")","v":""},null,null,null,null,{"$f":"IF(Tableau1[[#This Row],[Catégorie pièce]]=\" Opérations\",VLOOKUP(Tableau1[[#This Row],[Article produit/\nPoste de charge]],'PDC+emplacement'!A:C,2,FALSE),IF(Tableau1[[#This Row],[Catégorie pièce]]=\" Nouveau\",\"***RENSEIGNER NOM***\",IFERROR(VLOOKUP(CONCATENATE(Tableau1[[#This Row],[Article produit/\nPoste de charge]]),[1]ARTRDCL!$A$1:$U$25000,2,FALSE),\"\")))","v":""},null,null,null,null,null,{"$f":"IF(Tableau1[[#This Row],[Type plan]]=\"SP\",\"SP\",IF(AND(Tableau1[[#This Row],[Catégorie pièce]]=\" Nouveau\",Tableau1[[#This Row],[Type de pièce]]<>\" Panoplie\"),MID(Tableau1[[#This Row],[Article produit/\nPoste de charge]],2,15),IF(AND(Tableau1[[#This Row],[Catégorie pièce]]=\" Nouveau\",Tableau1[[#This Row],[Type de pièce]]=\" Panoplie\"),Tableau1[[#This Row],[Article produit/\nPoste de charge]],\"\")))","v":""},null,null,{"$f":"ROUNDUP((Tableau1[[#This Row],[Qté / an]]/52)*2,0)","v":{"$error":"#VALUE!"}},null,null,{"$f":"IF(AND(Tableau1[[#This Row],[Catégorie pièce]]=\" Opérations\",Tableau1[[#This Row],[Type de pièce]]=\" Temps\"),Taux_horaire/100,IF(AND(Tableau1[[#This Row],[Catégorie pièce]]=\" Nouveau\",Tableau1[[#This Row],[Type de pièce]]=\" Fabriquée\"),BOM!$AO105,IF(OR(AND(Tableau1[[#This Row],[Catégorie pièce]]=\" Nouveau\",Tableau1[[#This Row],[Type de pièce]]=\" Assemblage\"),BOM!$Y105=\" Produit fini\",Tableau1[[#This Row],[Type de pièce]]=\" Opé pièce primaire\",Tableau1[[#This Row],[Type de pièce]]=\" Pièce/Opé Panoplie\"),\"/\",IF(Tableau1[[#This Row],[Catégorie pièce]]=\" Existant\",VLOOKUP(CONCATENATE(Tableau1[[#This Row],[Article produit/\nPoste de charge]]),[1]ARTRDCL!$A$1:$U$65536,15,FALSE),\"\"))))","v":""},{"$f":"IF(OR(Tableau1[[#This Row],[Catégorie pièce]]=\" Opérations\",Tableau1[[#This Row],[Catégorie pièce]]=\" Matière 1ère\",ISBLANK(Tableau1[[#This Row],[Catégorie pièce]])),\"/\",SUMPRODUCT($AY$6:$BB$6,Tableau1[[#This Row],[Modèle A]:[Modèle D]]))","v":"/"},{"$f":"IFERROR(ROUNDDOWN(Tableau1[[#This Row],[surface\ntôle (m²)]]/Tableau1[[#This Row],[Surface\npièce (m²)]],0),0)","v":0},{"$f":"IF(AND(Tableau1[[#This Row],[Catégorie pièce]]=\" Nouveau\",Tableau1[[#This Row],[Type de pièce]]=\" Fabriquée\"),ROUNDUP(Tableau1[[#This Row],[Qté / an]]*2/52,0),0)","v":0},null,null,null,null,null,null,null,null,null,null,null,{"$f":"SUM(Tableau1[[#This Row],[VCOGS\ntôle]:[VCOGS\npliage]])","v":0},{"$f":"IFERROR((VLOOKUP(Tableau1[[#This Row],[Format\ntôle]],Tableau2[],11,FALSE)/Tableau1[[#This Row],[Série \néconomique ]])*Tableau1[[#This Row],[surface\ntôle (m²)]],0)","v":0},{"$f":"IF(Tableau1[[#This Row],[Laser (O/N)]]= \"Oui\",Tableau1[[#This Row],[Coût\ndécoupe laser]],Tableau1[[#This Row],[Coût\npoinçonnage]])","v":0},{"$f":"IF(Tableau1[[#This Row],[Nb plis]]>0, (IF(Tableau1[[#This Row],[Nb plis]]<5,0.25,IF(Tableau1[[#This Row],[Nb plis]]<7,0.33,0.45))/Tableau1[[#This Row],[Série \néconomique ]] +0.004*Tableau1[[#This Row],[Nb plis]])*$N$5,0)","v":0},{"$f":"IFERROR(VLOOKUP(Tableau1[[#This Row],[Format\ntôle]],Tôles!B:P,9,FALSE),0)","v":0},{"$f":"Tableau1[[#This Row],[Dimention X (mm)]]/1000*Tableau1[[#This Row],[Dimention Y (mm)]]/1000","v":0},{"$f":"IFERROR(ROUNDUP(Tableau1[[#This Row],[Surface\npièce (m²)]]/Tableau1[[#This Row],[surface\ntôle (m²)]],4),0)","v":0},{"$f":"IF(Tableau1[[#This Row],[Forcer série Economique ]]>0,Tableau1[[#This Row],[Forcer série Economique ]],Tableau1[[#This Row],[Série Economique proposée]])","v":0},{"$f":"IF(OR(ISERROR((5/Tableau1[[#This Row],[Série \néconomique ]]+Tableau1[[#This Row],[Nb trous]]*0.08*VLOOKUP(Tableau1[[#This Row],[Format\ntôle]],Tôles!B:O,5,FALSE)+ (Tableau1[[#This Row],[Dimention X (mm)]]+Tableau1[[#This Row],[Dimention Y (mm)]]) * 0.001)*Taux_horaire/100),Tableau1[[#This Row],[VCOGS\ntôle]] = \"\"),0,(5/Tableau1[[#This Row],[Série \néconomique ]]+Tableau1[[#This Row],[Nb trous]]*0.08*VLOOKUP(Tableau1[[#This Row],[Format\ntôle]],Tôles!B:O,5,FALSE)+ (Tableau1[[#This Row],[Dimention X (mm)]]+Tableau1[[#This Row],[Dimention Y (mm)]]) * 0.001)*Taux_horaire/100)","v":0},{"$f":"IF(OR(ISERROR((10/Tableau1[[#This Row],[Série \néconomique ]]+Tableau1[[#This Row],[Nb trous]]*0.007 + (Tableau1[[#This Row],[Dimention X (mm)]]+Tableau1[[#This Row],[Dimention Y (mm)]]) * 0.0005)*Taux_horaire/100),Tableau1[[#This Row],[VCOGS\ntôle]]= \"\"),0,(10/Tableau1[[#This Row],[Série \néconomique ]]+Tableau1[[#This Row],[Nb trous]]*0.007 + (Tableau1[[#This Row],[Dimention X (mm)]]+Tableau1[[#This Row],[Dimention Y (mm)]]) * 0.0005)*Taux_horaire/100)","v":0}]
["FIXATION",null,null,null,null,null,null,{"$f":"SUBSTITUTE(TRIM(CONCATENATE(Tableau1[[#This Row],[Niveau 0]],\" \",Tableau1[[#This Row],[Niveau 1]],\" \",Tableau1[[#This Row],[Niveau 2]],\" \",Tableau1[[#This Row],[Niveau 3]],\" \",Tableau1[[#This Row],[Niveau 4]],\" \",Tableau1[[#This Row],[Niveau 5]])),\" \",\".\")","v":""},{"$f":"IFERROR(IF(COUNTBLANK(Tableau1[[#This Row],[Niveau 0]:[Niveau 5]])=5,\"0\",LEFT(Tableau1[[#This Row],[Niveau]],(LEN(Tableau1[[#This Row],[Niveau]])-LEN(OFFSET(Tableau1[[#This Row],[Niveau 5]],0,(-COUNTBLANK(Tableau1[[#This Row],[Niveau 0]:[Niveau 5]]))))-1))),\"\")","v":""},null,null,null,null,{"$f":"IF(Tableau1[[#This Row],[Catégorie pièce]]=\" Opérations\",VLOOKUP(Tableau1[[#This Row],[Article produit/\nPoste de charge]],'PDC+emplacement'!A:C,2,FALSE),IF(Tableau1[[#This Row],[Catégorie pièce]]=\" Nouveau\",\"***RENSEIGNER NOM***\",IFERROR(VLOOKUP(CONCATENATE(Tableau1[[#This Row],[Article produit/\nPoste de charge]]),[1]ARTRDCL!$A$1:$U$25000,2,FALSE),\"\")))","v":""},null,null,null,null,null,{"$f":"IF(Tableau1[[#This Row],[Type plan]]=\"SP\",\"SP\",IF(AND(Tableau1[[#This Row],[Catégorie pièce]]=\" Nouveau\",Tableau1[[#This Row],[Type de pièce]]<>\" Panoplie\"),MID(Tableau1[[#This Row],[Article produit/\nPoste de charge]],2,15),IF(AND(Tableau1[[#This Row],[Catégorie pièce]]=\" Nouveau\",Tableau1[[#This Row],[Type de pièce]]=\" Panoplie\"),Tableau1[[#This Row],[Article produit/\nPoste de charge]],\"\")))","v":""},null,null,{"$f":"ROUNDUP((Tableau1[[#This Row],[Qté / an]]/52)*2,0)","v":{"$error":"#VALUE!"}},null,null,{"$f":"IF(AND(Tableau1[[#This Row],[Catégorie pièce]]=\" Opérations\",Tableau1[[#This Row],[Type de pièce]]=\" Temps\"),Taux_horaire/100,IF(AND(Tableau1[[#This Row],[Catégorie pièce]]=\" Nouveau\",Tableau1[[#This Row],[Type de pièce]]=\" Fabriquée\"),BOM!$AO106,IF(OR(AND(Tableau1[[#This Row],[Catégorie pièce]]=\" Nouveau\",Tableau1[[#This Row],[Type de pièce]]=\" Assemblage\"),BOM!$Y106=\" Produit fini\",Tableau1[[#This Row],[Type de pièce]]=\" Opé pièce primaire\",Tableau1[[#This Row],[Type de pièce]]=\" Pièce/Opé Panoplie\"),\"/\",IF(Tableau1[[#This Row],[Catégorie pièce]]=\" Existant\",VLOOKUP(CONCATENATE(Tableau1[[#This Row],[Article produit/\nPoste de charge]]),[1]ARTRDCL!$A$1:$U$65536,15,FALSE),\"\"))))","v":""},{"$f":"IF(OR(Tableau1[[#This Row],[Catégorie pièce]]=\" Opérations\",Tableau1[[#This Row],[Catégorie pièce]]=\" Matière 1ère\",ISBLANK(Tableau1[[#This Row],[Catégorie pièce]])),\"/\",SUMPRODUCT($AY$6:$BB$6,Tableau1[[#This Row],[Modèle A]:[Modèle D]]))","v":"/"},{"$f":"IFERROR(ROUNDDOWN(Tableau1[[#This Row],[surface\ntôle (m²)]]/Tableau1[[#This Row],[Surface\npièce (m²)]],0),0)","v":0},{"$f":"IF(AND(Tableau1[[#This Row],[Catégorie pièce]]=\" Nouveau\",Tableau1[[#This Row],[Type de pièce]]=\" Fabriquée\"),ROUNDUP(Tableau1[[#This Row],[Qté / an]]*2/52,0),0)","v":0},null,null,null,null,null,null,null,null,null,null,null,{"$f":"SUM(Tableau1[[#This Row],[VCOGS\ntôle]:[VCOGS\npliage]])","v":0},{"$f":"IFERROR((VLOOKUP(Tableau1[[#This Row],[Format\ntôle]],Tableau2[],11,FALSE)/Tableau1[[#This Row],[Série \néconomique ]])*Tableau1[[#This Row],[surface\ntôle (m²)]],0)","v":0},{"$f":"IF(Tableau1[[#This Row],[Laser (O/N)]]= \"Oui\",Tableau1[[#This Row],[Coût\ndécoupe laser]],Tableau1[[#This Row],[Coût\npoinçonnage]])","v":0},{"$f":"IF(Tableau1[[#This Row],[Nb plis]]>0, (IF(Tableau1[[#This Row],[Nb plis]]<5,0.25,IF(Tableau1[[#This Row],[Nb plis]]<7,0.33,0.45))/Tableau1[[#This Row],[Série \néconomique ]] +0.004*Tableau1[[#This Row],[Nb plis]])*$N$5,0)","v":0},{"$f":"IFERROR(VLOOKUP(Tableau1[[#This Row],[Format\ntôle]],Tôles!B:P,9,FALSE),0)","v":0},{"$f":"Tableau1[[#This Row],[Dimention X (mm)]]/1000*Tableau1[[#This Row],[Dimention Y (mm)]]/1000","v":0},{"$f":"IFERROR(ROUNDUP(Tableau1[[#This Row],[Surface\npièce (m²)]]/Tableau1[[#This Row],[surface\ntôle (m²)]],4),0)","v":0},{"$f":"IF(Tableau1[[#This Row],[Forcer série Economique ]]>0,Tableau1[[#This Row],[Forcer série Economique ]],Tableau1[[#This Row],[Série Economique proposée]])","v":0},{"$f":"IF(OR(ISERROR((5/Tableau1[[#This Row],[Série \néconomique ]]+Tableau1[[#This Row],[Nb trous]]*0.08*VLOOKUP(Tableau1[[#This Row],[Format\ntôle]],Tôles!B:O,5,FALSE)+ (Tableau1[[#This Row],[Dimention X (mm)]]+Tableau1[[#This Row],[Dimention Y (mm)]]) * 0.001)*Taux_horaire/100),Tableau1[[#This Row],[VCOGS\ntôle]] = \"\"),0,(5/Tableau1[[#This Row],[Série \néconomique ]]+Tableau1[[#This Row],[Nb trous]]*0.08*VLOOKUP(Tableau1[[#This Row],[Format\ntôle]],Tôles!B:O,5,FALSE)+ (Tableau1[[#This Row],[Dimention X (mm)]]+Tableau1[[#This Row],[Dimention Y (mm)]]) * 0.001)*Taux_horaire/100)","v":0},{"$f":"IF(OR(ISERROR((10/Tableau1[[#This Row],[Série \néconomique ]]+Tableau1[[#This Row],[Nb trous]]*0.007 + (Tableau1[[#This Row],[Dimention X (mm)]]+Tableau1[[#This Row],[Dimention Y (mm)]]) * 0.0005)*Taux_horaire/100),Tableau1[[#This Row],[VCOGS\ntôle]]= \"\"),0,(10/Tableau1[[#This Row],[Série \néconomique ]]+Tableau1[[#This Row],[Nb trous]]*0.007 + (Tableau1[[#This Row],[Dimention X (mm)]]+Tableau1[[#This Row],[Dimention Y (mm)]]) * 0.0005)*Taux_horaire/100)","v":0}]
[null,null,null,null,null,null,null,{"$f":"SUBSTITUTE(TRIM(CONCATENATE(Tableau1[[#This Row],[Niveau 0]],\" \",Tableau1[[#This Row],[Niveau 1]],\" \",Tableau1[[#This Row],[Niveau 2]],\" \",Tableau1[[#This Row],[Niveau 3]],\" \",Tableau1[[#This Row],[Niveau 4]],\" \",Tableau1[[#This Row],[Niveau 5]])),\" \",\".\")","v":""},{"$f":"IFERROR(IF(COUNTBLANK(Tableau1[[#This Row],[Niveau 0]:[Niveau 5]])=5,\"0\",LEFT(Tableau1[[#This Row],[Niveau]],(LEN(Tableau1[[#This Row],[Niveau]])-LEN(OFFSET(Tableau1[[#This Row],[Niveau 5]],0,(-COUNTBLANK(Tableau1[[#This Row],[Niveau 0]:[Niveau 5]]))))-1))),\"\")","v":""},null,null,null,null,{"$f":"IF(Tableau1[[#This Row],[Catégorie pièce]]=\" Opérations\",VLOOKUP(Tableau1[[#This Row],[Article produit/\nPoste de charge]],'PDC+emplacement'!A:C,2,FALSE),IF(Tableau1[[#This Row],[Catégorie pièce]]=\" Nouveau\",\"***RENSEIGNER NOM***\",IFERROR(VLOOKUP(CONCATENATE(Tableau1[[#This Row],[Article produit/\nPoste de charge]]),[1]ARTRDCL!$A$1:$U$25000,2,FALSE),\"\")))","v":""},null,null,null,null,null,{"$f":"IF(Tableau1[[#This Row],[Type plan]]=\"SP\",\"SP\",IF(AND(Tableau1[[#This Row],[Catégorie pièce]]=\" Nouveau\",Tableau1[[#This Row],[Type de pièce]]<>\" Panoplie\"),MID(Tableau1[[#This Row],[Article produit/\nPoste de charge]],2,15),IF(AND(Tableau1[[#This Row],[Catégorie pièce]]=\" Nouveau\",Tableau1[[#This Row],[Type de pièce]]=\" Panoplie\"),Tableau1[[#This Row],[Article produit/\nPoste de charge]],\"\")))","v":""},null,null,{"$f":"ROUNDUP((Tableau1[[#This Row],[Qté / an]]/52)*2,0)","v":{"$error":"#VALUE!"}},null,null,{"$f":"IF(AND(Tableau1[[#This Row],[Catégorie pièce]]=\" Opérations\",Tableau1[[#This Row],[Type de pièce]]=\" Temps\"),Taux_horaire/100,IF(AND(Tableau1[[#This Row],[Catégorie pièce]]=\" Nouveau\",Tableau1[[#This Row],[Type de pièce]]=\" Fabriquée\"),BOM!$AO107,IF(OR(AND(Tableau1[[#This Row],[Catégorie pièce]]=\" Nouveau\",Tableau1[[#This Row],[Type de pièce]]=\" Assemblage\"),BOM!$Y107=\" Produit fini\",Tableau1[[#This Row],[Type de pièce]]=\" Opé pièce primaire\",Tableau1[[#This Row],[Type de pièce]]=\" Pièce/Opé Panoplie\"),\"/\",IF(Tableau1[[#This Row],[Catégorie pièce]]=\" Existant\",VLOOKUP(CONCATENATE(Tableau1[[#This Row],[Article produit/\nPoste de charge]]),[1]ARTRDCL!$A$1:$U$65536,15,FALSE),\"\"))))","v":""},{"$f":"IF(OR(Tableau1[[#This Row],[Catégorie pièce]]=\" Opérations\",Tableau1[[#This Row],[Catégorie pièce]]=\" Matière 1ère\",ISBLANK(Tableau1[[#This Row],[Catégorie pièce]])),\"/\",SUMPRODUCT($AY$6:$BB$6,Tableau1[[#This Row],[Modèle A]:[Modèle D]]))","v":"/"},{"$f":"IFERROR(ROUNDDOWN(Tableau1[[#This Row],[surface\ntôle (m²)]]/Tableau1[[#This Row],[Surface\npièce (m²)]],0),0)","v":0},{"$f":"IF(AND(Tableau1[[#This Row],[Catégorie pièce]]=\" Nouveau\",Tableau1[[#This Row],[Type de pièce]]=\" Fabriquée\"),ROUNDUP(Tableau1[[#This Row],[Qté / an]]*2/52,0),0)","v":0},null,null,null,null,null,null,null,null,null,null,null,{"$f":"SUM(Tableau1[[#This Row],[VCOGS\ntôle]:[VCOGS\npliage]])","v":0},{"$f":"IFERROR((VLOOKUP(Tableau1[[#This Row],[Format\ntôle]],Tableau2[],11,FALSE)/Tableau1[[#This Row],[Série \néconomique ]])*Tableau1[[#This Row],[surface\ntôle (m²)]],0)","v":0},{"$f":"IF(Tableau1[[#This Row],[Laser (O/N)]]= \"Oui\",Tableau1[[#This Row],[Coût\ndécoupe laser]],Tableau1[[#This Row],[Coût\npoinçonnage]])","v":0},{"$f":"IF(Tableau1[[#This Row],[Nb plis]]>0, (IF(Tableau1[[#This Row],[Nb plis]]<5,0.25,IF(Tableau1[[#This Row],[Nb plis]]<7,0.33,0.45))/Tableau1[[#This Row],[Série \néconomique ]] +0.004*Tableau1[[#This Row],[Nb plis]])*$N$5,0)","v":0},{"$f":"IFERROR(VLOOKUP(Tableau1[[#This Row],[Format\ntôle]],Tôles!B:P,9,FALSE),0)","v":0},{"$f":"Tableau1[[#This Row],[Dimention X (mm)]]/1000*Tableau1[[#This Row],[Dimention Y (mm)]]/1000","v":0},{"$f":"IFERROR(ROUNDUP(Tableau1[[#This Row],[Surface\npièce (m²)]]/Tableau1[[#This Row],[surface\ntôle (m²)]],4),0)","v":0},{"$f":"IF(Tableau1[[#This Row],[Forcer série Economique ]]>0,Tableau1[[#This Row],[Forcer série Economique ]],Tableau1[[#This Row],[Série Economique proposée]])","v":0},{"$f":"IF(OR(ISERROR((5/Tableau1[[#This Row],[Série \néconomique ]]+Tableau1[[#This Row],[Nb trous]]*0.08*VLOOKUP(Tableau1[[#This Row],[Format\ntôle]],Tôles!B:O,5,FALSE)+ (Tableau1[[#This Row],[Dimention X (mm)]]+Tableau1[[#This Row],[Dimention Y (mm)]]) * 0.001)*Taux_horaire/100),Tableau1[[#This Row],[VCOGS\ntôle]] = \"\"),0,(5/Tableau1[[#This Row],[Série \néconomique ]]+Tableau1[[#This Row],[Nb trous]]*0.08*VLOOKUP(Tableau1[[#This Row],[Format\ntôle]],Tôles!B:O,5,FALSE)+ (Tableau1[[#This Row],[Dimention X (mm)]]+Tableau1[[#This Row],[Dimention Y (mm)]]) * 0.001)*Taux_horaire/100)","v":0},{"$f":"IF(OR(ISERROR((10/Tableau1[[#This Row],[Série \néconomique ]]+Tableau1[[#This Row],[Nb trous]]*0.007 + (Tableau1[[#This Row],[Dimention X (mm)]]+Tableau1[[#This Row],[Dimention Y (mm)]]) * 0.0005)*Taux_horaire/100),Tableau1[[#This Row],[VCOGS\ntôle]]= \"\"),0,(10/Tableau1[[#This Row],[Série \néconomique ]]+Tableau1[[#This Row],[Nb trous]]*0.007 + (Tableau1[[#This Row],[Dimention X (mm)]]+Tableau1[[#This Row],[Dimention Y (mm)]]) * 0.0005)*Taux_horaire/100)","v":0}]
[null,null,null,null,null,null,null,{"$f":"SUBSTITUTE(TRIM(CONCATENATE(Tableau1[[#This Row],[Niveau 0]],\" \",Tableau1[[#This Row],[Niveau 1]],\" \",Tableau1[[#This Row],[Niveau 2]],\" \",Tableau1[[#This Row],[Niveau 3]],\" \",Tableau1[[#This Row],[Niveau 4]],\" \",Tableau1[[#This Row],[Niveau 5]])),\" \",\".\")","v":""},{"$f":"IFERROR(IF(COUNTBLANK(Tableau1[[#This Row],[Niveau 0]:[Niveau 5]])=5,\"0\",LEFT(Tableau1[[#This Row],[Niveau]],(LEN(Tableau1[[#This Row],[Niveau]])-LEN(OFFSET(Tableau1[[#This Row],[Niveau 5]],0,(-COUNTBLANK(Tableau1[[#This Row],[Niveau 0]:[Niveau 5]]))))-1))),\"\")","v":""},null,null,null,null,{"$f":"IF(Tableau1[[#This Row],[Catégorie pièce]]=\" Opérations\",VLOOKUP(Tableau1[[#This Row],[Article produit/\nPoste de charge]],'PDC+emplacement'!A:C,2,FALSE),IF(Tableau1[[#This Row],[Catégorie pièce]]=\" Nouveau\",\"***RENSEIGNER NOM***\",IFERROR(VLOOKUP(CONCATENATE(Tableau1[[#This Row],[Article produit/\nPoste de charge]]),[1]ARTRDCL!$A$1:$U$25000,2,FALSE),\"\")))","v":""},null,null,null,null,null,{"$f":"IF(Tableau1[[#This Row],[Type plan]]=\"SP\",\"SP\",IF(AND(Tableau1[[#This Row],[Catégorie pièce]]=\" Nouveau\",Tableau1[[#This Row],[Type de pièce]]<>\" Panoplie\"),MID(Tableau1[[#This Row],[Article produit/\nPoste de charge]],2,15),IF(AND(Tableau1[[#This Row],[Catégorie pièce]]=\" Nouveau\",Tableau1[[#This Row],[Type de pièce]]=\" Panoplie\"),Tableau1[[#This Row],[Article produit/\nPoste de charge]],\"\")))","v":""},null,null,{"$f":"ROUNDUP((Tableau1[[#This Row],[Qté / an]]/52)*2,0)","v":{"$error":"#VALUE!"}},null,null,{"$f":"IF(AND(Tableau1[[#This Row],[Catégorie pièce]]=\" Opérations\",Tableau1[[#This Row],[Type de pièce]]=\" Temps\"),Taux_horaire/100,IF(AND(Tableau1[[#This Row],[Catégorie pièce]]=\" Nouveau\",Tableau1[[#This Row],[Type de pièce]]=\" Fabriquée\"),BOM!$AO108,IF(OR(AND(Tableau1[[#This Row],[Catégorie pièce]]=\" Nouveau\",Tableau1[[#This Row],[Type de pièce]]=\" Assemblage\"),BOM!$Y108=\" Produit fini\",Tableau1[[#This Row],[Type de pièce]]=\" Opé pièce primaire\",Tableau1[[#This Row],[Type de pièce]]=\" Pièce/Opé Panoplie\"),\"/\",IF(Tableau1[[#This Row],[Catégorie pièce]]=\" Existant\",VLOOKUP(CONCATENATE(Tableau1[[#This Row],[Article produit/\nPoste de charge]]),[1]ARTRDCL!$A$1:$U$65536,15,FALSE),\"\"))))","v":""},{"$f":"IF(OR(Tableau1[[#This Row],[Catégorie pièce]]=\" Opérations\",Tableau1[[#This Row],[Catégorie pièce]]=\" Matière 1ère\",ISBLANK(Tableau1[[#This Row],[Catégorie pièce]])),\"/\",SUMPRODUCT($AY$6:$BB$6,Tableau1[[#This Row],[Modèle A]:[Modèle D]]))","v":"/"},{"$f":"IFERROR(ROUNDDOWN(Tableau1[[#This Row],[surface\ntôle (m²)]]/Tableau1[[#This Row],[Surface\npièce (m²)]],0),0)","v":0},{"$f":"IF(AND(Tableau1[[#This Row],[Catégorie pièce]]=\" Nouveau\",Tableau1[[#This Row],[Type de pièce]]=\" Fabriquée\"),ROUNDUP(Tableau1[[#This Row],[Qté / an]]*2/52,0),0)","v":0},null,null,null,null,null,null,null,null,null,null,null,{"$f":"SUM(Tableau1[[#This Row],[VCOGS\ntôle]:[VCOGS\npliage]])","v":0},{"$f":"IFERROR((VLOOKUP(Tableau1[[#This Row],[Format\ntôle]],Tableau2[],11,FALSE)/Tableau1[[#This Row],[Série \néconomique ]])*Tableau1[[#This Row],[surface\ntôle (m²)]],0)","v":0},{"$f":"IF(Tableau1[[#This Row],[Laser (O/N)]]= \"Oui\",Tableau1[[#This Row],[Coût\ndécoupe laser]],Tableau1[[#This Row],[Coût\npoinçonnage]])","v":0},{"$f":"IF(Tableau1[[#This Row],[Nb plis]]>0, (IF(Tableau1[[#This Row],[Nb plis]]<5,0.25,IF(Tableau1[[#This Row],[Nb plis]]<7,0.33,0.45))/Tableau1[[#This Row],[Série \néconomique ]] +0.004*Tableau1[[#This Row],[Nb plis]])*$N$5,0)","v":0},{"$f":"IFERROR(VLOOKUP(Tableau1[[#This Row],[Format\ntôle]],Tôles!B:P,9,FALSE),0)","v":0},{"$f":"Tableau1[[#This Row],[Dimention X (mm)]]/1000*Tableau1[[#This Row],[Dimention Y (mm)]]/1000","v":0},{"$f":"IFERROR(ROUNDUP(Tableau1[[#This Row],[Surface\npièce (m²)]]/Tableau1[[#This Row],[surface\ntôle (m²)]],4),0)","v":0},{"$f":"IF(Tableau1[[#This Row],[Forcer série Economique ]]>0,Tableau1[[#This Row],[Forcer série Economique ]],Tableau1[[#This Row],[Série Economique proposée]])","v":0},{"$f":"IF(OR(ISERROR((5/Tableau1[[#This Row],[Série \néconomique ]]+Tableau1[[#This Row],[Nb trous]]*0.08*VLOOKUP(Tableau1[[#This Row],[Format\ntôle]],Tôles!B:O,5,FALSE)+ (Tableau1[[#This Row],[Dimention X (mm)]]+Tableau1[[#This Row],[Dimention Y (mm)]]) * 0.001)*Taux_horaire/100),Tableau1[[#This Row],[VCOGS\ntôle]] = \"\"),0,(5/Tableau1[[#This Row],[Série \néconomique ]]+Tableau1[[#This Row],[Nb trous]]*0.08*VLOOKUP(Tableau1[[#This Row],[Format\ntôle]],Tôles!B:O,5,FALSE)+ (Tableau1[[#This Row],[Dimention X (mm)]]+Tableau1[[#This Row],[Dimention Y (mm)]]) * 0.001)*Taux_horaire/100)","v":0},{"$f":"IF(OR(ISERROR((10/Tableau1[[#This Row],[Série \néconomique ]]+Tableau1[[#This Row],[Nb trous]]*0.007 + (Tableau1[[#This Row],[Dimention X (mm)]]+Tableau1[[#This Row],[Dimention Y (mm)]]) * 0.0005)*Taux_horaire/100),Tableau1[[#This Row],[VCOGS\ntôle]]= \"\"),0,(10/Tableau1[[#This Row],[Série \néconomique ]]+Tableau1[[#This Row],[Nb trous]]*0.007 + (Tableau1[[#This Row],[Dimention X (mm)]]+Tableau1[[#This Row],[Dimention Y (mm)]]) * 0.0005)*Taux_horaire/100)","v":0}]
[null,null,null,null,null,null,null,{"$f":"SUBSTITUTE(TRIM(CONCATENATE(Tableau1[[#This Row],[Niveau 0]],\" \",Tableau1[[#This Row],[Niveau 1]],\" \",Tableau1[[#This Row],[Niveau 2]],\" \",Tableau1[[#This Row],[Niveau 3]],\" \",Tableau1[[#This Row],[Niveau 4]],\" \",Tableau1[[#This Row],[Niveau 5]])),\" \",\".\")","v":""},{"$f":"IFERROR(IF(COUNTBLANK(Tableau1[[#This Row],[Niveau 0]:[Niveau 5]])=5,\"0\",LEFT(Tableau1[[#This Row],[Niveau]],(LEN(Tableau1[[#This Row],[Niveau]])-LEN(OFFSET(Tableau1[[#This Row],[Niveau 5]],0,(-COUNTBLANK(Tableau1[[#This Row],[Niveau 0]:[Niveau 5]]))))-1))),\"\")","v":""},null,null,null,null,{"$f":"IF(Tableau1[[#This Row],[Catégorie pièce]]=\" Opérations\",VLOOKUP(Tableau1[[#This Row],[Article produit/\nPoste de charge]],'PDC+emplacement'!A:C,2,FALSE),IF(Tableau1[[#This Row],[Catégorie pièce]]=\" Nouveau\",\"***RENSEIGNER NOM***\",IFERROR(VLOOKUP(CONCATENATE(Tableau1[[#This Row],[Article produit/\nPoste de charge]]),[1]ARTRDCL!$A$1:$U$25000,2,FALSE),\"\")))","v":""},null,null,null,null,null,{"$f":"IF(Tableau1[[#This Row],[Type plan]]=\"SP\",\"SP\",IF(AND(Tableau1[[#This Row],[Catégorie pièce]]=\" Nouveau\",Tableau1[[#This Row],[Type de pièce]]<>\" Panoplie\"),MID(Tableau1[[#This Row],[Article produit/\nPoste de charge]],2,15),IF(AND(Tableau1[[#This Row],[Catégorie pièce]]=\" Nouveau\",Tableau1[[#This Row],[Type de pièce]]=\" Panoplie\"),Tableau1[[#This Row],[Article produit/\nPoste de charge]],\"\")))","v":""},null,null,{"$f":"ROUNDUP((Tableau1[[#This Row],[Qté / an]]/52)*2,0)","v":{"$error":"#VALUE!"}},null,null,{"$f":"IF(AND(Tableau1[[#This Row],[Catégorie pièce]]=\" Opérations\",Tableau1[[#This Row],[Type de pièce]]=\" Temps\"),Taux_horaire/100,IF(AND(Tableau1[[#This Row],[Catégorie pièce]]=\" Nouveau\",Tableau1[[#This Row],[Type de pièce]]=\" Fabriquée\"),BOM!$AO109,IF(OR(AND(Tableau1[[#This Row],[Catégorie pièce]]=\" Nouveau\",Tableau1[[#This Row],[Type de pièce]]=\" Assemblage\"),BOM!$Y109=\" Produit fini\",Tableau1[[#This Row],[Type de pièce]]=\" Opé pièce primaire\",Tableau1[[#This Row],[Type de pièce]]=\" Pièce/Opé Panoplie\"),\"/\",IF(Tableau1[[#This Row],[Catégorie pièce]]=\" Existant\",VLOOKUP(CONCATENATE(Tableau1[[#This Row],[Article produit/\nPoste de charge]]),[1]ARTRDCL!$A$1:$U$65536,15,FALSE),\"\"))))","v":""},{"$f":"IF(OR(Tableau1[[#This Row],[Catégorie pièce]]=\" Opérations\",Tableau1[[#This Row],[Catégorie pièce]]=\" Matière 1ère\",ISBLANK(Tableau1[[#This Row],[Catégorie pièce]])),\"/\",SUMPRODUCT($AY$6:$BB$6,Tableau1[[#This Row],[Modèle A]:[Modèle D]]))","v":"/"},{"$f":"IFERROR(ROUNDDOWN(Tableau1[[#This Row],[surface\ntôle (m²)]]/Tableau1[[#This Row],[Surface\npièce (m²)]],0),0)","v":0},{"$f":"IF(AND(Tableau1[[#This Row],[Catégorie pièce]]=\" Nouveau\",Tableau1[[#This Row],[Type de pièce]]=\" Fabriquée\"),ROUNDUP(Tableau1[[#This Row],[Qté / an]]*2/52,0),0)","v":0},null,null,null,null,null,null,null,null,null,null,null,{"$f":"SUM(Tableau1[[#This Row],[VCOGS\ntôle]:[VCOGS\npliage]])","v":0},{"$f":"IFERROR((VLOOKUP(Tableau1[[#This Row],[Format\ntôle]],Tableau2[],11,FALSE)/Tableau1[[#This Row],[Série \néconomique ]])*Tableau1[[#This Row],[surface\ntôle (m²)]],0)","v":0},{"$f":"IF(Tableau1[[#This Row],[Laser (O/N)]]= \"Oui\",Tableau1[[#This Row],[Coût\ndécoupe laser]],Tableau1[[#This Row],[Coût\npoinçonnage]])","v":0},{"$f":"IF(Tableau1[[#This Row],[Nb plis]]>0, (IF(Tableau1[[#This Row],[Nb plis]]<5,0.25,IF(Tableau1[[#This Row],[Nb plis]]<7,0.33,0.45))/Tableau1[[#This Row],[Série \néconomique ]] +0.004*Tableau1[[#This Row],[Nb plis]])*$N$5,0)","v":0},{"$f":"IFERROR(VLOOKUP(Tableau1[[#This Row],[Format\ntôle]],Tôles!B:P,9,FALSE),0)","v":0},{"$f":"Tableau1[[#This Row],[Dimention X (mm)]]/1000*Tableau1[[#This Row],[Dimention Y (mm)]]/1000","v":0},{"$f":"IFERROR(ROUNDUP(Tableau1[[#This Row],[Surface\npièce (m²)]]/Tableau1[[#This Row],[surface\ntôle (m²)]],4),0)","v":0},{"$f":"IF(Tableau1[[#This Row],[Forcer série Economique ]]>0,Tableau1[[#This Row],[Forcer série Economique ]],Tableau1[[#This Row],[Série Economique proposée]])","v":0},{"$f":"IF(OR(ISERROR((5/Tableau1[[#This Row],[Série \néconomique ]]+Tableau1[[#This Row],[Nb trous]]*0.08*VLOOKUP(Tableau1[[#This Row],[Format\ntôle]],Tôles!B:O,5,FALSE)+ (Tableau1[[#This Row],[Dimention X (mm)]]+Tableau1[[#This Row],[Dimention Y (mm)]]) * 0.001)*Taux_horaire/100),Tableau1[[#This Row],[VCOGS\ntôle]] = \"\"),0,(5/Tableau1[[#This Row],[Série \néconomique ]]+Tableau1[[#This Row],[Nb trous]]*0.08*VLOOKUP(Tableau1[[#This Row],[Format\ntôle]],Tôles!B:O,5,FALSE)+ (Tableau1[[#This Row],[Dimention X (mm)]]+Tableau1[[#This Row],[Dimention Y (mm)]]) * 0.001)*Taux_horaire/100)","v":0},{"$f":"IF(OR(ISERROR((10/Tableau1[[#This Row],[Série \néconomique ]]+Tableau1[[#This Row],[Nb trous]]*0.007 + (Tableau1[[#This Row],[Dimention X (mm)]]+Tableau1[[#This Row],[Dimention Y (mm)]]) * 0.0005)*Taux_horaire/100),Tableau1[[#This Row],[VCOGS\ntôle]]= \"\"),0,(10/Tableau1[[#This Row],[Série \néconomique ]]+Tableau1[[#This Row],[Nb trous]]*0.007 + (Tableau1[[#This Row],[Dimention X (mm)]]+Tableau1[[#This Row],[Dimention Y (mm)]]) * 0.0005)*Taux_horaire/100)","v":0}]
[null,null,null,null,null,null,null,{"$f":"SUBSTITUTE(TRIM(CONCATENATE(Tableau1[[#This Row],[Niveau 0]],\" \",Tableau1[[#This Row],[Niveau 1]],\" \",Tableau1[[#This Row],[Niveau 2]],\" \",Tableau1[[#This Row],[Niveau 3]],\" \",Tableau1[[#This Row],[Niveau 4]],\" \",Tableau1[[#This Row],[Niveau 5]])),\" \",\".\")","v":""},{"$f":"IFERROR(IF(COUNTBLANK(Tableau1[[#This Row],[Niveau 0]:[Niveau 5]])=5,\"0\",LEFT(Tableau1[[#This Row],[Niveau]],(LEN(Tableau1[[#This Row],[Niveau]])-LEN(OFFSET(Tableau1[[#This Row],[Niveau 5]],0,(-COUNTBLANK(Tableau1[[#This Row],[Niveau 0]:[Niveau 5]]))))-1))),\"\")","v":""},null,null,null,null,{"$f":"IF(Tableau1[[#This Row],[Catégorie pièce]]=\" Opérations\",VLOOKUP(Tableau1[[#This Row],[Article produit/\nPoste de charge]],'PDC+emplacement'!A:C,2,FALSE),IF(Tableau1[[#This Row],[Catégorie pièce]]=\" Nouveau\",\"***RENSEIGNER NOM***\",IFERROR(VLOOKUP(CONCATENATE(Tableau1[[#This Row],[Article produit/\nPoste de charge]]),[1]ARTRDCL!$A$1:$U$25000,2,FALSE),\"\")))","v":""},null,null,null,null,null,{"$f":"IF(Tableau1[[#This Row],[Type plan]]=\"SP\",\"SP\",IF(AND(Tableau1[[#This Row],[Catégorie pièce]]=\" Nouveau\",Tableau1[[#This Row],[Type de pièce]]<>\" Panoplie\"),MID(Tableau1[[#This Row],[Article produit/\nPoste de charge]],2,15),IF(AND(Tableau1[[#This Row],[Catégorie pièce]]=\" Nouveau\",Tableau1[[#This Row],[Type de pièce]]=\" Panoplie\"),Tableau1[[#This Row],[Article produit/\nPoste de charge]],\"\")))","v":""},null,null,{"$f":"ROUNDUP((Tableau1[[#This Row],[Qté / an]]/52)*2,0)","v":{"$error":"#VALUE!"}},null,null,{"$f":"IF(AND(Tableau1[[#This Row],[Catégorie pièce]]=\" Opérations\",Tableau1[[#This Row],[Type de pièce]]=\" Temps\"),Taux_horaire/100,IF(AND(Tableau1[[#This Row],[Catégorie pièce]]=\" Nouveau\",Tableau1[[#This Row],[Type de pièce]]=\" Fabriquée\"),BOM!$AO110,IF(OR(AND(Tableau1[[#This Row],[Catégorie pièce]]=\" Nouveau\",Tableau1[[#This Row],[Type de pièce]]=\" Assemblage\"),BOM!$Y110=\" Produit fini\",Tableau1[[#This Row],[Type de pièce]]=\" Opé pièce primaire\",Tableau1[[#This Row],[Type de pièce]]=\" Pièce/Opé Panoplie\"),\"/\",IF(Tableau1[[#This Row],[Catégorie pièce]]=\" Existant\",VLOOKUP(CONCATENATE(Tableau1[[#This Row],[Article produit/\nPoste de charge]]),[1]ARTRDCL!$A$1:$U$65536,15,FALSE),\"\"))))","v":""},{"$f":"IF(OR(Tableau1[[#This Row],[Catégorie pièce]]=\" Opérations\",Tableau1[[#This Row],[Catégorie pièce]]=\" Matière 1ère\",ISBLANK(Tableau1[[#This Row],[Catégorie pièce]])),\"/\",SUMPRODUCT($AY$6:$BB$6,Tableau1[[#This Row],[Modèle A]:[Modèle D]]))","v":"/"},{"$f":"IFERROR(ROUNDDOWN(Tableau1[[#This Row],[surface\ntôle (m²)]]/Tableau1[[#This Row],[Surface\npièce (m²)]],0),0)","v":0},{"$f":"IF(AND(Tableau1[[#This Row],[Catégorie pièce]]=\" Nouveau\",Tableau1[[#This Row],[Type de pièce]]=\" Fabriquée\"),ROUNDUP(Tableau1[[#This Row],[Qté / an]]*2/52,0),0)","v":0},null,null,null,null,null,null,null,null,null,null,null,{"$f":"SUM(Tableau1[[#This Row],[VCOGS\ntôle]:[VCOGS\npliage]])","v":0},{"$f":"IFERROR((VLOOKUP(Tableau1[[#This Row],[Format\ntôle]],Tableau2[],11,FALSE)/Tableau1[[#This Row],[Série \néconomique ]])*Tableau1[[#This Row],[surface\ntôle (m²)]],0)","v":0},{"$f":"IF(Tableau1[[#This Row],[Laser (O/N)]]= \"Oui\",Tableau1[[#This Row],[Coût\ndécoupe laser]],Tableau1[[#This Row],[Coût\npoinçonnage]])","v":0},{"$f":"IF(Tableau1[[#This Row],[Nb plis]]>0, (IF(Tableau1[[#This Row],[Nb plis]]<5,0.25,IF(Tableau1[[#This Row],[Nb plis]]<7,0.33,0.45))/Tableau1[[#This Row],[Série \néconomique ]] +0.004*Tableau1[[#This Row],[Nb plis]])*$N$5,0)","v":0},{"$f":"IFERROR(VLOOKUP(Tableau1[[#This Row],[Format\ntôle]],Tôles!B:P,9,FALSE),0)","v":0},{"$f":"Tableau1[[#This Row],[Dimention X (mm)]]/1000*Tableau1[[#This Row],[Dimention Y (mm)]]/1000","v":0},{"$f":"IFERROR(ROUNDUP(Tableau1[[#This Row],[Surface\npièce (m²)]]/Tableau1[[#This Row],[surface\ntôle (m²)]],4),0)","v":0},{"$f":"IF(Tableau1[[#This Row],[Forcer série Economique ]]>0,Tableau1[[#This Row],[Forcer série Economique ]],Tableau1[[#This Row],[Série Economique proposée]])","v":0},{"$f":"IF(OR(ISERROR((5/Tableau1[[#This Row],[Série \néconomique ]]+Tableau1[[#This Row],[Nb trous]]*0.08*VLOOKUP(Tableau1[[#This Row],[Format\ntôle]],Tôles!B:O,5,FALSE)+ (Tableau1[[#This Row],[Dimention X (mm)]]+Tableau1[[#This Row],[Dimention Y (mm)]]) * 0.001)*Taux_horaire/100),Tableau1[[#This Row],[VCOGS\ntôle]] = \"\"),0,(5/Tableau1[[#This Row],[Série \néconomique ]]+Tableau1[[#This Row],[Nb trous]]*0.08*VLOOKUP(Tableau1[[#This Row],[Format\ntôle]],Tôles!B:O,5,FALSE)+ (Tableau1[[#This Row],[Dimention X (mm)]]+Tableau1[[#This Row],[Dimention Y (mm)]]) * 0.001)*Taux_horaire/100)","v":0},{"$f":"IF(OR(ISERROR((10/Tableau1[[#This Row],[Série \néconomique ]]+Tableau1[[#This Row],[Nb trous]]*0.007 + (Tableau1[[#This Row],[Dimention X (mm)]]+Tableau1[[#This Row],[Dimention Y (mm)]]) * 0.0005)*Taux_horaire/100),Tableau1[[#This Row],[VCOGS\ntôle]]= \"\"),0,(10/Tableau1[[#This Row],[Série \néconomique ]]+Tableau1[[#This Row],[Nb trous]]*0.007 + (Tableau1[[#This Row],[Dimention X (mm)]]+Tableau1[[#This Row],[Dimention Y (mm)]]) * 0.0005)*Taux_horaire/100)","v":0}]
[null,null,null,null,null,null,null,{"$f":"SUBSTITUTE(TRIM(CONCATENATE(Tableau1[[#This Row],[Niveau 0]],\" \",Tableau1[[#This Row],[Niveau 1]],\" \",Tableau1[[#This Row],[Niveau 2]],\" \",Tableau1[[#This Row],[Niveau 3]],\" \",Tableau1[[#This Row],[Niveau 4]],\" \",Tableau1[[#This Row],[Niveau 5]])),\" \",\".\")","v":""},{"$f":"IFERROR(IF(COUNTBLANK(Tableau1[[#This Row],[Niveau 0]:[Niveau 5]])=5,\"0\",LEFT(Tableau1[[#This Row],[Niveau]],(LEN(Tableau1[[#This Row],[Niveau]])-LEN(OFFSET(Tableau1[[#This Row],[Niveau 5]],0,(-COUNTBLANK(Tableau1[[#This Row],[Niveau 0]:[Niveau 5]]))))-1))),\"\")","v":""},null,null,null,null,{"$f":"IF(Tableau1[[#This Row],[Catégorie pièce]]=\" Opérations\",VLOOKUP(Tableau1[[#This Row],[Article produit/\nPoste de charge]],'PDC+emplacement'!A:C,2,FALSE),IF(Tableau1[[#This Row],[Catégorie pièce]]=\" Nouveau\",\"***RENSEIGNER NOM***\",IFERROR(VLOOKUP(CONCATENATE(Tableau1[[#This Row],[Article produit/\nPoste de charge]]),[1]ARTRDCL!$A$1:$U$25000,2,FALSE),\"\")))","v":""},null,null,null,null,null,{"$f":"IF(Tableau1[[#This Row],[Type plan]]=\"SP\",\"SP\",IF(AND(Tableau1[[#This Row],[Catégorie pièce]]=\" Nouveau\",Tableau1[[#This Row],[Type de pièce]]<>\" Panoplie\"),MID(Tableau1[[#This Row],[Article produit/\nPoste de charge]],2,15),IF(AND(Tableau1[[#This Row],[Catégorie pièce]]=\" Nouveau\",Tableau1[[#This Row],[Type de pièce]]=\" Panoplie\"),Tableau1[[#This Row],[Article produit/\nPoste de charge]],\"\")))","v":""},null,null,{"$f":"ROUNDUP((Tableau1[[#This Row],[Qté / an]]/52)*2,0)","v":{"$error":"#VALUE!"}},null,null,{"$f":"IF(AND(Tableau1[[#This Row],[Catégorie pièce]]=\" Opérations\",Tableau1[[#This Row],[Type de pièce]]=\" Temps\"),Taux_horaire/100,IF(AND(Tableau1[[#This Row],[Catégorie pièce]]=\" Nouveau\",Tableau1[[#This Row],[Type de pièce]]=\" Fabriquée\"),BOM!$AO111,IF(OR(AND(Tableau1[[#This Row],[Catégorie pièce]]=\" Nouveau\",Tableau1[[#This Row],[Type de pièce]]=\" Assemblage\"),BOM!$Y111=\" Produit fini\",Tableau1[[#This Row],[Type de pièce]]=\" Opé pièce primaire\",Tableau1[[#This Row],[Type de pièce]]=\" Pièce/Opé Panoplie\"),\"/\",IF(Tableau1[[#This Row],[Catégorie pièce]]=\" Existant\",VLOOKUP(CONCATENATE(Tableau1[[#This Row],[Article produit/\nPoste de charge]]),[1]ARTRDCL!$A$1:$U$65536,15,FALSE),\"\"))))","v":""},{"$f":"IF(OR(Tableau1[[#This Row],[Catégorie pièce]]=\" Opérations\",Tableau1[[#This Row],[Catégorie pièce]]=\" Matière 1ère\",ISBLANK(Tableau1[[#This Row],[Catégorie pièce]])),\"/\",SUMPRODUCT($AY$6:$BB$6,Tableau1[[#This Row],[Modèle A]:[Modèle D]]))","v":"/"},{"$f":"IFERROR(ROUNDDOWN(Tableau1[[#This Row],[surface\ntôle (m²)]]/Tableau1[[#This Row],[Surface\npièce (m²)]],0),0)","v":0},{"$f":"IF(AND(Tableau1[[#This Row],[Catégorie pièce]]=\" Nouveau\",Tableau1[[#This Row],[Type de pièce]]=\" Fabriquée\"),ROUNDUP(Tableau1[[#This Row],[Qté / an]]*2/52,0),0)","v":0},null,null,null,null,null,null,null,null,null,null,null,{"$f":"SUM(Tableau1[[#This Row],[VCOGS\ntôle]:[VCOGS\npliage]])","v":0},{"$f":"IFERROR((VLOOKUP(Tableau1[[#This Row],[Format\ntôle]],Tableau2[],11,FALSE)/Tableau1[[#This Row],[Série \néconomique ]])*Tableau1[[#This Row],[surface\ntôle (m²)]],0)","v":0},{"$f":"IF(Tableau1[[#This Row],[Laser (O/N)]]= \"Oui\",Tableau1[[#This Row],[Coût\ndécoupe laser]],Tableau1[[#This Row],[Coût\npoinçonnage]])","v":0},{"$f":"IF(Tableau1[[#This Row],[Nb plis]]>0, (IF(Tableau1[[#This Row],[Nb plis]]<5,0.25,IF(Tableau1[[#This Row],[Nb plis]]<7,0.33,0.45))/Tableau1[[#This Row],[Série \néconomique ]] +0.004*Tableau1[[#This Row],[Nb plis]])*$N$5,0)","v":0},{"$f":"IFERROR(VLOOKUP(Tableau1[[#This Row],[Format\ntôle]],Tôles!B:P,9,FALSE),0)","v":0},{"$f":"Tableau1[[#This Row],[Dimention X (mm)]]/1000*Tableau1[[#This Row],[Dimention Y (mm)]]/1000","v":0},{"$f":"IFERROR(ROUNDUP(Tableau1[[#This Row],[Surface\npièce (m²)]]/Tableau1[[#This Row],[surface\ntôle (m²)]],4),0)","v":0},{"$f":"IF(Tableau1[[#This Row],[Forcer série Economique ]]>0,Tableau1[[#This Row],[Forcer série Economique ]],Tableau1[[#This Row],[Série Economique proposée]])","v":0},{"$f":"IF(OR(ISERROR((5/Tableau1[[#This Row],[Série \néconomique ]]+Tableau1[[#This Row],[Nb trous]]*0.08*VLOOKUP(Tableau1[[#This Row],[Format\ntôle]],Tôles!B:O,5,FALSE)+ (Tableau1[[#This Row],[Dimention X (mm)]]+Tableau1[[#This Row],[Dimention Y (mm)]]) * 0.001)*Taux_horaire/100),Tableau1[[#This Row],[VCOGS\ntôle]] = \"\"),0,(5/Tableau1[[#This Row],[Série \néconomique ]]+Tableau1[[#This Row],[Nb trous]]*0.08*VLOOKUP(Tableau1[[#This Row],[Format\ntôle]],Tôles!B:O,5,FALSE)+ (Tableau1[[#This Row],[Dimention X (mm)]]+Tableau1[[#This Row],[Dimention Y (mm)]]) * 0.001)*Taux_horaire/100)","v":0},{"$f":"IF(OR(ISERROR((10/Tableau1[[#This Row],[Série \néconomique ]]+Tableau1[[#This Row],[Nb trous]]*0.007 + (Tableau1[[#This Row],[Dimention X (mm)]]+Tableau1[[#This Row],[Dimention Y (mm)]]) * 0.0005)*Taux_horaire/100),Tableau1[[#This Row],[VCOGS\ntôle]]= \"\"),0,(10/Tableau1[[#This Row],[Série \néconomique ]]+Tableau1[[#This Row],[Nb trous]]*0.007 + (Tableau1[[#This Row],[Dimention X (mm)]]+Tableau1[[#This Row],[Dimention Y (mm)]]) * 0.0005)*Taux_horaire/100)","v":0}]
[null,null,null,null,null,null,null,{"$f":"SUBSTITUTE(TRIM(CONCATENATE(Tableau1[[#This Row],[Niveau 0]],\" \",Tableau1[[#This Row],[Niveau 1]],\" \",Tableau1[[#This Row],[Niveau 2]],\" \",Tableau1[[#This Row],[Niveau 3]],\" \",Tableau1[[#This Row],[Niveau 4]],\" \",Tableau1[[#This Row],[Niveau 5]])),\" \",\".\")","v":""},{"$f":"IFERROR(IF(COUNTBLANK(Tableau1[[#This Row],[Niveau 0]:[Niveau 5]])=5,\"0\",LEFT(Tableau1[[#This Row],[Niveau]],(LEN(Tableau1[[#This Row],[Niveau]])-LEN(OFFSET(Tableau1[[#This Row],[Niveau 5]],0,(-COUNTBLANK(Tableau1[[#This Row],[Niveau 0]:[Niveau 5]]))))-1))),\"\")","v":""},null,null,null,null,{"$f":"IF(Tableau1[[#This Row],[Catégorie pièce]]=\" Opérations\",VLOOKUP(Tableau1[[#This Row],[Article produit/\nPoste de charge]],'PDC+emplacement'!A:C,2,FALSE),IF(Tableau1[[#This Row],[Catégorie pièce]]=\" Nouveau\",\"***RENSEIGNER NOM***\",IFERROR(VLOOKUP(CONCATENATE(Tableau1[[#This Row],[Article produit/\nPoste de charge]]),[1]ARTRDCL!$A$1:$U$25000,2,FALSE),\"\")))","v":""},null,null,null,null,null,{"$f":"IF(Tableau1[[#This Row],[Type plan]]=\"SP\",\"SP\",IF(AND(Tableau1[[#This Row],[Catégorie pièce]]=\" Nouveau\",Tableau1[[#This Row],[Type de pièce]]<>\" Panoplie\"),MID(Tableau1[[#This Row],[Article produit/\nPoste de charge]],2,15),IF(AND(Tableau1[[#This Row],[Catégorie pièce]]=\" Nouveau\",Tableau1[[#This Row],[Type de pièce]]=\" Panoplie\"),Tableau1[[#This Row],[Article produit/\nPoste de charge]],\"\")))","v":""},null,null,{"$f":"ROUNDUP((Tableau1[[#This Row],[Qté / an]]/52)*2,0)","v":{"$error":"#VALUE!"}},null,null,{"$f":"IF(AND(Tableau1[[#This Row],[Catégorie pièce]]=\" Opérations\",Tableau1[[#This Row],[Type de pièce]]=\" Temps\"),Taux_horaire/100,IF(AND(Tableau1[[#This Row],[Catégorie pièce]]=\" Nouveau\",Tableau1[[#This Row],[Type de pièce]]=\" Fabriquée\"),BOM!$AO112,IF(OR(AND(Tableau1[[#This Row],[Catégorie pièce]]=\" Nouveau\",Tableau1[[#This Row],[Type de pièce]]=\" Assemblage\"),BOM!$Y112=\" Produit fini\",Tableau1[[#This Row],[Type de pièce]]=\" Opé pièce primaire\",Tableau1[[#This Row],[Type de pièce]]=\" Pièce/Opé Panoplie\"),\"/\",IF(Tableau1[[#This Row],[Catégorie pièce]]=\" Existant\",VLOOKUP(CONCATENATE(Tableau1[[#This Row],[Article produit/\nPoste de charge]]),[1]ARTRDCL!$A$1:$U$65536,15,FALSE),\"\"))))","v":""},{"$f":"IF(OR(Tableau1[[#This Row],[Catégorie pièce]]=\" Opérations\",Tableau1[[#This Row],[Catégorie pièce]]=\" Matière 1ère\",ISBLANK(Tableau1[[#This Row],[Catégorie pièce]])),\"/\",SUMPRODUCT($AY$6:$BB$6,Tableau1[[#This Row],[Modèle A]:[Modèle D]]))","v":"/"},{"$f":"IFERROR(ROUNDDOWN(Tableau1[[#This Row],[surface\ntôle (m²)]]/Tableau1[[#This Row],[Surface\npièce (m²)]],0),0)","v":0},{"$f":"IF(AND(Tableau1[[#This Row],[Catégorie pièce]]=\" Nouveau\",Tableau1[[#This Row],[Type de pièce]]=\" Fabriquée\"),ROUNDUP(Tableau1[[#This Row],[Qté / an]]*2/52,0),0)","v":0},null,null,null,null,null,null,null,null,null,null,null,{"$f":"SUM(Tableau1[[#This Row],[VCOGS\ntôle]:[VCOGS\npliage]])","v":0},{"$f":"IFERROR((VLOOKUP(Tableau1[[#This Row],[Format\ntôle]],Tableau2[],11,FALSE)/Tableau1[[#This Row],[Série \néconomique ]])*Tableau1[[#This Row],[surface\ntôle (m²)]],0)","v":0},{"$f":"IF(Tableau1[[#This Row],[Laser (O/N)]]= \"Oui\",Tableau1[[#This Row],[Coût\ndécoupe laser]],Tableau1[[#This Row],[Coût\npoinçonnage]])","v":0},{"$f":"IF(Tableau1[[#This Row],[Nb plis]]>0, (IF(Tableau1[[#This Row],[Nb plis]]<5,0.25,IF(Tableau1[[#This Row],[Nb plis]]<7,0.33,0.45))/Tableau1[[#This Row],[Série \néconomique ]] +0.004*Tableau1[[#This Row],[Nb plis]])*$N$5,0)","v":0},{"$f":"IFERROR(VLOOKUP(Tableau1[[#This Row],[Format\ntôle]],Tôles!B:P,9,FALSE),0)","v":0},{"$f":"Tableau1[[#This Row],[Dimention X (mm)]]/1000*Tableau1[[#This Row],[Dimention Y (mm)]]/1000","v":0},{"$f":"IFERROR(ROUNDUP(Tableau1[[#This Row],[Surface\npièce (m²)]]/Tableau1[[#This Row],[surface\ntôle (m²)]],4),0)","v":0},{"$f":"IF(Tableau1[[#This Row],[Forcer série Economique ]]>0,Tableau1[[#This Row],[Forcer série Economique ]],Tableau1[[#This Row],[Série Economique proposée]])","v":0},{"$f":"IF(OR(ISERROR((5/Tableau1[[#This Row],[Série \néconomique ]]+Tableau1[[#This Row],[Nb trous]]*0.08*VLOOKUP(Tableau1[[#This Row],[Format\ntôle]],Tôles!B:O,5,FALSE)+ (Tableau1[[#This Row],[Dimention X (mm)]]+Tableau1[[#This Row],[Dimention Y (mm)]]) * 0.001)*Taux_horaire/100),Tableau1[[#This Row],[VCOGS\ntôle]] = \"\"),0,(5/Tableau1[[#This Row],[Série \néconomique ]]+Tableau1[[#This Row],[Nb trous]]*0.08*VLOOKUP(Tableau1[[#This Row],[Format\ntôle]],Tôles!B:O,5,FALSE)+ (Tableau1[[#This Row],[Dimention X (mm)]]+Tableau1[[#This Row],[Dimention Y (mm)]]) * 0.001)*Taux_horaire/100)","v":0},{"$f":"IF(OR(ISERROR((10/Tableau1[[#This Row],[Série \néconomique ]]+Tableau1[[#This Row],[Nb trous]]*0.007 + (Tableau1[[#This Row],[Dimention X (mm)]]+Tableau1[[#This Row],[Dimention Y (mm)]]) * 0.0005)*Taux_horaire/100),Tableau1[[#This Row],[VCOGS\ntôle]]= \"\"),0,(10/Tableau1[[#This Row],[Série \néconomique ]]+Tableau1[[#This Row],[Nb trous]]*0.007 + (Tableau1[[#This Row],[Dimention X (mm)]]+Tableau1[[#This Row],[Dimention Y (mm)]]) * 0.0005)*Taux_horaire/100)","v":0}]
[null,null,null,null,null,null,null,{"$f":"SUBSTITUTE(TRIM(CONCATENATE(Tableau1[[#This Row],[Niveau 0]],\" \",Tableau1[[#This Row],[Niveau 1]],\" \",Tableau1[[#This Row],[Niveau 2]],\" \",Tableau1[[#This Row],[Niveau 3]],\" \",Tableau1[[#This Row],[Niveau 4]],\" \",Tableau1[[#This Row],[Niveau 5]])),\" \",\".\")","v":""},{"$f":"IFERROR(IF(COUNTBLANK(Tableau1[[#This Row],[Niveau 0]:[Niveau 5]])=5,\"0\",LEFT(Tableau1[[#This Row],[Niveau]],(LEN(Tableau1[[#This Row],[Niveau]])-LEN(OFFSET(Tableau1[[#This Row],[Niveau 5]],0,(-COUNTBLANK(Tableau1[[#This Row],[Niveau 0]:[Niveau 5]]))))-1))),\"\")","v":""},null,null,null,null,{"$f":"IF(Tableau1[[#This Row],[Catégorie pièce]]=\" Opérations\",VLOOKUP(Tableau1[[#This Row],[Article produit/\nPoste de charge]],'PDC+emplacement'!A:C,2,FALSE),IF(Tableau1[[#This Row],[Catégorie pièce]]=\" Nouveau\",\"***RENSEIGNER NOM***\",IFERROR(VLOOKUP(CONCATENATE(Tableau1[[#This Row],[Article produit/\nPoste de charge]]),[1]ARTRDCL!$A$1:$U$25000,2,FALSE),\"\")))","v":""},null,null,null,null,null,{"$f":"IF(Tableau1[[#This Row],[Type plan]]=\"SP\",\"SP\",IF(AND(Tableau1[[#This Row],[Catégorie pièce]]=\" Nouveau\",Tableau1[[#This Row],[Type de pièce]]<>\" Panoplie\"),MID(Tableau1[[#This Row],[Article produit/\nPoste de charge]],2,15),IF(AND(Tableau1[[#This Row],[Catégorie pièce]]=\" Nouveau\",Tableau1[[#This Row],[Type de pièce]]=\" Panoplie\"),Tableau1[[#This Row],[Article produit/\nPoste de charge]],\"\")))","v":""},null,null,{"$f":"ROUNDUP((Tableau1[[#This Row],[Qté / an]]/52)*2,0)","v":{"$error":"#VALUE!"}},null,null,{"$f":"IF(AND(Tableau1[[#This Row],[Catégorie pièce]]=\" Opérations\",Tableau1[[#This Row],[Type de pièce]]=\" Temps\"),Taux_horaire/100,IF(AND(Tableau1[[#This Row],[Catégorie pièce]]=\" Nouveau\",Tableau1[[#This Row],[Type de pièce]]=\" Fabriquée\"),BOM!$AO113,IF(OR(AND(Tableau1[[#This Row],[Catégorie pièce]]=\" Nouveau\",Tableau1[[#This Row],[Type de pièce]]=\" Assemblage\"),BOM!$Y113=\" Produit fini\",Tableau1[[#This Row],[Type de pièce]]=\" Opé pièce primaire\",Tableau1[[#This Row],[Type de pièce]]=\" Pièce/Opé Panoplie\"),\"/\",IF(Tableau1[[#This Row],[Catégorie pièce]]=\" Existant\",VLOOKUP(CONCATENATE(Tableau1[[#This Row],[Article produit/\nPoste de charge]]),[1]ARTRDCL!$A$1:$U$65536,15,FALSE),\"\"))))","v":""},{"$f":"IF(OR(Tableau1[[#This Row],[Catégorie pièce]]=\" Opérations\",Tableau1[[#This Row],[Catégorie pièce]]=\" Matière 1ère\",ISBLANK(Tableau1[[#This Row],[Catégorie pièce]])),\"/\",SUMPRODUCT($AY$6:$BB$6,Tableau1[[#This Row],[Modèle A]:[Modèle D]]))","v":"/"},{"$f":"IFERROR(ROUNDDOWN(Tableau1[[#This Row],[surface\ntôle (m²)]]/Tableau1[[#This Row],[Surface\npièce (m²)]],0),0)","v":0},{"$f":"IF(AND(Tableau1[[#This Row],[Catégorie pièce]]=\" Nouveau\",Tableau1[[#This Row],[Type de pièce]]=\" Fabriquée\"),ROUNDUP(Tableau1[[#This Row],[Qté / an]]*2/52,0),0)","v":0},null,null,null,null,null,null,null,null,null,null,null,{"$f":"SUM(Tableau1[[#This Row],[VCOGS\ntôle]:[VCOGS\npliage]])","v":0},{"$f":"IFERROR((VLOOKUP(Tableau1[[#This Row],[Format\ntôle]],Tableau2[],11,FALSE)/Tableau1[[#This Row],[Série \néconomique ]])*Tableau1[[#This Row],[surface\ntôle (m²)]],0)","v":0},{"$f":"IF(Tableau1[[#This Row],[Laser (O/N)]]= \"Oui\",Tableau1[[#This Row],[Coût\ndécoupe laser]],Tableau1[[#This Row],[Coût\npoinçonnage]])","v":0},{"$f":"IF(Tableau1[[#This Row],[Nb plis]]>0, (IF(Tableau1[[#This Row],[Nb plis]]<5,0.25,IF(Tableau1[[#This Row],[Nb plis]]<7,0.33,0.45))/Tableau1[[#This Row],[Série \néconomique ]] +0.004*Tableau1[[#This Row],[Nb plis]])*$N$5,0)","v":0},{"$f":"IFERROR(VLOOKUP(Tableau1[[#This Row],[Format\ntôle]],Tôles!B:P,9,FALSE),0)","v":0},{"$f":"Tableau1[[#This Row],[Dimention X (mm)]]/1000*Tableau1[[#This Row],[Dimention Y (mm)]]/1000","v":0},{"$f":"IFERROR(ROUNDUP(Tableau1[[#This Row],[Surface\npièce (m²)]]/Tableau1[[#This Row],[surface\ntôle (m²)]],4),0)","v":0},{"$f":"IF(Tableau1[[#This Row],[Forcer série Economique ]]>0,Tableau1[[#This Row],[Forcer série Economique ]],Tableau1[[#This Row],[Série Economique proposée]])","v":0},{"$f":"IF(OR(ISERROR((5/Tableau1[[#This Row],[Série \néconomique ]]+Tableau1[[#This Row],[Nb trous]]*0.08*VLOOKUP(Tableau1[[#This Row],[Format\ntôle]],Tôles!B:O,5,FALSE)+ (Tableau1[[#This Row],[Dimention X (mm)]]+Tableau1[[#This Row],[Dimention Y (mm)]]) * 0.001)*Taux_horaire/100),Tableau1[[#This Row],[VCOGS\ntôle]] = \"\"),0,(5/Tableau1[[#This Row],[Série \néconomique ]]+Tableau1[[#This Row],[Nb trous]]*0.08*VLOOKUP(Tableau1[[#This Row],[Format\ntôle]],Tôles!B:O,5,FALSE)+ (Tableau1[[#This Row],[Dimention X (mm)]]+Tableau1[[#This Row],[Dimention Y (mm)]]) * 0.001)*Taux_horaire/100)","v":0},{"$f":"IF(OR(ISERROR((10/Tableau1[[#This Row],[Série \néconomique ]]+Tableau1[[#This Row],[Nb trous]]*0.007 + (Tableau1[[#This Row],[Dimention X (mm)]]+Tableau1[[#This Row],[Dimention Y (mm)]]) * 0.0005)*Taux_horaire/100),Tableau1[[#This Row],[VCOGS\ntôle]]= \"\"),0,(10/Tableau1[[#This Row],[Série \néconomique ]]+Tableau1[[#This Row],[Nb trous]]*0.007 + (Tableau1[[#This Row],[Dimention X (mm)]]+Tableau1[[#This Row],[Dimention Y (mm)]]) * 0.0005)*Taux_horaire/100)","v":0}]
[null,null,null,null,null,null,null,{"$f":"SUBSTITUTE(TRIM(CONCATENATE(Tableau1[[#This Row],[Niveau 0]],\" \",Tableau1[[#This Row],[Niveau 1]],\" \",Tableau1[[#This Row],[Niveau 2]],\" \",Tableau1[[#This Row],[Niveau 3]],\" \",Tableau1[[#This Row],[Niveau 4]],\" \",Tableau1[[#This Row],[Niveau 5]])),\" \",\".\")","v":""},{"$f":"IFERROR(IF(COUNTBLANK(Tableau1[[#This Row],[Niveau 0]:[Niveau 5]])=5,\"0\",LEFT(Tableau1[[#This Row],[Niveau]],(LEN(Tableau1[[#This Row],[Niveau]])-LEN(OFFSET(Tableau1[[#This Row],[Niveau 5]],0,(-COUNTBLANK(Tableau1[[#This Row],[Niveau 0]:[Niveau 5]]))))-1))),\"\")","v":""},null,null,null,null,{"$f":"IF(Tableau1[[#This Row],[Catégorie pièce]]=\" Opérations\",VLOOKUP(Tableau1[[#This Row],[Article produit/\nPoste de charge]],'PDC+emplacement'!A:C,2,FALSE),IF(Tableau1[[#This Row],[Catégorie pièce]]=\" Nouveau\",\"***RENSEIGNER NOM***\",IFERROR(VLOOKUP(CONCATENATE(Tableau1[[#This Row],[Article produit/\nPoste de charge]]),[1]ARTRDCL!$A$1:$U$25000,2,FALSE),\"\")))","v":""},null,null,null,null,null,{"$f":"IF(Tableau1[[#This Row],[Type plan]]=\"SP\",\"SP\",IF(AND(Tableau1[[#This Row],[Catégorie pièce]]=\" Nouveau\",Tableau1[[#This Row],[Type de pièce]]<>\" Panoplie\"),MID(Tableau1[[#This Row],[Article produit/\nPoste de charge]],2,15),IF(AND(Tableau1[[#This Row],[Catégorie pièce]]=\" Nouveau\",Tableau1[[#This Row],[Type de pièce]]=\" Panoplie\"),Tableau1[[#This Row],[Article produit/\nPoste de charge]],\"\")))","v":""},null,null,{"$f":"ROUNDUP((Tableau1[[#This Row],[Qté / an]]/52)*2,0)","v":{"$error":"#VALUE!"}},null,null,{"$f":"IF(AND(Tableau1[[#This Row],[Catégorie pièce]]=\" Opérations\",Tableau1[[#This Row],[Type de pièce]]=\" Temps\"),Taux_horaire/100,IF(AND(Tableau1[[#This Row],[Catégorie pièce]]=\" Nouveau\",Tableau1[[#This Row],[Type de pièce]]=\" Fabriquée\"),BOM!$AO114,IF(OR(AND(Tableau1[[#This Row],[Catégorie pièce]]=\" Nouveau\",Tableau1[[#This Row],[Type de pièce]]=\" Assemblage\"),BOM!$Y114=\" Produit fini\",Tableau1[[#This Row],[Type de pièce]]=\" Opé pièce primaire\",Tableau1[[#This Row],[Type de pièce]]=\" Pièce/Opé Panoplie\"),\"/\",IF(Tableau1[[#This Row],[Catégorie pièce]]=\" Existant\",VLOOKUP(CONCATENATE(Tableau1[[#This Row],[Article produit/\nPoste de charge]]),[1]ARTRDCL!$A$1:$U$65536,15,FALSE),\"\"))))","v":""},{"$f":"IF(OR(Tableau1[[#This Row],[Catégorie pièce]]=\" Opérations\",Tableau1[[#This Row],[Catégorie pièce]]=\" Matière 1ère\",ISBLANK(Tableau1[[#This Row],[Catégorie pièce]])),\"/\",SUMPRODUCT($AY$6:$BB$6,Tableau1[[#This Row],[Modèle A]:[Modèle D]]))","v":"/"},{"$f":"IFERROR(ROUNDDOWN(Tableau1[[#This Row],[surface\ntôle (m²)]]/Tableau1[[#This Row],[Surface\npièce (m²)]],0),0)","v":0},{"$f":"IF(AND(Tableau1[[#This Row],[Catégorie pièce]]=\" Nouveau\",Tableau1[[#This Row],[Type de pièce]]=\" Fabriquée\"),ROUNDUP(Tableau1[[#This Row],[Qté / an]]*2/52,0),0)","v":0},null,null,null,null,null,null,null,null,null,null,null,{"$f":"SUM(Tableau1[[#This Row],[VCOGS\ntôle]:[VCOGS\npliage]])","v":0},{"$f":"IFERROR((VLOOKUP(Tableau1[[#This Row],[Format\ntôle]],Tableau2[],11,FALSE)/Tableau1[[#This Row],[Série \néconomique ]])*Tableau1[[#This Row],[surface\ntôle (m²)]],0)","v":0},{"$f":"IF(Tableau1[[#This Row],[Laser (O/N)]]= \"Oui\",Tableau1[[#This Row],[Coût\ndécoupe laser]],Tableau1[[#This Row],[Coût\npoinçonnage]])","v":0},{"$f":"IF(Tableau1[[#This Row],[Nb plis]]>0, (IF(Tableau1[[#This Row],[Nb plis]]<5,0.25,IF(Tableau1[[#This Row],[Nb plis]]<7,0.33,0.45))/Tableau1[[#This Row],[Série \néconomique ]] +0.004*Tableau1[[#This Row],[Nb plis]])*$N$5,0)","v":0},{"$f":"IFERROR(VLOOKUP(Tableau1[[#This Row],[Format\ntôle]],Tôles!B:P,9,FALSE),0)","v":0},{"$f":"Tableau1[[#This Row],[Dimention X (mm)]]/1000*Tableau1[[#This Row],[Dimention Y (mm)]]/1000","v":0},{"$f":"IFERROR(ROUNDUP(Tableau1[[#This Row],[Surface\npièce (m²)]]/Tableau1[[#This Row],[surface\ntôle (m²)]],4),0)","v":0},{"$f":"IF(Tableau1[[#This Row],[Forcer série Economique ]]>0,Tableau1[[#This Row],[Forcer série Economique ]],Tableau1[[#This Row],[Série Economique proposée]])","v":0},{"$f":"IF(OR(ISERROR((5/Tableau1[[#This Row],[Série \néconomique ]]+Tableau1[[#This Row],[Nb trous]]*0.08*VLOOKUP(Tableau1[[#This Row],[Format\ntôle]],Tôles!B:O,5,FALSE)+ (Tableau1[[#This Row],[Dimention X (mm)]]+Tableau1[[#This Row],[Dimention Y (mm)]]) * 0.001)*Taux_horaire/100),Tableau1[[#This Row],[VCOGS\ntôle]] = \"\"),0,(5/Tableau1[[#This Row],[Série \néconomique ]]+Tableau1[[#This Row],[Nb trous]]*0.08*VLOOKUP(Tableau1[[#This Row],[Format\ntôle]],Tôles!B:O,5,FALSE)+ (Tableau1[[#This Row],[Dimention X (mm)]]+Tableau1[[#This Row],[Dimention Y (mm)]]) * 0.001)*Taux_horaire/100)","v":0},{"$f":"IF(OR(ISERROR((10/Tableau1[[#This Row],[Série \néconomique ]]+Tableau1[[#This Row],[Nb trous]]*0.007 + (Tableau1[[#This Row],[Dimention X (mm)]]+Tableau1[[#This Row],[Dimention Y (mm)]]) * 0.0005)*Taux_horaire/100),Tableau1[[#This Row],[VCOGS\ntôle]]= \"\"),0,(10/Tableau1[[#This Row],[Série \néconomique ]]+Tableau1[[#This Row],[Nb trous]]*0.007 + (Tableau1[[#This Row],[Dimention X (mm)]]+Tableau1[[#This Row],[Dimention Y (mm)]]) * 0.0005)*Taux_horaire/100)","v":0}]
[null,null,null,null,null,null,null,{"$f":"SUBSTITUTE(TRIM(CONCATENATE(Tableau1[[#This Row],[Niveau 0]],\" \",Tableau1[[#This Row],[Niveau 1]],\" \",Tableau1[[#This Row],[Niveau 2]],\" \",Tableau1[[#This Row],[Niveau 3]],\" \",Tableau1[[#This Row],[Niveau 4]],\" \",Tableau1[[#This Row],[Niveau 5]])),\" \",\".\")","v":""},{"$f":"IFERROR(IF(COUNTBLANK(Tableau1[[#This Row],[Niveau 0]:[Niveau 5]])=5,\"0\",LEFT(Tableau1[[#This Row],[Niveau]],(LEN(Tableau1[[#This Row],[Niveau]])-LEN(OFFSET(Tableau1[[#This Row],[Niveau 5]],0,(-COUNTBLANK(Tableau1[[#This Row],[Niveau 0]:[Niveau 5]]))))-1))),\"\")","v":""},null,null,null,null,{"$f":"IF(Tableau1[[#This Row],[Catégorie pièce]]=\" Opérations\",VLOOKUP(Tableau1[[#This Row],[Article produit/\nPoste de charge]],'PDC+emplacement'!A:C,2,FALSE),IF(Tableau1[[#This Row],[Catégorie pièce]]=\" Nouveau\",\"***RENSEIGNER NOM***\",IFERROR(VLOOKUP(CONCATENATE(Tableau1[[#This Row],[Article produit/\nPoste de charge]]),[1]ARTRDCL!$A$1:$U$25000,2,FALSE),\"\")))","v":""},null,null,null,null,null,{"$f":"IF(Tableau1[[#This Row],[Type plan]]=\"SP\",\"SP\",IF(AND(Tableau1[[#This Row],[Catégorie pièce]]=\" Nouveau\",Tableau1[[#This Row],[Type de pièce]]<>\" Panoplie\"),MID(Tableau1[[#This Row],[Article produit/\nPoste de charge]],2,15),IF(AND(Tableau1[[#This Row],[Catégorie pièce]]=\" Nouveau\",Tableau1[[#This Row],[Type de pièce]]=\" Panoplie\"),Tableau1[[#This Row],[Article produit/\nPoste de charge]],\"\")))","v":""},null,null,{"$f":"ROUNDUP((Tableau1[[#This Row],[Qté / an]]/52)*2,0)","v":{"$error":"#VALUE!"}},null,null,{"$f":"IF(AND(Tableau1[[#This Row],[Catégorie pièce]]=\" Opérations\",Tableau1[[#This Row],[Type de pièce]]=\" Temps\"),Taux_horaire/100,IF(AND(Tableau1[[#This Row],[Catégorie pièce]]=\" Nouveau\",Tableau1[[#This Row],[Type de pièce]]=\" Fabriquée\"),BOM!$AO115,IF(OR(AND(Tableau1[[#This Row],[Catégorie pièce]]=\" Nouveau\",Tableau1[[#This Row],[Type de pièce]]=\" Assemblage\"),BOM!$Y115=\" Produit fini\",Tableau1[[#This Row],[Type de pièce]]=\" Opé pièce primaire\",Tableau1[[#This Row],[Type de pièce]]=\" Pièce/Opé Panoplie\"),\"/\",IF(Tableau1[[#This Row],[Catégorie pièce]]=\" Existant\",VLOOKUP(CONCATENATE(Tableau1[[#This Row],[Article produit/\nPoste de charge]]),[1]ARTRDCL!$A$1:$U$65536,15,FALSE),\"\"))))","v":""},{"$f":"IF(OR(Tableau1[[#This Row],[Catégorie pièce]]=\" Opérations\",Tableau1[[#This Row],[Catégorie pièce]]=\" Matière 1ère\",ISBLANK(Tableau1[[#This Row],[Catégorie pièce]])),\"/\",SUMPRODUCT($AY$6:$BB$6,Tableau1[[#This Row],[Modèle A]:[Modèle D]]))","v":"/"},{"$f":"IFERROR(ROUNDDOWN(Tableau1[[#This Row],[surface\ntôle (m²)]]/Tableau1[[#This Row],[Surface\npièce (m²)]],0),0)","v":0},{"$f":"IF(AND(Tableau1[[#This Row],[Catégorie pièce]]=\" Nouveau\",Tableau1[[#This Row],[Type de pièce]]=\" Fabriquée\"),ROUNDUP(Tableau1[[#This Row],[Qté / an]]*2/52,0),0)","v":0},null,null,null,null,null,null,null,null,null,null,null,{"$f":"SUM(Tableau1[[#This Row],[VCOGS\ntôle]:[VCOGS\npliage]])","v":0},{"$f":"IFERROR((VLOOKUP(Tableau1[[#This Row],[Format\ntôle]],Tableau2[],11,FALSE)/Tableau1[[#This Row],[Série \néconomique ]])*Tableau1[[#This Row],[surface\ntôle (m²)]],0)","v":0},{"$f":"IF(Tableau1[[#This Row],[Laser (O/N)]]= \"Oui\",Tableau1[[#This Row],[Coût\ndécoupe laser]],Tableau1[[#This Row],[Coût\npoinçonnage]])","v":0},{"$f":"IF(Tableau1[[#This Row],[Nb plis]]>0, (IF(Tableau1[[#This Row],[Nb plis]]<5,0.25,IF(Tableau1[[#This Row],[Nb plis]]<7,0.33,0.45))/Tableau1[[#This Row],[Série \néconomique ]] +0.004*Tableau1[[#This Row],[Nb plis]])*$N$5,0)","v":0},{"$f":"IFERROR(VLOOKUP(Tableau1[[#This Row],[Format\ntôle]],Tôles!B:P,9,FALSE),0)","v":0},{"$f":"Tableau1[[#This Row],[Dimention X (mm)]]/1000*Tableau1[[#This Row],[Dimention Y (mm)]]/1000","v":0},{"$f":"IFERROR(ROUNDUP(Tableau1[[#This Row],[Surface\npièce (m²)]]/Tableau1[[#This Row],[surface\ntôle (m²)]],4),0)","v":0},{"$f":"IF(Tableau1[[#This Row],[Forcer série Economique ]]>0,Tableau1[[#This Row],[Forcer série Economique ]],Tableau1[[#This Row],[Série Economique proposée]])","v":0},{"$f":"IF(OR(ISERROR((5/Tableau1[[#This Row],[Série \néconomique ]]+Tableau1[[#This Row],[Nb trous]]*0.08*VLOOKUP(Tableau1[[#This Row],[Format\ntôle]],Tôles!B:O,5,FALSE)+ (Tableau1[[#This Row],[Dimention X (mm)]]+Tableau1[[#This Row],[Dimention Y (mm)]]) * 0.001)*Taux_horaire/100),Tableau1[[#This Row],[VCOGS\ntôle]] = \"\"),0,(5/Tableau1[[#This Row],[Série \néconomique ]]+Tableau1[[#This Row],[Nb trous]]*0.08*VLOOKUP(Tableau1[[#This Row],[Format\ntôle]],Tôles!B:O,5,FALSE)+ (Tableau1[[#This Row],[Dimention X (mm)]]+Tableau1[[#This Row],[Dimention Y (mm)]]) * 0.001)*Taux_horaire/100)","v":0},{"$f":"IF(OR(ISERROR((10/Tableau1[[#This Row],[Série \néconomique ]]+Tableau1[[#This Row],[Nb trous]]*0.007 + (Tableau1[[#This Row],[Dimention X (mm)]]+Tableau1[[#This Row],[Dimention Y (mm)]]) * 0.0005)*Taux_horaire/100),Tableau1[[#This Row],[VCOGS\ntôle]]= \"\"),0,(10/Tableau1[[#This Row],[Série \néconomique ]]+Tableau1[[#This Row],[Nb trous]]*0.007 + (Tableau1[[#This Row],[Dimention X (mm)]]+Tableau1[[#This Row],[Dimention Y (mm)]]) * 0.0005)*Taux_horaire/100)","v":0}]
["EMBALLAGE",null,null,null,null,null,null,{"$f":"SUBSTITUTE(TRIM(CONCATENATE(Tableau1[[#This Row],[Niveau 0]],\" \",Tableau1[[#This Row],[Niveau 1]],\" \",Tableau1[[#This Row],[Niveau 2]],\" \",Tableau1[[#This Row],[Niveau 3]],\" \",Tableau1[[#This Row],[Niveau 4]],\" \",Tableau1[[#This Row],[Niveau 5]])),\" \",\".\")","v":""},{"$f":"IFERROR(IF(COUNTBLANK(Tableau1[[#This Row],[Niveau 0]:[Niveau 5]])=5,\"0\",LEFT(Tableau1[[#This Row],[Niveau]],(LEN(Tableau1[[#This Row],[Niveau]])-LEN(OFFSET(Tableau1[[#This Row],[Niveau 5]],0,(-COUNTBLANK(Tableau1[[#This Row],[Niveau 0]:[Niveau 5]]))))-1))),\"\")","v":""},null,null,null,null,{"$f":"IF(Tableau1[[#This Row],[Catégorie pièce]]=\" Opérations\",VLOOKUP(Tableau1[[#This Row],[Article produit/\nPoste de charge]],'PDC+emplacement'!A:C,2,FALSE),IF(Tableau1[[#This Row],[Catégorie pièce]]=\" Nouveau\",\"***RENSEIGNER NOM***\",IFERROR(VLOOKUP(CONCATENATE(Tableau1[[#This Row],[Article produit/\nPoste de charge]]),[1]ARTRDCL!$A$1:$U$25000,2,FALSE),\"\")))","v":""},null,null,null,null,null,{"$f":"IF(Tableau1[[#This Row],[Type plan]]=\"SP\",\"SP\",IF(AND(Tableau1[[#This Row],[Catégorie pièce]]=\" Nouveau\",Tableau1[[#This Row],[Type de pièce]]<>\" Panoplie\"),MID(Tableau1[[#This Row],[Article produit/\nPoste de charge]],2,15),IF(AND(Tableau1[[#This Row],[Catégorie pièce]]=\" Nouveau\",Tableau1[[#This Row],[Type de pièce]]=\" Panoplie\"),Tableau1[[#This Row],[Article produit/\nPoste de charge]],\"\")))","v":""},null,null,{"$f":"ROUNDUP((Tableau1[[#This Row],[Qté / an]]/52)*2,0)","v":{"$error":"#VALUE!"}},null,null,{"$f":"IF(AND(Tableau1[[#This Row],[Catégorie pièce]]=\" Opérations\",Tableau1[[#This Row],[Type de pièce]]=\" Temps\"),Taux_horaire/100,IF(AND(Tableau1[[#This Row],[Catégorie pièce]]=\" Nouveau\",Tableau1[[#This Row],[Type de pièce]]=\" Fabriquée\"),BOM!$AO116,IF(OR(AND(Tableau1[[#This Row],[Catégorie pièce]]=\" Nouveau\",Tableau1[[#This Row],[Type de pièce]]=\" Assemblage\"),BOM!$Y116=\" Produit fini\",Tableau1[[#This Row],[Type de pièce]]=\" Opé pièce primaire\",Tableau1[[#This Row],[Type de pièce]]=\" Pièce/Opé Panoplie\"),\"/\",IF(Tableau1[[#This Row],[Catégorie pièce]]=\" Existant\",VLOOKUP(CONCATENATE(Tableau1[[#This Row],[Article produit/\nPoste de charge]]),[1]ARTRDCL!$A$1:$U$65536,15,FALSE),\"\"))))","v":""},{"$f":"IF(OR(Tableau1[[#This Row],[Catégorie pièce]]=\" Opérations\",Tableau1[[#This Row],[Catégorie pièce]]=\" Matière 1ère\",ISBLANK(Tableau1[[#This Row],[Catégorie pièce]])),\"/\",SUMPRODUCT($AY$6:$BB$6,Tableau1[[#This Row],[Modèle A]:[Modèle D]]))","v":"/"},{"$f":"IFERROR(ROUNDDOWN(Tableau1[[#This Row],[surface\ntôle (m²)]]/Tableau1[[#This Row],[Surface\npièce (m²)]],0),0)","v":0},{"$f":"IF(AND(Tableau1[[#This Row],[Catégorie pièce]]=\" Nouveau\",Tableau1[[#This Row],[Type de pièce]]=\" Fabriquée\"),ROUNDUP(Tableau1[[#This Row],[Qté / an]]*2/52,0),0)","v":0},null,null,null,null,null,null,null,null,null,null,null,{"$f":"SUM(Tableau1[[#This Row],[VCOGS\ntôle]:[VCOGS\npliage]])","v":0},{"$f":"IFERROR((VLOOKUP(Tableau1[[#This Row],[Format\ntôle]],Tableau2[],11,FALSE)/Tableau1[[#This Row],[Série \néconomique ]])*Tableau1[[#This Row],[surface\ntôle (m²)]],0)","v":0},{"$f":"IF(Tableau1[[#This Row],[Laser (O/N)]]= \"Oui\",Tableau1[[#This Row],[Coût\ndécoupe laser]],Tableau1[[#This Row],[Coût\npoinçonnage]])","v":0},{"$f":"IF(Tableau1[[#This Row],[Nb plis]]>0, (IF(Tableau1[[#This Row],[Nb plis]]<5,0.25,IF(Tableau1[[#This Row],[Nb plis]]<7,0.33,0.45))/Tableau1[[#This Row],[Série \néconomique ]] +0.004*Tableau1[[#This Row],[Nb plis]])*$N$5,0)","v":0},{"$f":"IFERROR(VLOOKUP(Tableau1[[#This Row],[Format\ntôle]],Tôles!B:P,9,FALSE),0)","v":0},{"$f":"Tableau1[[#This Row],[Dimention X (mm)]]/1000*Tableau1[[#This Row],[Dimention Y (mm)]]/1000","v":0},{"$f":"IFERROR(ROUNDUP(Tableau1[[#This Row],[Surface\npièce (m²)]]/Tableau1[[#This Row],[surface\ntôle (m²)]],4),0)","v":0},{"$f":"IF(Tableau1[[#This Row],[Forcer série Economique ]]>0,Tableau1[[#This Row],[Forcer série Economique ]],Tableau1[[#This Row],[Série Economique proposée]])","v":0},{"$f":"IF(OR(ISERROR((5/Tableau1[[#This Row],[Série \néconomique ]]+Tableau1[[#This Row],[Nb trous]]*0.08*VLOOKUP(Tableau1[[#This Row],[Format\ntôle]],Tôles!B:O,5,FALSE)+ (Tableau1[[#This Row],[Dimention X (mm)]]+Tableau1[[#This Row],[Dimention Y (mm)]]) * 0.001)*Taux_horaire/100),Tableau1[[#This Row],[VCOGS\ntôle]] = \"\"),0,(5/Tableau1[[#This Row],[Série \néconomique ]]+Tableau1[[#This Row],[Nb trous]]*0.08*VLOOKUP(Tableau1[[#This Row],[Format\ntôle]],Tôles!B:O,5,FALSE)+ (Tableau1[[#This Row],[Dimention X (mm)]]+Tableau1[[#This Row],[Dimention Y (mm)]]) * 0.001)*Taux_horaire/100)","v":0},{"$f":"IF(OR(ISERROR((10/Tableau1[[#This Row],[Série \néconomique ]]+Tableau1[[#This Row],[Nb trous]]*0.007 + (Tableau1[[#This Row],[Dimention X (mm)]]+Tableau1[[#This Row],[Dimention Y (mm)]]) * 0.0005)*Taux_horaire/100),Tableau1[[#This Row],[VCOGS\ntôle]]= \"\"),0,(10/Tableau1[[#This Row],[Série \néconomique ]]+Tableau1[[#This Row],[Nb trous]]*0.007 + (Tableau1[[#This Row],[Dimention X (mm)]]+Tableau1[[#This Row],[Dimention Y (mm)]]) * 0.0005)*Taux_horaire/100)","v":0}]
[null,null,null,null,null,null,null,{"$f":"SUBSTITUTE(TRIM(CONCATENATE(Tableau1[[#This Row],[Niveau 0]],\" \",Tableau1[[#This Row],[Niveau 1]],\" \",Tableau1[[#This Row],[Niveau 2]],\" \",Tableau1[[#This Row],[Niveau 3]],\" \",Tableau1[[#This Row],[Niveau 4]],\" \",Tableau1[[#This Row],[Niveau 5]])),\" \",\".\")","v":""},{"$f":"IFERROR(IF(COUNTBLANK(Tableau1[[#This Row],[Niveau 0]:[Niveau 5]])=5,\"0\",LEFT(Tableau1[[#This Row],[Niveau]],(LEN(Tableau1[[#This Row],[Niveau]])-LEN(OFFSET(Tableau1[[#This Row],[Niveau 5]],0,(-COUNTBLANK(Tableau1[[#This Row],[Niveau 0]:[Niveau 5]]))))-1))),\"\")","v":""},null,null,null,null,{"$f":"IF(Tableau1[[#This Row],[Catégorie pièce]]=\" Opérations\",VLOOKUP(Tableau1[[#This Row],[Article produit/\nPoste de charge]],'PDC+emplacement'!A:C,2,FALSE),IF(Tableau1[[#This Row],[Catégorie pièce]]=\" Nouveau\",\"***RENSEIGNER NOM***\",IFERROR(VLOOKUP(CONCATENATE(Tableau1[[#This Row],[Article produit/\nPoste de charge]]),[1]ARTRDCL!$A$1:$U$25000,2,FALSE),\"\")))","v":""},null,null,null,null,null,{"$f":"IF(Tableau1[[#This Row],[Type plan]]=\"SP\",\"SP\",IF(AND(Tableau1[[#This Row],[Catégorie pièce]]=\" Nouveau\",Tableau1[[#This Row],[Type de pièce]]<>\" Panoplie\"),MID(Tableau1[[#This Row],[Article produit/\nPoste de charge]],2,15),IF(AND(Tableau1[[#This Row],[Catégorie pièce]]=\" Nouveau\",Tableau1[[#This Row],[Type de pièce]]=\" Panoplie\"),Tableau1[[#This Row],[Article produit/\nPoste de charge]],\"\")))","v":""},null,null,{"$f":"ROUNDUP((Tableau1[[#This Row],[Qté / an]]/52)*2,0)","v":{"$error":"#VALUE!"}},null,null,{"$f":"IF(AND(Tableau1[[#This Row],[Catégorie pièce]]=\" Opérations\",Tableau1[[#This Row],[Type de pièce]]=\" Temps\"),Taux_horaire/100,IF(AND(Tableau1[[#This Row],[Catégorie pièce]]=\" Nouveau\",Tableau1[[#This Row],[Type de pièce]]=\" Fabriquée\"),BOM!$AO117,IF(OR(AND(Tableau1[[#This Row],[Catégorie pièce]]=\" Nouveau\",Tableau1[[#This Row],[Type de pièce]]=\" Assemblage\"),BOM!$Y117=\" Produit fini\",Tableau1[[#This Row],[Type de pièce]]=\" Opé pièce primaire\",Tableau1[[#This Row],[Type de pièce]]=\" Pièce/Opé Panoplie\"),\"/\",IF(Tableau1[[#This Row],[Catégorie pièce]]=\" Existant\",VLOOKUP(CONCATENATE(Tableau1[[#This Row],[Article produit/\nPoste de charge]]),[1]ARTRDCL!$A$1:$U$65536,15,FALSE),\"\"))))","v":""},{"$f":"IF(OR(Tableau1[[#This Row],[Catégorie pièce]]=\" Opérations\",Tableau1[[#This Row],[Catégorie pièce]]=\" Matière 1ère\",ISBLANK(Tableau1[[#This Row],[Catégorie pièce]])),\"/\",SUMPRODUCT($AY$6:$BB$6,Tableau1[[#This Row],[Modèle A]:[Modèle D]]))","v":"/"},{"$f":"IFERROR(ROUNDDOWN(Tableau1[[#This Row],[surface\ntôle (m²)]]/Tableau1[[#This Row],[Surface\npièce (m²)]],0),0)","v":0},{"$f":"IF(AND(Tableau1[[#This Row],[Catégorie pièce]]=\" Nouveau\",Tableau1[[#This Row],[Type de pièce]]=\" Fabriquée\"),ROUNDUP(Tableau1[[#This Row],[Qté / an]]*2/52,0),0)","v":0},null,null,null,null,null,null,null,null,null,null,null,{"$f":"SUM(Tableau1[[#This Row],[VCOGS\ntôle]:[VCOGS\npliage]])","v":0},{"$f":"IFERROR((VLOOKUP(Tableau1[[#This Row],[Format\ntôle]],Tableau2[],11,FALSE)/Tableau1[[#This Row],[Série \néconomique ]])*Tableau1[[#This Row],[surface\ntôle (m²)]],0)","v":0},{"$f":"IF(Tableau1[[#This Row],[Laser (O/N)]]= \"Oui\",Tableau1[[#This Row],[Coût\ndécoupe laser]],Tableau1[[#This Row],[Coût\npoinçonnage]])","v":0},{"$f":"IF(Tableau1[[#This Row],[Nb plis]]>0, (IF(Tableau1[[#This Row],[Nb plis]]<5,0.25,IF(Tableau1[[#This Row],[Nb plis]]<7,0.33,0.45))/Tableau1[[#This Row],[Série \néconomique ]] +0.004*Tableau1[[#This Row],[Nb plis]])*$N$5,0)","v":0},{"$f":"IFERROR(VLOOKUP(Tableau1[[#This Row],[Format\ntôle]],Tôles!B:P,9,FALSE),0)","v":0},{"$f":"Tableau1[[#This Row],[Dimention X (mm)]]/1000*Tableau1[[#This Row],[Dimention Y (mm)]]/1000","v":0},{"$f":"IFERROR(ROUNDUP(Tableau1[[#This Row],[Surface\npièce (m²)]]/Tableau1[[#This Row],[surface\ntôle (m²)]],4),0)","v":0},{"$f":"IF(Tableau1[[#This Row],[Forcer série Economique ]]>0,Tableau1[[#This Row],[Forcer série Economique ]],Tableau1[[#This Row],[Série Economique proposée]])","v":0},{"$f":"IF(OR(ISERROR((5/Tableau1[[#This Row],[Série \néconomique ]]+Tableau1[[#This Row],[Nb trous]]*0.08*VLOOKUP(Tableau1[[#This Row],[Format\ntôle]],Tôles!B:O,5,FALSE)+ (Tableau1[[#This Row],[Dimention X (mm)]]+Tableau1[[#This Row],[Dimention Y (mm)]]) * 0.001)*Taux_horaire/100),Tableau1[[#This Row],[VCOGS\ntôle]] = \"\"),0,(5/Tableau1[[#This Row],[Série \néconomique ]]+Tableau1[[#This Row],[Nb trous]]*0.08*VLOOKUP(Tableau1[[#This Row],[Format\ntôle]],Tôles!B:O,5,FALSE)+ (Tableau1[[#This Row],[Dimention X (mm)]]+Tableau1[[#This Row],[Dimention Y (mm)]]) * 0.001)*Taux_horaire/100)","v":0},{"$f":"IF(OR(ISERROR((10/Tableau1[[#This Row],[Série \néconomique ]]+Tableau1[[#This Row],[Nb trous]]*0.007 + (Tableau1[[#This Row],[Dimention X (mm)]]+Tableau1[[#This Row],[Dimention Y (mm)]]) * 0.0005)*Taux_horaire/100),Tableau1[[#This Row],[VCOGS\ntôle]]= \"\"),0,(10/Tableau1[[#This Row],[Série \néconomique ]]+Tableau1[[#This Row],[Nb trous]]*0.007 + (Tableau1[[#This Row],[Dimention X (mm)]]+Tableau1[[#This Row],[Dimention Y (mm)]]) * 0.0005)*Taux_horaire/100)","v":0}]
[null,null,null,null,null,null,null,{"$f":"SUBSTITUTE(TRIM(CONCATENATE(Tableau1[[#This Row],[Niveau 0]],\" \",Tableau1[[#This Row],[Niveau 1]],\" \",Tableau1[[#This Row],[Niveau 2]],\" \",Tableau1[[#This Row],[Niveau 3]],\" \",Tableau1[[#This Row],[Niveau 4]],\" \",Tableau1[[#This Row],[Niveau 5]])),\" \",\".\")","v":""},{"$f":"IFERROR(IF(COUNTBLANK(Tableau1[[#This Row],[Niveau 0]:[Niveau 5]])=5,\"0\",LEFT(Tableau1[[#This Row],[Niveau]],(LEN(Tableau1[[#This Row],[Niveau]])-LEN(OFFSET(Tableau1[[#This Row],[Niveau 5]],0,(-COUNTBLANK(Tableau1[[#This Row],[Niveau 0]:[Niveau 5]]))))-1))),\"\")","v":""},null,null,null,null,{"$f":"IF(Tableau1[[#This Row],[Catégorie pièce]]=\" Opérations\",VLOOKUP(Tableau1[[#This Row],[Article produit/\nPoste de charge]],'PDC+emplacement'!A:C,2,FALSE),IF(Tableau1[[#This Row],[Catégorie pièce]]=\" Nouveau\",\"***RENSEIGNER NOM***\",IFERROR(VLOOKUP(CONCATENATE(Tableau1[[#This Row],[Article produit/\nPoste de charge]]),[1]ARTRDCL!$A$1:$U$25000,2,FALSE),\"\")))","v":""},null,null,null,null,null,{"$f":"IF(Tableau1[[#This Row],[Type plan]]=\"SP\",\"SP\",IF(AND(Tableau1[[#This Row],[Catégorie pièce]]=\" Nouveau\",Tableau1[[#This Row],[Type de pièce]]<>\" Panoplie\"),MID(Tableau1[[#This Row],[Article produit/\nPoste de charge]],2,15),IF(AND(Tableau1[[#This Row],[Catégorie pièce]]=\" Nouveau\",Tableau1[[#This Row],[Type de pièce]]=\" Panoplie\"),Tableau1[[#This Row],[Article produit/\nPoste de charge]],\"\")))","v":""},null,null,{"$f":"ROUNDUP((Tableau1[[#This Row],[Qté / an]]/52)*2,0)","v":{"$error":"#VALUE!"}},null,null,{"$f":"IF(AND(Tableau1[[#This Row],[Catégorie pièce]]=\" Opérations\",Tableau1[[#This Row],[Type de pièce]]=\" Temps\"),Taux_horaire/100,IF(AND(Tableau1[[#This Row],[Catégorie pièce]]=\" Nouveau\",Tableau1[[#This Row],[Type de pièce]]=\" Fabriquée\"),BOM!$AO118,IF(OR(AND(Tableau1[[#This Row],[Catégorie pièce]]=\" Nouveau\",Tableau1[[#This Row],[Type de pièce]]=\" Assemblage\"),BOM!$Y118=\" Produit fini\",Tableau1[[#This Row],[Type de pièce]]=\" Opé pièce primaire\",Tableau1[[#This Row],[Type de pièce]]=\" Pièce/Opé Panoplie\"),\"/\",IF(Tableau1[[#This Row],[Catégorie pièce]]=\" Existant\",VLOOKUP(CONCATENATE(Tableau1[[#This Row],[Article produit/\nPoste de charge]]),[1]ARTRDCL!$A$1:$U$65536,15,FALSE),\"\"))))","v":""},{"$f":"IF(OR(Tableau1[[#This Row],[Catégorie pièce]]=\" Opérations\",Tableau1[[#This Row],[Catégorie pièce]]=\" Matière 1ère\",ISBLANK(Tableau1[[#This Row],[Catégorie pièce]])),\"/\",SUMPRODUCT($AY$6:$BB$6,Tableau1[[#This Row],[Modèle A]:[Modèle D]]))","v":"/"},{"$f":"IFERROR(ROUNDDOWN(Tableau1[[#This Row],[surface\ntôle (m²)]]/Tableau1[[#This Row],[Surface\npièce (m²)]],0),0)","v":0},{"$f":"IF(AND(Tableau1[[#This Row],[Catégorie pièce]]=\" Nouveau\",Tableau1[[#This Row],[Type de pièce]]=\" Fabriquée\"),ROUNDUP(Tableau1[[#This Row],[Qté / an]]*2/52,0),0)","v":0},null,null,null,null,null,null,null,null,null,null,null,{"$f":"SUM(Tableau1[[#This Row],[VCOGS\ntôle]:[VCOGS\npliage]])","v":0},{"$f":"IFERROR((VLOOKUP(Tableau1[[#This Row],[Format\ntôle]],Tableau2[],11,FALSE)/Tableau1[[#This Row],[Série \néconomique ]])*Tableau1[[#This Row],[surface\ntôle (m²)]],0)","v":0},{"$f":"IF(Tableau1[[#This Row],[Laser (O/N)]]= \"Oui\",Tableau1[[#This Row],[Coût\ndécoupe laser]],Tableau1[[#This Row],[Coût\npoinçonnage]])","v":0},{"$f":"IF(Tableau1[[#This Row],[Nb plis]]>0, (IF(Tableau1[[#This Row],[Nb plis]]<5,0.25,IF(Tableau1[[#This Row],[Nb plis]]<7,0.33,0.45))/Tableau1[[#This Row],[Série \néconomique ]] +0.004*Tableau1[[#This Row],[Nb plis]])*$N$5,0)","v":0},{"$f":"IFERROR(VLOOKUP(Tableau1[[#This Row],[Format\ntôle]],Tôles!B:P,9,FALSE),0)","v":0},{"$f":"Tableau1[[#This Row],[Dimention X (mm)]]/1000*Tableau1[[#This Row],[Dimention Y (mm)]]/1000","v":0},{"$f":"IFERROR(ROUNDUP(Tableau1[[#This Row],[Surface\npièce (m²)]]/Tableau1[[#This Row],[surface\ntôle (m²)]],4),0)","v":0},{"$f":"IF(Tableau1[[#This Row],[Forcer série Economique ]]>0,Tableau1[[#This Row],[Forcer série Economique ]],Tableau1[[#This Row],[Série Economique proposée]])","v":0},{"$f":"IF(OR(ISERROR((5/Tableau1[[#This Row],[Série \néconomique ]]+Tableau1[[#This Row],[Nb trous]]*0.08*VLOOKUP(Tableau1[[#This Row],[Format\ntôle]],Tôles!B:O,5,FALSE)+ (Tableau1[[#This Row],[Dimention X (mm)]]+Tableau1[[#This Row],[Dimention Y (mm)]]) * 0.001)*Taux_horaire/100),Tableau1[[#This Row],[VCOGS\ntôle]] = \"\"),0,(5/Tableau1[[#This Row],[Série \néconomique ]]+Tableau1[[#This Row],[Nb trous]]*0.08*VLOOKUP(Tableau1[[#This Row],[Format\ntôle]],Tôles!B:O,5,FALSE)+ (Tableau1[[#This Row],[Dimention X (mm)]]+Tableau1[[#This Row],[Dimention Y (mm)]]) * 0.001)*Taux_horaire/100)","v":0},{"$f":"IF(OR(ISERROR((10/Tableau1[[#This Row],[Série \néconomique ]]+Tableau1[[#This Row],[Nb trous]]*0.007 + (Tableau1[[#This Row],[Dimention X (mm)]]+Tableau1[[#This Row],[Dimention Y (mm)]]) * 0.0005)*Taux_horaire/100),Tableau1[[#This Row],[VCOGS\ntôle]]= \"\"),0,(10/Tableau1[[#This Row],[Série \néconomique ]]+Tableau1[[#This Row],[Nb trous]]*0.007 + (Tableau1[[#This Row],[Dimention X (mm)]]+Tableau1[[#This Row],[Dimention Y (mm)]]) * 0.0005)*Taux_horaire/100)","v":0}]
[null,null,null,null,null,null,null,{"$f":"SUBSTITUTE(TRIM(CONCATENATE(Tableau1[[#This Row],[Niveau 0]],\" \",Tableau1[[#This Row],[Niveau 1]],\" \",Tableau1[[#This Row],[Niveau 2]],\" \",Tableau1[[#This Row],[Niveau 3]],\" \",Tableau1[[#This Row],[Niveau 4]],\" \",Tableau1[[#This Row],[Niveau 5]])),\" \",\".\")","v":""},{"$f":"IFERROR(IF(COUNTBLANK(Tableau1[[#This Row],[Niveau 0]:[Niveau 5]])=5,\"0\",LEFT(Tableau1[[#This Row],[Niveau]],(LEN(Tableau1[[#This Row],[Niveau]])-LEN(OFFSET(Tableau1[[#This Row],[Niveau 5]],0,(-COUNTBLANK(Tableau1[[#This Row],[Niveau 0]:[Niveau 5]]))))-1))),\"\")","v":""},null,null,null,null,{"$f":"IF(Tableau1[[#This Row],[Catégorie pièce]]=\" Opérations\",VLOOKUP(Tableau1[[#This Row],[Article produit/\nPoste de charge]],'PDC+emplacement'!A:C,2,FALSE),IF(Tableau1[[#This Row],[Catégorie pièce]]=\" Nouveau\",\"***RENSEIGNER NOM***\",IFERROR(VLOOKUP(CONCATENATE(Tableau1[[#This Row],[Article produit/\nPoste de charge]]),[1]ARTRDCL!$A$1:$U$25000,2,FALSE),\"\")))","v":""},null,null,null,null,null,{"$f":"IF(Tableau1[[#This Row],[Type plan]]=\"SP\",\"SP\",IF(AND(Tableau1[[#This Row],[Catégorie pièce]]=\" Nouveau\",Tableau1[[#This Row],[Type de pièce]]<>\" Panoplie\"),MID(Tableau1[[#This Row],[Article produit/\nPoste de charge]],2,15),IF(AND(Tableau1[[#This Row],[Catégorie pièce]]=\" Nouveau\",Tableau1[[#This Row],[Type de pièce]]=\" Panoplie\"),Tableau1[[#This Row],[Article produit/\nPoste de charge]],\"\")))","v":""},null,null,{"$f":"ROUNDUP((Tableau1[[#This Row],[Qté / an]]/52)*2,0)","v":{"$error":"#VALUE!"}},null,null,{"$f":"IF(AND(Tableau1[[#This Row],[Catégorie pièce]]=\" Opérations\",Tableau1[[#This Row],[Type de pièce]]=\" Temps\"),Taux_horaire/100,IF(AND(Tableau1[[#This Row],[Catégorie pièce]]=\" Nouveau\",Tableau1[[#This Row],[Type de pièce]]=\" Fabriquée\"),BOM!$AO119,IF(OR(AND(Tableau1[[#This Row],[Catégorie pièce]]=\" Nouveau\",Tableau1[[#This Row],[Type de pièce]]=\" Assemblage\"),BOM!$Y119=\" Produit fini\",Tableau1[[#This Row],[Type de pièce]]=\" Opé pièce primaire\",Tableau1[[#This Row],[Type de pièce]]=\" Pièce/Opé Panoplie\"),\"/\",IF(Tableau1[[#This Row],[Catégorie pièce]]=\" Existant\",VLOOKUP(CONCATENATE(Tableau1[[#This Row],[Article produit/\nPoste de charge]]),[1]ARTRDCL!$A$1:$U$65536,15,FALSE),\"\"))))","v":""},{"$f":"IF(OR(Tableau1[[#This Row],[Catégorie pièce]]=\" Opérations\",Tableau1[[#This Row],[Catégorie pièce]]=\" Matière 1ère\",ISBLANK(Tableau1[[#This Row],[Catégorie pièce]])),\"/\",SUMPRODUCT($AY$6:$BB$6,Tableau1[[#This Row],[Modèle A]:[Modèle D]]))","v":"/"},{"$f":"IFERROR(ROUNDDOWN(Tableau1[[#This Row],[surface\ntôle (m²)]]/Tableau1[[#This Row],[Surface\npièce (m²)]],0),0)","v":0},{"$f":"IF(AND(Tableau1[[#This Row],[Catégorie pièce]]=\" Nouveau\",Tableau1[[#This Row],[Type de pièce]]=\" Fabriquée\"),ROUNDUP(Tableau1[[#This Row],[Qté / an]]*2/52,0),0)","v":0},null,null,null,null,null,null,null,null,null,null,null,{"$f":"SUM(Tableau1[[#This Row],[VCOGS\ntôle]:[VCOGS\npliage]])","v":0},{"$f":"IFERROR((VLOOKUP(Tableau1[[#This Row],[Format\ntôle]],Tableau2[],11,FALSE)/Tableau1[[#This Row],[Série \néconomique ]])*Tableau1[[#This Row],[surface\ntôle (m²)]],0)","v":0},{"$f":"IF(Tableau1[[#This Row],[Laser (O/N)]]= \"Oui\",Tableau1[[#This Row],[Coût\ndécoupe laser]],Tableau1[[#This Row],[Coût\npoinçonnage]])","v":0},{"$f":"IF(Tableau1[[#This Row],[Nb plis]]>0, (IF(Tableau1[[#This Row],[Nb plis]]<5,0.25,IF(Tableau1[[#This Row],[Nb plis]]<7,0.33,0.45))/Tableau1[[#This Row],[Série \néconomique ]] +0.004*Tableau1[[#This Row],[Nb plis]])*$N$5,0)","v":0},{"$f":"IFERROR(VLOOKUP(Tableau1[[#This Row],[Format\ntôle]],Tôles!B:P,9,FALSE),0)","v":0},{"$f":"Tableau1[[#This Row],[Dimention X (mm)]]/1000*Tableau1[[#This Row],[Dimention Y (mm)]]/1000","v":0},{"$f":"IFERROR(ROUNDUP(Tableau1[[#This Row],[Surface\npièce (m²)]]/Tableau1[[#This Row],[surface\ntôle (m²)]],4),0)","v":0},{"$f":"IF(Tableau1[[#This Row],[Forcer série Economique ]]>0,Tableau1[[#This Row],[Forcer série Economique ]],Tableau1[[#This Row],[Série Economique proposée]])","v":0},{"$f":"IF(OR(ISERROR((5/Tableau1[[#This Row],[Série \néconomique ]]+Tableau1[[#This Row],[Nb trous]]*0.08*VLOOKUP(Tableau1[[#This Row],[Format\ntôle]],Tôles!B:O,5,FALSE)+ (Tableau1[[#This Row],[Dimention X (mm)]]+Tableau1[[#This Row],[Dimention Y (mm)]]) * 0.001)*Taux_horaire/100),Tableau1[[#This Row],[VCOGS\ntôle]] = \"\"),0,(5/Tableau1[[#This Row],[Série \néconomique ]]+Tableau1[[#This Row],[Nb trous]]*0.08*VLOOKUP(Tableau1[[#This Row],[Format\ntôle]],Tôles!B:O,5,FALSE)+ (Tableau1[[#This Row],[Dimention X (mm)]]+Tableau1[[#This Row],[Dimention Y (mm)]]) * 0.001)*Taux_horaire/100)","v":0},{"$f":"IF(OR(ISERROR((10/Tableau1[[#This Row],[Série \néconomique ]]+Tableau1[[#This Row],[Nb trous]]*0.007 + (Tableau1[[#This Row],[Dimention X (mm)]]+Tableau1[[#This Row],[Dimention Y (mm)]]) * 0.0005)*Taux_horaire/100),Tableau1[[#This Row],[VCOGS\ntôle]]= \"\"),0,(10/Tableau1[[#This Row],[Série \néconomique ]]+Tableau1[[#This Row],[Nb trous]]*0.007 + (Tableau1[[#This Row],[Dimention X (mm)]]+Tableau1[[#This Row],[Dimention Y (mm)]]) * 0.0005)*Taux_horaire/100)","v":0}]
[null,null,null,null,null,null,null,{"$f":"SUBSTITUTE(TRIM(CONCATENATE(Tableau1[[#This Row],[Niveau 0]],\" \",Tableau1[[#This Row],[Niveau 1]],\" \",Tableau1[[#This Row],[Niveau 2]],\" \",Tableau1[[#This Row],[Niveau 3]],\" \",Tableau1[[#This Row],[Niveau 4]],\" \",Tableau1[[#This Row],[Niveau 5]])),\" \",\".\")","v":""},{"$f":"IFERROR(IF(COUNTBLANK(Tableau1[[#This Row],[Niveau 0]:[Niveau 5]])=5,\"0\",LEFT(Tableau1[[#This Row],[Niveau]],(LEN(Tableau1[[#This Row],[Niveau]])-LEN(OFFSET(Tableau1[[#This Row],[Niveau 5]],0,(-COUNTBLANK(Tableau1[[#This Row],[Niveau 0]:[Niveau 5]]))))-1))),\"\")","v":""},null,null,null,null,{"$f":"IF(Tableau1[[#This Row],[Catégorie pièce]]=\" Opérations\",VLOOKUP(Tableau1[[#This Row],[Article produit/\nPoste de charge]],'PDC+emplacement'!A:C,2,FALSE),IF(Tableau1[[#This Row],[Catégorie pièce]]=\" Nouveau\",\"***RENSEIGNER NOM***\",IFERROR(VLOOKUP(CONCATENATE(Tableau1[[#This Row],[Article produit/\nPoste de charge]]),[1]ARTRDCL!$A$1:$U$25000,2,FALSE),\"\")))","v":""},null,null,null,null,null,{"$f":"IF(Tableau1[[#This Row],[Type plan]]=\"SP\",\"SP\",IF(AND(Tableau1[[#This Row],[Catégorie pièce]]=\" Nouveau\",Tableau1[[#This Row],[Type de pièce]]<>\" Panoplie\"),MID(Tableau1[[#This Row],[Article produit/\nPoste de charge]],2,15),IF(AND(Tableau1[[#This Row],[Catégorie pièce]]=\" Nouveau\",Tableau1[[#This Row],[Type de pièce]]=\" Panoplie\"),Tableau1[[#This Row],[Article produit/\nPoste de charge]],\"\")))","v":""},null,null,{"$f":"ROUNDUP((Tableau1[[#This Row],[Qté / an]]/52)*2,0)","v":{"$error":"#VALUE!"}},null,null,{"$f":"IF(AND(Tableau1[[#This Row],[Catégorie pièce]]=\" Opérations\",Tableau1[[#This Row],[Type de pièce]]=\" Temps\"),Taux_horaire/100,IF(AND(Tableau1[[#This Row],[Catégorie pièce]]=\" Nouveau\",Tableau1[[#This Row],[Type de pièce]]=\" Fabriquée\"),BOM!$AO120,IF(OR(AND(Tableau1[[#This Row],[Catégorie pièce]]=\" Nouveau\",Tableau1[[#This Row],[Type de pièce]]=\" Assemblage\"),BOM!$Y120=\" Produit fini\",Tableau1[[#This Row],[Type de pièce]]=\" Opé pièce primaire\",Tableau1[[#This Row],[Type de pièce]]=\" Pièce/Opé Panoplie\"),\"/\",IF(Tableau1[[#This Row],[Catégorie pièce]]=\" Existant\",VLOOKUP(CONCATENATE(Tableau1[[#This Row],[Article produit/\nPoste de charge]]),[1]ARTRDCL!$A$1:$U$65536,15,FALSE),\"\"))))","v":""},{"$f":"IF(OR(Tableau1[[#This Row],[Catégorie pièce]]=\" Opérations\",Tableau1[[#This Row],[Catégorie pièce]]=\" Matière 1ère\",ISBLANK(Tableau1[[#This Row],[Catégorie pièce]])),\"/\",SUMPRODUCT($AY$6:$BB$6,Tableau1[[#This Row],[Modèle A]:[Modèle D]]))","v":"/"},{"$f":"IFERROR(ROUNDDOWN(Tableau1[[#This Row],[surface\ntôle (m²)]]/Tableau1[[#This Row],[Surface\npièce (m²)]],0),0)","v":0},{"$f":"IF(AND(Tableau1[[#This Row],[Catégorie pièce]]=\" Nouveau\",Tableau1[[#This Row],[Type de pièce]]=\" Fabriquée\"),ROUNDUP(Tableau1[[#This Row],[Qté / an]]*2/52,0),0)","v":0},null,null,null,null,null,null,null,null,null,null,null,{"$f":"SUM(Tableau1[[#This Row],[VCOGS\ntôle]:[VCOGS\npliage]])","v":0},{"$f":"IFERROR((VLOOKUP(Tableau1[[#This Row],[Format\ntôle]],Tableau2[],11,FALSE)/Tableau1[[#This Row],[Série \néconomique ]])*Tableau1[[#This Row],[surface\ntôle (m²)]],0)","v":0},{"$f":"IF(Tableau1[[#This Row],[Laser (O/N)]]= \"Oui\",Tableau1[[#This Row],[Coût\ndécoupe laser]],Tableau1[[#This Row],[Coût\npoinçonnage]])","v":0},{"$f":"IF(Tableau1[[#This Row],[Nb plis]]>0, (IF(Tableau1[[#This Row],[Nb plis]]<5,0.25,IF(Tableau1[[#This Row],[Nb plis]]<7,0.33,0.45))/Tableau1[[#This Row],[Série \néconomique ]] +0.004*Tableau1[[#This Row],[Nb plis]])*$N$5,0)","v":0},{"$f":"IFERROR(VLOOKUP(Tableau1[[#This Row],[Format\ntôle]],Tôles!B:P,9,FALSE),0)","v":0},{"$f":"Tableau1[[#This Row],[Dimention X (mm)]]/1000*Tableau1[[#This Row],[Dimention Y (mm)]]/1000","v":0},{"$f":"IFERROR(ROUNDUP(Tableau1[[#This Row],[Surface\npièce (m²)]]/Tableau1[[#This Row],[surface\ntôle (m²)]],4),0)","v":0},{"$f":"IF(Tableau1[[#This Row],[Forcer série Economique ]]>0,Tableau1[[#This Row],[Forcer série Economique ]],Tableau1[[#This Row],[Série Economique proposée]])","v":0},{"$f":"IF(OR(ISERROR((5/Tableau1[[#This Row],[Série \néconomique ]]+Tableau1[[#This Row],[Nb trous]]*0.08*VLOOKUP(Tableau1[[#This Row],[Format\ntôle]],Tôles!B:O,5,FALSE)+ (Tableau1[[#This Row],[Dimention X (mm)]]+Tableau1[[#This Row],[Dimention Y (mm)]]) * 0.001)*Taux_horaire/100),Tableau1[[#This Row],[VCOGS\ntôle]] = \"\"),0,(5/Tableau1[[#This Row],[Série \néconomique ]]+Tableau1[[#This Row],[Nb trous]]*0.08*VLOOKUP(Tableau1[[#This Row],[Format\ntôle]],Tôles!B:O,5,FALSE)+ (Tableau1[[#This Row],[Dimention X (mm)]]+Tableau1[[#This Row],[Dimention Y (mm)]]) * 0.001)*Taux_horaire/100)","v":0},{"$f":"IF(OR(ISERROR((10/Tableau1[[#This Row],[Série \néconomique ]]+Tableau1[[#This Row],[Nb trous]]*0.007 + (Tableau1[[#This Row],[Dimention X (mm)]]+Tableau1[[#This Row],[Dimention Y (mm)]]) * 0.0005)*Taux_horaire/100),Tableau1[[#This Row],[VCOGS\ntôle]]= \"\"),0,(10/Tableau1[[#This Row],[Série \néconomique ]]+Tableau1[[#This Row],[Nb trous]]*0.007 + (Tableau1[[#This Row],[Dimention X (mm)]]+Tableau1[[#This Row],[Dimention Y (mm)]]) * 0.0005)*Taux_horaire/100)","v":0}]
[null,null,null,null,null,null,null,{"$f":"SUBSTITUTE(TRIM(CONCATENATE(Tableau1[[#This Row],[Niveau 0]],\" \",Tableau1[[#This Row],[Niveau 1]],\" \",Tableau1[[#This Row],[Niveau 2]],\" \",Tableau1[[#This Row],[Niveau 3]],\" \",Tableau1[[#This Row],[Niveau 4]],\" \",Tableau1[[#This Row],[Niveau 5]])),\" \",\".\")","v":""},{"$f":"IFERROR(IF(COUNTBLANK(Tableau1[[#This Row],[Niveau 0]:[Niveau 5]])=5,\"0\",LEFT(Tableau1[[#This Row],[Niveau]],(LEN(Tableau1[[#This Row],[Niveau]])-LEN(OFFSET(Tableau1[[#This Row],[Niveau 5]],0,(-COUNTBLANK(Tableau1[[#This Row],[Niveau 0]:[Niveau 5]]))))-1))),\"\")","v":""},null,null,null,null,{"$f":"IF(Tableau1[[#This Row],[Catégorie pièce]]=\" Opérations\",VLOOKUP(Tableau1[[#This Row],[Article produit/\nPoste de charge]],'PDC+emplacement'!A:C,2,FALSE),IF(Tableau1[[#This Row],[Catégorie pièce]]=\" Nouveau\",\"***RENSEIGNER NOM***\",IFERROR(VLOOKUP(CONCATENATE(Tableau1[[#This Row],[Article produit/\nPoste de charge]]),[1]ARTRDCL!$A$1:$U$25000,2,FALSE),\"\")))","v":""},null,null,null,null,null,{"$f":"IF(Tableau1[[#This Row],[Type plan]]=\"SP\",\"SP\",IF(AND(Tableau1[[#This Row],[Catégorie pièce]]=\" Nouveau\",Tableau1[[#This Row],[Type de pièce]]<>\" Panoplie\"),MID(Tableau1[[#This Row],[Article produit/\nPoste de charge]],2,15),IF(AND(Tableau1[[#This Row],[Catégorie pièce]]=\" Nouveau\",Tableau1[[#This Row],[Type de pièce]]=\" Panoplie\"),Tableau1[[#This Row],[Article produit/\nPoste de charge]],\"\")))","v":""},null,null,{"$f":"ROUNDUP((Tableau1[[#This Row],[Qté / an]]/52)*2,0)","v":{"$error":"#VALUE!"}},null,null,{"$f":"IF(AND(Tableau1[[#This Row],[Catégorie pièce]]=\" Opérations\",Tableau1[[#This Row],[Type de pièce]]=\" Temps\"),Taux_horaire/100,IF(AND(Tableau1[[#This Row],[Catégorie pièce]]=\" Nouveau\",Tableau1[[#This Row],[Type de pièce]]=\" Fabriquée\"),BOM!$AO121,IF(OR(AND(Tableau1[[#This Row],[Catégorie pièce]]=\" Nouveau\",Tableau1[[#This Row],[Type de pièce]]=\" Assemblage\"),BOM!$Y121=\" Produit fini\",Tableau1[[#This Row],[Type de pièce]]=\" Opé pièce primaire\",Tableau1[[#This Row],[Type de pièce]]=\" Pièce/Opé Panoplie\"),\"/\",IF(Tableau1[[#This Row],[Catégorie pièce]]=\" Existant\",VLOOKUP(CONCATENATE(Tableau1[[#This Row],[Article produit/\nPoste de charge]]),[1]ARTRDCL!$A$1:$U$65536,15,FALSE),\"\"))))","v":""},{"$f":"IF(OR(Tableau1[[#This Row],[Catégorie pièce]]=\" Opérations\",Tableau1[[#This Row],[Catégorie pièce]]=\" Matière 1ère\",ISBLANK(Tableau1[[#This Row],[Catégorie pièce]])),\"/\",SUMPRODUCT($AY$6:$BB$6,Tableau1[[#This Row],[Modèle A]:[Modèle D]]))","v":"/"},{"$f":"IFERROR(ROUNDDOWN(Tableau1[[#This Row],[surface\ntôle (m²)]]/Tableau1[[#This Row],[Surface\npièce (m²)]],0),0)","v":0},{"$f":"IF(AND(Tableau1[[#This Row],[Catégorie pièce]]=\" Nouveau\",Tableau1[[#This Row],[Type de pièce]]=\" Fabriquée\"),ROUNDUP(Tableau1[[#This Row],[Qté / an]]*2/52,0),0)","v":0},null,null,null,null,null,null,null,null,null,null,null,{"$f":"SUM(Tableau1[[#This Row],[VCOGS\ntôle]:[VCOGS\npliage]])","v":0},{"$f":"IFERROR((VLOOKUP(Tableau1[[#This Row],[Format\ntôle]],Tableau2[],11,FALSE)/Tableau1[[#This Row],[Série \néconomique ]])*Tableau1[[#This Row],[surface\ntôle (m²)]],0)","v":0},{"$f":"IF(Tableau1[[#This Row],[Laser (O/N)]]= \"Oui\",Tableau1[[#This Row],[Coût\ndécoupe laser]],Tableau1[[#This Row],[Coût\npoinçonnage]])","v":0},{"$f":"IF(Tableau1[[#This Row],[Nb plis]]>0, (IF(Tableau1[[#This Row],[Nb plis]]<5,0.25,IF(Tableau1[[#This Row],[Nb plis]]<7,0.33,0.45))/Tableau1[[#This Row],[Série \néconomique ]] +0.004*Tableau1[[#This Row],[Nb plis]])*$N$5,0)","v":0},{"$f":"IFERROR(VLOOKUP(Tableau1[[#This Row],[Format\ntôle]],Tôles!B:P,9,FALSE),0)","v":0},{"$f":"Tableau1[[#This Row],[Dimention X (mm)]]/1000*Tableau1[[#This Row],[Dimention Y (mm)]]/1000","v":0},{"$f":"IFERROR(ROUNDUP(Tableau1[[#This Row],[Surface\npièce (m²)]]/Tableau1[[#This Row],[surface\ntôle (m²)]],4),0)","v":0},{"$f":"IF(Tableau1[[#This Row],[Forcer série Economique ]]>0,Tableau1[[#This Row],[Forcer série Economique ]],Tableau1[[#This Row],[Série Economique proposée]])","v":0},{"$f":"IF(OR(ISERROR((5/Tableau1[[#This Row],[Série \néconomique ]]+Tableau1[[#This Row],[Nb trous]]*0.08*VLOOKUP(Tableau1[[#This Row],[Format\ntôle]],Tôles!B:O,5,FALSE)+ (Tableau1[[#This Row],[Dimention X (mm)]]+Tableau1[[#This Row],[Dimention Y (mm)]]) * 0.001)*Taux_horaire/100),Tableau1[[#This Row],[VCOGS\ntôle]] = \"\"),0,(5/Tableau1[[#This Row],[Série \néconomique ]]+Tableau1[[#This Row],[Nb trous]]*0.08*VLOOKUP(Tableau1[[#This Row],[Format\ntôle]],Tôles!B:O,5,FALSE)+ (Tableau1[[#This Row],[Dimention X (mm)]]+Tableau1[[#This Row],[Dimention Y (mm)]]) * 0.001)*Taux_horaire/100)","v":0},{"$f":"IF(OR(ISERROR((10/Tableau1[[#This Row],[Série \néconomique ]]+Tableau1[[#This Row],[Nb trous]]*0.007 + (Tableau1[[#This Row],[Dimention X (mm)]]+Tableau1[[#This Row],[Dimention Y (mm)]]) * 0.0005)*Taux_horaire/100),Tableau1[[#This Row],[VCOGS\ntôle]]= \"\"),0,(10/Tableau1[[#This Row],[Série \néconomique ]]+Tableau1[[#This Row],[Nb trous]]*0.007 + (Tableau1[[#This Row],[Dimention X (mm)]]+Tableau1[[#This Row],[Dimention Y (mm)]]) * 0.0005)*Taux_horaire/100)","v":0}]
[null,null,null,null,null,null,null,{"$f":"SUBSTITUTE(TRIM(CONCATENATE(Tableau1[[#This Row],[Niveau 0]],\" \",Tableau1[[#This Row],[Niveau 1]],\" \",Tableau1[[#This Row],[Niveau 2]],\" \",Tableau1[[#This Row],[Niveau 3]],\" \",Tableau1[[#This Row],[Niveau 4]],\" \",Tableau1[[#This Row],[Niveau 5]])),\" \",\".\")","v":""},{"$f":"IFERROR(IF(COUNTBLANK(Tableau1[[#This Row],[Niveau 0]:[Niveau 5]])=5,\"0\",LEFT(Tableau1[[#This Row],[Niveau]],(LEN(Tableau1[[#This Row],[Niveau]])-LEN(OFFSET(Tableau1[[#This Row],[Niveau 5]],0,(-COUNTBLANK(Tableau1[[#This Row],[Niveau 0]:[Niveau 5]]))))-1))),\"\")","v":""},null,null,null,null,{"$f":"IF(Tableau1[[#This Row],[Catégorie pièce]]=\" Opérations\",VLOOKUP(Tableau1[[#This Row],[Article produit/\nPoste de charge]],'PDC+emplacement'!A:C,2,FALSE),IF(Tableau1[[#This Row],[Catégorie pièce]]=\" Nouveau\",\"***RENSEIGNER NOM***\",IFERROR(VLOOKUP(CONCATENATE(Tableau1[[#This Row],[Article produit/\nPoste de charge]]),[1]ARTRDCL!$A$1:$U$25000,2,FALSE),\"\")))","v":""},null,null,null,null,null,{"$f":"IF(Tableau1[[#This Row],[Type plan]]=\"SP\",\"SP\",IF(AND(Tableau1[[#This Row],[Catégorie pièce]]=\" Nouveau\",Tableau1[[#This Row],[Type de pièce]]<>\" Panoplie\"),MID(Tableau1[[#This Row],[Article produit/\nPoste de charge]],2,15),IF(AND(Tableau1[[#This Row],[Catégorie pièce]]=\" Nouveau\",Tableau1[[#This Row],[Type de pièce]]=\" Panoplie\"),Tableau1[[#This Row],[Article produit/\nPoste de charge]],\"\")))","v":""},null,null,{"$f":"ROUNDUP((Tableau1[[#This Row],[Qté / an]]/52)*2,0)","v":{"$error":"#VALUE!"}},null,null,{"$f":"IF(AND(Tableau1[[#This Row],[Catégorie pièce]]=\" Opérations\",Tableau1[[#This Row],[Type de pièce]]=\" Temps\"),Taux_horaire/100,IF(AND(Tableau1[[#This Row],[Catégorie pièce]]=\" Nouveau\",Tableau1[[#This Row],[Type de pièce]]=\" Fabriquée\"),BOM!$AO122,IF(OR(AND(Tableau1[[#This Row],[Catégorie pièce]]=\" Nouveau\",Tableau1[[#This Row],[Type de pièce]]=\" Assemblage\"),BOM!$Y122=\" Produit fini\",Tableau1[[#This Row],[Type de pièce]]=\" Opé pièce primaire\",Tableau1[[#This Row],[Type de pièce]]=\" Pièce/Opé Panoplie\"),\"/\",IF(Tableau1[[#This Row],[Catégorie pièce]]=\" Existant\",VLOOKUP(CONCATENATE(Tableau1[[#This Row],[Article produit/\nPoste de charge]]),[1]ARTRDCL!$A$1:$U$65536,15,FALSE),\"\"))))","v":""},{"$f":"IF(OR(Tableau1[[#This Row],[Catégorie pièce]]=\" Opérations\",Tableau1[[#This Row],[Catégorie pièce]]=\" Matière 1ère\",ISBLANK(Tableau1[[#This Row],[Catégorie pièce]])),\"/\",SUMPRODUCT($AY$6:$BB$6,Tableau1[[#This Row],[Modèle A]:[Modèle D]]))","v":"/"},{"$f":"IFERROR(ROUNDDOWN(Tableau1[[#This Row],[surface\ntôle (m²)]]/Tableau1[[#This Row],[Surface\npièce (m²)]],0),0)","v":0},{"$f":"IF(AND(Tableau1[[#This Row],[Catégorie pièce]]=\" Nouveau\",Tableau1[[#This Row],[Type de pièce]]=\" Fabriquée\"),ROUNDUP(Tableau1[[#This Row],[Qté / an]]*2/52,0),0)","v":0},null,null,null,null,null,null,null,null,null,null,null,{"$f":"SUM(Tableau1[[#This Row],[VCOGS\ntôle]:[VCOGS\npliage]])","v":0},{"$f":"IFERROR((VLOOKUP(Tableau1[[#This Row],[Format\ntôle]],Tableau2[],11,FALSE)/Tableau1[[#This Row],[Série \néconomique ]])*Tableau1[[#This Row],[surface\ntôle (m²)]],0)","v":0},{"$f":"IF(Tableau1[[#This Row],[Laser (O/N)]]= \"Oui\",Tableau1[[#This Row],[Coût\ndécoupe laser]],Tableau1[[#This Row],[Coût\npoinçonnage]])","v":0},{"$f":"IF(Tableau1[[#This Row],[Nb plis]]>0, (IF(Tableau1[[#This Row],[Nb plis]]<5,0.25,IF(Tableau1[[#This Row],[Nb plis]]<7,0.33,0.45))/Tableau1[[#This Row],[Série \néconomique ]] +0.004*Tableau1[[#This Row],[Nb plis]])*$N$5,0)","v":0},{"$f":"IFERROR(VLOOKUP(Tableau1[[#This Row],[Format\ntôle]],Tôles!B:P,9,FALSE),0)","v":0},{"$f":"Tableau1[[#This Row],[Dimention X (mm)]]/1000*Tableau1[[#This Row],[Dimention Y (mm)]]/1000","v":0},{"$f":"IFERROR(ROUNDUP(Tableau1[[#This Row],[Surface\npièce (m²)]]/Tableau1[[#This Row],[surface\ntôle (m²)]],4),0)","v":0},{"$f":"IF(Tableau1[[#This Row],[Forcer série Economique ]]>0,Tableau1[[#This Row],[Forcer série Economique ]],Tableau1[[#This Row],[Série Economique proposée]])","v":0},{"$f":"IF(OR(ISERROR((5/Tableau1[[#This Row],[Série \néconomique ]]+Tableau1[[#This Row],[Nb trous]]*0.08*VLOOKUP(Tableau1[[#This Row],[Format\ntôle]],Tôles!B:O,5,FALSE)+ (Tableau1[[#This Row],[Dimention X (mm)]]+Tableau1[[#This Row],[Dimention Y (mm)]]) * 0.001)*Taux_horaire/100),Tableau1[[#This Row],[VCOGS\ntôle]] = \"\"),0,(5/Tableau1[[#This Row],[Série \néconomique ]]+Tableau1[[#This Row],[Nb trous]]*0.08*VLOOKUP(Tableau1[[#This Row],[Format\ntôle]],Tôles!B:O,5,FALSE)+ (Tableau1[[#This Row],[Dimention X (mm)]]+Tableau1[[#This Row],[Dimention Y (mm)]]) * 0.001)*Taux_horaire/100)","v":0},{"$f":"IF(OR(ISERROR((10/Tableau1[[#This Row],[Série \néconomique ]]+Tableau1[[#This Row],[Nb trous]]*0.007 + (Tableau1[[#This Row],[Dimention X (mm)]]+Tableau1[[#This Row],[Dimention Y (mm)]]) * 0.0005)*Taux_horaire/100),Tableau1[[#This Row],[VCOGS\ntôle]]= \"\"),0,(10/Tableau1[[#This Row],[Série \néconomique ]]+Tableau1[[#This Row],[Nb trous]]*0.007 + (Tableau1[[#This Row],[Dimention X (mm)]]+Tableau1[[#This Row],[Dimention Y (mm)]]) * 0.0005)*Taux_horaire/100)","v":0}]
[null,null,null,null,null,null,null,{"$f":"SUBSTITUTE(TRIM(CONCATENATE(Tableau1[[#This Row],[Niveau 0]],\" \",Tableau1[[#This Row],[Niveau 1]],\" \",Tableau1[[#This Row],[Niveau 2]],\" \",Tableau1[[#This Row],[Niveau 3]],\" \",Tableau1[[#This Row],[Niveau 4]],\" \",Tableau1[[#This Row],[Niveau 5]])),\" \",\".\")","v":""},{"$f":"IFERROR(IF(COUNTBLANK(Tableau1[[#This Row],[Niveau 0]:[Niveau 5]])=5,\"0\",LEFT(Tableau1[[#This Row],[Niveau]],(LEN(Tableau1[[#This Row],[Niveau]])-LEN(OFFSET(Tableau1[[#This Row],[Niveau 5]],0,(-COUNTBLANK(Tableau1[[#This Row],[Niveau 0]:[Niveau 5]]))))-1))),\"\")","v":""},null,null,null,null,{"$f":"IF(Tableau1[[#This Row],[Catégorie pièce]]=\" Opérations\",VLOOKUP(Tableau1[[#This Row],[Article produit/\nPoste de charge]],'PDC+emplacement'!A:C,2,FALSE),IF(Tableau1[[#This Row],[Catégorie pièce]]=\" Nouveau\",\"***RENSEIGNER NOM***\",IFERROR(VLOOKUP(CONCATENATE(Tableau1[[#This Row],[Article produit/\nPoste de charge]]),[1]ARTRDCL!$A$1:$U$25000,2,FALSE),\"\")))","v":""},null,null,null,null,null,{"$f":"IF(Tableau1[[#This Row],[Type plan]]=\"SP\",\"SP\",IF(AND(Tableau1[[#This Row],[Catégorie pièce]]=\" Nouveau\",Tableau1[[#This Row],[Type de pièce]]<>\" Panoplie\"),MID(Tableau1[[#This Row],[Article produit/\nPoste de charge]],2,15),IF(AND(Tableau1[[#This Row],[Catégorie pièce]]=\" Nouveau\",Tableau1[[#This Row],[Type de pièce]]=\" Panoplie\"),Tableau1[[#This Row],[Article produit/\nPoste de charge]],\"\")))","v":""},null,null,{"$f":"ROUNDUP((Tableau1[[#This Row],[Qté / an]]/52)*2,0)","v":{"$error":"#VALUE!"}},null,null,{"$f":"IF(AND(Tableau1[[#This Row],[Catégorie pièce]]=\" Opérations\",Tableau1[[#This Row],[Type de pièce]]=\" Temps\"),Taux_horaire/100,IF(AND(Tableau1[[#This Row],[Catégorie pièce]]=\" Nouveau\",Tableau1[[#This Row],[Type de pièce]]=\" Fabriquée\"),BOM!$AO123,IF(OR(AND(Tableau1[[#This Row],[Catégorie pièce]]=\" Nouveau\",Tableau1[[#This Row],[Type de pièce]]=\" Assemblage\"),BOM!$Y123=\" Produit fini\",Tableau1[[#This Row],[Type de pièce]]=\" Opé pièce primaire\",Tableau1[[#This Row],[Type de pièce]]=\" Pièce/Opé Panoplie\"),\"/\",IF(Tableau1[[#This Row],[Catégorie pièce]]=\" Existant\",VLOOKUP(CONCATENATE(Tableau1[[#This Row],[Article produit/\nPoste de charge]]),[1]ARTRDCL!$A$1:$U$65536,15,FALSE),\"\"))))","v":""},{"$f":"IF(OR(Tableau1[[#This Row],[Catégorie pièce]]=\" Opérations\",Tableau1[[#This Row],[Catégorie pièce]]=\" Matière 1ère\",ISBLANK(Tableau1[[#This Row],[Catégorie pièce]])),\"/\",SUMPRODUCT($AY$6:$BB$6,Tableau1[[#This Row],[Modèle A]:[Modèle D]]))","v":"/"},{"$f":"IFERROR(ROUNDDOWN(Tableau1[[#This Row],[surface\ntôle (m²)]]/Tableau1[[#This Row],[Surface\npièce (m²)]],0),0)","v":0},{"$f":"IF(AND(Tableau1[[#This Row],[Catégorie pièce]]=\" Nouveau\",Tableau1[[#This Row],[Type de pièce]]=\" Fabriquée\"),ROUNDUP(Tableau1[[#This Row],[Qté / an]]*2/52,0),0)","v":0},null,null,null,null,null,null,null,null,null,null,null,{"$f":"SUM(Tableau1[[#This Row],[VCOGS\ntôle]:[VCOGS\npliage]])","v":0},{"$f":"IFERROR((VLOOKUP(Tableau1[[#This Row],[Format\ntôle]],Tableau2[],11,FALSE)/Tableau1[[#This Row],[Série \néconomique ]])*Tableau1[[#This Row],[surface\ntôle (m²)]],0)","v":0},{"$f":"IF(Tableau1[[#This Row],[Laser (O/N)]]= \"Oui\",Tableau1[[#This Row],[Coût\ndécoupe laser]],Tableau1[[#This Row],[Coût\npoinçonnage]])","v":0},{"$f":"IF(Tableau1[[#This Row],[Nb plis]]>0, (IF(Tableau1[[#This Row],[Nb plis]]<5,0.25,IF(Tableau1[[#This Row],[Nb plis]]<7,0.33,0.45))/Tableau1[[#This Row],[Série \néconomique ]] +0.004*Tableau1[[#This Row],[Nb plis]])*$N$5,0)","v":0},{"$f":"IFERROR(VLOOKUP(Tableau1[[#This Row],[Format\ntôle]],Tôles!B:P,9,FALSE),0)","v":0},{"$f":"Tableau1[[#This Row],[Dimention X (mm)]]/1000*Tableau1[[#This Row],[Dimention Y (mm)]]/1000","v":0},{"$f":"IFERROR(ROUNDUP(Tableau1[[#This Row],[Surface\npièce (m²)]]/Tableau1[[#This Row],[surface\ntôle (m²)]],4),0)","v":0},{"$f":"IF(Tableau1[[#This Row],[Forcer série Economique ]]>0,Tableau1[[#This Row],[Forcer série Economique ]],Tableau1[[#This Row],[Série Economique proposée]])","v":0},{"$f":"IF(OR(ISERROR((5/Tableau1[[#This Row],[Série \néconomique ]]+Tableau1[[#This Row],[Nb trous]]*0.08*VLOOKUP(Tableau1[[#This Row],[Format\ntôle]],Tôles!B:O,5,FALSE)+ (Tableau1[[#This Row],[Dimention X (mm)]]+Tableau1[[#This Row],[Dimention Y (mm)]]) * 0.001)*Taux_horaire/100),Tableau1[[#This Row],[VCOGS\ntôle]] = \"\"),0,(5/Tableau1[[#This Row],[Série \néconomique ]]+Tableau1[[#This Row],[Nb trous]]*0.08*VLOOKUP(Tableau1[[#This Row],[Format\ntôle]],Tôles!B:O,5,FALSE)+ (Tableau1[[#This Row],[Dimention X (mm)]]+Tableau1[[#This Row],[Dimention Y (mm)]]) * 0.001)*Taux_horaire/100)","v":0},{"$f":"IF(OR(ISERROR((10/Tableau1[[#This Row],[Série \néconomique ]]+Tableau1[[#This Row],[Nb trous]]*0.007 + (Tableau1[[#This Row],[Dimention X (mm)]]+Tableau1[[#This Row],[Dimention Y (mm)]]) * 0.0005)*Taux_horaire/100),Tableau1[[#This Row],[VCOGS\ntôle]]= \"\"),0,(10/Tableau1[[#This Row],[Série \néconomique ]]+Tableau1[[#This Row],[Nb trous]]*0.007 + (Tableau1[[#This Row],[Dimention X (mm)]]+Tableau1[[#This Row],[Dimention Y (mm)]]) * 0.0005)*Taux_horaire/100)","v":0}]
[null,null,null,null,null,null,null,{"$f":"SUBSTITUTE(TRIM(CONCATENATE(Tableau1[[#This Row],[Niveau 0]],\" \",Tableau1[[#This Row],[Niveau 1]],\" \",Tableau1[[#This Row],[Niveau 2]],\" \",Tableau1[[#This Row],[Niveau 3]],\" \",Tableau1[[#This Row],[Niveau 4]],\" \",Tableau1[[#This Row],[Niveau 5]])),\" \",\".\")","v":""},{"$f":"IFERROR(IF(COUNTBLANK(Tableau1[[#This Row],[Niveau 0]:[Niveau 5]])=5,\"0\",LEFT(Tableau1[[#This Row],[Niveau]],(LEN(Tableau1[[#This Row],[Niveau]])-LEN(OFFSET(Tableau1[[#This Row],[Niveau 5]],0,(-COUNTBLANK(Tableau1[[#This Row],[Niveau 0]:[Niveau 5]]))))-1))),\"\")","v":""},null,null,null,null,{"$f":"IF(Tableau1[[#This Row],[Catégorie pièce]]=\" Opérations\",VLOOKUP(Tableau1[[#This Row],[Article produit/\nPoste de charge]],'PDC+emplacement'!A:C,2,FALSE),IF(Tableau1[[#This Row],[Catégorie pièce]]=\" Nouveau\",\"***RENSEIGNER NOM***\",IFERROR(VLOOKUP(CONCATENATE(Tableau1[[#This Row],[Article produit/\nPoste de charge]]),[1]ARTRDCL!$A$1:$U$25000,2,FALSE),\"\")))","v":""},null,null,null,null,null,{"$f":"IF(Tableau1[[#This Row],[Type plan]]=\"SP\",\"SP\",IF(AND(Tableau1[[#This Row],[Catégorie pièce]]=\" Nouveau\",Tableau1[[#This Row],[Type de pièce]]<>\" Panoplie\"),MID(Tableau1[[#This Row],[Article produit/\nPoste de charge]],2,15),IF(AND(Tableau1[[#This Row],[Catégorie pièce]]=\" Nouveau\",Tableau1[[#This Row],[Type de pièce]]=\" Panoplie\"),Tableau1[[#This Row],[Article produit/\nPoste de charge]],\"\")))","v":""},null,null,{"$f":"ROUNDUP((Tableau1[[#This Row],[Qté / an]]/52)*2,0)","v":{"$error":"#VALUE!"}},null,null,{"$f":"IF(AND(Tableau1[[#This Row],[Catégorie pièce]]=\" Opérations\",Tableau1[[#This Row],[Type de pièce]]=\" Temps\"),Taux_horaire/100,IF(AND(Tableau1[[#This Row],[Catégorie pièce]]=\" Nouveau\",Tableau1[[#This Row],[Type de pièce]]=\" Fabriquée\"),BOM!$AO124,IF(OR(AND(Tableau1[[#This Row],[Catégorie pièce]]=\" Nouveau\",Tableau1[[#This Row],[Type de pièce]]=\" Assemblage\"),BOM!$Y124=\" Produit fini\",Tableau1[[#This Row],[Type de pièce]]=\" Opé pièce primaire\",Tableau1[[#This Row],[Type de pièce]]=\" Pièce/Opé Panoplie\"),\"/\",IF(Tableau1[[#This Row],[Catégorie pièce]]=\" Existant\",VLOOKUP(CONCATENATE(Tableau1[[#This Row],[Article produit/\nPoste de charge]]),[1]ARTRDCL!$A$1:$U$65536,15,FALSE),\"\"))))","v":""},{"$f":"IF(OR(Tableau1[[#This Row],[Catégorie pièce]]=\" Opérations\",Tableau1[[#This Row],[Catégorie pièce]]=\" Matière 1ère\",ISBLANK(Tableau1[[#This Row],[Catégorie pièce]])),\"/\",SUMPRODUCT($AY$6:$BB$6,Tableau1[[#This Row],[Modèle A]:[Modèle D]]))","v":"/"},{"$f":"IFERROR(ROUNDDOWN(Tableau1[[#This Row],[surface\ntôle (m²)]]/Tableau1[[#This Row],[Surface\npièce (m²)]],0),0)","v":0},{"$f":"IF(AND(Tableau1[[#This Row],[Catégorie pièce]]=\" Nouveau\",Tableau1[[#This Row],[Type de pièce]]=\" Fabriquée\"),ROUNDUP(Tableau1[[#This Row],[Qté / an]]*2/52,0),0)","v":0},null,null,null,null,null,null,null,null,null,null,null,{"$f":"SUM(Tableau1[[#This Row],[VCOGS\ntôle]:[VCOGS\npliage]])","v":0},{"$f":"IFERROR((VLOOKUP(Tableau1[[#This Row],[Format\ntôle]],Tableau2[],11,FALSE)/Tableau1[[#This Row],[Série \néconomique ]])*Tableau1[[#This Row],[surface\ntôle (m²)]],0)","v":0},{"$f":"IF(Tableau1[[#This Row],[Laser (O/N)]]= \"Oui\",Tableau1[[#This Row],[Coût\ndécoupe laser]],Tableau1[[#This Row],[Coût\npoinçonnage]])","v":0},{"$f":"IF(Tableau1[[#This Row],[Nb plis]]>0, (IF(Tableau1[[#This Row],[Nb plis]]<5,0.25,IF(Tableau1[[#This Row],[Nb plis]]<7,0.33,0.45))/Tableau1[[#This Row],[Série \néconomique ]] +0.004*Tableau1[[#This Row],[Nb plis]])*$N$5,0)","v":0},{"$f":"IFERROR(VLOOKUP(Tableau1[[#This Row],[Format\ntôle]],Tôles!B:P,9,FALSE),0)","v":0},{"$f":"Tableau1[[#This Row],[Dimention X (mm)]]/1000*Tableau1[[#This Row],[Dimention Y (mm)]]/1000","v":0},{"$f":"IFERROR(ROUNDUP(Tableau1[[#This Row],[Surface\npièce (m²)]]/Tableau1[[#This Row],[surface\ntôle (m²)]],4),0)","v":0},{"$f":"IF(Tableau1[[#This Row],[Forcer série Economique ]]>0,Tableau1[[#This Row],[Forcer série Economique ]],Tableau1[[#This Row],[Série Economique proposée]])","v":0},{"$f":"IF(OR(ISERROR((5/Tableau1[[#This Row],[Série \néconomique ]]+Tableau1[[#This Row],[Nb trous]]*0.08*VLOOKUP(Tableau1[[#This Row],[Format\ntôle]],Tôles!B:O,5,FALSE)+ (Tableau1[[#This Row],[Dimention X (mm)]]+Tableau1[[#This Row],[Dimention Y (mm)]]) * 0.001)*Taux_horaire/100),Tableau1[[#This Row],[VCOGS\ntôle]] = \"\"),0,(5/Tableau1[[#This Row],[Série \néconomique ]]+Tableau1[[#This Row],[Nb trous]]*0.08*VLOOKUP(Tableau1[[#This Row],[Format\ntôle]],Tôles!B:O,5,FALSE)+ (Tableau1[[#This Row],[Dimention X (mm)]]+Tableau1[[#This Row],[Dimention Y (mm)]]) * 0.001)*Taux_horaire/100)","v":0},{"$f":"IF(OR(ISERROR((10/Tableau1[[#This Row],[Série \néconomique ]]+Tableau1[[#This Row],[Nb trous]]*0.007 + (Tableau1[[#This Row],[Dimention X (mm)]]+Tableau1[[#This Row],[Dimention Y (mm)]]) * 0.0005)*Taux_horaire/100),Tableau1[[#This Row],[VCOGS\ntôle]]= \"\"),0,(10/Tableau1[[#This Row],[Série \néconomique ]]+Tableau1[[#This Row],[Nb trous]]*0.007 + (Tableau1[[#This Row],[Dimention X (mm)]]+Tableau1[[#This Row],[Dimention Y (mm)]]) * 0.0005)*Taux_horaire/100)","v":0}]
[null,null,null,null,null,null,null,{"$f":"SUBSTITUTE(TRIM(CONCATENATE(Tableau1[[#This Row],[Niveau 0]],\" \",Tableau1[[#This Row],[Niveau 1]],\" \",Tableau1[[#This Row],[Niveau 2]],\" \",Tableau1[[#This Row],[Niveau 3]],\" \",Tableau1[[#This Row],[Niveau 4]],\" \",Tableau1[[#This Row],[Niveau 5]])),\" \",\".\")","v":""},{"$f":"IFERROR(IF(COUNTBLANK(Tableau1[[#This Row],[Niveau 0]:[Niveau 5]])=5,\"0\",LEFT(Tableau1[[#This Row],[Niveau]],(LEN(Tableau1[[#This Row],[Niveau]])-LEN(OFFSET(Tableau1[[#This Row],[Niveau 5]],0,(-COUNTBLANK(Tableau1[[#This Row],[Niveau 0]:[Niveau 5]]))))-1))),\"\")","v":""},null,null,null,null,{"$f":"IF(Tableau1[[#This Row],[Catégorie pièce]]=\" Opérations\",VLOOKUP(Tableau1[[#This Row],[Article produit/\nPoste de charge]],'PDC+emplacement'!A:C,2,FALSE),IF(Tableau1[[#This Row],[Catégorie pièce]]=\" Nouveau\",\"***RENSEIGNER NOM***\",IFERROR(VLOOKUP(CONCATENATE(Tableau1[[#This Row],[Article produit/\nPoste de charge]]),[1]ARTRDCL!$A$1:$U$25000,2,FALSE),\"\")))","v":""},null,null,null,null,null,{"$f":"IF(Tableau1[[#This Row],[Type plan]]=\"SP\",\"SP\",IF(AND(Tableau1[[#This Row],[Catégorie pièce]]=\" Nouveau\",Tableau1[[#This Row],[Type de pièce]]<>\" Panoplie\"),MID(Tableau1[[#This Row],[Article produit/\nPoste de charge]],2,15),IF(AND(Tableau1[[#This Row],[Catégorie pièce]]=\" Nouveau\",Tableau1[[#This Row],[Type de pièce]]=\" Panoplie\"),Tableau1[[#This Row],[Article produit/\nPoste de charge]],\"\")))","v":""},null,null,{"$f":"ROUNDUP((Tableau1[[#This Row],[Qté / an]]/52)*2,0)","v":{"$error":"#VALUE!"}},null,null,{"$f":"IF(AND(Tableau1[[#This Row],[Catégorie pièce]]=\" Opérations\",Tableau1[[#This Row],[Type de pièce]]=\" Temps\"),Taux_horaire/100,IF(AND(Tableau1[[#This Row],[Catégorie pièce]]=\" Nouveau\",Tableau1[[#This Row],[Type de pièce]]=\" Fabriquée\"),BOM!$AO125,IF(OR(AND(Tableau1[[#This Row],[Catégorie pièce]]=\" Nouveau\",Tableau1[[#This Row],[Type de pièce]]=\" Assemblage\"),BOM!$Y125=\" Produit fini\",Tableau1[[#This Row],[Type de pièce]]=\" Opé pièce primaire\",Tableau1[[#This Row],[Type de pièce]]=\" Pièce/Opé Panoplie\"),\"/\",IF(Tableau1[[#This Row],[Catégorie pièce]]=\" Existant\",VLOOKUP(CONCATENATE(Tableau1[[#This Row],[Article produit/\nPoste de charge]]),[1]ARTRDCL!$A$1:$U$65536,15,FALSE),\"\"))))","v":""},{"$f":"IF(OR(Tableau1[[#This Row],[Catégorie pièce]]=\" Opérations\",Tableau1[[#This Row],[Catégorie pièce]]=\" Matière 1ère\",ISBLANK(Tableau1[[#This Row],[Catégorie pièce]])),\"/\",SUMPRODUCT($AY$6:$BB$6,Tableau1[[#This Row],[Modèle A]:[Modèle D]]))","v":"/"},{"$f":"IFERROR(ROUNDDOWN(Tableau1[[#This Row],[surface\ntôle (m²)]]/Tableau1[[#This Row],[Surface\npièce (m²)]],0),0)","v":0},{"$f":"IF(AND(Tableau1[[#This Row],[Catégorie pièce]]=\" Nouveau\",Tableau1[[#This Row],[Type de pièce]]=\" Fabriquée\"),ROUNDUP(Tableau1[[#This Row],[Qté / an]]*2/52,0),0)","v":0},null,null,null,null,null,null,null,null,null,null,null,{"$f":"SUM(Tableau1[[#This Row],[VCOGS\ntôle]:[VCOGS\npliage]])","v":0},{"$f":"IFERROR((VLOOKUP(Tableau1[[#This Row],[Format\ntôle]],Tableau2[],11,FALSE)/Tableau1[[#This Row],[Série \néconomique ]])*Tableau1[[#This Row],[surface\ntôle (m²)]],0)","v":0},{"$f":"IF(Tableau1[[#This Row],[Laser (O/N)]]= \"Oui\",Tableau1[[#This Row],[Coût\ndécoupe laser]],Tableau1[[#This Row],[Coût\npoinçonnage]])","v":0},{"$f":"IF(Tableau1[[#This Row],[Nb plis]]>0, (IF(Tableau1[[#This Row],[Nb plis]]<5,0.25,IF(Tableau1[[#This Row],[Nb plis]]<7,0.33,0.45))/Tableau1[[#This Row],[Série \néconomique ]] +0.004*Tableau1[[#This Row],[Nb plis]])*$N$5,0)","v":0},{"$f":"IFERROR(VLOOKUP(Tableau1[[#This Row],[Format\ntôle]],Tôles!B:P,9,FALSE),0)","v":0},{"$f":"Tableau1[[#This Row],[Dimention X (mm)]]/1000*Tableau1[[#This Row],[Dimention Y (mm)]]/1000","v":0},{"$f":"IFERROR(ROUNDUP(Tableau1[[#This Row],[Surface\npièce (m²)]]/Tableau1[[#This Row],[surface\ntôle (m²)]],4),0)","v":0},{"$f":"IF(Tableau1[[#This Row],[Forcer série Economique ]]>0,Tableau1[[#This Row],[Forcer série Economique ]],Tableau1[[#This Row],[Série Economique proposée]])","v":0},{"$f":"IF(OR(ISERROR((5/Tableau1[[#This Row],[Série \néconomique ]]+Tableau1[[#This Row],[Nb trous]]*0.08*VLOOKUP(Tableau1[[#This Row],[Format\ntôle]],Tôles!B:O,5,FALSE)+ (Tableau1[[#This Row],[Dimention X (mm)]]+Tableau1[[#This Row],[Dimention Y (mm)]]) * 0.001)*Taux_horaire/100),Tableau1[[#This Row],[VCOGS\ntôle]] = \"\"),0,(5/Tableau1[[#This Row],[Série \néconomique ]]+Tableau1[[#This Row],[Nb trous]]*0.08*VLOOKUP(Tableau1[[#This Row],[Format\ntôle]],Tôles!B:O,5,FALSE)+ (Tableau1[[#This Row],[Dimention X (mm)]]+Tableau1[[#This Row],[Dimention Y (mm)]]) * 0.001)*Taux_horaire/100)","v":0},{"$f":"IF(OR(ISERROR((10/Tableau1[[#This Row],[Série \néconomique ]]+Tableau1[[#This Row],[Nb trous]]*0.007 + (Tableau1[[#This Row],[Dimention X (mm)]]+Tableau1[[#This Row],[Dimention Y (mm)]]) * 0.0005)*Taux_horaire/100),Tableau1[[#This Row],[VCOGS\ntôle]]= \"\"),0,(10/Tableau1[[#This Row],[Série \néconomique ]]+Tableau1[[#This Row],[Nb trous]]*0.007 + (Tableau1[[#This Row],[Dimention X (mm)]]+Tableau1[[#This Row],[Dimention Y (mm)]]) * 0.0005)*Taux_horaire/100)","v":0}]
[]
[null,null,null,null,null,null,null,null,null,null,null,null,null,null,null,null,null,null,null,null,null,null,null,null,null,null,{"$f":"$Z$2","v":"Modèle"}]
[null,null,null,null,null,null,null,null,null,null,null,null,null,null,null,null,null,null,null,null,null,null,null,null,null,null,{"$f":"$Z$3","v":"Taille"}]
[null,null,null,null,null,null,null,null,null,null,null,null,null,null,null,null,null,null,null,null,null,null,null,null,null,null,{"$f":"$Z$4","v":"Classe"}]
[null,null,null,null,null,null,null,null,null,null,null,null,null,"Opération d'assemblage en CH",null,null,null,null,null,null,null,null,null,null,null,{"$f":"A26","v":"CAISSE"},null,null,null,null,null,null,null,null,null,null,null,null,null,null,null,null,null,null,null,null,null,null,null,null,{"$f":"SUMPRODUCT($Z26:$Z45,AY26:AY45)","v":0},{"$f":"SUMPRODUCT($Z26:$Z45,AZ26:AZ45)","v":0},{"$f":"SUMPRODUCT($Z26:$Z45,BA26:BA45)","v":0},{"$f":"SUMPRODUCT($Z26:$Z45,BB26:BB45)","v":0}]
[null,null,null,null,null,null,null,null,null,null,null,null,null,"Cellule vide  ou erreur de saisie",null,null,null,null,null,null,null,null,null,null,null,{"$f":"A46","v":"PORTE"},null,null,null,null,null,null,null,null,null,null,null,null,null,null,null,null,null,null,null,null,null,null,null,null,{"$f":"SUMPRODUCT($Z46:$Z65,AY46:AY65)","v":0},{"$f":"SUMPRODUCT($Z46:$Z65,AZ46:AZ65)","v":0},0,0]
[null,null,null,null,null,null,null,null,null,null,null,null,null,"Nouvelle pièce  /  Prix estimé",null,null,null,null,null,null,null,null,null,null,null,{"$f":"A66","v":"P/C"},null,null,null,null,null,null,null,null,null,null,null,null,null,null,null,null,null,null,null,null,null,null,null,null,{"$f":"SUMPRODUCT($Z66:$Z75,AY66:AY75)","v":0},{"$f":"SUMPRODUCT($Z66:$Z75,AZ66:AZ75)","v":0},0,0]
[null,null,null,null,null,null,null,null,null,null,null,null,null,"Quantité différente en fonction des produits",null,null,null,null,null,null,null,null,null,null,null,{"$f":"A76","v":"PEINTURE"},null,null,null,null,null,null,null,null,null,null,null,null,null,null,null,null,null,null,null,null,null,null,null,null,{"$f":"SUMPRODUCT($Z76:$Z85,AY76:AY85)","v":0},{"$f":"SUMPRODUCT($Z76:$Z85,AZ76:AZ85)","v":0},0,0]
[null,null,null,null,null,null,null,null,null,null,null,null,null,"Quantité identique, même type de de pièce mais dimensions différentes",null,null,null,null,null,null,null,null,null,null,null,{"$f":"A86","v":"TRINGLERIE"},null,null,null,null,null,null,null,null,null,null,null,null,null,null,null,null,null,null,null,null,null,null,null,null,{"$f":"SUMPRODUCT($Z86:$Z95,AY86:AY95)","v":0},{"$f":"SUMPRODUCT($Z86:$Z95,AZ86:AZ95)","v":0},0,0]
[null,null,null,null,null,null,null,null,null,null,null,null,null,null,null,null,null,null,null,null,null,null,null,null,null,{"$f":"A96","v":"IMMATRICULATION"},null,null,null,null,null,null,null,null,null,null,null,null,null,null,null,null,null,null,null,null,null,null,null,null,{"$f":"SUMPRODUCT($Z96:$Z105,AY96:AY105)","v":0},{"$f":"SUMPRODUCT($Z96:$Z105,AZ96:AZ105)","v":0},0,0]
[null,null,null,null,null,null,null,null,null,null,null,null,null,"Changement d'indice",null,null,null,null,null,null,null,null,null,null,null,{"$f":"A106","v":"FIXATION"},null,null,null,null,null,null,null,null,null,null,null,null,null,null,null,null,null,null,null,null,null,null,null,null,{"$f":"SUMPRODUCT($Z106:$Z115,AY106:AY115)","v":0},{"$f":"SUMPRODUCT($Z106:$Z115,AZ106:AZ115)","v":0},0,0]
[null,null,null,null,null,null,null,null,null,null,null,null,null,"Modification de la BOM",null,null,null,null,null,null,null,null,null,null,null,{"$f":"A116","v":"EMBALLAGE"},null,null,null,null,null,null,null,null,null,null,null,null,null,null,null,null,null,null,null,null,null,null,null,null,{"$f":"SUMPRODUCT($Z116:$Z125,AY116:AY125)","v":0},{"$f":"SUMPRODUCT($Z116:$Z125,AZ116:AZ125)","v":0},{"$f":"SUMPRODUCT($Z116:$Z125,BA116:BA125)","v":0},{"$f":"SUMPRODUCT($Z116:$Z125,BB116:BB125)","v":0}]
[null,null,null,null,null,null,null,null,null,null,null,null,null,null,null,null,null,null,null,null,null,null,null,null,null,"Total VCOGS",null,null,null,null,null,null,null,null,null,null,null,null,null,null,null,null,null,null,null,null,null,null,null,null,{"$f":"SUMPRODUCT(BOM!$Z$8:$Z$125,AY8:AY125)","v":{"$error":"#N/A"}},{"$f":"SUMPRODUCT(BOM!$Z$8:$Z$125,AZ8:AZ125)","v":{"$error":"#N/A"}},{"$f":"SUMPRODUCT(BOM!$Z$8:$Z$125,BA8:BA125)","v":{"$error":"#N/A"}},{"$f":"SUMPRODUCT(BOM!$Z$8:$Z$125,BB8:BB125)","v":{"$error":"#N/A"}}]
[null,null,null,null,null,null,null,null,null,null,null,null,null,null,null,null,null,null,null,null,null,null,null,null,null,"Total TP",null,null,null,null,null,null,null,null,null,null,null,null,null,null,null,null,null,null,null,null,null,null,null,null,{"$f":"ROUND(AY138*$N$4,0)","v":{"$error":"#N/A"}},{"$f":"ROUND(AZ138*$N$4,0)","v":{"$error":"#N/A"}},{"$f":"ROUND(BA138*$N$4,0)","v":{"$error":"#N/A"}},{"$f":"ROUND(BB138*$N$4,0)","v":{"$error":"#N/A"}}]
[]
[]
[]
[]
[]
[]
[]
[]
[]
[]
[]
[null,null,null,null,null,null,null,null,null,null,null,null,null,null,null,null,null,null,null,null,null,null,null,null,null,null,null,null,null,{"$f":"#REF!","v":{"$error":"#REF!"}}]
[null,null,null,null,null,null,null,null,null,null,null,null,null,null,null,null,null,null,null,null,null,null,null,null,null,null,null,null,null,{"$f":"#REF!","v":{"$error":"#REF!"}}]
[null,null,null,null,null,null,null,null,null,null,null,null,null,null,null,null,null,null,null,null,null,null,null,null,null,null,null,null,null,{"$f":"#REF!","v":{"$error":"#REF!"}}]
[null,null,null,null,null,null,null,null,null,null,null,null,null,null,null,null,null,null,null,null,null,null,null,null,null,null,null,null,null,{"$f":"#REF!","v":{"$error":"#REF!"}}]
[null,null,null,null,null,null,null,null,null,null,null,null,null,null,null,null,null,null,null,null,null,null,null,null,null,null,null,null,null,{"$f":"#REF!","v":{"$error":"#REF!"}}]
[null,null,null,null,null,null,null,null,null,null,null,null,null,null,null,null,null,null,null,null,null,null,null,null,null,null,null,null,null,{"$f":"#REF!","v":{"$error":"#REF!"}}]

{"sheet":"MMS","index":1,"n_rows":5,"n_cols":34,"rows_kept":5,"cut":false,"hidden":false,"merged":[[5,1,5,33],[1,2,1,19],[1,21,1,31],[2,2,2,13],[2,14,2,15],[2,16,2,19],[2,21,2,27],[2,28,2,29],[2,30,2,31]]}
[]
[null,null,"MMS001",null,null,null,null,null,null,null,null,null,null,null,null,null,null,null,null,null,null,"MMS002",null,null,null,null,null,null,null,null,null,null,"MMS003"]
[null,null,"MMS001/E",null,null,null,null,null,null,null,null,null,null,null,"MMS001/F",null,"MMS001/G",null,null,null,"MMS001/H","MMS002/E",null,null,null,null,null,null,"MMS002/F",null,"MMS002/G"]
[null,"Code article","Nom ","Numéro\nde plan","Type\n article","Groupe article","Groupe produit","Mét.\nval.stock","U/M\n de base","Resp.\n article","Code fab./achat","Groupe approvis","Mét. \ngestion/lot","Mét.\nnumérot.lot","Poids\n brut","Poids\n net","Code configurat","Catégorie Article","Modèle","Matricule\n O/N","Type/\nvolume","Code\nacquisit","Type\nordre","Périodes planif","Polit.\n planif","Délai sécurité.","Borne plan.dde.","Borne de planif","Série\n économiqu","Pol.\nlotissement","Emplacement","Mét\n sortie OF","Dél.\nadministra","Modèle"]
[null,12345678,{"$f":"+VLOOKUP($B5,BOM!$M:$W,2,FALSE)","v":{"$error":"#N/A"}},{"$f":"IF(VLOOKUP($B5,BOM!$M:$W,8,FALSE)=0,FALSE,VLOOKUP($B5,BOM!$M:$W,8,FALSE))","v":{"$error":"#N/A"}},{"$f":"VLOOKUP($AH5,'Modèles+listes'!$B$5:$W$21,3,FALSE)","v":{"$error":"#N/A"}},{"$f":"BOM!$R$4","v":1510},{"$f":"BOM!$R$5","v":"04010"},{"$f":"VLOOKUP($AH5,'Modèles+listes'!$B$5:$W$21,4,FALSE)","v":{"$error":"#N/A"}},{"$f":"IF(VLOOKUP($B5,BOM!$M:$W,4,FALSE)=0,FALSE,VLOOKUP($B5,BOM!$M:$W,4,FALSE))","v":{"$error":"#N/A"}},{"$f":"+IF(E5<>\"04\",BOM!$R$3,BOM!$R$2)","v":{"$error":"#N/A"}},{"$f":"VLOOKUP($AH5,'Modèles+listes'!$B$5:$W$21,5,FALSE)","v":{"$error":"#N/A"}},{"$f":"VLOOKUP($AH5,'Modèles+listes'!$B$5:$W$21,6,FALSE)","v":{"$error":"#N/A"}},{"$f":"VLOOKUP($AH5,'Modèles+listes'!$B$5:$W$21,7,FALSE)","v":{"$error":"#N/A"}},{"$f":"VLOOKUP($AH5,'Modèles+listes'!$B$5:$W$21,8,FALSE)","v":{"$error":"#N/A"}},{"$f":"+VLOOKUP($B5,BOM!$M:$W,5,FALSE)","v":{"$error":"#N/A"}},{"$f":"+VLOOKUP($B5,BOM!$M:$W,6,FALSE)","v":{"$error":"#N/A"}},{"$f":"VLOOKUP($AH5,'Modèles+listes'!$B$5:$W$21,9,FALSE)","v":{"$error":"#N/A"}},{"$f":"VLOOKUP($AH5,'Modèles+listes'!$B$5:$W$21,10,FALSE)","v":{"$error":"#N/A"}},null,{"$f":"IF(VLOOKUP($B5,BOM!$M:$W,9,FALSE)=0,FALSE,VLOOKUP($B5,BOM!$M:$W,9,FALSE))","v":{"$error":"#N/A"}},null,{"$f":"VLOOKUP($AH5,'Modèles+listes'!$B$5:$W$21,11,FALSE)","v":{"$error":"#N/A"}},{"$f":"VLOOKUP($AH5,'Modèles+listes'!$B$5:$W$21,12,FALSE)","v":{"$error":"#N/A"}},{"$f":"VLOOKUP($AH5,'Modèles+listes'!$B$5:$W$21,13,FALSE)","v":{"$error":"#N/A"}},{"$f":"VLOOKUP($AH5,'Modèles+listes'!$B$5:$W$21,14,FALSE)","v":{"$error":"#N/A"}},{"$f":"VLOOKUP($AH5,'Modèles+listes'!$B$5:$W$21,15,FALSE)","v":{"$error":"#N/A"}},{"$f":"VLOOKUP($AH5,'Modèles+listes'!$B$5:$W$21,16,FALSE)","v":{"$error":"#N/A"}},{"$f":"VLOOKUP($AH5,'Modèles+listes'!$B$5:$W$21,17,FALSE)","v":{"$error":"#N/A"}},{"$f":"IF(VLOOKUP($B5,BOM!$M:$W,11,FALSE)=0,FALSE,VLOOKUP($B5,BOM!$M:$W,11,FALSE))","v":{"$error":"#N/A"}},{"$f":"VLOOKUP($AH5,'Modèles+listes'!$B$5:$W$21,19,FALSE)","v":{"$error":"#N/A"}},{"$f":"IF(VLOOKUP($B5,BOM!$M:$W,7,FALSE)=0,FALSE,VLOOKUP($B5,BOM!$M:$W,7,FALSE))","v":{"$error":"#N/A"}},{"$f":"VLOOKUP($AH5,'Modèles+listes'!$B$5:$W$21,21,FALSE)","v":{"$error":"#N/A"}},{"$f":"VLOOKUP($AH5,'Modèles+listes'!$B$5:$W$21,22,FALSE)","v":{"$error":"#N/A"}},{"$f":"IF(VLOOKUP($B5,BOM!$M:$W,3,FALSE)=0,FALSE,VLOOKUP($B5,BOM!$M:$W,3,FALSE))","v":{"$error":"#N/A"}}]

{"sheet":"CRS230","index":2,"n_rows":6,"n_cols":6,"rows_kept":6,"cut":false,"hidden":false,"merged":[[1,1,1,4],[2,1,2,4],[4,5,4,8]]}
[]
[null,"CRS230"]
[null,"CRS230/E"]
["Article Produit","No document","Nom","Type document","Responsable"]
[12456006,null,null,null,{"$f":"VLOOKUP($A5,MMS!B:AH,9,FALSE)","v":{"$error":"#N/A"}},"modèle formule ne pas suprimer"]
["Article Produit","DODOID","DODODE","DODOTY"]

{"sheet":"ECS411","index":3,"n_rows":5,"n_cols":4,"rows_kept":5,"cut":false,"hidden":false,"merged":[[0,1,0,3],[1,1,1,3],[2,1,2,3]]}
[null,"colonne B à REMPLIR MANUELLEMENT"]
[null,"ECS411"]
[null,"ECS411/B"]
[null,"No document","Sous-document","Remarques"]
[null,"DLDOID","DLSUID","DLREMK"]

{"sheet":"PDS021 Article","index":4,"n_rows":6,"n_cols":3,"rows_kept":6,"cut":false,"hidden":false,"merged":[[1,1,2,2]]}
[]
[null,"PDS021 Création\n NOUVEAU CODE"]
[]
[null,"Article Produit","RESPONSABLE"]
[null,12345678,{"$f":"+VLOOKUP($B5,MMS!$B:$AH,9,FALSE)","v":{"$error":"#N/A"}}]
[null,"PHPRNO","MMRESP"]

{"sheet":"PDS021 Opérations","index":5,"n_rows":5,"n_cols":8,"rows_kept":5,"cut":false,"hidden":false,"merged":[[1,1,1,4]]}
[null,"exemple",null,22380,null,{"$f":"VLOOKUP(D1,'PDC+emplacement'!A:C,3,FALSE)","v":0.15}]
[null,"PDS021 Opérations"]
[null,"identification article. 15 caractères maxi.               Obligatoire","indique l'ordre dans lequel les opérations seront réalisées","Poste de Charge sur lequel l'opération est effectuée","Libellé de l'opération","Temps expérimé en heure","temps exprimé en centième d'heure, Est défini par défaut sur le PDC mais peut être renseignée","Doit exister dans CRS230"]
[null,"Article Produit","n° opération","PDC","Désignation opération","Temps de préparation","Temps exécution","n° document"]
[null,"POPRNO","POOPNO","POPLGR","POOPDS","PPSETI","POPITI","PODOID"]

{"sheet":"PDS021 Composants","index":6,"n_rows":5,"n_cols":7,"rows_kept":5,"cut":false,"hidden":false,"merged":[[1,1,1,4]]}
[null,null,null,null,null,null,0]
[null,"PDS021 Composants"]
[null,"Doit exister dans MOVEX ou dans le fichier de création ","Ordre dans lequel les composants doivent apparaitre dans la structure","Doit exister \ndans le fichier opérations ","Doit exister ds MOVEX \nou ds le fichier\n de création ","Coefficient d'assemblage, Toujours positif","Préciser 1 si le composant est à réintégrer (lien négatif)"]
[null,"Article Produit","séquence","n° opération","composant","quantité","Code SS/Co Prod"]
[null,"PMPRNO","PMMSEQ","PMOPNO","PMMTNO","PMCNQT","PMBYPR"]

{"sheet":"Modèles+listes","index":7,"n_rows":109,"n_cols":23,"rows_kept":109,"cut":false,"hidden":false,"merged":[[1,3,1,10],[1,11,1,21],[2,3,2,8],[2,9,2,10],[2,11,2,18],[2,20,2,21]]}
[]
[null,null,null,"MMS001",null,null,null,null,null,null,null,"MMS002",null,null,null,null,null,null,null,null,null,null,"MMS003"]
[null,null,null,"MMS001/E",null,null,null,null,null,"MMS001/G",null,"MMS002/E",null,null,null,null,null,null,null,"MMS002/F","MMS002/G"]
[null,"MODEL ","DESIGNATION","Type article","Mét.val.stock","Code fab./achat","Groupe approvis","Mét. gestion/lot","Mét.numérot.lot","Code configurat","Catégorie Article","Code acquisit","Type ordre","Périodes planif","Polit. planif","Délai sécurité.","Borne plan.dde.","Borne de planif","Fournisseur","Pol.lotissement","Emplacement","Mét sortie OF","Dél.administra"]
[null," MODEL","FABRIQUE,NON GERE,LOT","02",1,1,"FAB",0,0,0,0,1,"01",1,"03",1,5,10,"XX",12,"?",4,2]
[null," MODELHA","ACHAT SUR INVEST, NON STOCKE","HA",0,2,"?",0,0,0,0,2,"50",1,"ST",0,5,10,"XX",0,"?",4,0]
[null," MODEL01","PF FAB CONFIG,IMMA = STANDARD","01",3,1,"FAB",5,5,2,0,1,"01",1,"02",0,5,0,"XX",11,"14EXP",4,2]
[null," MODEL01A","PF FAB NON CONFIG,IMMA","01",1,1,"FAB",5,5,0,0,1,"01",1,"02",0,5,15,"XX",11,"14EXP",4,2]
[null," MODEL01C","PF NON CONFIG,NON IMMA=ACCESS","01",1,1,"FAB",0,0,0,0,1,"01",1,"02",0,5,15,"XX",11,"14EXP",4,2]
[null," MODEL01F","PF CONFIG,NON IMMA = EV'HORA","01",3,1,"FAB",5,5,2,0,1,"01",1,"02",0,5,15,"XX",11,"14EXP",4,2]
[null," MODEL02","SF FAB = P/C","02",1,1,"FAB",1,5,0,0,1,"01",1,"03",1,5,15,"XX",12,"?",1,2]
[null," MODEL02J","SF FAB ASSEMBLAGE OU OPTION","02",1,1,"FAB",0,0,0,0,1,"01",1,"03",1,5,15,"XX",12,"?",4,2]
[null," MODEL02P","PIECE PRIMAIRE","PP",1,1,"FAB",0,0,0,0,1,"01",1,12,1,9,10,"XX",12,"?",4,6]
[null," MODEL03","MATIERE PREMIERE","03",1,2,"?",0,0,0,0,2,30,1,"01",0,0,0,"XX",12,"?",4,5]
[null," MODEL04","PIECE ACHETEE","04",1,2,"?",0,0,0,0,2,30,12,"01",5,0,0,"XX",12,14,6,5]
[null," MODEL04Q","PIECES ACH.= VIS,COLLE,...","04",1,2,"?",0,0,0,0,2,30,12,"01",0,0,0,"XX",12,"?",4,5]
[null," MODEL05","SF NON GERE/LOT, SS-TRAITANCE","05",1,1,"?",0,0,0,0,1,"01",12,"05",5,0,0,"XX",12,14,6,0]
[null," MODEL06","KIT EXPEDITION, SAV","01",1,1,"FAB",0,0,0,0,1,"01",1,"02",0,5,10,"XX",11,"14EXP",4,0]
[null," MODEL06A","PORTE DE RECHANGE","01",1,1,"FAB",0,0,0,0,1,"01",1,"02",0,5,10,"XX",11,"14EXP",4,2]
[null,"MODEL08","PF VAR.STOCKEE NEGOCE = ALISEA","08",1,2,"FAB",0,0,3,0,2,"10",1,"NG",0,5,10,"XX",12,"?",1,0]
[null," MODEL09","FANTOME","09",0,1,"FAB",0,0,0,2,1,"01",1,"03",0,5,10,"XX",12,"?",4,0]
[]
[null,"Unité","Désignation"]
[null,"PI","Pièce "]
[null,"KG","Kilogramme"]
[null,"MT","Mètre"]
[null,"LT","Litre"]
[null,"M2","Surface en M²"]
[]
[null,"Matricule O/N","Laser / Cissaillage"]
[null,"O","Oui"]
[null,"N","Non"]
[]
[null,"Responsable article"]
[null,"SALPETIER"]
[null,"MAHUT"]
[null,"LANZETTI"]
[null,"JACOB"]
[null,"BARON"]
[null,"JOSEPH"]
[null,"GARCIA"]
[null,"MULLIER"]
[]
[]
[null,"Type de document","Designation"]
[null,"PL","Plan"]
[null,"SP","Sans plan"]
[null,"GR","Groupement de plans"]
[]
[null,"Catégorie pièce"]
[null," Nouveau"]
[null," Existant"]
[null," Matière 1ère"]
[null," Opérations"]
[]
[null,"Type de pièce"]
[null," Produit fini"]
[null," Achetée"]
[null," Fabriquée"]
[null," Assemblage"]
[null," Lot de pièces (FICT)"]
[null," Opé pièce primaire"]
[null," Temps"]
[null," Panoplie"]
[null," Pièce/Opé Panoplie"]
[]
[null,"Type de tôle"]
[null,"TC 1: 1250x2500"]
[null,"TC 1,2: 1500x2200"]
[null,"TC 1,5: 1250x2500"]
[null,"TC 1,5: 1500x3000"]
[null,"TC 2: 1250x2500"]
[null,"TC 2: 1500x2200"]
[null,"TC 2,5: 1250x2200"]
[null,"TC 3: 1500x3000"]
[null,"TC 3: 1250x2500"]
[null,"TC 3: 1500x2200"]
[null,"TC 5: 2100x1000"]
[null,"EZ 0,6: 1000x3000"]
[null,"EZ 1: 1250x2500"]
[null,"EZ 1,5: 1500x3000"]
[null,"EZ 2: 1250x2500"]
[null,"EZ 2,5: 1250x2500"]
[null,"EZ 3: 1250x2500"]
[null,"EZ 3: 1500x3000"]
[null,"Galva 1: 1500x2200"]
[null,"Galva 1,5: 1500x2200"]
[null,"Mang 1,5: 1000x2000"]
[null,"Mang 3: 1000x2000"]
[null,"Inox 430 1,5: 1250x2500"]
[null,"Inox 430 1,5: 1250x2500"]
[null,"Inox 304L 1,5: 1250x2500"]
[null,"Inox 304L 2: 1250x2500"]
[null,"Inox 304L 3: 1250x2500"]
[null,"Inox 304L 1,2: 1220x2500"]
[null,"Inox 304L 1: 1250x2500"]
[null,"HB 500 3: 1000x2000"]
[null,"Tôle DKP 4: 1250x2500"]
[null,"Tôle DKP 4: 1500x3000"]
[null,"Tôle DKP 6: 1250x2500"]
[null,"Tôle DKP 8: 1250x2500"]
[null,"Tôle DKP 8: 286x2500"]
[null,"Tôle DKP 10: 1000x2000"]
[null,"Alu 1,5: 1250x2500"]
[null,"Etiré 3: 10x3500"]
[null,"Etiré 20: 30x3500"]
[null,"Etiré 3: 50x3500"]
[null,"Etiré 6: 50x3500"]
[null,"Etiré 6: 40x3000"]

{"sheet":"PDC+emplacement","index":8,"n_rows":118,"n_cols":4,"rows_kept":118,"cut":false,"hidden":false,"merged":[]}
["PPPLGR","PPPLNM","PPSETI","PPWHSL"]
[10101,"DECL. KITTING COFFRE",0,"77CAR"]
[10102,"DECL. PORTE",0,"25PAL"]
[10103,"DECL. CAISSE",0,"25CAI"]
[10104,"DECL. BETON",0,"30"]
["10104F","DECL. BETON IGNIFUGE (FEU)",0,"30"]
[10105,"DECL. PORTE/CAISSE",0,"29"]
[10106,"DECL. PEINTURE",0,"19PEC"]
[10107,"DECL. MONTAGE SERRURE",0,"19COF"]
[10108,"EXPEDITION SOUS-TRAITANCE",0,"14"]
["10108C","RECEPTION SOUS-TRAITANCE",0,"14"]
["10108L","RECEPTION SOUS-TRAIT LAQUE",0,"19COF"]
[10109,"DECL. FIN DE GAMME",0,"?"]
["10109MG","DECL. FIN DE GAMME, dest:MAG",0,"?"]
["1010E","DECL. EMBALL STANDARD",0,"19COF"]
[10206,"DECL. PEINTURE",0,"?"]
[10500,"SERVICE TECHNIQUE SPECIAL",0,"?"]
[14001,"MAIN D'OEUVRE MAGASIN",0.08,"14"]
[14100,"TRAVAUX MENUISERIE",0,"14EXP"]
[14200,"ASSEMBLAGE CAISSE MARITIME",0,"14EXP"]
[14999,"MANUTENTION MAGASIN",0.05,"14"]
[18001,"TRAVAUX/GAMMES",0.15,"18"]
[18003,"CENTRE D'USINAGE SABRE",0.5,"18"]
[18100,"TRAVAUX LABORATOIRE",0,"18LAB"]
[19800,"REPRISE MONT SERR STOCK ABC",0,"19ABC"]
[19999,"MANUTENTION REMONTAGE SERRURE",0,"19PEC"]
[20310,"ASSEMBLAGE 4.5.6.",0,"23"]
[20330,"ASSEMBLAGE COFFRE K",0,"23"]
[20350,"ASS MILLIUM III et IV (540Là1235L)",0,"23EUR"]
[20410,"PORTE/CAISSE COFFRE K,MT,EUROREVO",0,"23PEC"]
[20620,"MONTAGE SERRURE COFFRE K",0,"19INV"]
[20999,"MANUTENTION COFFRE K",0,"23"]
[21320,"ASSEMBLAGE PRODUITS MTi",0,"21MTI"]
[21330,"ASSEMBLAGE PRODUITS COMPLICE",0,"21COM"]
[21340,"ASSEMBLAGE PRODUITS MARCHES",0,"21"]
[21355,"ROBOT SOUDURE SDF",0.05,"26SDF"]
[21400,"ASS ARMOIRE IGNIFUGES",0,"21FEU"]
[21500,"PORTE/CAISSE IGNIFUGES",0,"21PEC"]
[21800,"MONTAGE SERRURE IGNIFUGES",0,"19FEU"]
[21900,"MONTAGE SERRURE COMPLICES",0,"19COM"]
[21999,"MANUTENTION MARCHE",0,"21"]
[22100,"DECOUPE GRILLAGE",0.16,"22GRI"]
[22110,"PANNEAUTEUSE FINN POWER",0.15,"22"]
[22150,"PLIEUSE FAVRIN CARENA MILLIUM",0.25,"22"]
[22220,"CISAILLE EHT",0.38,"22"]
[22305,"PRESSE VERSON",0.4,"22"]
[22380,"POINC CN FINN POWER SG",0.15,"22"]
[22385,"POINC CN SALVAGNINI",0.15,"22"]
[22520,"LASER BYSTRONIC",0.05,"22"]
[22630,"PLIEUSES CN 170T",0.4,"22"]
[22998,"MANUT LIGNE ACCESSOIRES",0.05,"26"]
[22999,"MANUTENTION PIECES PRIMAIRES",0.1,"22"]
[24050,"PREPARATION SERRURERIE",0.35,"24"]
[24306,"ASS POMPES M2B/M3B/MpX",0.11,"24"]
[24601,"ASS BLOC SERRURE",0.11,"24"]
[24706,"ASS COMBINAISON MONEO/MC4",0.25,"24"]
[24800,"DIVERS SERRURERIE",0.08,"24"]
[24920,"CABLAGE ELECTRONIQUE",0.25,"24"]
[24999,"MANUTENTION SERRURERIE",0.1,"24"]
[26105,"ASS PF OPTEMA OPTURA",0,"26PFN"]
[26200,"ASSEMBLAGE ESPACE 50C",0,"26ESP"]
[26301,"MONTAGE SERRURE PF OPTEMA OPTURA",0,"26PFS"]
[26305,"MONTAGE SERRURE PORTE E50",0,"26ESS"]
[26310,"PEINT MONT SERR PANNEAUX GVX",0,"26GVX"]
[26999,"MANUTENTION BANQUE",0.05,"26"]
[27010,"TRONCONNEUSE KALTENBACH et AMADA",0.15,"26"]
[27200,"ASSEMBLAGE AUTOMATION CLX,ADX",0,"26CLX"]
[27205,"ASSEMBLAGE SAC DE DEPOT",0,"26SAC"]
[27301,"ASSEMBLAGE COLONNES COMPARTIMENTS",0.15,"26CPT"]
[27305,"SOUDURE PORTES COMPARTIMENTS",0.05,"26ROB"]
[27320,"SOUDURE LANGUEPIN E30",0.11,"26S30"]
[27410,"USINAGE PRODUITS BANQUE",0.25,"26"]
[27470,"TAILLAGE CLEFS SERCAO varilock",0.11,"26RIV"]
[27475,"GRAVURES TOUS TYPES & RIVETAGE",0.45,"26RIV"]
[27540,"CHAINE PEINTURE POUDRE",0.13,"27"]
[27599,"MANUTENTION COMPARTIMENTS",0,"26"]
[27605,"ASSEMBLAGE COMPTS 530",0,"26530"]
[27630,"ASSEMBLAGE COMPTS E30",0.11,"26E30"]
[27999,"MANUTENTION CHAINE DE POUDRAGE",0.05,"27"]
[28200,"ASSEMBLAGE CADRE CARENA",0,"25CAD"]
[28300,"ASSEMBLAGE PALATRE CARENA",0,"25PAL"]
[28400,"ASSEMBLAGE CAISSE CARENA",0,"25CAI"]
[28425,"COFFRAGE CAISSE CARENA",0,"25"]
[28450,"COFFRAGE PORTE CARENA",0,"25"]
[28600,"PORTE / CAISSE CARENA",0,"25"]
[28800,"MONTAGE SERRURE CARENA",0,"19COF"]
[28999,"MANUTENTION CARENA",0,"25"]
[29540,"CHAINE PEINTURE LAQUE",0,"29"]
[29999,"MANUTENTION PEINTURE LAQUE",0,"29"]
[30300,"SOUDURE PANNEAUX",0,"21PAN"]
[30400,"SOUDURE PANNEAUX GVX",0,"30GVX"]
[30910,"BETON VOL",0,"30"]
[30920,"CENTRALE PCM IGNIFUGE",0,"30"]
[30930,"BETON IGNIFUGES",0,"30"]
[30940,"SOUDURE FONDS / CAISSE",0,"30"]
[30999,"MANUTENTION COMPOSITES",0,"30"]
[31100,"ASSEMBLAGE AUTOMATION",0,"31"]
[31999,"MANUTENTION AUTOMATION",0.1,"31"]
[40500,"ACCESSOIRES SANS BETON",0.15,"26AME"]
[41300,"ASSEMBLAGE AF ENIGMA",0,"41"]
[41800,"MONTAGE SERRURE AF ENIGMA",0,"42"]
[41999,"MANUT ASS SOUD AF ENIGMA",0,"41"]
[43120,"EMBALLAGE",0,"43"]
[43125,"IMMATRICULATION",0,"43"]
[43998,"MANUTENTION EMBALLAGE BOB",0.05,"43"]
[43999,"MANUTENTION EMBALLAGE",0,"43"]
[76000,"ASSEMBLAGE HSDS",0,"76"]
[77001,"PREPA PIECES POUR ASSEMBL 4.5.6.",0,"77"]
[77002,"PREPA PIECES POUR ASSEMBL COFFRE K",0,"77"]
[77003,"PREPA PIECES POUR ASSEMBL CAR/MIL",0,"77CAR"]
[99100,"S/T APF",0,""]
[99150,"FABRICATION",0,""]
[99400,"ZINGAGE BLANC",0,"J&C"]
[99600,"NICKELAGE",0,""]
[99800,"DORURE",0,""]
[99910,"BRUNISSAGE + VERNISSAGE",0,""]
[99999,"SOUS-TRAIT",0,"ELECTROLIN"]
[99100,"S/T APF",0]

{"sheet":"description des champs","index":9,"n_rows":37,"n_cols":7,"rows_kept":37,"cut":false,"hidden":false,"merged":[[0,4,0,5]]}
["movex","Nom champ","nombre\n caractère","nbre de\n décimales","format",null,"movex"]
["MMITNO","Code article","Length=15",null,"Type=1","texte","MMITNO"]
["MMITDS","Nom ","Length=30",null,"Type=1","texte","MMITDS"]
["MMFUDS","Désignation ","Length=60",null,"Type=1","texte","MMFUDS"]
["MMDWNO","Numéro de plan","Length=15",null,"Type=1","texte","MMDWNO"]
["MMITTY","Type article","Length=2",null,"Type=1","texte","MMITTY"]
["MMITGR","Groupe article","Length=8",null,"Type=1","texte","MMITGR"]
["MMITCL","Groupe produit","Length=5",null,"Type=1","texte","MMITCL"]
["MMVAMT","Mét.val.stock","Length=2",null,"Type=2","standard","MMVAMT"]
["MMSTCD","Géré en stock","Length=2",null,"Type=3","standard","MMSTCD"]
["MMUNMS","U/M de base","Length=3",null,"Type=1","texte","MMUNMS"]
["MMRESP","Resp. article","Length=10",null,"Type=1","texte","MMRESP"]
["MMMABU","Code fab./achat","Length=2",null,"Type=2","standard","MMMABU"]
["MMPRGP","Groupe approvis","Length=3",null,"Type=1","texte","MMPRGP"]
["MMINDI","Mét. gestion/lot","Length=2",null,"Type=2","standard","MMINDI"]
["MMBACD","Mét.numérot.lot","Length=2",null,"Type=2","standard","MMBACD"]
["MMGRWE","Poids brut","Length=11","Scale=3","Type=2","standard","MMGRWE"]
["MMNEWE","Poids net","Length=11","Scale=3","Type=2","standard","MMNEWE"]
["MMCHCD","Code configurat","Length=2",null,"Type=2","standard","MMCHCD"]
["MMTPCD","Catégorie Article","Length=2",null,"Type=2","standard","MMTPCD"]
["MMCFI1","Modèle","Length=10",null,"Type=1","texte","MMCFI1"]
["MMCFI5","Matricule O/N","Length=1",null,"Type=1","texte","MMCFI5"]
["MMFRE3","Type/volume","Length=5",null,"Type=1","texte","MMFRE3"]
["MBPUIT","Code acquisit","Length=2",null,"Type=2","standard","MBPUIT"]
["MBORTY","Type ordre","Length=3",null,"Type=1","texte","MBORTY"]
["MBDPID","Périodes planif","Length=4",null,"Type=2","standard","MBDPID"]
["MBPLCD","Polit. planif","Length=2",null,"Type=1","texte","MBPLCD"]
["MBSATD","Délai sécurité.","Length=4",null,"Type=2","standard","MBSATD"]
["MBDMFN","Borne plan.dde.","Length=4",null,"Type=2","standard","MBDMFN"]
["MBPFTM","Borne de planif","Length=4",null,"Type=2","standard","MBPFTM"]
["MBEOQT","Série économiqu","Length=17","Scale=6","Type=2","standard","MBEOQT"]
["MBEOQM","Pol.lotissement","Length=4",null,"Type=2","standard","MBEOQM"]
["MBWHSL","Emplacement","Length=10",null,"Type=1","texte","MBWHSL"]
["MBSPMT","Mét sortie OF","Length=2",null,"Type=2","standard","MBSPMT"]
["M9CSNO","Cd stat. client","Length=16",null,"Type=1","texte","M9CSNO"]
["M9LEA4","Dél.administra","Length=4",null,"Type=2","standard","M9LEA4"]
["M9DLET","Méth délai OF","Length=2",null,"Type=2","standard","M9DLET"]

{"sheet":"Tôles","index":10,"n_rows":44,"n_cols":15,"rows_kept":44,"cut":false,"hidden":false,"merged":[]}
[]
[null,"ID","Code Movex","STATUT","Désignation","Matière","Epaisseur","Largeur","Longueur","Surface (m²)","CVP","CVP(M²)","CONSO / AN","Fournisseur","Code fournisseur"]
[null,{"$f":"CONCATENATE(Tableau2[[#This Row],[Matière]],\" \",Tableau2[[#This Row],[Epaisseur]],\": \",Tableau2[[#This Row],[Largeur]],\"x\",Tableau2[[#This Row],[Longueur]])","v":"TC 1: 1250x2500"},"11110021",{"$f":"VLOOKUP(CONCATENATE($C3),[1]ARTRDCL!$A$1:$U$65536,3,FALSE)","v":"20"},{"$f":"VLOOKUP(CONCATENATE($C3),[1]ARTRDCL!$A$1:$U$65536,2,FALSE)","v":"TOLE TC 1250X2500X10/10"},"TC",1,1250,2500,{"$f":"H3/1000*I3/1000","v":3.125},{"$f":"VLOOKUP(CONCATENATE(Tableau2[[#This Row],[Code Movex]]),[1]ARTRDCL!$A$1:$U$65536,15,FALSE)","v":19.053000000000001},{"$f":"Tableau2[[#This Row],[CVP]]/Tableau2[[#This Row],[Surface (m²)]]","v":6.0969600000000002},{"$f":"VLOOKUP(CONCATENATE(Tableau2[[#This Row],[Code Movex]]),[4]ficachat00!$A$1:$AZ$65536,8,FALSE)","v":1984.8920000000001},{"$f":"VLOOKUP(CONCATENATE(Tableau2[[#This Row],[Code Movex]]),[4]ficachat00!$A$1:$AZ$65536,4,FALSE)","v":"EISEN STAHL GmbH"},{"$f":"VLOOKUP(CONCATENATE(Tableau2[[#This Row],[Code Movex]]),[4]ficachat00!$A$1:$AZ$65536,3,FALSE)","v":"999456"}]
[null,{"$f":"CONCATENATE(Tableau2[[#This Row],[Matière]],\" \",Tableau2[[#This Row],[Epaisseur]],\": \",Tableau2[[#This Row],[Largeur]],\"x\",Tableau2[[#This Row],[Longueur]])","v":"TC 1,2: 1500x2200"},"11112012",{"$f":"VLOOKUP(CONCATENATE($C4),[1]ARTRDCL!$A$1:$U$65536,3,FALSE)","v":"20"},{"$f":"VLOOKUP(CONCATENATE($C4),[1]ARTRDCL!$A$1:$U$65536,2,FALSE)","v":"TOLE TC 1500X2200X12/10"},"TC",1.2,1500,2200,{"$f":"H4/1000*I4/1000","v":3.3},{"$f":"VLOOKUP(CONCATENATE(Tableau2[[#This Row],[Code Movex]]),[1]ARTRDCL!$A$1:$U$65536,15,FALSE)","v":24.143999999999998},{"$f":"Tableau2[[#This Row],[CVP]]/Tableau2[[#This Row],[Surface (m²)]]","v":7.3163636363636364},{"$f":"VLOOKUP(CONCATENATE(Tableau2[[#This Row],[Code Movex]]),[4]ficachat00!$A$1:$AZ$65536,8,FALSE)","v":584.29999999999995},{"$f":"VLOOKUP(CONCATENATE(Tableau2[[#This Row],[Code Movex]]),[4]ficachat00!$A$1:$AZ$65536,4,FALSE)","v":"EISEN STAHL GmbH"},{"$f":"VLOOKUP(CONCATENATE(Tableau2[[#This Row],[Code Movex]]),[4]ficachat00!$A$1:$AZ$65536,3,FALSE)","v":"999456"}]
[null,{"$f":"CONCATENATE(Tableau2[[#This Row],[Matière]],\" \",Tableau2[[#This Row],[Epaisseur]],\": \",Tableau2[[#This Row],[Largeur]],\"x\",Tableau2[[#This Row],[Longueur]])","v":"TC 1,5: 1250x2500"},"11115015",{"$f":"VLOOKUP(CONCATENATE($C5),[1]ARTRDCL!$A$1:$U$65536,3,FALSE)","v":"20"},{"$f":"VLOOKUP(CONCATENATE($C5),[1]ARTRDCL!$A$1:$U$65536,2,FALSE)","v":"TOLE TC 1250X2500X15/10"},"TC",1.5,1250,2500,3.125,{"$f":"VLOOKUP(CONCATENATE(Tableau2[[#This Row],[Code Movex]]),[1]ARTRDCL!$A$1:$U$65536,15,FALSE)","v":26.422999999999998},{"$f":"Tableau2[[#This Row],[CVP]]/Tableau2[[#This Row],[Surface (m²)]]","v":8.4553599999999989},{"$f":"VLOOKUP(CONCATENATE(Tableau2[[#This Row],[Code Movex]]),[4]ficachat00!$A$1:$AZ$65536,8,FALSE)","v":2736.7139999999999},{"$f":"VLOOKUP(CONCATENATE(Tableau2[[#This Row],[Code Movex]]),[4]ficachat00!$A$1:$AZ$65536,4,FALSE)","v":"EISEN STAHL GmbH"},{"$f":"VLOOKUP(CONCATENATE(Tableau2[[#This Row],[Code Movex]]),[4]ficachat00!$A$1:$AZ$65536,3,FALSE)","v":"999456"}]
[null,{"$f":"CONCATENATE(Tableau2[[#This Row],[Matière]],\" \",Tableau2[[#This Row],[Epaisseur]],\": \",Tableau2[[#This Row],[Largeur]],\"x\",Tableau2[[#This Row],[Longueur]])","v":"TC 1,5: 1500x3000"},11115020,{"$f":"VLOOKUP(CONCATENATE($C6),[1]ARTRDCL!$A$1:$U$65536,3,FALSE)","v":"20"},{"$f":"VLOOKUP(CONCATENATE($C6),[1]ARTRDCL!$A$1:$U$65536,2,FALSE)","v":"TOLE TC 1500X3000X15/10"},"TC",1.5,1500,3000,{"$f":"H6/1000*I6/1000","v":4.5},{"$f":"VLOOKUP(CONCATENATE(Tableau2[[#This Row],[Code Movex]]),[1]ARTRDCL!$A$1:$U$65536,15,FALSE)","v":37.697000000000003},{"$f":"Tableau2[[#This Row],[CVP]]/Tableau2[[#This Row],[Surface (m²)]]","v":8.3771111111111125},{"$f":"VLOOKUP(CONCATENATE(Tableau2[[#This Row],[Code Movex]]),[4]ficachat00!$A$1:$AZ$65536,8,FALSE)","v":1540.9829999999999},{"$f":"VLOOKUP(CONCATENATE(Tableau2[[#This Row],[Code Movex]]),[4]ficachat00!$A$1:$AZ$65536,4,FALSE)","v":"EISEN STAHL GmbH"},{"$f":"VLOOKUP(CONCATENATE(Tableau2[[#This Row],[Code Movex]]),[4]ficachat00!$A$1:$AZ$65536,3,FALSE)","v":"999456"}]
[null,{"$f":"CONCATENATE(Tableau2[[#This Row],[Matière]],\" \",Tableau2[[#This Row],[Epaisseur]],\": \",Tableau2[[#This Row],[Largeur]],\"x\",Tableau2[[#This Row],[Longueur]])","v":"TC 2: 1250x2500"},"11120025",{"$f":"VLOOKUP(CONCATENATE($C7),[1]ARTRDCL!$A$1:$U$65536,3,FALSE)","v":"20"},{"$f":"VLOOKUP(CONCATENATE($C7),[1]ARTRDCL!$A$1:$U$65536,2,FALSE)","v":"TOLE TC 1250X2500X20/10"},"TC",2,1250,2500,3.125,{"$f":"VLOOKUP(CONCATENATE(Tableau2[[#This Row],[Code Movex]]),[1]ARTRDCL!$A$1:$U$65536,15,FALSE)","v":33.709000000000003},{"$f":"Tableau2[[#This Row],[CVP]]/Tableau2[[#This Row],[Surface (m²)]]","v":10.786880000000002},{"$f":"VLOOKUP(CONCATENATE(Tableau2[[#This Row],[Code Movex]]),[4]ficachat00!$A$1:$AZ$65536,8,FALSE)","v":1965.4559999999999},{"$f":"VLOOKUP(CONCATENATE(Tableau2[[#This Row],[Code Movex]]),[4]ficachat00!$A$1:$AZ$65536,4,FALSE)","v":"EISEN STAHL GmbH"},{"$f":"VLOOKUP(CONCATENATE(Tableau2[[#This Row],[Code Movex]]),[4]ficachat00!$A$1:$AZ$65536,3,FALSE)","v":"999456"}]
[null,{"$f":"CONCATENATE(Tableau2[[#This Row],[Matière]],\" \",Tableau2[[#This Row],[Epaisseur]],\": \",Tableau2[[#This Row],[Largeur]],\"x\",Tableau2[[#This Row],[Longueur]])","v":"TC 2: 1500x2200"},11120057,{"$f":"VLOOKUP(CONCATENATE($C8),[1]ARTRDCL!$A$1:$U$65536,3,FALSE)","v":"20"},{"$f":"VLOOKUP(CONCATENATE($C8),[1]ARTRDCL!$A$1:$U$65536,2,FALSE)","v":"TOLE TC 2200X1500X20/10"},"TC",2,1500,2200,3.3,{"$f":"VLOOKUP(CONCATENATE(Tableau2[[#This Row],[Code Movex]]),[1]ARTRDCL!$A$1:$U$65536,15,FALSE)","v":35.597000000000001},{"$f":"Tableau2[[#This Row],[CVP]]/Tableau2[[#This Row],[Surface (m²)]]","v":10.786969696969697},{"$f":"VLOOKUP(CONCATENATE(Tableau2[[#This Row],[Code Movex]]),[4]ficachat00!$A$1:$AZ$65536,8,FALSE)","v":2509.2959999999998},{"$f":"VLOOKUP(CONCATENATE(Tableau2[[#This Row],[Code Movex]]),[4]ficachat00!$A$1:$AZ$65536,4,FALSE)","v":"EISEN STAHL GmbH"},{"$f":"VLOOKUP(CONCATENATE(Tableau2[[#This Row],[Code Movex]]),[4]ficachat00!$A$1:$AZ$65536,3,FALSE)","v":"999456"}]
[null,{"$f":"CONCATENATE(Tableau2[[#This Row],[Matière]],\" \",Tableau2[[#This Row],[Epaisseur]],\": \",Tableau2[[#This Row],[Largeur]],\"x\",Tableau2[[#This Row],[Longueur]])","v":"TC 2,5: 1250x2200"},"11125024",{"$f":"VLOOKUP(CONCATENATE($C9),[1]ARTRDCL!$A$1:$U$65536,3,FALSE)","v":"20"},{"$f":"VLOOKUP(CONCATENATE($C9),[1]ARTRDCL!$A$1:$U$65536,2,FALSE)","v":"TOLE TC 1250X2200X25/10"},"TC",2.5,1250,2200,{"$f":"H9/1000*I9/1000","v":2.75},{"$f":"VLOOKUP(CONCATENATE(Tableau2[[#This Row],[Code Movex]]),[1]ARTRDCL!$A$1:$U$65536,15,FALSE)","v":36.893999999999998},{"$f":"Tableau2[[#This Row],[CVP]]/Tableau2[[#This Row],[Surface (m²)]]","v":13.415999999999999},{"$f":"VLOOKUP(CONCATENATE(Tableau2[[#This Row],[Code Movex]]),[4]ficachat00!$A$1:$AZ$65536,8,FALSE)","v":359.137},{"$f":"VLOOKUP(CONCATENATE(Tableau2[[#This Row],[Code Movex]]),[4]ficachat00!$A$1:$AZ$65536,4,FALSE)","v":"EISEN STAHL GmbH"},{"$f":"VLOOKUP(CONCATENATE(Tableau2[[#This Row],[Code Movex]]),[4]ficachat00!$A$1:$AZ$65536,3,FALSE)","v":"999456"}]
[null,{"$f":"CONCATENATE(Tableau2[[#This Row],[Matière]],\" \",Tableau2[[#This Row],[Epaisseur]],\": \",Tableau2[[#This Row],[Largeur]],\"x\",Tableau2[[#This Row],[Longueur]])","v":"TC 3: 1500x3000"},11130025,{"$f":"VLOOKUP(CONCATENATE($C10),[1]ARTRDCL!$A$1:$U$65536,3,FALSE)","v":"20"},{"$f":"VLOOKUP(CONCATENATE($C10),[1]ARTRDCL!$A$1:$U$65536,2,FALSE)","v":"TOLE TC 1500X3000X30/10"},"TC",3,1500,3000,4.5,{"$f":"VLOOKUP(CONCATENATE(Tableau2[[#This Row],[Code Movex]]),[1]ARTRDCL!$A$1:$U$65536,15,FALSE)","v":67.454999999999998},{"$f":"Tableau2[[#This Row],[CVP]]/Tableau2[[#This Row],[Surface (m²)]]","v":14.99},{"$f":"VLOOKUP(CONCATENATE(Tableau2[[#This Row],[Code Movex]]),[4]ficachat00!$A$1:$AZ$65536,8,FALSE)","v":175.28},{"$f":"VLOOKUP(CONCATENATE(Tableau2[[#This Row],[Code Movex]]),[4]ficachat00!$A$1:$AZ$65536,4,FALSE)","v":"EISEN STAHL GmbH"},{"$f":"VLOOKUP(CONCATENATE(Tableau2[[#This Row],[Code Movex]]),[4]ficachat00!$A$1:$AZ$65536,3,FALSE)","v":"999456"}]
[null,{"$f":"CONCATENATE(Tableau2[[#This Row],[Matière]],\" \",Tableau2[[#This Row],[Epaisseur]],\": \",Tableau2[[#This Row],[Largeur]],\"x\",Tableau2[[#This Row],[Longueur]])","v":"TC 3: 1250x2500"},"11130051",{"$f":"VLOOKUP(CONCATENATE($C11),[1]ARTRDCL!$A$1:$U$65536,3,FALSE)","v":"20"},{"$f":"VLOOKUP(CONCATENATE($C11),[1]ARTRDCL!$A$1:$U$65536,2,FALSE)","v":"TOLE TC 1250X2500X30/10"},"TC",3,1250,2500,3.125,{"$f":"VLOOKUP(CONCATENATE(Tableau2[[#This Row],[Code Movex]]),[1]ARTRDCL!$A$1:$U$65536,15,FALSE)","v":48.97},{"$f":"Tableau2[[#This Row],[CVP]]/Tableau2[[#This Row],[Surface (m²)]]","v":15.670399999999999},{"$f":"VLOOKUP(CONCATENATE(Tableau2[[#This Row],[Code Movex]]),[4]ficachat00!$A$1:$AZ$65536,8,FALSE)","v":2627.7860000000001},{"$f":"VLOOKUP(CONCATENATE(Tableau2[[#This Row],[Code Movex]]),[4]ficachat00!$A$1:$AZ$65536,4,FALSE)","v":"EISEN STAHL GmbH"},{"$f":"VLOOKUP(CONCATENATE(Tableau2[[#This Row],[Code Movex]]),[4]ficachat00!$A$1:$AZ$65536,3,FALSE)","v":"999456"}]
[null,{"$f":"CONCATENATE(Tableau2[[#This Row],[Matière]],\" \",Tableau2[[#This Row],[Epaisseur]],\": \",Tableau2[[#This Row],[Largeur]],\"x\",Tableau2[[#This Row],[Longueur]])","v":"TC 3: 1500x2200"},11130052,{"$f":"VLOOKUP(CONCATENATE($C12),[1]ARTRDCL!$A$1:$U$65536,3,FALSE)","v":"20"},{"$f":"VLOOKUP(CONCATENATE($C12),[1]ARTRDCL!$A$1:$U$65536,2,FALSE)","v":"TOLE TC 1500x2200x30/10"},"TC",3,1500,2200,3.3,{"$f":"VLOOKUP(CONCATENATE(Tableau2[[#This Row],[Code Movex]]),[1]ARTRDCL!$A$1:$U$65536,15,FALSE)","v":49.465000000000003},{"$f":"Tableau2[[#This Row],[CVP]]/Tableau2[[#This Row],[Surface (m²)]]","v":14.989393939393942},{"$f":"VLOOKUP(CONCATENATE(Tableau2[[#This Row],[Code Movex]]),[4]ficachat00!$A$1:$AZ$65536,8,FALSE)","v":2337.9459999999999},{"$f":"VLOOKUP(CONCATENATE(Tableau2[[#This Row],[Code Movex]]),[4]ficachat00!$A$1:$AZ$65536,4,FALSE)","v":"EISEN STAHL GmbH"},{"$f":"VLOOKUP(CONCATENATE(Tableau2[[#This Row],[Code Movex]]),[4]ficachat00!$A$1:$AZ$65536,3,FALSE)","v":"999456"}]
[null,{"$f":"CONCATENATE(Tableau2[[#This Row],[Matière]],\" \",Tableau2[[#This Row],[Epaisseur]],\": \",Tableau2[[#This Row],[Largeur]],\"x\",Tableau2[[#This Row],[Longueur]])","v":"HB 500 3: 1000x2000"},11130053,{"$f":"VLOOKUP(CONCATENATE($C13),[1]ARTRDCL!$A$1:$U$65536,3,FALSE)","v":"20"},{"$f":"VLOOKUP(CONCATENATE($C13),[1]ARTRDCL!$A$1:$U$65536,2,FALSE)","v":"TOLE 3MM HB500 2000 X 1000"},"HB 500",3,1000,2000,{"$f":"H13/1000*I13/1000","v":2},{"$f":"VLOOKUP(CONCATENATE(Tableau2[[#This Row],[Code Movex]]),[1]ARTRDCL!$A$1:$U$65536,15,FALSE)","v":115.303},{"$f":"Tableau2[[#This Row],[CVP]]/Tableau2[[#This Row],[Surface (m²)]]","v":57.651499999999999},{"$f":"VLOOKUP(CONCATENATE(Tableau2[[#This Row],[Code Movex]]),[4]ficachat00!$A$1:$AZ$65536,8,FALSE)","v":0},{"$f":"VLOOKUP(CONCATENATE(Tableau2[[#This Row],[Code Movex]]),[4]ficachat00!$A$1:$AZ$65536,4,FALSE)","v":"EISEN STAHL GmbH"},{"$f":"VLOOKUP(CONCATENATE(Tableau2[[#This Row],[Code Movex]]),[4]ficachat00!$A$1:$AZ$65536,3,FALSE)","v":"999456"}]
[null,{"$f":"CONCATENATE(Tableau2[[#This Row],[Matière]],\" \",Tableau2[[#This Row],[Epaisseur]],\": \",Tableau2[[#This Row],[Largeur]],\"x\",Tableau2[[#This Row],[Longueur]])","v":"Tôle DKP 4: 1250x2500"},11340010,{"$f":"VLOOKUP(CONCATENATE($C14),[1]ARTRDCL!$A$1:$U$65536,3,FALSE)","v":"20"},{"$f":"VLOOKUP(CONCATENATE($C14),[1]ARTRDCL!$A$1:$U$65536,2,FALSE)","v":"1250X2500X4M/M   203246"},"Tôle DKP",4,1250,2500,3.125,{"$f":"VLOOKUP(CONCATENATE(Tableau2[[#This Row],[Code Movex]]),[1]ARTRDCL!$A$1:$U$65536,15,FALSE)","v":65.953000000000003},{"$f":"Tableau2[[#This Row],[CVP]]/Tableau2[[#This Row],[Surface (m²)]]","v":21.104960000000002},{"$f":"VLOOKUP(CONCATENATE(Tableau2[[#This Row],[Code Movex]]),[4]ficachat00!$A$1:$AZ$65536,8,FALSE)","v":938.19799999999998},{"$f":"VLOOKUP(CONCATENATE(Tableau2[[#This Row],[Code Movex]]),[4]ficachat00!$A$1:$AZ$65536,4,FALSE)","v":"EISEN STAHL GmbH"},{"$f":"VLOOKUP(CONCATENATE(Tableau2[[#This Row],[Code Movex]]),[4]ficachat00!$A$1:$AZ$65536,3,FALSE)","v":"999456"}]
[null,{"$f":"CONCATENATE(Tableau2[[#This Row],[Matière]],\" \",Tableau2[[#This Row],[Epaisseur]],\": \",Tableau2[[#This Row],[Largeur]],\"x\",Tableau2[[#This Row],[Longueur]])","v":"Tôle DKP 4: 1500x3000"},11340015,{"$f":"VLOOKUP(CONCATENATE($C15),[1]ARTRDCL!$A$1:$U$65536,3,FALSE)","v":"20"},{"$f":"VLOOKUP(CONCATENATE($C15),[1]ARTRDCL!$A$1:$U$65536,2,FALSE)","v":"1500X3000X4M/M   203250"},"Tôle DKP",4,1500,3000,4.5,{"$f":"VLOOKUP(CONCATENATE(Tableau2[[#This Row],[Code Movex]]),[1]ARTRDCL!$A$1:$U$65536,15,FALSE)","v":93.653000000000006},{"$f":"Tableau2[[#This Row],[CVP]]/Tableau2[[#This Row],[Surface (m²)]]","v":20.811777777777777},{"$f":"VLOOKUP(CONCATENATE(Tableau2[[#This Row],[Code Movex]]),[4]ficachat00!$A$1:$AZ$65536,8,FALSE)","v":221.84100000000001},{"$f":"VLOOKUP(CONCATENATE(Tableau2[[#This Row],[Code Movex]]),[4]ficachat00!$A$1:$AZ$65536,4,FALSE)","v":"EISEN STAHL GmbH"},{"$f":"VLOOKUP(CONCATENATE(Tableau2[[#This Row],[Code Movex]]),[4]ficachat00!$A$1:$AZ$65536,3,FALSE)","v":"999456"}]
[null,{"$f":"CONCATENATE(Tableau2[[#This Row],[Matière]],\" \",Tableau2[[#This Row],[Epaisseur]],\": \",Tableau2[[#This Row],[Largeur]],\"x\",Tableau2[[#This Row],[Longueur]])","v":"TC 5: 2100x1000"},"11350022",{"$f":"VLOOKUP(CONCATENATE($C16),[1]ARTRDCL!$A$1:$U$65536,3,FALSE)","v":"20"},{"$f":"VLOOKUP(CONCATENATE($C16),[1]ARTRDCL!$A$1:$U$65536,2,FALSE)","v":"TOLE TC 2100x1000x50/10"},"TC",5,2100,1000,2.1,{"$f":"VLOOKUP(CONCATENATE(Tableau2[[#This Row],[Code Movex]]),[1]ARTRDCL!$A$1:$U$65536,15,FALSE)","v":55.874000000000002},{"$f":"Tableau2[[#This Row],[CVP]]/Tableau2[[#This Row],[Surface (m²)]]","v":26.606666666666666},{"$f":"VLOOKUP(CONCATENATE(Tableau2[[#This Row],[Code Movex]]),[4]ficachat00!$A$1:$AZ$65536,8,FALSE)","v":161.386},{"$f":"VLOOKUP(CONCATENATE(Tableau2[[#This Row],[Code Movex]]),[4]ficachat00!$A$1:$AZ$65536,4,FALSE)","v":"EISEN STAHL GmbH"},{"$f":"VLOOKUP(CONCATENATE(Tableau2[[#This Row],[Code Movex]]),[4]ficachat00!$A$1:$AZ$65536,3,FALSE)","v":"999456"}]
[null,{"$f":"CONCATENATE(Tableau2[[#This Row],[Matière]],\" \",Tableau2[[#This Row],[Epaisseur]],\": \",Tableau2[[#This Row],[Largeur]],\"x\",Tableau2[[#This Row],[Longueur]])","v":"Tôle DKP 6: 1250x2500"},"11360010",{"$f":"VLOOKUP(CONCATENATE($C17),[1]ARTRDCL!$A$1:$U$65536,3,FALSE)","v":"20"},{"$f":"VLOOKUP(CONCATENATE($C17),[1]ARTRDCL!$A$1:$U$65536,2,FALSE)","v":"1250X2500X6M/M   203288"},"Tôle DKP",6,1250,2500,3.125,{"$f":"VLOOKUP(CONCATENATE(Tableau2[[#This Row],[Code Movex]]),[1]ARTRDCL!$A$1:$U$65536,15,FALSE)","v":104.848},{"$f":"Tableau2[[#This Row],[CVP]]/Tableau2[[#This Row],[Surface (m²)]]","v":33.551360000000003},{"$f":"VLOOKUP(CONCATENATE(Tableau2[[#This Row],[Code Movex]]),[4]ficachat00!$A$1:$AZ$65536,8,FALSE)","v":8.8960000000000008},{"$f":"VLOOKUP(CONCATENATE(Tableau2[[#This Row],[Code Movex]]),[4]ficachat00!$A$1:$AZ$65536,4,FALSE)","v":"EISEN STAHL GmbH"},{"$f":"VLOOKUP(CONCATENATE(Tableau2[[#This Row],[Code Movex]]),[4]ficachat00!$A$1:$AZ$65536,3,FALSE)","v":"999456"}]
[null,{"$f":"CONCATENATE(Tableau2[[#This Row],[Matière]],\" \",Tableau2[[#This Row],[Epaisseur]],\": \",Tableau2[[#This Row],[Largeur]],\"x\",Tableau2[[#This Row],[Longueur]])","v":"Tôle DKP 8: 1250x2500"},"11380001",{"$f":"VLOOKUP(CONCATENATE($C18),[1]ARTRDCL!$A$1:$U$65536,3,FALSE)","v":"20"},{"$f":"VLOOKUP(CONCATENATE($C18),[1]ARTRDCL!$A$1:$U$65536,2,FALSE)","v":"1250X2500X8M/M   203307"},"Tôle DKP",8,1250,2500,3.125,{"$f":"VLOOKUP(CONCATENATE(Tableau2[[#This Row],[Code Movex]]),[1]ARTRDCL!$A$1:$U$65536,15,FALSE)","v":147.68899999999999},{"$f":"Tableau2[[#This Row],[CVP]]/Tableau2[[#This Row],[Surface (m²)]]","v":47.260480000000001},{"$f":"VLOOKUP(CONCATENATE(Tableau2[[#This Row],[Code Movex]]),[4]ficachat00!$A$1:$AZ$65536,8,FALSE)","v":0.14099999999999999},{"$f":"VLOOKUP(CONCATENATE(Tableau2[[#This Row],[Code Movex]]),[4]ficachat00!$A$1:$AZ$65536,4,FALSE)","v":"EISEN STAHL GmbH"},{"$f":"VLOOKUP(CONCATENATE(Tableau2[[#This Row],[Code Movex]]),[4]ficachat00!$A$1:$AZ$65536,3,FALSE)","v":"999456"}]
[null,{"$f":"CONCATENATE(Tableau2[[#This Row],[Matière]],\" \",Tableau2[[#This Row],[Epaisseur]],\": \",Tableau2[[#This Row],[Largeur]],\"x\",Tableau2[[#This Row],[Longueur]])","v":"Tôle DKP 8: 286x2500"},"11380011",{"$f":"VLOOKUP(CONCATENATE($C19),[1]ARTRDCL!$A$1:$U$65536,3,FALSE)","v":"20"},{"$f":"VLOOKUP(CONCATENATE($C19),[1]ARTRDCL!$A$1:$U$65536,2,FALSE)","v":"BANDE TOLE 286X2500X8"},"Tôle DKP",8,286,2500,0.71499999999999986,{"$f":"VLOOKUP(CONCATENATE(Tableau2[[#This Row],[Code Movex]]),[1]ARTRDCL!$A$1:$U$65536,15,FALSE)","v":0.35599999999999998},{"$f":"Tableau2[[#This Row],[CVP]]/Tableau2[[#This Row],[Surface (m²)]]","v":0.497902097902098},{"$f":"VLOOKUP(CONCATENATE(Tableau2[[#This Row],[Code Movex]]),[4]ficachat00!$A$1:$AZ$65536,8,FALSE)","v":34349.5},{"$f":"VLOOKUP(CONCATENATE(Tableau2[[#This Row],[Code Movex]]),[4]ficachat00!$A$1:$AZ$65536,4,FALSE)","v":"AMSP FRANCE"},{"$f":"VLOOKUP(CONCATENATE(Tableau2[[#This Row],[Code Movex]]),[4]ficachat00!$A$1:$AZ$65536,3,FALSE)","v":"017708"}]
[null,{"$f":"CONCATENATE(Tableau2[[#This Row],[Matière]],\" \",Tableau2[[#This Row],[Epaisseur]],\": \",Tableau2[[#This Row],[Largeur]],\"x\",Tableau2[[#This Row],[Longueur]])","v":"Tôle DKP 10: 1000x2000"},11399005,{"$f":"VLOOKUP(CONCATENATE($C20),[1]ARTRDCL!$A$1:$U$65536,3,FALSE)","v":"20"},{"$f":"VLOOKUP(CONCATENATE($C20),[1]ARTRDCL!$A$1:$U$65536,2,FALSE)","v":"1000X2000X10M/M"},"Tôle DKP",10,1000,2000,2,{"$f":"VLOOKUP(CONCATENATE(Tableau2[[#This Row],[Code Movex]]),[1]ARTRDCL!$A$1:$U$65536,15,FALSE)","v":0.18},{"$f":"Tableau2[[#This Row],[CVP]]/Tableau2[[#This Row],[Surface (m²)]]","v":0.09},{"$f":"VLOOKUP(CONCATENATE(Tableau2[[#This Row],[Code Movex]]),[4]ficachat00!$A$1:$AZ$65536,8,FALSE)","v":0},{"$f":"VLOOKUP(CONCATENATE(Tableau2[[#This Row],[Code Movex]]),[4]ficachat00!$A$1:$AZ$65536,4,FALSE)","v":"EISEN STAHL GmbH"},{"$f":"VLOOKUP(CONCATENATE(Tableau2[[#This Row],[Code Movex]]),[4]ficachat00!$A$1:$AZ$65536,3,FALSE)","v":"999456"}]
[null,{"$f":"CONCATENATE(Tableau2[[#This Row],[Matière]],\" \",Tableau2[[#This Row],[Epaisseur]],\": \",Tableau2[[#This Row],[Largeur]],\"x\",Tableau2[[#This Row],[Longueur]])","v":"Inox 430 1,5: 1250x2500"},"11610005",{"$f":"VLOOKUP(CONCATENATE($C21),[1]ARTRDCL!$A$1:$U$65536,3,FALSE)","v":"20"},{"$f":"VLOOKUP(CONCATENATE($C21),[1]ARTRDCL!$A$1:$U$65536,2,FALSE)","v":"INOX 1,5 1250X2500 430"},"Inox 430",1.5,1250,2500,3.125,{"$f":"VLOOKUP(CONCATENATE(Tableau2[[#This Row],[Code Movex]]),[1]ARTRDCL!$A$1:$U$65536,15,FALSE)","v":94.744},{"$f":"Tableau2[[#This Row],[CVP]]/Tableau2[[#This Row],[Surface (m²)]]","v":30.318079999999998},{"$f":"VLOOKUP(CONCATENATE(Tableau2[[#This Row],[Code Movex]]),[4]ficachat00!$A$1:$AZ$65536,8,FALSE)","v":65.853999999999999},{"$f":"VLOOKUP(CONCATENATE(Tableau2[[#This Row],[Code Movex]]),[4]ficachat00!$A$1:$AZ$65536,4,FALSE)","v":"ARCELORMITTAL DISTRIBUTION SOLUTIONS"},{"$f":"VLOOKUP(CONCATENATE(Tableau2[[#This Row],[Code Movex]]),[4]ficachat00!$A$1:$AZ$65536,3,FALSE)","v":"016708"}]
[null,{"$f":"CONCATENATE(Tableau2[[#This Row],[Matière]],\" \",Tableau2[[#This Row],[Epaisseur]],\": \",Tableau2[[#This Row],[Largeur]],\"x\",Tableau2[[#This Row],[Longueur]])","v":"Inox 304L 1,5: 1250x2500"},11620006,{"$f":"VLOOKUP(CONCATENATE($C22),[1]ARTRDCL!$A$1:$U$65536,3,FALSE)","v":"20"},{"$f":"VLOOKUP(CONCATENATE($C22),[1]ARTRDCL!$A$1:$U$65536,2,FALSE)","v":"INOX 1,5 1250X2500 GR80"},"Inox 304L",1.5,1250,2500,3.125,{"$f":"VLOOKUP(CONCATENATE(Tableau2[[#This Row],[Code Movex]]),[1]ARTRDCL!$A$1:$U$65536,15,FALSE)","v":214.33199999999999},{"$f":"Tableau2[[#This Row],[CVP]]/Tableau2[[#This Row],[Surface (m²)]]","v":68.586240000000004},{"$f":"VLOOKUP(CONCATENATE(Tableau2[[#This Row],[Code Movex]]),[4]ficachat00!$A$1:$AZ$65536,8,FALSE)","v":2.25},{"$f":"VLOOKUP(CONCATENATE(Tableau2[[#This Row],[Code Movex]]),[4]ficachat00!$A$1:$AZ$65536,4,FALSE)","v":"ARCELORMITTAL DISTRIBUTION SOLUTIONS"},{"$f":"VLOOKUP(CONCATENATE(Tableau2[[#This Row],[Code Movex]]),[4]ficachat00!$A$1:$AZ$65536,3,FALSE)","v":"016708"}]
[null,{"$f":"CONCATENATE(Tableau2[[#This Row],[Matière]],\" \",Tableau2[[#This Row],[Epaisseur]],\": \",Tableau2[[#This Row],[Largeur]],\"x\",Tableau2[[#This Row],[Longueur]])","v":"Inox 304L 2: 1250x2500"},"11620007",{"$f":"VLOOKUP(CONCATENATE($C23),[1]ARTRDCL!$A$1:$U$65536,3,FALSE)","v":"20"},{"$f":"VLOOKUP(CONCATENATE($C23),[1]ARTRDCL!$A$1:$U$65536,2,FALSE)","v":"INOX 2MM  304L GRAIN 80"},"Inox 304L",2,1250,2500,3.125,{"$f":"VLOOKUP(CONCATENATE(Tableau2[[#This Row],[Code Movex]]),[1]ARTRDCL!$A$1:$U$65536,15,FALSE)","v":303.834},{"$f":"Tableau2[[#This Row],[CVP]]/Tableau2[[#This Row],[Surface (m²)]]","v":97.226879999999994},{"$f":"VLOOKUP(CONCATENATE(Tableau2[[#This Row],[Code Movex]]),[4]ficachat00!$A$1:$AZ$65536,8,FALSE)","v":0.16700000000000001},{"$f":"VLOOKUP(CONCATENATE(Tableau2[[#This Row],[Code Movex]]),[4]ficachat00!$A$1:$AZ$65536,4,FALSE)","v":"ARCELORMITTAL DISTRIBUTION SOLUTIONS"},{"$f":"VLOOKUP(CONCATENATE(Tableau2[[#This Row],[Code Movex]]),[4]ficachat00!$A$1:$AZ$65536,3,FALSE)","v":"016708"}]
[null,{"$f":"CONCATENATE(Tableau2[[#This Row],[Matière]],\" \",Tableau2[[#This Row],[Epaisseur]],\": \",Tableau2[[#This Row],[Largeur]],\"x\",Tableau2[[#This Row],[Longueur]])","v":"Inox 304L 3: 1250x2500"},11620009,{"$f":"VLOOKUP(CONCATENATE($C24),[1]ARTRDCL!$A$1:$U$65536,3,FALSE)","v":"20"},{"$f":"VLOOKUP(CONCATENATE($C24),[1]ARTRDCL!$A$1:$U$65536,2,FALSE)","v":"INOX304L 1250X2500X30/10 GR 80"},"Inox 304L",3,1250,2500,3.125,{"$f":"VLOOKUP(CONCATENATE(Tableau2[[#This Row],[Code Movex]]),[1]ARTRDCL!$A$1:$U$65536,15,FALSE)","v":455.75099999999998},{"$f":"Tableau2[[#This Row],[CVP]]/Tableau2[[#This Row],[Surface (m²)]]","v":145.84031999999999},{"$f":"VLOOKUP(CONCATENATE(Tableau2[[#This Row],[Code Movex]]),[4]ficachat00!$A$1:$AZ$65536,8,FALSE)","v":3.2120000000000002},{"$f":"VLOOKUP(CONCATENATE(Tableau2[[#This Row],[Code Movex]]),[4]ficachat00!$A$1:$AZ$65536,4,FALSE)","v":"ARCELORMITTAL DISTRIBUTION SOLUTIONS"},{"$f":"VLOOKUP(CONCATENATE(Tableau2[[#This Row],[Code Movex]]),[4]ficachat00!$A$1:$AZ$65536,3,FALSE)","v":"016708"}]
[null,{"$f":"CONCATENATE(Tableau2[[#This Row],[Matière]],\" \",Tableau2[[#This Row],[Epaisseur]],\": \",Tableau2[[#This Row],[Largeur]],\"x\",Tableau2[[#This Row],[Longueur]])","v":"Inox 304L 1,2: 1220x2500"},"11630003",{"$f":"VLOOKUP(CONCATENATE($C25),[1]ARTRDCL!$A$1:$U$65536,3,FALSE)","v":"20"},{"$f":"VLOOKUP(CONCATENATE($C25),[1]ARTRDCL!$A$1:$U$65536,2,FALSE)","v":"INOX304PD1,22X2,5X12/10"},"Inox 304L",1.2,1220,2500,3.05,{"$f":"VLOOKUP(CONCATENATE(Tableau2[[#This Row],[Code Movex]]),[1]ARTRDCL!$A$1:$U$65536,15,FALSE)","v":191.09399999999999},{"$f":"Tableau2[[#This Row],[CVP]]/Tableau2[[#This Row],[Surface (m²)]]","v":62.653770491803279},{"$f":"VLOOKUP(CONCATENATE(Tableau2[[#This Row],[Code Movex]]),[4]ficachat00!$A$1:$AZ$65536,8,FALSE)","v":1},{"$f":"VLOOKUP(CONCATENATE(Tableau2[[#This Row],[Code Movex]]),[4]ficachat00!$A$1:$AZ$65536,4,FALSE)","v":"ARCELORMITTAL DISTRIBUTION SOLUTIONS"},{"$f":"VLOOKUP(CONCATENATE(Tableau2[[#This Row],[Code Movex]]),[4]ficachat00!$A$1:$AZ$65536,3,FALSE)","v":"016708"}]
[null,{"$f":"CONCATENATE(Tableau2[[#This Row],[Matière]],\" \",Tableau2[[#This Row],[Epaisseur]],\": \",Tableau2[[#This Row],[Largeur]],\"x\",Tableau2[[#This Row],[Longueur]])","v":"Inox 304L 1: 1250x2500"},"11630009",{"$f":"VLOOKUP(CONCATENATE($C26),[1]ARTRDCL!$A$1:$U$65536,3,FALSE)","v":"20"},{"$f":"VLOOKUP(CONCATENATE($C26),[1]ARTRDCL!$A$1:$U$65536,2,FALSE)","v":"INOX 304 BROSSE(1250X2500X1)"},"Inox 304L",1,1250,2500,3.125,{"$f":"VLOOKUP(CONCATENATE(Tableau2[[#This Row],[Code Movex]]),[1]ARTRDCL!$A$1:$U$65536,15,FALSE)","v":112.176},{"$f":"Tableau2[[#This Row],[CVP]]/Tableau2[[#This Row],[Surface (m²)]]","v":35.896320000000003},{"$f":"VLOOKUP(CONCATENATE(Tableau2[[#This Row],[Code Movex]]),[4]ficachat00!$A$1:$AZ$65536,8,FALSE)","v":62.95},{"$f":"VLOOKUP(CONCATENATE(Tableau2[[#This Row],[Code Movex]]),[4]ficachat00!$A$1:$AZ$65536,4,FALSE)","v":"ARCELORMITTAL DISTRIBUTION SOLUTIONS"},{"$f":"VLOOKUP(CONCATENATE(Tableau2[[#This Row],[Code Movex]]),[4]ficachat00!$A$1:$AZ$65536,3,FALSE)","v":"016708"}]
[null,{"$f":"CONCATENATE(Tableau2[[#This Row],[Matière]],\" \",Tableau2[[#This Row],[Epaisseur]],\": \",Tableau2[[#This Row],[Largeur]],\"x\",Tableau2[[#This Row],[Longueur]])","v":"Inox 430 4: 1250x2500"},11640000,{"$f":"VLOOKUP(CONCATENATE($C27),[1]ARTRDCL!$A$1:$U$65536,3,FALSE)","v":"20"},{"$f":"VLOOKUP(CONCATENATE($C27),[1]ARTRDCL!$A$1:$U$65536,2,FALSE)","v":"TOLE INOX 1250X2500X4M/M"},"Inox 430",4,1250,2500,3.125,{"$f":"VLOOKUP(CONCATENATE(Tableau2[[#This Row],[Code Movex]]),[1]ARTRDCL!$A$1:$U$65536,15,FALSE)","v":208.56899999999999},{"$f":"Tableau2[[#This Row],[CVP]]/Tableau2[[#This Row],[Surface (m²)]]","v":66.742080000000001},{"$f":"VLOOKUP(CONCATENATE(Tableau2[[#This Row],[Code Movex]]),[4]ficachat00!$A$1:$AZ$65536,8,FALSE)","v":39.991},{"$f":"VLOOKUP(CONCATENATE(Tableau2[[#This Row],[Code Movex]]),[4]ficachat00!$A$1:$AZ$65536,4,FALSE)","v":"EISEN STAHL GmbH"},{"$f":"VLOOKUP(CONCATENATE(Tableau2[[#This Row],[Code Movex]]),[4]ficachat00!$A$1:$AZ$65536,3,FALSE)","v":"999456"}]
[null,{"$f":"CONCATENATE(Tableau2[[#This Row],[Matière]],\" \",Tableau2[[#This Row],[Epaisseur]],\": \",Tableau2[[#This Row],[Largeur]],\"x\",Tableau2[[#This Row],[Longueur]])","v":"Etiré 3: 10x3500"},12111000,{"$f":"VLOOKUP(CONCATENATE($C28),[1]ARTRDCL!$A$1:$U$65536,3,FALSE)","v":"20"},{"$f":"VLOOKUP(CONCATENATE($C28),[1]ARTRDCL!$A$1:$U$65536,2,FALSE)","v":"FER PLAT LAMINE 10X3"},"Etiré",3,10,3500,3.5000000000000003E-2,{"$f":"VLOOKUP(CONCATENATE(Tableau2[[#This Row],[Code Movex]]),[1]ARTRDCL!$A$1:$U$65536,15,FALSE)","v":0.50700000000000001},{"$f":"Tableau2[[#This Row],[CVP]]/Tableau2[[#This Row],[Surface (m²)]]","v":14.485714285714284},{"$f":"VLOOKUP(CONCATENATE(Tableau2[[#This Row],[Code Movex]]),[4]ficachat00!$A$1:$AZ$65536,8,FALSE)","v":1943},{"$f":"VLOOKUP(CONCATENATE(Tableau2[[#This Row],[Code Movex]]),[4]ficachat00!$A$1:$AZ$65536,4,FALSE)","v":"SMH"},{"$f":"VLOOKUP(CONCATENATE(Tableau2[[#This Row],[Code Movex]]),[4]ficachat00!$A$1:$AZ$65536,3,FALSE)","v":"006420"}]
[null,{"$f":"CONCATENATE(Tableau2[[#This Row],[Matière]],\" \",Tableau2[[#This Row],[Epaisseur]],\": \",Tableau2[[#This Row],[Largeur]],\"x\",Tableau2[[#This Row],[Longueur]])","v":"Etiré 20: 30x3500"},12121000,{"$f":"VLOOKUP(CONCATENATE($C29),[1]ARTRDCL!$A$1:$U$65536,3,FALSE)","v":"20"},{"$f":"VLOOKUP(CONCATENATE($C29),[1]ARTRDCL!$A$1:$U$65536,2,FALSE)","v":"ETIRE PLAT 30X20"},"Etiré",20,30,3500,0.105,{"$f":"VLOOKUP(CONCATENATE(Tableau2[[#This Row],[Code Movex]]),[1]ARTRDCL!$A$1:$U$65536,15,FALSE)","v":0.50700000000000001},{"$f":"Tableau2[[#This Row],[CVP]]/Tableau2[[#This Row],[Surface (m²)]]","v":4.8285714285714292},{"$f":"VLOOKUP(CONCATENATE(Tableau2[[#This Row],[Code Movex]]),[4]ficachat00!$A$1:$AZ$65536,8,FALSE)","v":45.280999999999999},{"$f":"VLOOKUP(CONCATENATE(Tableau2[[#This Row],[Code Movex]]),[4]ficachat00!$A$1:$AZ$65536,4,FALSE)","v":"SMH"},{"$f":"VLOOKUP(CONCATENATE(Tableau2[[#This Row],[Code Movex]]),[4]ficachat00!$A$1:$AZ$65536,3,FALSE)","v":"006420"}]
[null,{"$f":"CONCATENATE(Tableau2[[#This Row],[Matière]],\" \",Tableau2[[#This Row],[Epaisseur]],\": \",Tableau2[[#This Row],[Largeur]],\"x\",Tableau2[[#This Row],[Longueur]])","v":"Etiré 3: 50x3500"},12121165,{"$f":"VLOOKUP(CONCATENATE($C30),[1]ARTRDCL!$A$1:$U$65536,3,FALSE)","v":"20"},{"$f":"VLOOKUP(CONCATENATE($C30),[1]ARTRDCL!$A$1:$U$65536,2,FALSE)","v":"ETIRE PLAT 50X3  204069"},"Etiré",3,50,3500,0.17499999999999999,{"$f":"VLOOKUP(CONCATENATE(Tableau2[[#This Row],[Code Movex]]),[1]ARTRDCL!$A$1:$U$65536,15,FALSE)","v":5.3440000000000003},{"$f":"Tableau2[[#This Row],[CVP]]/Tableau2[[#This Row],[Surface (m²)]]","v":30.537142857142861},{"$f":"VLOOKUP(CONCATENATE(Tableau2[[#This Row],[Code Movex]]),[4]ficachat00!$A$1:$AZ$65536,8,FALSE)","v":386},{"$f":"VLOOKUP(CONCATENATE(Tableau2[[#This Row],[Code Movex]]),[4]ficachat00!$A$1:$AZ$65536,4,FALSE)","v":"SMH"},{"$f":"VLOOKUP(CONCATENATE(Tableau2[[#This Row],[Code Movex]]),[4]ficachat00!$A$1:$AZ$65536,3,FALSE)","v":"006420"}]
[null,{"$f":"CONCATENATE(Tableau2[[#This Row],[Matière]],\" \",Tableau2[[#This Row],[Epaisseur]],\": \",Tableau2[[#This Row],[Largeur]],\"x\",Tableau2[[#This Row],[Longueur]])","v":"Etiré 6: 50x3500"},12121175,{"$f":"VLOOKUP(CONCATENATE($C31),[1]ARTRDCL!$A$1:$U$65536,3,FALSE)","v":"20"},{"$f":"VLOOKUP(CONCATENATE($C31),[1]ARTRDCL!$A$1:$U$65536,2,FALSE)","v":"ETIRE PLAT 50X6  204071"},"Etiré",6,50,3500,0.17499999999999999,{"$f":"VLOOKUP(CONCATENATE(Tableau2[[#This Row],[Code Movex]]),[1]ARTRDCL!$A$1:$U$65536,15,FALSE)","v":5.7080000000000002},{"$f":"Tableau2[[#This Row],[CVP]]/Tableau2[[#This Row],[Surface (m²)]]","v":32.617142857142859},{"$f":"VLOOKUP(CONCATENATE(Tableau2[[#This Row],[Code Movex]]),[4]ficachat00!$A$1:$AZ$65536,8,FALSE)","v":962},{"$f":"VLOOKUP(CONCATENATE(Tableau2[[#This Row],[Code Movex]]),[4]ficachat00!$A$1:$AZ$65536,4,FALSE)","v":"SMH"},{"$f":"VLOOKUP(CONCATENATE(Tableau2[[#This Row],[Code Movex]]),[4]ficachat00!$A$1:$AZ$65536,3,FALSE)","v":"006420"}]
[null,{"$f":"CONCATENATE(Tableau2[[#This Row],[Matière]],\" \",Tableau2[[#This Row],[Epaisseur]],\": \",Tableau2[[#This Row],[Largeur]],\"x\",Tableau2[[#This Row],[Longueur]])","v":"Etiré 6: 40x3000"},12121265,{"$f":"VLOOKUP(CONCATENATE($C32),[1]ARTRDCL!$A$1:$U$65536,3,FALSE)","v":"20"},{"$f":"VLOOKUP(CONCATENATE($C32),[1]ARTRDCL!$A$1:$U$65536,2,FALSE)","v":"ETIRE PLAT 40x6"},"Etiré",6,40,3000,0.12,{"$f":"VLOOKUP(CONCATENATE(Tableau2[[#This Row],[Code Movex]]),[1]ARTRDCL!$A$1:$U$65536,15,FALSE)","v":11.811},{"$f":"Tableau2[[#This Row],[CVP]]/Tableau2[[#This Row],[Surface (m²)]]","v":98.424999999999997},{"$f":"VLOOKUP(CONCATENATE(Tableau2[[#This Row],[Code Movex]]),[4]ficachat00!$A$1:$AZ$65536,8,FALSE)","v":3.3},{"$f":"VLOOKUP(CONCATENATE(Tableau2[[#This Row],[Code Movex]]),[4]ficachat00!$A$1:$AZ$65536,4,FALSE)","v":"SMH"},{"$f":"VLOOKUP(CONCATENATE(Tableau2[[#This Row],[Code Movex]]),[4]ficachat00!$A$1:$AZ$65536,3,FALSE)","v":"006420"}]
[null,{"$f":"CONCATENATE(Tableau2[[#This Row],[Matière]],\" \",Tableau2[[#This Row],[Epaisseur]],\": \",Tableau2[[#This Row],[Largeur]],\"x\",Tableau2[[#This Row],[Longueur]])","v":"Alu 1,5: 1250x2500"},"14110061",{"$f":"VLOOKUP(CONCATENATE($C33),[1]ARTRDCL!$A$1:$U$65536,3,FALSE)","v":"20"},{"$f":"VLOOKUP(CONCATENATE($C33),[1]ARTRDCL!$A$1:$U$65536,2,FALSE)","v":"ALUMINIUM 15/10 1250x2500-5754"},"Alu",1.5,1250,2500,3.125,{"$f":"VLOOKUP(CONCATENATE(Tableau2[[#This Row],[Code Movex]]),[1]ARTRDCL!$A$1:$U$65536,15,FALSE)","v":95.828999999999994},{"$f":"Tableau2[[#This Row],[CVP]]/Tableau2[[#This Row],[Surface (m²)]]","v":30.665279999999999},{"$f":"VLOOKUP(CONCATENATE(Tableau2[[#This Row],[Code Movex]]),[4]ficachat00!$A$1:$AZ$65536,8,FALSE)","v":1},{"$f":"VLOOKUP(CONCATENATE(Tableau2[[#This Row],[Code Movex]]),[4]ficachat00!$A$1:$AZ$65536,4,FALSE)","v":"ARCELORMITTAL DISTRIBUTION SOLUTIONS"},{"$f":"VLOOKUP(CONCATENATE(Tableau2[[#This Row],[Code Movex]]),[4]ficachat00!$A$1:$AZ$65536,3,FALSE)","v":"016708"}]
[null,{"$f":"CONCATENATE(Tableau2[[#This Row],[Matière]],\" \",Tableau2[[#This Row],[Epaisseur]],\": \",Tableau2[[#This Row],[Largeur]],\"x\",Tableau2[[#This Row],[Longueur]])","v":"EZ 2: 1250x2500"},"14540005",{"$f":"VLOOKUP(CONCATENATE($C34),[1]ARTRDCL!$A$1:$U$65536,3,FALSE)","v":"20"},{"$f":"VLOOKUP(CONCATENATE($C34),[1]ARTRDCL!$A$1:$U$65536,2,FALSE)","v":"TOLE EZ 1250X2500X20/10"},"EZ",2,1250,2500,3.125,{"$f":"VLOOKUP(CONCATENATE(Tableau2[[#This Row],[Code Movex]]),[1]ARTRDCL!$A$1:$U$65536,15,FALSE)","v":43.292000000000002},{"$f":"Tableau2[[#This Row],[CVP]]/Tableau2[[#This Row],[Surface (m²)]]","v":13.853440000000001},{"$f":"VLOOKUP(CONCATENATE(Tableau2[[#This Row],[Code Movex]]),[4]ficachat00!$A$1:$AZ$65536,8,FALSE)","v":391.57499999999999},{"$f":"VLOOKUP(CONCATENATE(Tableau2[[#This Row],[Code Movex]]),[4]ficachat00!$A$1:$AZ$65536,4,FALSE)","v":"EISEN STAHL GmbH"},{"$f":"VLOOKUP(CONCATENATE(Tableau2[[#This Row],[Code Movex]]),[4]ficachat00!$A$1:$AZ$65536,3,FALSE)","v":"999456"}]
[null,{"$f":"CONCATENATE(Tableau2[[#This Row],[Matière]],\" \",Tableau2[[#This Row],[Epaisseur]],\": \",Tableau2[[#This Row],[Largeur]],\"x\",Tableau2[[#This Row],[Longueur]])","v":"EZ 0,6: 1000x3000"},"14540009",{"$f":"VLOOKUP(CONCATENATE($C35),[1]ARTRDCL!$A$1:$U$65536,3,FALSE)","v":"20"},{"$f":"VLOOKUP(CONCATENATE($C35),[1]ARTRDCL!$A$1:$U$65536,2,FALSE)","v":"TOLE EZ 1000X3000X6/10"},"EZ",0.6,1000,3000,3,{"$f":"VLOOKUP(CONCATENATE(Tableau2[[#This Row],[Code Movex]]),[1]ARTRDCL!$A$1:$U$65536,15,FALSE)","v":13.442},{"$f":"Tableau2[[#This Row],[CVP]]/Tableau2[[#This Row],[Surface (m²)]]","v":4.480666666666667},{"$f":"VLOOKUP(CONCATENATE(Tableau2[[#This Row],[Code Movex]]),[4]ficachat00!$A$1:$AZ$65536,8,FALSE)","v":140.292},{"$f":"VLOOKUP(CONCATENATE(Tableau2[[#This Row],[Code Movex]]),[4]ficachat00!$A$1:$AZ$65536,4,FALSE)","v":"EISEN STAHL GmbH"},{"$f":"VLOOKUP(CONCATENATE(Tableau2[[#This Row],[Code Movex]]),[4]ficachat00!$A$1:$AZ$65536,3,FALSE)","v":"999456"}]
[null,{"$f":"CONCATENATE(Tableau2[[#This Row],[Matière]],\" \",Tableau2[[#This Row],[Epaisseur]],\": \",Tableau2[[#This Row],[Largeur]],\"x\",Tableau2[[#This Row],[Longueur]])","v":"EZ 1,5: 1500x3000"},"14540015",{"$f":"VLOOKUP(CONCATENATE($C36),[1]ARTRDCL!$A$1:$U$65536,3,FALSE)","v":"20"},{"$f":"VLOOKUP(CONCATENATE($C36),[1]ARTRDCL!$A$1:$U$65536,2,FALSE)","v":"TOLE EZ 1500X3000X15/10"},"EZ",1.5,1500,3000,4.5,{"$f":"VLOOKUP(CONCATENATE(Tableau2[[#This Row],[Code Movex]]),[1]ARTRDCL!$A$1:$U$65536,15,FALSE)","v":47.424999999999997},{"$f":"Tableau2[[#This Row],[CVP]]/Tableau2[[#This Row],[Surface (m²)]]","v":10.538888888888888},{"$f":"VLOOKUP(CONCATENATE(Tableau2[[#This Row],[Code Movex]]),[4]ficachat00!$A$1:$AZ$65536,8,FALSE)","v":387.22899999999998},{"$f":"VLOOKUP(CONCATENATE(Tableau2[[#This Row],[Code Movex]]),[4]ficachat00!$A$1:$AZ$65536,4,FALSE)","v":"EISEN STAHL GmbH"},{"$f":"VLOOKUP(CONCATENATE(Tableau2[[#This Row],[Code Movex]]),[4]ficachat00!$A$1:$AZ$65536,3,FALSE)","v":"999456"}]
[null,{"$f":"CONCATENATE(Tableau2[[#This Row],[Matière]],\" \",Tableau2[[#This Row],[Epaisseur]],\": \",Tableau2[[#This Row],[Largeur]],\"x\",Tableau2[[#This Row],[Longueur]])","v":"EZ 2,5: 1250x2500"},14540040,{"$f":"VLOOKUP(CONCATENATE($C37),[1]ARTRDCL!$A$1:$U$65536,3,FALSE)","v":"20"},{"$f":"VLOOKUP(CONCATENATE($C37),[1]ARTRDCL!$A$1:$U$65536,2,FALSE)","v":"TOLE EZ 1250X2500X25/10"},"EZ",2.5,1250,2500,3.125,{"$f":"VLOOKUP(CONCATENATE(Tableau2[[#This Row],[Code Movex]]),[1]ARTRDCL!$A$1:$U$65536,15,FALSE)","v":54.031999999999996},{"$f":"Tableau2[[#This Row],[CVP]]/Tableau2[[#This Row],[Surface (m²)]]","v":17.290239999999997},{"$f":"VLOOKUP(CONCATENATE(Tableau2[[#This Row],[Code Movex]]),[4]ficachat00!$A$1:$AZ$65536,8,FALSE)","v":2.0099999999999998},{"$f":"VLOOKUP(CONCATENATE(Tableau2[[#This Row],[Code Movex]]),[4]ficachat00!$A$1:$AZ$65536,4,FALSE)","v":"EISEN STAHL GmbH"},{"$f":"VLOOKUP(CONCATENATE(Tableau2[[#This Row],[Code Movex]]),[4]ficachat00!$A$1:$AZ$65536,3,FALSE)","v":"999456"}]
[null,{"$f":"CONCATENATE(Tableau2[[#This Row],[Matière]],\" \",Tableau2[[#This Row],[Epaisseur]],\": \",Tableau2[[#This Row],[Largeur]],\"x\",Tableau2[[#This Row],[Longueur]])","v":"EZ 1: 1250x2500"},"14540043",{"$f":"VLOOKUP(CONCATENATE($C38),[1]ARTRDCL!$A$1:$U$65536,3,FALSE)","v":"20"},{"$f":"VLOOKUP(CONCATENATE($C38),[1]ARTRDCL!$A$1:$U$65536,2,FALSE)","v":"TOLE EZ 1250X2500X10/10"},"EZ",1,1250,2500,3.125,{"$f":"VLOOKUP(CONCATENATE(Tableau2[[#This Row],[Code Movex]]),[1]ARTRDCL!$A$1:$U$65536,15,FALSE)","v":21.786999999999999},{"$f":"Tableau2[[#This Row],[CVP]]/Tableau2[[#This Row],[Surface (m²)]]","v":6.9718399999999994},{"$f":"VLOOKUP(CONCATENATE(Tableau2[[#This Row],[Code Movex]]),[4]ficachat00!$A$1:$AZ$65536,8,FALSE)","v":57.795999999999999},{"$f":"VLOOKUP(CONCATENATE(Tableau2[[#This Row],[Code Movex]]),[4]ficachat00!$A$1:$AZ$65536,4,FALSE)","v":"EISEN STAHL GmbH"},{"$f":"VLOOKUP(CONCATENATE(Tableau2[[#This Row],[Code Movex]]),[4]ficachat00!$A$1:$AZ$65536,3,FALSE)","v":"999456"}]
[null,{"$f":"CONCATENATE(Tableau2[[#This Row],[Matière]],\" \",Tableau2[[#This Row],[Epaisseur]],\": \",Tableau2[[#This Row],[Largeur]],\"x\",Tableau2[[#This Row],[Longueur]])","v":"EZ 3: 1250x2500"},"14540045",{"$f":"VLOOKUP(CONCATENATE($C39),[1]ARTRDCL!$A$1:$U$65536,3,FALSE)","v":"20"},{"$f":"VLOOKUP(CONCATENATE($C39),[1]ARTRDCL!$A$1:$U$65536,2,FALSE)","v":"TOLE EZ 1250X2500X30/10"},"EZ",3,1250,2500,3.125,{"$f":"VLOOKUP(CONCATENATE(Tableau2[[#This Row],[Code Movex]]),[1]ARTRDCL!$A$1:$U$65536,15,FALSE)","v":64.599999999999994},{"$f":"Tableau2[[#This Row],[CVP]]/Tableau2[[#This Row],[Surface (m²)]]","v":20.671999999999997},{"$f":"VLOOKUP(CONCATENATE(Tableau2[[#This Row],[Code Movex]]),[4]ficachat00!$A$1:$AZ$65536,8,FALSE)","v":355.74},{"$f":"VLOOKUP(CONCATENATE(Tableau2[[#This Row],[Code Movex]]),[4]ficachat00!$A$1:$AZ$65536,4,FALSE)","v":"EISEN STAHL GmbH"},{"$f":"VLOOKUP(CONCATENATE(Tableau2[[#This Row],[Code Movex]]),[4]ficachat00!$A$1:$AZ$65536,3,FALSE)","v":"999456"}]
[null,{"$f":"CONCATENATE(Tableau2[[#This Row],[Matière]],\" \",Tableau2[[#This Row],[Epaisseur]],\": \",Tableau2[[#This Row],[Largeur]],\"x\",Tableau2[[#This Row],[Longueur]])","v":"EZ 3: 1500x3000"},14540050,{"$f":"VLOOKUP(CONCATENATE($C40),[1]ARTRDCL!$A$1:$U$65536,3,FALSE)","v":"20"},{"$f":"VLOOKUP(CONCATENATE($C40),[1]ARTRDCL!$A$1:$U$65536,2,FALSE)","v":"TOLE EZ 1500X3000X30/10"},"EZ",3,1500,3000,4.5,{"$f":"VLOOKUP(CONCATENATE(Tableau2[[#This Row],[Code Movex]]),[1]ARTRDCL!$A$1:$U$65536,15,FALSE)","v":93.024000000000001},{"$f":"Tableau2[[#This Row],[CVP]]/Tableau2[[#This Row],[Surface (m²)]]","v":20.672000000000001},{"$f":"VLOOKUP(CONCATENATE(Tableau2[[#This Row],[Code Movex]]),[4]ficachat00!$A$1:$AZ$65536,8,FALSE)","v":98.025000000000006},{"$f":"VLOOKUP(CONCATENATE(Tableau2[[#This Row],[Code Movex]]),[4]ficachat00!$A$1:$AZ$65536,4,FALSE)","v":"EISEN STAHL GmbH"},{"$f":"VLOOKUP(CONCATENATE(Tableau2[[#This Row],[Code Movex]]),[4]ficachat00!$A$1:$AZ$65536,3,FALSE)","v":"999456"}]
[null,{"$f":"CONCATENATE(Tableau2[[#This Row],[Matière]],\" \",Tableau2[[#This Row],[Epaisseur]],\": \",Tableau2[[#This Row],[Largeur]],\"x\",Tableau2[[#This Row],[Longueur]])","v":"Galva 1: 1500x2200"},"14540055",{"$f":"VLOOKUP(CONCATENATE($C41),[1]ARTRDCL!$A$1:$U$65536,3,FALSE)","v":"20"},{"$f":"VLOOKUP(CONCATENATE($C41),[1]ARTRDCL!$A$1:$U$65536,2,FALSE)","v":"TOLE GALVA 1500X2200X10/10"},"Galva",1,1500,2200,3.3,{"$f":"VLOOKUP(CONCATENATE(Tableau2[[#This Row],[Code Movex]]),[1]ARTRDCL!$A$1:$U$65536,15,FALSE)","v":24.942},{"$f":"Tableau2[[#This Row],[CVP]]/Tableau2[[#This Row],[Surface (m²)]]","v":7.5581818181818186},{"$f":"VLOOKUP(CONCATENATE(Tableau2[[#This Row],[Code Movex]]),[4]ficachat00!$A$1:$AZ$65536,8,FALSE)","v":601.23900000000003},{"$f":"VLOOKUP(CONCATENATE(Tableau2[[#This Row],[Code Movex]]),[4]ficachat00!$A$1:$AZ$65536,4,FALSE)","v":"EISEN STAHL GmbH"},{"$f":"VLOOKUP(CONCATENATE(Tableau2[[#This Row],[Code Movex]]),[4]ficachat00!$A$1:$AZ$65536,3,FALSE)","v":"999456"}]
[null,{"$f":"CONCATENATE(Tableau2[[#This Row],[Matière]],\" \",Tableau2[[#This Row],[Epaisseur]],\": \",Tableau2[[#This Row],[Largeur]],\"x\",Tableau2[[#This Row],[Longueur]])","v":"Galva 1,5: 1500x2200"},"14540060",{"$f":"VLOOKUP(CONCATENATE($C42),[1]ARTRDCL!$A$1:$U$65536,3,FALSE)","v":"20"},{"$f":"VLOOKUP(CONCATENATE($C42),[1]ARTRDCL!$A$1:$U$65536,2,FALSE)","v":"TOLE GALVA 1500X2200X15/10"},"Galva",1.5,1500,2200,3.3,{"$f":"VLOOKUP(CONCATENATE(Tableau2[[#This Row],[Code Movex]]),[1]ARTRDCL!$A$1:$U$65536,15,FALSE)","v":37.412999999999997},{"$f":"Tableau2[[#This Row],[CVP]]/Tableau2[[#This Row],[Surface (m²)]]","v":11.337272727272726},{"$f":"VLOOKUP(CONCATENATE(Tableau2[[#This Row],[Code Movex]]),[4]ficachat00!$A$1:$AZ$65536,8,FALSE)","v":611.02599999999995},{"$f":"VLOOKUP(CONCATENATE(Tableau2[[#This Row],[Code Movex]]),[4]ficachat00!$A$1:$AZ$65536,4,FALSE)","v":"EISEN STAHL GmbH"},{"$f":"VLOOKUP(CONCATENATE(Tableau2[[#This Row],[Code Movex]]),[4]ficachat00!$A$1:$AZ$65536,3,FALSE)","v":"999456"}]
[null,{"$f":"CONCATENATE(Tableau2[[#This Row],[Matière]],\" \",Tableau2[[#This Row],[Epaisseur]],\": \",Tableau2[[#This Row],[Largeur]],\"x\",Tableau2[[#This Row],[Longueur]])","v":"Mang 1,5: 1000x2000"},"15615001",{"$f":"VLOOKUP(CONCATENATE($C43),[1]ARTRDCL!$A$1:$U$65536,3,FALSE)","v":"20"},{"$f":"VLOOKUP(CONCATENATE($C43),[1]ARTRDCL!$A$1:$U$65536,2,FALSE)","v":"1000X2000X1,5 MA 203423"},"Mang",1.5,1000,2000,2,{"$f":"VLOOKUP(CONCATENATE(Tableau2[[#This Row],[Code Movex]]),[1]ARTRDCL!$A$1:$U$65536,15,FALSE)","v":153.14599999999999},{"$f":"Tableau2[[#This Row],[CVP]]/Tableau2[[#This Row],[Surface (m²)]]","v":76.572999999999993},{"$f":"VLOOKUP(CONCATENATE(Tableau2[[#This Row],[Code Movex]]),[4]ficachat00!$A$1:$AZ$65536,8,FALSE)","v":33},{"$f":"VLOOKUP(CONCATENATE(Tableau2[[#This Row],[Code Movex]]),[4]ficachat00!$A$1:$AZ$65536,4,FALSE)","v":"EISEN STAHL GmbH"},{"$f":"VLOOKUP(CONCATENATE(Tableau2[[#This Row],[Code Movex]]),[4]ficachat00!$A$1:$AZ$65536,3,FALSE)","v":"999456"}]
[null,{"$f":"CONCATENATE(Tableau2[[#This Row],[Matière]],\" \",Tableau2[[#This Row],[Epaisseur]],\": \",Tableau2[[#This Row],[Largeur]],\"x\",Tableau2[[#This Row],[Longueur]])","v":"Mang 3: 1000x2000"},"15630001",{"$f":"VLOOKUP(CONCATENATE($C44),[1]ARTRDCL!$A$1:$U$65536,3,FALSE)","v":"20"},{"$f":"VLOOKUP(CONCATENATE($C44),[1]ARTRDCL!$A$1:$U$65536,2,FALSE)","v":"1000X2000X3 MANG 203430"},"Mang",3,1000,2000,2,{"$f":"VLOOKUP(CONCATENATE(Tableau2[[#This Row],[Code Movex]]),[1]ARTRDCL!$A$1:$U$65536,15,FALSE)","v":210.50800000000001},{"$f":"Tableau2[[#This Row],[CVP]]/Tableau2[[#This Row],[Surface (m²)]]","v":105.254},{"$f":"VLOOKUP(CONCATENATE(Tableau2[[#This Row],[Code Movex]]),[4]ficachat00!$A$1:$AZ$65536,8,FALSE)","v":0},{"$f":"VLOOKUP(CONCATENATE(Tableau2[[#This Row],[Code Movex]]),[4]ficachat00!$A$1:$AZ$65536,4,FALSE)","v":"EISEN STAHL GmbH"},{"$f":"VLOOKUP(CONCATENATE(Tableau2[[#This Row],[Code Movex]]),[4]ficachat00!$A$1:$AZ$65536,3,FALSE)","v":"999456"}]